{"text_format":"1","workbook":"xlsx","n_sheets":6,"sheets":["BExRepositorySheet","Resurssiluettelo","Rekisteriseloste","Ohjeistus","Rekisteristä vastaavat henkilöt","Työntekijätiedot kooste"],"not_rendered":{"charts":0,"images":4,"macros":1,"external_links":0,"defined_names":3,"comments":1,"pivot_tables":0},"unopened":[],"bounds":{"document_bytes":16777216,"sheet_cells":100000,"rows_first":2000,"rows_last":500,"rows_between":2000,"halvings":0,"cell_chars":16384,"cell_head_chars":4096},"cells_cut":0,"cells_raw":0,"read":"whole","date_system":"1900"}

{"sheet":"BExRepositorySheet","index":0,"n_rows":0,"n_cols":0,"rows_kept":0,"cut":false,"hidden":true,"merged":[]}

{"sheet":"Resurssiluettelo","index":1,"n_rows":250,"n_cols":35,"rows_kept":250,"cut":false,"hidden":false,"merged":[[43,29,44,29],[43,31,43,32],[43,33,44,33],[43,30,44,30],[43,18,44,18],[43,22,44,22],[43,23,44,23],[43,24,44,24],[43,25,44,25],[43,26,44,26],[39,18,39,20],[34,12,34,13],[35,12,35,13],[41,18,41,21],[43,15,44,15],[41,22,41,34],[42,22,42,34],[37,12,37,13],[34,15,34,16],[35,15,35,16],[36,15,36,16],[37,15,37,16],[38,15,38,16],[34,18,34,20],[35,18,35,20],[43,19,44,19],[43,20,43,21],[43,27,44,27],[43,28,44,28],[42,4,42,12],[39,15,39,16],[36,18,36,20],[37,18,37,20],[38,18,38,20],[45,0,48,0],[43,8,44,8],[43,0,44,0],[43,1,44,1],[43,10,44,10],[43,4,44,4],[43,5,44,5],[43,6,44,6],[43,3,44,3],[43,9,44,9],[43,7,44,7],[42,1,42,3],[43,2,44,2],[26,12,26,13],[27,12,27,13],[43,11,44,11],[43,13,44,13],[43,12,44,12],[41,13,41,16],[38,8,38,9],[38,10,38,11],[38,12,38,13],[30,15,30,16],[31,15,31,16],[32,15,32,16],[34,8,34,9],[35,8,35,9],[36,8,36,9],[37,8,37,9],[34,10,34,11],[35,10,35,11],[36,10,36,11],[37,10,37,11],[31,10,31,11],[32,10,32,11],[39,12,39,13],[43,14,44,14],[26,8,26,9],[26,10,26,11],[33,8,33,9],[39,8,39,9],[28,12,28,13],[29,12,29,13],[30,12,30,13],[31,12,31,13],[32,12,32,13],[33,10,33,11],[39,10,39,11],[27,10,27,11],[28,10,28,11],[29,10,29,11],[30,10,30,11],[36,12,36,13],[19,12,19,13],[19,8,19,9],[19,10,19,11],[20,12,20,13],[21,12,21,13],[22,10,22,11],[23,10,23,11],[23,18,23,20],[24,18,24,20],[24,10,24,11],[22,12,22,13],[23,12,23,13],[24,12,24,13],[21,18,21,20],[22,18,22,20],[20,8,20,9],[21,8,21,9],[22,8,22,9],[23,8,23,9],[24,8,24,9],[20,10,20,11],[21,10,21,11],[19,15,19,16],[20,15,20,16],[25,8,25,9],[25,18,25,20],[26,18,26,20],[27,18,27,20],[33,18,33,20],[25,10,25,11],[28,18,28,20],[29,18,29,20],[30,18,30,20],[31,18,31,20],[32,18,32,20],[25,12,25,13],[33,12,33,13],[33,15,33,16],[27,8,27,9],[28,8,28,9],[29,8,29,9],[30,8,30,9],[31,8,31,9],[32,8,32,9],[28,15,28,16],[29,15,29,16],[0,6,0,7],[16,1,16,23],[12,18,12,20],[13,18,13,20],[18,1,18,5],[0,17,0,18],[1,17,1,18],[13,5,13,6],[13,15,13,17],[12,2,12,3],[13,2,13,3],[12,15,12,16],[12,5,12,6],[11,0,11,20],[18,12,18,23],[12,9,12,10],[12,11,12,12],[13,9,13,10],[13,11,13,12],[8,2,8,22],[7,2,7,22],[6,2,6,22],[5,2,5,22],[9,1,9,22],[19,18,19,20],[20,18,20,20],[21,15,21,16],[22,15,22,16],[23,15,23,16],[24,15,24,16],[25,15,25,16],[26,15,26,16],[27,15,27,16]]}
[null,"1. Valitse yksikkö:",null,null,null,null,"Kaukaan saha",null,"<= näpäytä viereistä kenttää ja avaa valintalista pikku kolmiosta"]
[null,"2. Täydennä resurssiluettelon tiedot alla olevaan taulukkoon."]
[null,"3. Lähetä tiedosto yksikölle"]
[null,"\"Lähetä\" - painike avaa valmiin sähköpostin, joka sisältää tämän tiedoston liitteenä ja yksikön sähköpostiosoitteen"]
["Lomakkeen täyttöohje"]
[null,"Ilmoituksen ja henkilön perustiedot","Ilmoituksen ja henkilön perustiedot täytetään aina. \nTyönantajan nimi, y-tunnus (tai vastaava ulkomainen tunniste) ja rekisteröintimaa (työnantaja = yritys, jonka kanssa henkilö on tehnyt työsopimuksen). \nToimittajan käyttämät alihankkijat on aina hyväksytettävä tilaajalla."]
[null,"Työturvallisuus","HUOM! Yksikön ja urakoitsijan turvallisuusperehdytys pitää suorittaa vähintään kolmen vuoden välein. \nKirjaa kohtaan yksikön turvallisuusperehdytys ajankohta, jolloin sen olet suorittanut. \nKirjaa työturvallisuus- ja tulityökortin voimassaolon päättymisajankohta"]
[null,"Kulunvalvonta ja sosiaalitilat","Merkitse \"kulkuavaintarve\" kohtaan x, jos kyseiselle henkilölle ei ole voimassa olevaa kulkuavainta saapumis- ja poistumispäivämäärän väliselle ajalle.\nMerkitse \"pukukaappitarve\" kohtaan x, jos henkilö tarvitsee pukukaapin.\nAnottaessa ajolupaa kirjataan kaavakkeelle  auton tyyppi (H = henkilöauto, P = pakettiauto ja K = kuorma-auto) sekä rekisterinumero. Lisäksi kirjataan perustelut ajoluvalle kohtaan lisätietoja.\nHuom! Ajo tehdasalueella tapahtuu omalla vastuulla (nopeusrajoituksia ja muita liikennemerkkejä ja -sääntöjä noudattaen). Ajolupa myönnetään vain materiaalikuljetuksiin; ei henkilökuljetuksiin."]
[null,"Ulkomaalainen työvoima","EU/ETA:n, pohjoismaiden, Sveitsin ja Liechtensteinin kansalaiset eivät tarvitse työskentelyyn lupaa. \nEU-maat ovat: Alankomaat, Belgia, Bulgaria, Espanja, Irlanti, Iso-Britannia, Italia, Itävalta, Kreikka, Kroatia, Kypros, Latvia, Liettua, Luxemburg, Malta, Portugali, Puola, Ranska, Romania, Ruotsi, Saksa, Slovakia, Slovenia, Suomi, Tanska, Tsekki, Unkari ja Viro.\nValtioiden maakoodit ilmoitetaan 2 mrk pitkinä (ISO 3166-1 alpha-2 koodiston mukaisesti; esim. DE=Saksa, EE=Viro, FI=Suomi, LT=Liettua, LV=Latvia, NO=Norja, PL=Puola, RU=Venäjä, SE=Ruotsi jne.)\nTyöehtosopimus sarakkeeseen kirjataan ulkomaalaisen työntekijän noudattama työehtosopimus."]
[null,"Toimittajan yhteyshenkilö vastaa, että resurssiluetteloon kirjatut henkilöt ovat tietoisia tehdystä luettelosta ja sen tietosisällöstä.\nTarkastusoikeuden perusteella jokaisella resurssiluetteloon kirjatulla henkilöllä on oikeus tarkastaa kaikki talletetut, itseään koskevat tiedot.\nPuutteellisia lomakkeita ei hyväksytä."]
[]
["Ilmoituksen perustiedot"]
[null,"Urakoitsijan/toimittajan nimi","Urakoitsijan/toimittajan yhteyshenkilö kohteessa",null,"Puhelinnumero","Sähköposti",null,"UPM ostotilaus- numero","Tilaus-\nrivi","Työkohteen/tilauksen nimi",null,"UPM työtilausnumero",null,"Saapumis-\npäivä","Poistumis-\npäivä","Tilaajan yhdyshenkilö",null,null,"Puhelinnumero"]
[]
[]
["Lisätietoja (esim. toive sosiaalitilojen sijainnista, tarkemmat perustelut ajoluvalle, tarkempi selvitys ulkomaalaisesta työvoimasta)"]
[]
["Ilmoituksen perustiedot/Työnantajatiedot"]
[null,"Urakoitsijan/toimittajan ja aliurakoitsijoiden työnantajatiedot",null,null,null,null,"Urakoitsijan edustajan tai yhteyshenkilön tiedot",null,null,null,null,null,"Ulkomaiset yritykset"]
[null,"Urakoitsijan/toimittajan ja aliurakoitsijoiden nimet","Urakoitsijan / aliurakoitsijan     Y-tunnus","Työnantajan ulkomainen tunnus","Ulkomaisen tunnuksen tyyppi (1-4)","Työnantajan kotivaltio   (2 mrk)","Urakoitsijan edustajan tai yhteyshenkilön sukunimi","etunimi","puhelinnumero (sis. kansainvälinen suuntanumero)",null,"sähköpostiosoite",null,"Urakoitsijan/toimittajan lähiosoite kotivaltiossa",null,"posti- numero","postitoimipaikka",null,"Maa- tunnus","Urakoitsijan edustajan tai yhteyshenkilön lähiosoite Suomessa",null,null,"posti- numero","postitoimipaikka","Maa- tunnus (2 mrk)"]
[]
[]
[]
[]
[]
[]
[]
[]
[]
[]
[]
[]
[]
[]
[]
[]
[]
[]
[]
[]
[]
["Henkilön \nperustiedot",null,null,null,null,null,null,null,null,null,null,null,null,"Työturvallisuus",null,null,null,null,"Kulunvalvonta ja sosiaalitilat",null,null,null,"Ulkomaalainen työvoima"]
[null,"Työnantajan tiedot",null,null,"Työntekijän tiedot",null,null,null,null,null,null,null,null,null,null,null,null,null,null,null,null,null,"Ulkomaalaisen työntekijän tiedot"]
[null,"Työnantajan \nnimi","Työnantajan    Y-tunnus tai vastaava","Työnantajan ulkomainen tunnus","Veronro    (pituus 12 mrk)","Syntymä-\naika\n(pp.kk.vvvv)","Työntekijän sukunimi","Työntekijän etunimi","Koti-  valtio","Työsuhteen laatu (1=työsuhteinen, 2=vuokratyöntek, 3=ammatinharj, 4=harjoittelija, 5=talkootyö)","Tehtävä /\nammattinimike","Henkilön \npuhelinnro","Työnantajan\nrekisteröinti-maa","UPM turvallisuus- perehdytys suoritettu (pp.kk.vvvv)","Yksikön turvallisuus-\nperehdytys\nsuoritettu\n(pp.kk.vvvv)","Urakoitsijan turvallisuus-\nkoulutus\n(6 turvall. standardia)\n(pp.kk.vvvv)","Työtur-\nvallisuus-\nkortin","Tulityö-\nkortin","Kulkuavain-\ntarve","Pukukaappi-\ntarve","Ajolupa-\nanomus",null,"Työntekijän lähiosoite kotivaltiossa","Työntek. posti- numero koti- valtiossa","Työntekijän postitoimipaikka kotivaltiossa","Työn- tekijän osoitteen maa- tunnus","Työntekijän lähiosoite Suomessa","Työntekijän postinumero Suomessa","Työntekijän postitoimipaikka Suomessa","Lähetetyn\ntyöntekijän\nA1 (E101)\ntodistus\n(1=kyllä,\n2=ei)  .","Työntekijän\nkansa- laisuus","Työnteon peruste",null,"Työehto-\nsopimus","A1 (E101)\ntodis-tuksen"]
[null,null,null,null,null,null,null,null,null,null,null,null,null,null,null,null,"voimas-saolo\npäättyy","voimas-saolo\npäättyy",null,null,"H/P/K-\nauto","Rekisteri-\nnumero",null,null,null,null,null,null,null,null,null,"EU/\nETA","Muut maat\noleskelulupa päättyy",null,"voimas-saolo\npäättyy"]
["esim.","Malliyritys Oy","8765432-1",null,"100010623486","23.10.1971","Esimies","Eemeli","FI",1,"työnjohtaja","0405547896","Suomi","2016-01-21","2016-01-23","2016-08-23","6/2018","5/2018",null,null,"P","RXY-987"]
[null,"Alihankkija Ky","1234567-8",null,"100010223443","1973-01-09","Vystek","Aleksei","RU",1,"seppä","0404569930","Suomi","2016-02-22","2016-05-08","2016-08-08","5/2018","5/2018","x","x",null,null,"Vladimirsky Prospekt 19",191002,"St Petersburg","RU","Valtakatu 31",53100,"Lappeenranta",1,"venäläinen",null,"2015-09-09","metalli","2015-09-09"]
[null,"Rusindust",2342456362,null,"100210272452","1981-04-10","Tsenko","Sergei","EE",1,"asentaja","0403445222","Venäjä","2016-04-24","2016-04-23","2016-08-23","3/2019","3/2019","x","x",null,null,"Narva Road 7C",10117,"Tallinn","EE","Brahenkatu 1",53100,"Lappeenranta",1,"virolainen","x",null,"metalli","2015-11-30"]
[null,"Alihankkija Ky","1234567-8",null,"100010832212","1969-03-31","Å","Sven","SE",1,"luokkahitsaaja","0404522895","Suomi","2016-02-03","2016-02-13","2017-08-13","3/2019","3/2019","x","x",null,null,"Karlavägen 43",10246,"Stockholm","SE","Kauppakatu 21",53100,"Lappeenranta",1,"ruotsalainen","x",null,"metalli","2016-02-28"]
[null,"Työnantajan \nnimi","Y-tunnus tms.","TA ulkom. tunnus","Veronro","Syntymäaika","Työntekijän sukunimi","Työntekijän etunimi","kotivaltio","työsuhteen laatu","Tehtävä/ammatti","Hlön puh.nro","TA rekist maa",null,null,null,null,null,null,null,null,null,"TT lähiosoite kotivaltiossa","TT postinro","TT postitoimipaikka","maatunnus","TT lähiosoite Suomessa","TT postinro Suomessa","TT postitmpk Suomessa","läh. TT todist"]
[1]
[2]
[3]
[4]
[5]
[6]
[7]
[8]
[9]
[10]
[11]
[12]
[13]
[14]
[15]
[16]
[17]
[18]
[19]
[20]
[21]
[22]
[23]
[24]
[25]
[26]
[27]
[28]
[29]
[30]
[31]
[32]
[33]
[34]
[35]
[36]
[37]
[38]
[39]
[40]
[41]
[42]
[43]
[44]
[45]
[46]
[47]
[48]
[49]
[50]
[51]
[52]
[53]
[54]
[55]
[56]
[57]
[58]
[59]
[60]
[61]
[62]
[63]
[64]
[65]
[66]
[67]
[68]
[69]
[70]
[71]
[72]
[73]
[74]
[75]
[76]
[77]
[78]
[79]
[80]
[81]
[82]
[83]
[84]
[85]
[86]
[87]
[88]
[89]
[90]
[91]
[92]
[93]
[94]
[95]
[96]
[97]
[98]
[99]
[100]
[101]
[102]
[103]
[104]
[105]
[106]
[107]
[108]
[109]
[110]
[111]
[112]
[113]
[114]
[115]
[116]
[117]
[118]
[119]
[120]
[121]
[122]
[123]
[124]
[125]
[126]
[127]
[128]
[129]
[130]
[131]
[132]
[133]
[134]
[135]
[136]
[137]
[138]
[139]
[140]
[141]
[142]
[143]
[144]
[145]
[146]
[147]
[148]
[149]
[150]
[151]
[152]
[153]
[154]
[155]
[156]
[157]
[158]
[159]
[160]
[161]
[162]
[163]
[164]
[165]
[166]
[167]
[168]
[169]
[170]
[171]
[172]
[173]
[174]
[175]
[176]
[177]
[178]
[179]
[180]
[181]
[182]
[183]
[184]
[185]
[186]
[187]
[188]
[189]
[190]
[191]
[192]
[193]
[194]
[195]
[196]
[197]
[198]
[199]
[200]

{"sheet":"Rekisteriseloste","index":2,"n_rows":39,"n_cols":4,"rows_kept":39,"cut":false,"hidden":false,"merged":[[7,3,7,5],[38,1,38,6],[34,1,34,6],[30,1,30,6],[26,1,26,6],[20,1,20,6],[15,1,15,6],[11,1,11,6]]}
["EU:n tietosuoja-asetuksen 2016/679 mukainen tietosuojaseloste"]
["ja Henkilötietolain   (523/1999) 10 §:n mukainen rekisteriseloste."]
[]
["Rekisteri:",null,null,"Resurssilomake"]
["Rekisterin pitäjä:",null,null,"UPM-Kymmene Oyj"]
["Osoite:",null,null,"Alvar Aallon katu 1, FI-00100; PO Box 380, FI-00101 Helsinki"]
["Puhelin:",null,null,"+358 (0)204 15 111"]
["Rekisteristä vastaava henkilö:",null,null,"Määritetty yksikkökohtaisesti (ks. rekisteristä vastaavat henkilöt)"]
[]
["1.    ","Rekisterin pitämisen peruste"]
[]
[null,"Työturvallisuuslain ja rakennustyön turvallisuudesta annetun asetuksen sekä Rakentamisen tiedonantovelvollisuuden edellyttämät tiedot työmaalla työskentelevistä henkilöistä ja yrityksistä."]
[]
["2.    ","Rekisterin käyttötarkoitus"]
[]
[null,"Työmaan kulunvalvonta. Työmaalla työskenteleviä koskevista  turvallisuusvelvoitteista huolehtiminen. Ulkomaisen työvoiman ja vuokratyövoiman käyttöä koskevien lakisääteisten velvoitteiden noudattamisesta huolehtiminen ja valvonta. "]
[]
["3.","Rekisterin sisältämät tiedot"]
[]
[null,"Rekisteriin kerätään seuraavat tiedot:"]
[null,"• kaikki aliurakointiyritykset \n• kunkin yrityksen rekisteröintimaa \n• ulkomaalaisen yrityksen edustajan nimi ja osoite Suomessa \n• työntekijöiden nimet, syntymäajat, yhteystiedot\n• työntekijöiden kansalaisuudet ja tiedot työntekoon oikeuttavista oleskeluluvista ja niiden voimassaolosta \n• työhön sovellettava työehtosopimus\n• työntekijän saama perehdytys (tulityökortti, työturvallisuuskortti)"]
[]
[null,"Henkilötietolain tarkoittamia arkaluonteisia tietoja ei kerätä eikä merkitä rekisteriin."]
[]
["4.","Säännönmukaiset tietolähteet"]
[]
[null,"Urakoitsija tallentaa vakiomuotoiselle lomakkeelle tiedot kaikista sopimuksen mukaista työtä suorittavista työntekijöistä ja yrityksistä. Urakoitsija toimittaa täytetyn lomakkeen rekisteristä vastaavalle henkilölle ennen työn alkamista. Kulkuluvan antamisen edellytyksenä on, että henkilöllä on käytössä kuvallinen henkilötunniste."]
[]
["5.","Tietojen luovutus"]
[]
[null,"Tietoja käytetään vain edellä kuvatussa tarkoituksessa eikä tietoja luovuteta UPM:n ulkopuolelle. Rekisteröityjen tietoja voidaan luovuttaa viranomaisille tai muille tahoille, joilla on lain mukaan oikeus tietojen saamiseen rakennuttajalta tai työmaasta vastaavalta."]
[]
["6.","Rekisterin suojaus"]
[]
[null,"Henkilöiden tiedot kerätään UPM:n tehdasverkossa pidettävään sähköiseen järjestelmään. Tiedosto on suojattu palomuurilla ja lukuoikeudet annetaan ainoastaan nimettäville henkilöille, jotka niitä työssään tarvitsevat. Oikeudet muutosten tekemiseen annetaan nimettäville henkilöille."]
[]
["7.","Tietojen tarkastusoikeus "]
[]
[null,"Henkilöllä on oikeus tarkastaa hänestä rekisteriin merkityt tiedot. Tarkastuspyyntö tulee toimittaa kirjallisesti ja allekirjoitettuna edellä mainitulle rekisteristä vastaavalle henkilölle."]

{"sheet":"Ohjeistus","index":3,"n_rows":98,"n_cols":24,"rows_kept":98,"cut":false,"hidden":false,"merged":[]}
[]
[null,"Resurssiluettelo on 01.01.2014 lähtien ainoa hyväksyttävä ulkopuolisen työvoiman ilmoitusmenettely ja"]
[null,"edellytys kulkuluvan saamiseksi tehtaalle. Resurssiluettelo on palautettava 2 viikkoa ennen työn alkua (tavoiteaika) "]
[]
[null,"1.     Tilauskohtainen resurssiluettelo"]
[null,"Tilauskohtaista resurssiluetteloa käytetään kertaluonteisissa töissä ja projektitöissä. Kertaluonteisissa töissä tunnuspiirteenä on yksittäinen toimeksianto osastolla tai seisokissa. Kulkulupien ja/tai sosiaalitilojen tarve on tilapäistä. "]
[null,"Toimeksiannon aikana tapahtuvat lisäykset/poistot/muutokset tulee toimittaa päivitetyn resurssiluettelon muodossa. Urakoitsijan on huolehdittava, että UPM:llä on aina käytössä voimassa oleva resurssiluettelo."]
[]
[null,"Resurssiluettelon ostotilaussarakkeeseen merkitään aina UPM ostotilausnumero."]
[]
[null,"2.     Kahden viikon välein päivitettävä resurssiluettelo"]
[null,"Tämän ilmoitusmenettelyn piiriin kuuluvat urakoitsijat sovitaan ja kirjataan paikallisesti. Soveltamisen piiriin kuuluvat esim. sellaiset urakoitsijat, joille tehdään viikoittain useita erillisiä tilauksia. Tämä tapa soveltuu käytettäväksi myös vuosihuoltoseisokeissa, kun urakoitsijalla on useampi toimeksianto tietyllä ajanjaksolla. Kulkulupien ja/tai sosiaalitilojen tarve voi vaihdella."]
[null,"Kahden viikon jakson aikana tapahtuvat lisäykset tulee toimittaa päivitetyn resurssiluettelon muodossa. Urakoitsijan  on huolehdittava, että UPM:llä on aina käytössä voimassa oleva resurssiluettelo."]
[]
[null,"Resurssiluettelon ostotilaussarakkeeseen merkitään kaikki ko. ajanjakson UPM ostotilausnumerot."]
[]
[null,"3.     Vuosittainen resurssiluettelo"]
[null,"Vuositason resurssiluetteloa käytetään toistuvissa töissä säännöllisten ja vakituisten urakoitsijoiden työntekijöiden kohdalla. Työt perustuvat useimmiten pitempiaikaisiin sopimuksiin. Vuosittaista resurssiluetteloa voidaan käyttää vain, mikäli kulkulupien ja/tai sosiaalitilojen tarve on jatkuvaa tai jälkimmäisen tarvetta ei ole."]
[]
[null,"Resurssiluettelo voi olla voimassa näissä tapauksissa enintään yhden vuoden. On kuitenkin muistettava, että kulkulupien voimassaoloaika määräytyy resurssiluettelon työturvallisuuskentässä kirjattujen kohtien voimassaoloaikojen mukaan niin, että ensimmäisenä päättyvä voimassaolo määrää kulkuluvan maksimipituuden. Päivitykset työturvallisuuskentän kohtiin on hoidettava asianmukaisella tavalla."]
[]
[null,"Vuoden aikana tapahtuvat lisäykset/poistot/muutokset tulee toimittaa päivitetyn resurssiluettelon muodossa. Urakoitsijan  on huolehdittava, että UPM:llä on aina käytössä voimassa oleva resurssiluettelo."]
[]
[null,"Resurssiluettelon ostotilaussarakkeeseen merkitään tapauskohtaisesti joko"]
[null,"·         puiteostotilausnumero,"]
[null,"·         palvelusopimusnumero tai"]
[null,"·         ostotilausnumero."]
[]
[null,"Urakoitsija voi myös jatkossa täyttää tilauskohtaisen lomakkeen kaikissa edellä mainituissa tapauksissa niin halutessaan."]
[]
[null,"UPM vastaa siitä, että palautettujen resurssiluetteloiden henkilöiden työssäolotiedot pysyvät ajan tasalla palautettujen lomakkeiden mukaisesti, vaikka henkilön nimi on useammalla listalla. "]
[null,"Urakoitsija vastaa puolestaan siitä, että resurssiluettelossa mainitut tiedot pitävät paikkansa."]
[]
[null,"4.     Tietojen muokkaus"]
[]
[null,"Tietoja ei saa poistaa tai siirtää lomakkeella leikkaa-komennolla (ctrl-x), koska silloin koontidatan kaavat menevät sekaisin. Kopioi- ja liitä-komentoja (ctrl-c ja ctrl-v) saa käyttää, mutta vain tietoja pystysuoraan kopioitaessa (esim. Y-tunnus) saman sarakkeen sisällä. Yli vuoden vanhoista resurssiluetteloista ei kuitenkaan voi kopioida, koska sarakkeet eivät välttämättä vastaa uuden lomakkeen sarakkeita."]
[]
[null,"Voitte halutessanne tehdä itsellenne pohjaksi taulukon kaikista UPM:llä työskentelevistä henkilöistänne. Eri työtilausten resurssiluetteloista ylimääräiset henkilö voi poistaa tyhjentämällä rivin sisällön (sisällön aktivointi + delete). Rivejä ei saa poistaa, koska sekin sotkee verottajalle menevän koontidatan kaavat. UPM:lle lähetettäviin luetteloihin saa jättää tyhjennettyjä rivejä väliin."]
[]
[null,"Muista kuin Suomen kansalaisista vaaditaan lisätietoja, täytettävät sarakkeet löytyvät lomakkeen oikeasta laidasta."]
[null,"Mikäli yrityksellä ei ole suomalaista Y-tunnusta, on yrityksen osoitetiedot kirjoitettava resurssiluettelon sarakkeille M-X (riveillä 21-40)."]
[]
[]
[]
[]
[]
[]
[]
[]
[]
[]
[]
[]
[]
[]
[]
[]
[]
[]
[]
[]
[]
[]
[]
[]
[]
[]
[]
[]
[]
[]
[]
[]
[]
[]
[]
[]
[]
[]
[]
[]
[]
[]
[]
[]
[]
[]
[]
[]
[]
[]
[]
[]
[]
[]
[]
[]
[null,"Apukenttä =>",null,null,null,null,null,null,null,null,3,4,11,13,14,16,5,6,7,9,17,20,21,22]

{"sheet":"Rekisteristä vastaavat henkilöt","index":4,"n_rows":8,"n_cols":4,"rows_kept":8,"cut":false,"hidden":false,"merged":[]}
["Tehdas","Rekisteristä vastaavat henkilöt","Varahenkilöt","e-mail osoite rekisterilomakkeille"]
["valitse saha valintalistalta ==>"]
["Alholman saha","Pauli Klasila",null,"pauli.klasila@upm.com; jari.p.liedes@upm.com; jarkko.vahasoyranki@upm.com"]
["Korkeakosken saha","Kimmo Uusi-Oukari",null,"kimmo.uusi-oukari@upm.com"]
["Seikun saha","Marko Kesti",null,"marko.1.kesti@upm.com"]
[]
[]
[null,null,null,"Kaukaan saha osalta tiedot annetaan Contactor Portaalissa"]

{"sheet":"Työntekijätiedot kooste","index":5,"n_rows":203,"n_cols":50,"rows_kept":203,"cut":false,"hidden":false,"merged":[[1,2,1,6],[1,24,1,37],[1,7,1,23],[1,38,1,49]]}
[null,"Tietuetunnus =>",null,null,null,null,null,"500","501","502","503","504",507,509,510,511,"550","551","552","553","555","557","558","559","651","652","653","654","657","660","661","662","663","666","667","668","669","670"]
[null,null,"Työn tiedot",null,null,null,null,"Työnantajan tiedot",null,null,null,null,null,null,null,null,null,null,null,null,null,null,null,null,"Työntekijätiedot",null,null,null,null,null,null,null,null,null,null,null,null,null,"Muut resurssiluettelon tiedot"]
["Järj.","Tehdas","Ostotilaus-numero","Osto til. rivi","Työkohde-/Tilauksen nimi","Saapumis- päivä","Poistumis- päivä","Työnantajan nimi","Työnantajan     Y-tunnus tai suomalainen henkilötunnus","Työn- antajan ulko- mainen tunnus","Ulkom. tunn. tyyppi","Työn- antajan kotivaltio (ISO koodi)","Työnantajan lähiosoite","Työn- antajan posti- numero","Työn- antajan posti- toimi- paikka","Työn- antajan osoit- teen valtio","Työn- antajan edustajan sukunimi","Työn- antajan edustajan etunimi","Työnantajan edustajan tai yhteyshenkilön puhelinnumero","Työnantajan edustajan tai yhteyshenkilön sähköpostiosoite","Työnantajan edustajan tai yhteyshenkilön lähiosoite","Työnantaj edustajan/ yhteyshenk postinro","Työnantajan edustajan tai yhteyshenkilön postitoimi- paikka","Työnantaj edustajan/ yhteyshenk maa- tunnus","Veronro","Syntymä- aika SAP muodossa (vvvvkkpv)","Työntekijän sukunimi","Työntekijän etunimi","Koti- valtio","työntekijän lähiosoite kotivaltiossa","työn- tekijän postinro","työntekijän postitoimi- paikka","työn- tekijän osoitteen maa- tunnus","työntekijän lähiosoite Suomessa","työn- tekijän postinro Suomessa","työntekijän postitoimi- paikka  Suomessa","lähetetyn työn- tekijän todistus","työ- suh- teen laatu","Tehtävä /\nammattinimike","Henkilön puhelin- numero","Työnant. rekiste- röinti- maa","UPM turvall. perehd. suoritettu","Yksikön turvall. perehd. suoritettu","Urakoits. turvall. koulutus suoritettu","Työtur- valli- suus- kortti","Tulityö-\nkortti","Kulku- avain- tarve","Puku- kaappi- tarve","H / P / K -\nauto","Rekisteri-\nnumero"]
[1,{"$f":"IF(Y4=\"\",\"\",Resurssiluettelo!$G$1)","v":""},{"$f":"IF(Y4=\"\",\"\",Resurssiluettelo!$H$14)","v":""},{"$f":"IF(Y4=\"\",\"\",Resurssiluettelo!$I$14)","v":""},{"$f":"IF(Y4=\"\",\"\",Resurssiluettelo!$J$14)","v":""},{"$f":"IF(Y4=\"\",\"\",Resurssiluettelo!$N$14)","v":""},{"$f":"IF(Y4=\"\",\"\",Resurssiluettelo!$O$14)","v":""},{"$f":"IF(Resurssiluettelo!B51=0,\"\",Resurssiluettelo!B51)","v":""},{"$f":"IF(Resurssiluettelo!C51=0,\"\",Resurssiluettelo!C51)","v":""},{"$f":"IF(Resurssiluettelo!D51=0,\"\",Resurssiluettelo!D51)","v":""},{"$f":"IF($J4=\"\",\"\",VLOOKUP($J4, Resurssiluettelo!$D$21:$X$40,Ohjeistus!K$98-1,FALSE))","v":""},{"$f":"IF($J4=\"\",\"\",VLOOKUP($J4, Resurssiluettelo!$D$21:$X$40,Ohjeistus!L$98-1,FALSE))","v":""},{"$f":"IF($J4=\"\",\"\",VLOOKUP($J4, Resurssiluettelo!$D$21:$X$40,Ohjeistus!M$98-1,FALSE))","v":""},{"$f":"IF($J4=\"\",\"\",VLOOKUP($J4, Resurssiluettelo!$D$21:$X$40,Ohjeistus!N$98-1,FALSE))","v":""},{"$f":"IF($J4=\"\",\"\",VLOOKUP($J4, Resurssiluettelo!$D$21:$X$40,Ohjeistus!O$98-1,FALSE))","v":""},{"$f":"IF($J4=\"\",\"\",VLOOKUP($J4, Resurssiluettelo!$D$21:$X$40,Ohjeistus!P$98-1,FALSE))","v":""},{"$f":"IF($J4=\"\",IF($I4=\"\",\"\",VLOOKUP($I4, Resurssiluettelo!$C$21:$X$40,Ohjeistus!Q$98,FALSE)),VLOOKUP($J4, Resurssiluettelo!$D$21:$X$40,Ohjeistus!Q$98-1,FALSE))","v":""},{"$f":"IF($J4=\"\",IF($I4=\"\",\"\",VLOOKUP($I4, Resurssiluettelo!$C$21:$X$40,Ohjeistus!R$98,FALSE)),VLOOKUP($J4, Resurssiluettelo!$D$21:$X$40,Ohjeistus!R$98-1,FALSE))","v":""},{"$f":"IF($J4=\"\",IF($I4=\"\",\"\",VLOOKUP($I4, Resurssiluettelo!$C$21:$X$40,Ohjeistus!S$98,FALSE)),VLOOKUP($J4, Resurssiluettelo!$D$21:$X$40,Ohjeistus!S$98-1,FALSE))","v":""},{"$f":"IF($J4=\"\",IF($I4=\"\",\"\",VLOOKUP($I4, Resurssiluettelo!$C$21:$X$40,Ohjeistus!T$98,FALSE)),VLOOKUP($J4, Resurssiluettelo!$D$21:$X$40,Ohjeistus!T$98-1,FALSE))","v":""},{"$f":"IF($J4=\"\",\"\",VLOOKUP($J4, Resurssiluettelo!$D$21:$X$40,Ohjeistus!U$98-1,FALSE))","v":""},{"$f":"IF($J4=\"\",\"\",VLOOKUP($J4, Resurssiluettelo!$D$21:$X$40,Ohjeistus!V$98-1,FALSE))","v":""},{"$f":"IF($J4=\"\",\"\",VLOOKUP($J4, Resurssiluettelo!$D$21:$X$40,Ohjeistus!W$98-1,FALSE))","v":""},{"$f":"IF($J4=\"\",\"\",VLOOKUP($J4, Resurssiluettelo!$D$21:$X$40,Ohjeistus!X$98-1,FALSE))","v":""},{"$f":"IF(Resurssiluettelo!E51=0,\"\",Resurssiluettelo!E51)","v":""},{"$f":"IF(Resurssiluettelo!F51=0,\"\",YEAR(Resurssiluettelo!F51)&IF(MONTH(Resurssiluettelo!F51)<10,\"0\",\"\")&MONTH(Resurssiluettelo!F51)&IF(DAY(Resurssiluettelo!F51)<10,\"0\",\"\")&DAY(Resurssiluettelo!F51))","v":""},{"$f":"IF(Resurssiluettelo!G51=0,\"\",Resurssiluettelo!G51)","v":""},{"$f":"IF(Resurssiluettelo!H51=0,\"\",Resurssiluettelo!H51)","v":""},{"$f":"IF(Resurssiluettelo!I51=0,\"\",Resurssiluettelo!I51)","v":""},{"$f":"IF(Resurssiluettelo!W51=0,\"\",Resurssiluettelo!W51)","v":""},{"$f":"IF(Resurssiluettelo!X51=0,\"\",Resurssiluettelo!X51)","v":""},{"$f":"IF(Resurssiluettelo!Y51=0,\"\",Resurssiluettelo!Y51)","v":""},{"$f":"IF(Resurssiluettelo!Z51=0,\"\",Resurssiluettelo!Z51)","v":""},{"$f":"IF(Resurssiluettelo!AA51=0,\"\",Resurssiluettelo!AA51)","v":""},{"$f":"IF(Resurssiluettelo!AB51=0,\"\",Resurssiluettelo!AB51)","v":""},{"$f":"IF(Resurssiluettelo!AC51=0,\"\",Resurssiluettelo!AC51)","v":""},{"$f":"IF(Resurssiluettelo!AD51=0,\"\",Resurssiluettelo!AD51)","v":""},{"$f":"IF(Resurssiluettelo!J51=0,\"\",Resurssiluettelo!J51)","v":""},{"$f":"IF(Resurssiluettelo!K51=0,\"\",Resurssiluettelo!K51)","v":""},{"$f":"IF(Resurssiluettelo!L51=0,\"\",Resurssiluettelo!L51)","v":""},{"$f":"IF(Resurssiluettelo!M51=0,\"\",Resurssiluettelo!M51)","v":""},{"$f":"IF(Resurssiluettelo!N51=0,\"\",Resurssiluettelo!N51)","v":""},{"$f":"IF(Resurssiluettelo!O51=0,\"\",Resurssiluettelo!O51)","v":""},{"$f":"IF(Resurssiluettelo!P51=0,\"\",Resurssiluettelo!P51)","v":""},{"$f":"IF(Resurssiluettelo!Q51=0,\"\",Resurssiluettelo!Q51)","v":""},{"$f":"IF(Resurssiluettelo!R51=0,\"\",Resurssiluettelo!R51)","v":""},{"$f":"IF(Resurssiluettelo!S51=0,\"\",Resurssiluettelo!S51)","v":""},{"$f":"IF(Resurssiluettelo!T51=0,\"\",Resurssiluettelo!T51)","v":""},{"$f":"IF(Resurssiluettelo!U51=0,\"\",Resurssiluettelo!U51)","v":""},{"$f":"IF(Resurssiluettelo!V51=0,\"\",Resurssiluettelo!V51)","v":""}]
[2,{"$f":"IF(Y5=\"\",\"\",Resurssiluettelo!$G$1)","v":""},{"$f":"IF(Y5=\"\",\"\",Resurssiluettelo!$H$14)","v":""},{"$f":"IF(Y5=\"\",\"\",Resurssiluettelo!$I$14)","v":""},{"$f":"IF(Y5=\"\",\"\",Resurssiluettelo!$J$14)","v":""},{"$f":"IF(Y5=\"\",\"\",Resurssiluettelo!$N$14)","v":""},{"$f":"IF(Y5=\"\",\"\",Resurssiluettelo!$O$14)","v":""},{"$f":"IF(Resurssiluettelo!B52=0,\"\",Resurssiluettelo!B52)","v":""},{"$f":"IF(Resurssiluettelo!C52=0,\"\",Resurssiluettelo!C52)","v":""},{"$f":"IF(Resurssiluettelo!D52=0,\"\",Resurssiluettelo!D52)","v":""},{"$f":"IF($J5=\"\",\"\",VLOOKUP($J5, Resurssiluettelo!$D$21:$X$40,Ohjeistus!K$98-1,FALSE))","v":""},{"$f":"IF($J5=\"\",\"\",VLOOKUP($J5, Resurssiluettelo!$D$21:$X$40,Ohjeistus!L$98-1,FALSE))","v":""},{"$f":"IF($J5=\"\",\"\",VLOOKUP($J5, Resurssiluettelo!$D$21:$X$40,Ohjeistus!M$98-1,FALSE))","v":""},{"$f":"IF($J5=\"\",\"\",VLOOKUP($J5, Resurssiluettelo!$D$21:$X$40,Ohjeistus!N$98-1,FALSE))","v":""},{"$f":"IF($J5=\"\",\"\",VLOOKUP($J5, Resurssiluettelo!$D$21:$X$40,Ohjeistus!O$98-1,FALSE))","v":""},{"$f":"IF($J5=\"\",\"\",VLOOKUP($J5, Resurssiluettelo!$D$21:$X$40,Ohjeistus!P$98-1,FALSE))","v":""},{"$f":"IF($J5=\"\",IF($I5=\"\",\"\",VLOOKUP($I5, Resurssiluettelo!$C$21:$X$40,Ohjeistus!Q$98,FALSE)),VLOOKUP($J5, Resurssiluettelo!$D$21:$X$40,Ohjeistus!Q$98-1,FALSE))","v":""},{"$f":"IF($J5=\"\",IF($I5=\"\",\"\",VLOOKUP($I5, Resurssiluettelo!$C$21:$X$40,Ohjeistus!R$98,FALSE)),VLOOKUP($J5, Resurssiluettelo!$D$21:$X$40,Ohjeistus!R$98-1,FALSE))","v":""},{"$f":"IF($J5=\"\",IF($I5=\"\",\"\",VLOOKUP($I5, Resurssiluettelo!$C$21:$X$40,Ohjeistus!S$98,FALSE)),VLOOKUP($J5, Resurssiluettelo!$D$21:$X$40,Ohjeistus!S$98-1,FALSE))","v":""},{"$f":"IF($J5=\"\",IF($I5=\"\",\"\",VLOOKUP($I5, Resurssiluettelo!$C$21:$X$40,Ohjeistus!T$98,FALSE)),VLOOKUP($J5, Resurssiluettelo!$D$21:$X$40,Ohjeistus!T$98-1,FALSE))","v":""},{"$f":"IF($J5=\"\",\"\",VLOOKUP($J5, Resurssiluettelo!$D$21:$X$40,Ohjeistus!U$98-1,FALSE))","v":""},{"$f":"IF($J5=\"\",\"\",VLOOKUP($J5, Resurssiluettelo!$D$21:$X$40,Ohjeistus!V$98-1,FALSE))","v":""},{"$f":"IF($J5=\"\",\"\",VLOOKUP($J5, Resurssiluettelo!$D$21:$X$40,Ohjeistus!W$98-1,FALSE))","v":""},{"$f":"IF($J5=\"\",\"\",VLOOKUP($J5, Resurssiluettelo!$D$21:$X$40,Ohjeistus!X$98-1,FALSE))","v":""},{"$f":"IF(Resurssiluettelo!E52=0,\"\",Resurssiluettelo!E52)","v":""},{"$f":"IF(Resurssiluettelo!F52=0,\"\",YEAR(Resurssiluettelo!F52)&IF(MONTH(Resurssiluettelo!F52)<10,\"0\",\"\")&MONTH(Resurssiluettelo!F52)&IF(DAY(Resurssiluettelo!F52)<10,\"0\",\"\")&DAY(Resurssiluettelo!F52))","v":""},{"$f":"IF(Resurssiluettelo!G52=0,\"\",Resurssiluettelo!G52)","v":""},{"$f":"IF(Resurssiluettelo!H52=0,\"\",Resurssiluettelo!H52)","v":""},{"$f":"IF(Resurssiluettelo!I52=0,\"\",Resurssiluettelo!I52)","v":""},{"$f":"IF(Resurssiluettelo!W52=0,\"\",Resurssiluettelo!W52)","v":""},{"$f":"IF(Resurssiluettelo!X52=0,\"\",Resurssiluettelo!X52)","v":""},{"$f":"IF(Resurssiluettelo!Y52=0,\"\",Resurssiluettelo!Y52)","v":""},{"$f":"IF(Resurssiluettelo!Z52=0,\"\",Resurssiluettelo!Z52)","v":""},{"$f":"IF(Resurssiluettelo!AA52=0,\"\",Resurssiluettelo!AA52)","v":""},{"$f":"IF(Resurssiluettelo!AB52=0,\"\",Resurssiluettelo!AB52)","v":""},{"$f":"IF(Resurssiluettelo!AC52=0,\"\",Resurssiluettelo!AC52)","v":""},{"$f":"IF(Resurssiluettelo!AD52=0,\"\",Resurssiluettelo!AD52)","v":""},{"$f":"IF(Resurssiluettelo!J52=0,\"\",Resurssiluettelo!J52)","v":""},{"$f":"IF(Resurssiluettelo!K52=0,\"\",Resurssiluettelo!K52)","v":""},{"$f":"IF(Resurssiluettelo!L52=0,\"\",Resurssiluettelo!L52)","v":""},{"$f":"IF(Resurssiluettelo!M52=0,\"\",Resurssiluettelo!M52)","v":""},{"$f":"IF(Resurssiluettelo!N52=0,\"\",Resurssiluettelo!N52)","v":""},{"$f":"IF(Resurssiluettelo!O52=0,\"\",Resurssiluettelo!O52)","v":""},{"$f":"IF(Resurssiluettelo!P52=0,\"\",Resurssiluettelo!P52)","v":""},{"$f":"IF(Resurssiluettelo!Q52=0,\"\",Resurssiluettelo!Q52)","v":""},{"$f":"IF(Resurssiluettelo!R52=0,\"\",Resurssiluettelo!R52)","v":""},{"$f":"IF(Resurssiluettelo!S52=0,\"\",Resurssiluettelo!S52)","v":""},{"$f":"IF(Resurssiluettelo!T52=0,\"\",Resurssiluettelo!T52)","v":""},{"$f":"IF(Resurssiluettelo!U52=0,\"\",Resurssiluettelo!U52)","v":""},{"$f":"IF(Resurssiluettelo!V52=0,\"\",Resurssiluettelo!V52)","v":""}]
[3,{"$f":"IF(Y6=\"\",\"\",Resurssiluettelo!$G$1)","v":""},{"$f":"IF(Y6=\"\",\"\",Resurssiluettelo!$H$14)","v":""},{"$f":"IF(Y6=\"\",\"\",Resurssiluettelo!$I$14)","v":""},{"$f":"IF(Y6=\"\",\"\",Resurssiluettelo!$J$14)","v":""},{"$f":"IF(Y6=\"\",\"\",Resurssiluettelo!$N$14)","v":""},{"$f":"IF(Y6=\"\",\"\",Resurssiluettelo!$O$14)","v":""},{"$f":"IF(Resurssiluettelo!B53=0,\"\",Resurssiluettelo!B53)","v":""},{"$f":"IF(Resurssiluettelo!C53=0,\"\",Resurssiluettelo!C53)","v":""},{"$f":"IF(Resurssiluettelo!D53=0,\"\",Resurssiluettelo!D53)","v":""},{"$f":"IF($J6=\"\",\"\",VLOOKUP($J6, Resurssiluettelo!$D$21:$X$40,Ohjeistus!K$98-1,FALSE))","v":""},{"$f":"IF($J6=\"\",\"\",VLOOKUP($J6, Resurssiluettelo!$D$21:$X$40,Ohjeistus!L$98-1,FALSE))","v":""},{"$f":"IF($J6=\"\",\"\",VLOOKUP($J6, Resurssiluettelo!$D$21:$X$40,Ohjeistus!M$98-1,FALSE))","v":""},{"$f":"IF($J6=\"\",\"\",VLOOKUP($J6, Resurssiluettelo!$D$21:$X$40,Ohjeistus!N$98-1,FALSE))","v":""},{"$f":"IF($J6=\"\",\"\",VLOOKUP($J6, Resurssiluettelo!$D$21:$X$40,Ohjeistus!O$98-1,FALSE))","v":""},{"$f":"IF($J6=\"\",\"\",VLOOKUP($J6, Resurssiluettelo!$D$21:$X$40,Ohjeistus!P$98-1,FALSE))","v":""},{"$f":"IF($J6=\"\",IF($I6=\"\",\"\",VLOOKUP($I6, Resurssiluettelo!$C$21:$X$40,Ohjeistus!Q$98,FALSE)),VLOOKUP($J6, Resurssiluettelo!$D$21:$X$40,Ohjeistus!Q$98-1,FALSE))","v":""},{"$f":"IF($J6=\"\",IF($I6=\"\",\"\",VLOOKUP($I6, Resurssiluettelo!$C$21:$X$40,Ohjeistus!R$98,FALSE)),VLOOKUP($J6, Resurssiluettelo!$D$21:$X$40,Ohjeistus!R$98-1,FALSE))","v":""},{"$f":"IF($J6=\"\",IF($I6=\"\",\"\",VLOOKUP($I6, Resurssiluettelo!$C$21:$X$40,Ohjeistus!S$98,FALSE)),VLOOKUP($J6, Resurssiluettelo!$D$21:$X$40,Ohjeistus!S$98-1,FALSE))","v":""},{"$f":"IF($J6=\"\",IF($I6=\"\",\"\",VLOOKUP($I6, Resurssiluettelo!$C$21:$X$40,Ohjeistus!T$98,FALSE)),VLOOKUP($J6, Resurssiluettelo!$D$21:$X$40,Ohjeistus!T$98-1,FALSE))","v":""},{"$f":"IF($J6=\"\",\"\",VLOOKUP($J6, Resurssiluettelo!$D$21:$X$40,Ohjeistus!U$98-1,FALSE))","v":""},{"$f":"IF($J6=\"\",\"\",VLOOKUP($J6, Resurssiluettelo!$D$21:$X$40,Ohjeistus!V$98-1,FALSE))","v":""},{"$f":"IF($J6=\"\",\"\",VLOOKUP($J6, Resurssiluettelo!$D$21:$X$40,Ohjeistus!W$98-1,FALSE))","v":""},{"$f":"IF($J6=\"\",\"\",VLOOKUP($J6, Resurssiluettelo!$D$21:$X$40,Ohjeistus!X$98-1,FALSE))","v":""},{"$f":"IF(Resurssiluettelo!E53=0,\"\",Resurssiluettelo!E53)","v":""},{"$f":"IF(Resurssiluettelo!F53=0,\"\",YEAR(Resurssiluettelo!F53)&IF(MONTH(Resurssiluettelo!F53)<10,\"0\",\"\")&MONTH(Resurssiluettelo!F53)&IF(DAY(Resurssiluettelo!F53)<10,\"0\",\"\")&DAY(Resurssiluettelo!F53))","v":""},{"$f":"IF(Resurssiluettelo!G53=0,\"\",Resurssiluettelo!G53)","v":""},{"$f":"IF(Resurssiluettelo!H53=0,\"\",Resurssiluettelo!H53)","v":""},{"$f":"IF(Resurssiluettelo!I53=0,\"\",Resurssiluettelo!I53)","v":""},{"$f":"IF(Resurssiluettelo!W53=0,\"\",Resurssiluettelo!W53)","v":""},{"$f":"IF(Resurssiluettelo!X53=0,\"\",Resurssiluettelo!X53)","v":""},{"$f":"IF(Resurssiluettelo!Y53=0,\"\",Resurssiluettelo!Y53)","v":""},{"$f":"IF(Resurssiluettelo!Z53=0,\"\",Resurssiluettelo!Z53)","v":""},{"$f":"IF(Resurssiluettelo!AA53=0,\"\",Resurssiluettelo!AA53)","v":""},{"$f":"IF(Resurssiluettelo!AB53=0,\"\",Resurssiluettelo!AB53)","v":""},{"$f":"IF(Resurssiluettelo!AC53=0,\"\",Resurssiluettelo!AC53)","v":""},{"$f":"IF(Resurssiluettelo!AD53=0,\"\",Resurssiluettelo!AD53)","v":""},{"$f":"IF(Resurssiluettelo!J53=0,\"\",Resurssiluettelo!J53)","v":""},{"$f":"IF(Resurssiluettelo!K53=0,\"\",Resurssiluettelo!K53)","v":""},{"$f":"IF(Resurssiluettelo!L53=0,\"\",Resurssiluettelo!L53)","v":""},{"$f":"IF(Resurssiluettelo!M53=0,\"\",Resurssiluettelo!M53)","v":""},{"$f":"IF(Resurssiluettelo!N53=0,\"\",Resurssiluettelo!N53)","v":""},{"$f":"IF(Resurssiluettelo!O53=0,\"\",Resurssiluettelo!O53)","v":""},{"$f":"IF(Resurssiluettelo!P53=0,\"\",Resurssiluettelo!P53)","v":""},{"$f":"IF(Resurssiluettelo!Q53=0,\"\",Resurssiluettelo!Q53)","v":""},{"$f":"IF(Resurssiluettelo!R53=0,\"\",Resurssiluettelo!R53)","v":""},{"$f":"IF(Resurssiluettelo!S53=0,\"\",Resurssiluettelo!S53)","v":""},{"$f":"IF(Resurssiluettelo!T53=0,\"\",Resurssiluettelo!T53)","v":""},{"$f":"IF(Resurssiluettelo!U53=0,\"\",Resurssiluettelo!U53)","v":""},{"$f":"IF(Resurssiluettelo!V53=0,\"\",Resurssiluettelo!V53)","v":""}]
[4,{"$f":"IF(Y7=\"\",\"\",Resurssiluettelo!$G$1)","v":""},{"$f":"IF(Y7=\"\",\"\",Resurssiluettelo!$H$14)","v":""},{"$f":"IF(Y7=\"\",\"\",Resurssiluettelo!$I$14)","v":""},{"$f":"IF(Y7=\"\",\"\",Resurssiluettelo!$J$14)","v":""},{"$f":"IF(Y7=\"\",\"\",Resurssiluettelo!$N$14)","v":""},{"$f":"IF(Y7=\"\",\"\",Resurssiluettelo!$O$14)","v":""},{"$f":"IF(Resurssiluettelo!B54=0,\"\",Resurssiluettelo!B54)","v":""},{"$f":"IF(Resurssiluettelo!C54=0,\"\",Resurssiluettelo!C54)","v":""},{"$f":"IF(Resurssiluettelo!D54=0,\"\",Resurssiluettelo!D54)","v":""},{"$f":"IF($J7=\"\",\"\",VLOOKUP($J7, Resurssiluettelo!$D$21:$X$40,Ohjeistus!K$98-1,FALSE))","v":""},{"$f":"IF($J7=\"\",\"\",VLOOKUP($J7, Resurssiluettelo!$D$21:$X$40,Ohjeistus!L$98-1,FALSE))","v":""},{"$f":"IF($J7=\"\",\"\",VLOOKUP($J7, Resurssiluettelo!$D$21:$X$40,Ohjeistus!M$98-1,FALSE))","v":""},{"$f":"IF($J7=\"\",\"\",VLOOKUP($J7, Resurssiluettelo!$D$21:$X$40,Ohjeistus!N$98-1,FALSE))","v":""},{"$f":"IF($J7=\"\",\"\",VLOOKUP($J7, Resurssiluettelo!$D$21:$X$40,Ohjeistus!O$98-1,FALSE))","v":""},{"$f":"IF($J7=\"\",\"\",VLOOKUP($J7, Resurssiluettelo!$D$21:$X$40,Ohjeistus!P$98-1,FALSE))","v":""},{"$f":"IF($J7=\"\",IF($I7=\"\",\"\",VLOOKUP($I7, Resurssiluettelo!$C$21:$X$40,Ohjeistus!Q$98,FALSE)),VLOOKUP($J7, Resurssiluettelo!$D$21:$X$40,Ohjeistus!Q$98-1,FALSE))","v":""},{"$f":"IF($J7=\"\",IF($I7=\"\",\"\",VLOOKUP($I7, Resurssiluettelo!$C$21:$X$40,Ohjeistus!R$98,FALSE)),VLOOKUP($J7, Resurssiluettelo!$D$21:$X$40,Ohjeistus!R$98-1,FALSE))","v":""},{"$f":"IF($J7=\"\",IF($I7=\"\",\"\",VLOOKUP($I7, Resurssiluettelo!$C$21:$X$40,Ohjeistus!S$98,FALSE)),VLOOKUP($J7, Resurssiluettelo!$D$21:$X$40,Ohjeistus!S$98-1,FALSE))","v":""},{"$f":"IF($J7=\"\",IF($I7=\"\",\"\",VLOOKUP($I7, Resurssiluettelo!$C$21:$X$40,Ohjeistus!T$98,FALSE)),VLOOKUP($J7, Resurssiluettelo!$D$21:$X$40,Ohjeistus!T$98-1,FALSE))","v":""},{"$f":"IF($J7=\"\",\"\",VLOOKUP($J7, Resurssiluettelo!$D$21:$X$40,Ohjeistus!U$98-1,FALSE))","v":""},{"$f":"IF($J7=\"\",\"\",VLOOKUP($J7, Resurssiluettelo!$D$21:$X$40,Ohjeistus!V$98-1,FALSE))","v":""},{"$f":"IF($J7=\"\",\"\",VLOOKUP($J7, Resurssiluettelo!$D$21:$X$40,Ohjeistus!W$98-1,FALSE))","v":""},{"$f":"IF($J7=\"\",\"\",VLOOKUP($J7, Resurssiluettelo!$D$21:$X$40,Ohjeistus!X$98-1,FALSE))","v":""},{"$f":"IF(Resurssiluettelo!E54=0,\"\",Resurssiluettelo!E54)","v":""},{"$f":"IF(Resurssiluettelo!F54=0,\"\",YEAR(Resurssiluettelo!F54)&IF(MONTH(Resurssiluettelo!F54)<10,\"0\",\"\")&MONTH(Resurssiluettelo!F54)&IF(DAY(Resurssiluettelo!F54)<10,\"0\",\"\")&DAY(Resurssiluettelo!F54))","v":""},{"$f":"IF(Resurssiluettelo!G54=0,\"\",Resurssiluettelo!G54)","v":""},{"$f":"IF(Resurssiluettelo!H54=0,\"\",Resurssiluettelo!H54)","v":""},{"$f":"IF(Resurssiluettelo!I54=0,\"\",Resurssiluettelo!I54)","v":""},{"$f":"IF(Resurssiluettelo!W54=0,\"\",Resurssiluettelo!W54)","v":""},{"$f":"IF(Resurssiluettelo!X54=0,\"\",Resurssiluettelo!X54)","v":""},{"$f":"IF(Resurssiluettelo!Y54=0,\"\",Resurssiluettelo!Y54)","v":""},{"$f":"IF(Resurssiluettelo!Z54=0,\"\",Resurssiluettelo!Z54)","v":""},{"$f":"IF(Resurssiluettelo!AA54=0,\"\",Resurssiluettelo!AA54)","v":""},{"$f":"IF(Resurssiluettelo!AB54=0,\"\",Resurssiluettelo!AB54)","v":""},{"$f":"IF(Resurssiluettelo!AC54=0,\"\",Resurssiluettelo!AC54)","v":""},{"$f":"IF(Resurssiluettelo!AD54=0,\"\",Resurssiluettelo!AD54)","v":""},{"$f":"IF(Resurssiluettelo!J54=0,\"\",Resurssiluettelo!J54)","v":""},{"$f":"IF(Resurssiluettelo!K54=0,\"\",Resurssiluettelo!K54)","v":""},{"$f":"IF(Resurssiluettelo!L54=0,\"\",Resurssiluettelo!L54)","v":""},{"$f":"IF(Resurssiluettelo!M54=0,\"\",Resurssiluettelo!M54)","v":""},{"$f":"IF(Resurssiluettelo!N54=0,\"\",Resurssiluettelo!N54)","v":""},{"$f":"IF(Resurssiluettelo!O54=0,\"\",Resurssiluettelo!O54)","v":""},{"$f":"IF(Resurssiluettelo!P54=0,\"\",Resurssiluettelo!P54)","v":""},{"$f":"IF(Resurssiluettelo!Q54=0,\"\",Resurssiluettelo!Q54)","v":""},{"$f":"IF(Resurssiluettelo!R54=0,\"\",Resurssiluettelo!R54)","v":""},{"$f":"IF(Resurssiluettelo!S54=0,\"\",Resurssiluettelo!S54)","v":""},{"$f":"IF(Resurssiluettelo!T54=0,\"\",Resurssiluettelo!T54)","v":""},{"$f":"IF(Resurssiluettelo!U54=0,\"\",Resurssiluettelo!U54)","v":""},{"$f":"IF(Resurssiluettelo!V54=0,\"\",Resurssiluettelo!V54)","v":""}]
[5,{"$f":"IF(Y8=\"\",\"\",Resurssiluettelo!$G$1)","v":""},{"$f":"IF(Y8=\"\",\"\",Resurssiluettelo!$H$14)","v":""},{"$f":"IF(Y8=\"\",\"\",Resurssiluettelo!$I$14)","v":""},{"$f":"IF(Y8=\"\",\"\",Resurssiluettelo!$J$14)","v":""},{"$f":"IF(Y8=\"\",\"\",Resurssiluettelo!$N$14)","v":""},{"$f":"IF(Y8=\"\",\"\",Resurssiluettelo!$O$14)","v":""},{"$f":"IF(Resurssiluettelo!B55=0,\"\",Resurssiluettelo!B55)","v":""},{"$f":"IF(Resurssiluettelo!C55=0,\"\",Resurssiluettelo!C55)","v":""},{"$f":"IF(Resurssiluettelo!D55=0,\"\",Resurssiluettelo!D55)","v":""},{"$f":"IF($J8=\"\",\"\",VLOOKUP($J8, Resurssiluettelo!$D$21:$X$40,Ohjeistus!K$98-1,FALSE))","v":""},{"$f":"IF($J8=\"\",\"\",VLOOKUP($J8, Resurssiluettelo!$D$21:$X$40,Ohjeistus!L$98-1,FALSE))","v":""},{"$f":"IF($J8=\"\",\"\",VLOOKUP($J8, Resurssiluettelo!$D$21:$X$40,Ohjeistus!M$98-1,FALSE))","v":""},{"$f":"IF($J8=\"\",\"\",VLOOKUP($J8, Resurssiluettelo!$D$21:$X$40,Ohjeistus!N$98-1,FALSE))","v":""},{"$f":"IF($J8=\"\",\"\",VLOOKUP($J8, Resurssiluettelo!$D$21:$X$40,Ohjeistus!O$98-1,FALSE))","v":""},{"$f":"IF($J8=\"\",\"\",VLOOKUP($J8, Resurssiluettelo!$D$21:$X$40,Ohjeistus!P$98-1,FALSE))","v":""},{"$f":"IF($J8=\"\",IF($I8=\"\",\"\",VLOOKUP($I8, Resurssiluettelo!$C$21:$X$40,Ohjeistus!Q$98,FALSE)),VLOOKUP($J8, Resurssiluettelo!$D$21:$X$40,Ohjeistus!Q$98-1,FALSE))","v":""},{"$f":"IF($J8=\"\",IF($I8=\"\",\"\",VLOOKUP($I8, Resurssiluettelo!$C$21:$X$40,Ohjeistus!R$98,FALSE)),VLOOKUP($J8, Resurssiluettelo!$D$21:$X$40,Ohjeistus!R$98-1,FALSE))","v":""},{"$f":"IF($J8=\"\",IF($I8=\"\",\"\",VLOOKUP($I8, Resurssiluettelo!$C$21:$X$40,Ohjeistus!S$98,FALSE)),VLOOKUP($J8, Resurssiluettelo!$D$21:$X$40,Ohjeistus!S$98-1,FALSE))","v":""},{"$f":"IF($J8=\"\",IF($I8=\"\",\"\",VLOOKUP($I8, Resurssiluettelo!$C$21:$X$40,Ohjeistus!T$98,FALSE)),VLOOKUP($J8, Resurssiluettelo!$D$21:$X$40,Ohjeistus!T$98-1,FALSE))","v":""},{"$f":"IF($J8=\"\",\"\",VLOOKUP($J8, Resurssiluettelo!$D$21:$X$40,Ohjeistus!U$98-1,FALSE))","v":""},{"$f":"IF($J8=\"\",\"\",VLOOKUP($J8, Resurssiluettelo!$D$21:$X$40,Ohjeistus!V$98-1,FALSE))","v":""},{"$f":"IF($J8=\"\",\"\",VLOOKUP($J8, Resurssiluettelo!$D$21:$X$40,Ohjeistus!W$98-1,FALSE))","v":""},{"$f":"IF($J8=\"\",\"\",VLOOKUP($J8, Resurssiluettelo!$D$21:$X$40,Ohjeistus!X$98-1,FALSE))","v":""},{"$f":"IF(Resurssiluettelo!E55=0,\"\",Resurssiluettelo!E55)","v":""},{"$f":"IF(Resurssiluettelo!F55=0,\"\",YEAR(Resurssiluettelo!F55)&IF(MONTH(Resurssiluettelo!F55)<10,\"0\",\"\")&MONTH(Resurssiluettelo!F55)&IF(DAY(Resurssiluettelo!F55)<10,\"0\",\"\")&DAY(Resurssiluettelo!F55))","v":""},{"$f":"IF(Resurssiluettelo!G55=0,\"\",Resurssiluettelo!G55)","v":""},{"$f":"IF(Resurssiluettelo!H55=0,\"\",Resurssiluettelo!H55)","v":""},{"$f":"IF(Resurssiluettelo!I55=0,\"\",Resurssiluettelo!I55)","v":""},{"$f":"IF(Resurssiluettelo!W55=0,\"\",Resurssiluettelo!W55)","v":""},{"$f":"IF(Resurssiluettelo!X55=0,\"\",Resurssiluettelo!X55)","v":""},{"$f":"IF(Resurssiluettelo!Y55=0,\"\",Resurssiluettelo!Y55)","v":""},{"$f":"IF(Resurssiluettelo!Z55=0,\"\",Resurssiluettelo!Z55)","v":""},{"$f":"IF(Resurssiluettelo!AA55=0,\"\",Resurssiluettelo!AA55)","v":""},{"$f":"IF(Resurssiluettelo!AB55=0,\"\",Resurssiluettelo!AB55)","v":""},{"$f":"IF(Resurssiluettelo!AC55=0,\"\",Resurssiluettelo!AC55)","v":""},{"$f":"IF(Resurssiluettelo!AD55=0,\"\",Resurssiluettelo!AD55)","v":""},{"$f":"IF(Resurssiluettelo!J55=0,\"\",Resurssiluettelo!J55)","v":""},{"$f":"IF(Resurssiluettelo!K55=0,\"\",Resurssiluettelo!K55)","v":""},{"$f":"IF(Resurssiluettelo!L55=0,\"\",Resurssiluettelo!L55)","v":""},{"$f":"IF(Resurssiluettelo!M55=0,\"\",Resurssiluettelo!M55)","v":""},{"$f":"IF(Resurssiluettelo!N55=0,\"\",Resurssiluettelo!N55)","v":""},{"$f":"IF(Resurssiluettelo!O55=0,\"\",Resurssiluettelo!O55)","v":""},{"$f":"IF(Resurssiluettelo!P55=0,\"\",Resurssiluettelo!P55)","v":""},{"$f":"IF(Resurssiluettelo!Q55=0,\"\",Resurssiluettelo!Q55)","v":""},{"$f":"IF(Resurssiluettelo!R55=0,\"\",Resurssiluettelo!R55)","v":""},{"$f":"IF(Resurssiluettelo!S55=0,\"\",Resurssiluettelo!S55)","v":""},{"$f":"IF(Resurssiluettelo!T55=0,\"\",Resurssiluettelo!T55)","v":""},{"$f":"IF(Resurssiluettelo!U55=0,\"\",Resurssiluettelo!U55)","v":""},{"$f":"IF(Resurssiluettelo!V55=0,\"\",Resurssiluettelo!V55)","v":""}]
[6,{"$f":"IF(Y9=\"\",\"\",Resurssiluettelo!$G$1)","v":""},{"$f":"IF(Y9=\"\",\"\",Resurssiluettelo!$H$14)","v":""},{"$f":"IF(Y9=\"\",\"\",Resurssiluettelo!$I$14)","v":""},{"$f":"IF(Y9=\"\",\"\",Resurssiluettelo!$J$14)","v":""},{"$f":"IF(Y9=\"\",\"\",Resurssiluettelo!$N$14)","v":""},{"$f":"IF(Y9=\"\",\"\",Resurssiluettelo!$O$14)","v":""},{"$f":"IF(Resurssiluettelo!B56=0,\"\",Resurssiluettelo!B56)","v":""},{"$f":"IF(Resurssiluettelo!C56=0,\"\",Resurssiluettelo!C56)","v":""},{"$f":"IF(Resurssiluettelo!D56=0,\"\",Resurssiluettelo!D56)","v":""},{"$f":"IF($J9=\"\",\"\",VLOOKUP($J9, Resurssiluettelo!$D$21:$X$40,Ohjeistus!K$98-1,FALSE))","v":""},{"$f":"IF($J9=\"\",\"\",VLOOKUP($J9, Resurssiluettelo!$D$21:$X$40,Ohjeistus!L$98-1,FALSE))","v":""},{"$f":"IF($J9=\"\",\"\",VLOOKUP($J9, Resurssiluettelo!$D$21:$X$40,Ohjeistus!M$98-1,FALSE))","v":""},{"$f":"IF($J9=\"\",\"\",VLOOKUP($J9, Resurssiluettelo!$D$21:$X$40,Ohjeistus!N$98-1,FALSE))","v":""},{"$f":"IF($J9=\"\",\"\",VLOOKUP($J9, Resurssiluettelo!$D$21:$X$40,Ohjeistus!O$98-1,FALSE))","v":""},{"$f":"IF($J9=\"\",\"\",VLOOKUP($J9, Resurssiluettelo!$D$21:$X$40,Ohjeistus!P$98-1,FALSE))","v":""},{"$f":"IF($J9=\"\",IF($I9=\"\",\"\",VLOOKUP($I9, Resurssiluettelo!$C$21:$X$40,Ohjeistus!Q$98,FALSE)),VLOOKUP($J9, Resurssiluettelo!$D$21:$X$40,Ohjeistus!Q$98-1,FALSE))","v":""},{"$f":"IF($J9=\"\",IF($I9=\"\",\"\",VLOOKUP($I9, Resurssiluettelo!$C$21:$X$40,Ohjeistus!R$98,FALSE)),VLOOKUP($J9, Resurssiluettelo!$D$21:$X$40,Ohjeistus!R$98-1,FALSE))","v":""},{"$f":"IF($J9=\"\",IF($I9=\"\",\"\",VLOOKUP($I9, Resurssiluettelo!$C$21:$X$40,Ohjeistus!S$98,FALSE)),VLOOKUP($J9, Resurssiluettelo!$D$21:$X$40,Ohjeistus!S$98-1,FALSE))","v":""},{"$f":"IF($J9=\"\",IF($I9=\"\",\"\",VLOOKUP($I9, Resurssiluettelo!$C$21:$X$40,Ohjeistus!T$98,FALSE)),VLOOKUP($J9, Resurssiluettelo!$D$21:$X$40,Ohjeistus!T$98-1,FALSE))","v":""},{"$f":"IF($J9=\"\",\"\",VLOOKUP($J9, Resurssiluettelo!$D$21:$X$40,Ohjeistus!U$98-1,FALSE))","v":""},{"$f":"IF($J9=\"\",\"\",VLOOKUP($J9, Resurssiluettelo!$D$21:$X$40,Ohjeistus!V$98-1,FALSE))","v":""},{"$f":"IF($J9=\"\",\"\",VLOOKUP($J9, Resurssiluettelo!$D$21:$X$40,Ohjeistus!W$98-1,FALSE))","v":""},{"$f":"IF($J9=\"\",\"\",VLOOKUP($J9, Resurssiluettelo!$D$21:$X$40,Ohjeistus!X$98-1,FALSE))","v":""},{"$f":"IF(Resurssiluettelo!E56=0,\"\",Resurssiluettelo!E56)","v":""},{"$f":"IF(Resurssiluettelo!F56=0,\"\",YEAR(Resurssiluettelo!F56)&IF(MONTH(Resurssiluettelo!F56)<10,\"0\",\"\")&MONTH(Resurssiluettelo!F56)&IF(DAY(Resurssiluettelo!F56)<10,\"0\",\"\")&DAY(Resurssiluettelo!F56))","v":""},{"$f":"IF(Resurssiluettelo!G56=0,\"\",Resurssiluettelo!G56)","v":""},{"$f":"IF(Resurssiluettelo!H56=0,\"\",Resurssiluettelo!H56)","v":""},{"$f":"IF(Resurssiluettelo!I56=0,\"\",Resurssiluettelo!I56)","v":""},{"$f":"IF(Resurssiluettelo!W56=0,\"\",Resurssiluettelo!W56)","v":""},{"$f":"IF(Resurssiluettelo!X56=0,\"\",Resurssiluettelo!X56)","v":""},{"$f":"IF(Resurssiluettelo!Y56=0,\"\",Resurssiluettelo!Y56)","v":""},{"$f":"IF(Resurssiluettelo!Z56=0,\"\",Resurssiluettelo!Z56)","v":""},{"$f":"IF(Resurssiluettelo!AA56=0,\"\",Resurssiluettelo!AA56)","v":""},{"$f":"IF(Resurssiluettelo!AB56=0,\"\",Resurssiluettelo!AB56)","v":""},{"$f":"IF(Resurssiluettelo!AC56=0,\"\",Resurssiluettelo!AC56)","v":""},{"$f":"IF(Resurssiluettelo!AD56=0,\"\",Resurssiluettelo!AD56)","v":""},{"$f":"IF(Resurssiluettelo!J56=0,\"\",Resurssiluettelo!J56)","v":""},{"$f":"IF(Resurssiluettelo!K56=0,\"\",Resurssiluettelo!K56)","v":""},{"$f":"IF(Resurssiluettelo!L56=0,\"\",Resurssiluettelo!L56)","v":""},{"$f":"IF(Resurssiluettelo!M56=0,\"\",Resurssiluettelo!M56)","v":""},{"$f":"IF(Resurssiluettelo!N56=0,\"\",Resurssiluettelo!N56)","v":""},{"$f":"IF(Resurssiluettelo!O56=0,\"\",Resurssiluettelo!O56)","v":""},{"$f":"IF(Resurssiluettelo!P56=0,\"\",Resurssiluettelo!P56)","v":""},{"$f":"IF(Resurssiluettelo!Q56=0,\"\",Resurssiluettelo!Q56)","v":""},{"$f":"IF(Resurssiluettelo!R56=0,\"\",Resurssiluettelo!R56)","v":""},{"$f":"IF(Resurssiluettelo!S56=0,\"\",Resurssiluettelo!S56)","v":""},{"$f":"IF(Resurssiluettelo!T56=0,\"\",Resurssiluettelo!T56)","v":""},{"$f":"IF(Resurssiluettelo!U56=0,\"\",Resurssiluettelo!U56)","v":""},{"$f":"IF(Resurssiluettelo!V56=0,\"\",Resurssiluettelo!V56)","v":""}]
[7,{"$f":"IF(Y10=\"\",\"\",Resurssiluettelo!$G$1)","v":""},{"$f":"IF(Y10=\"\",\"\",Resurssiluettelo!$H$14)","v":""},{"$f":"IF(Y10=\"\",\"\",Resurssiluettelo!$I$14)","v":""},{"$f":"IF(Y10=\"\",\"\",Resurssiluettelo!$J$14)","v":""},{"$f":"IF(Y10=\"\",\"\",Resurssiluettelo!$N$14)","v":""},{"$f":"IF(Y10=\"\",\"\",Resurssiluettelo!$O$14)","v":""},{"$f":"IF(Resurssiluettelo!B57=0,\"\",Resurssiluettelo!B57)","v":""},{"$f":"IF(Resurssiluettelo!C57=0,\"\",Resurssiluettelo!C57)","v":""},{"$f":"IF(Resurssiluettelo!D57=0,\"\",Resurssiluettelo!D57)","v":""},{"$f":"IF($J10=\"\",\"\",VLOOKUP($J10, Resurssiluettelo!$D$21:$X$40,Ohjeistus!K$98-1,FALSE))","v":""},{"$f":"IF($J10=\"\",\"\",VLOOKUP($J10, Resurssiluettelo!$D$21:$X$40,Ohjeistus!L$98-1,FALSE))","v":""},{"$f":"IF($J10=\"\",\"\",VLOOKUP($J10, Resurssiluettelo!$D$21:$X$40,Ohjeistus!M$98-1,FALSE))","v":""},{"$f":"IF($J10=\"\",\"\",VLOOKUP($J10, Resurssiluettelo!$D$21:$X$40,Ohjeistus!N$98-1,FALSE))","v":""},{"$f":"IF($J10=\"\",\"\",VLOOKUP($J10, Resurssiluettelo!$D$21:$X$40,Ohjeistus!O$98-1,FALSE))","v":""},{"$f":"IF($J10=\"\",\"\",VLOOKUP($J10, Resurssiluettelo!$D$21:$X$40,Ohjeistus!P$98-1,FALSE))","v":""},{"$f":"IF($J10=\"\",IF($I10=\"\",\"\",VLOOKUP($I10, Resurssiluettelo!$C$21:$X$40,Ohjeistus!Q$98,FALSE)),VLOOKUP($J10, Resurssiluettelo!$D$21:$X$40,Ohjeistus!Q$98-1,FALSE))","v":""},{"$f":"IF($J10=\"\",IF($I10=\"\",\"\",VLOOKUP($I10, Resurssiluettelo!$C$21:$X$40,Ohjeistus!R$98,FALSE)),VLOOKUP($J10, Resurssiluettelo!$D$21:$X$40,Ohjeistus!R$98-1,FALSE))","v":""},{"$f":"IF($J10=\"\",IF($I10=\"\",\"\",VLOOKUP($I10, Resurssiluettelo!$C$21:$X$40,Ohjeistus!S$98,FALSE)),VLOOKUP($J10, Resurssiluettelo!$D$21:$X$40,Ohjeistus!S$98-1,FALSE))","v":""},{"$f":"IF($J10=\"\",IF($I10=\"\",\"\",VLOOKUP($I10, Resurssiluettelo!$C$21:$X$40,Ohjeistus!T$98,FALSE)),VLOOKUP($J10, Resurssiluettelo!$D$21:$X$40,Ohjeistus!T$98-1,FALSE))","v":""},{"$f":"IF($J10=\"\",\"\",VLOOKUP($J10, Resurssiluettelo!$D$21:$X$40,Ohjeistus!U$98-1,FALSE))","v":""},{"$f":"IF($J10=\"\",\"\",VLOOKUP($J10, Resurssiluettelo!$D$21:$X$40,Ohjeistus!V$98-1,FALSE))","v":""},{"$f":"IF($J10=\"\",\"\",VLOOKUP($J10, Resurssiluettelo!$D$21:$X$40,Ohjeistus!W$98-1,FALSE))","v":""},{"$f":"IF($J10=\"\",\"\",VLOOKUP($J10, Resurssiluettelo!$D$21:$X$40,Ohjeistus!X$98-1,FALSE))","v":""},{"$f":"IF(Resurssiluettelo!E57=0,\"\",Resurssiluettelo!E57)","v":""},{"$f":"IF(Resurssiluettelo!F57=0,\"\",YEAR(Resurssiluettelo!F57)&IF(MONTH(Resurssiluettelo!F57)<10,\"0\",\"\")&MONTH(Resurssiluettelo!F57)&IF(DAY(Resurssiluettelo!F57)<10,\"0\",\"\")&DAY(Resurssiluettelo!F57))","v":""},{"$f":"IF(Resurssiluettelo!G57=0,\"\",Resurssiluettelo!G57)","v":""},{"$f":"IF(Resurssiluettelo!H57=0,\"\",Resurssiluettelo!H57)","v":""},{"$f":"IF(Resurssiluettelo!I57=0,\"\",Resurssiluettelo!I57)","v":""},{"$f":"IF(Resurssiluettelo!W57=0,\"\",Resurssiluettelo!W57)","v":""},{"$f":"IF(Resurssiluettelo!X57=0,\"\",Resurssiluettelo!X57)","v":""},{"$f":"IF(Resurssiluettelo!Y57=0,\"\",Resurssiluettelo!Y57)","v":""},{"$f":"IF(Resurssiluettelo!Z57=0,\"\",Resurssiluettelo!Z57)","v":""},{"$f":"IF(Resurssiluettelo!AA57=0,\"\",Resurssiluettelo!AA57)","v":""},{"$f":"IF(Resurssiluettelo!AB57=0,\"\",Resurssiluettelo!AB57)","v":""},{"$f":"IF(Resurssiluettelo!AC57=0,\"\",Resurssiluettelo!AC57)","v":""},{"$f":"IF(Resurssiluettelo!AD57=0,\"\",Resurssiluettelo!AD57)","v":""},{"$f":"IF(Resurssiluettelo!J57=0,\"\",Resurssiluettelo!J57)","v":""},{"$f":"IF(Resurssiluettelo!K57=0,\"\",Resurssiluettelo!K57)","v":""},{"$f":"IF(Resurssiluettelo!L57=0,\"\",Resurssiluettelo!L57)","v":""},{"$f":"IF(Resurssiluettelo!M57=0,\"\",Resurssiluettelo!M57)","v":""},{"$f":"IF(Resurssiluettelo!N57=0,\"\",Resurssiluettelo!N57)","v":""},{"$f":"IF(Resurssiluettelo!O57=0,\"\",Resurssiluettelo!O57)","v":""},{"$f":"IF(Resurssiluettelo!P57=0,\"\",Resurssiluettelo!P57)","v":""},{"$f":"IF(Resurssiluettelo!Q57=0,\"\",Resurssiluettelo!Q57)","v":""},{"$f":"IF(Resurssiluettelo!R57=0,\"\",Resurssiluettelo!R57)","v":""},{"$f":"IF(Resurssiluettelo!S57=0,\"\",Resurssiluettelo!S57)","v":""},{"$f":"IF(Resurssiluettelo!T57=0,\"\",Resurssiluettelo!T57)","v":""},{"$f":"IF(Resurssiluettelo!U57=0,\"\",Resurssiluettelo!U57)","v":""},{"$f":"IF(Resurssiluettelo!V57=0,\"\",Resurssiluettelo!V57)","v":""}]
[8,{"$f":"IF(Y11=\"\",\"\",Resurssiluettelo!$G$1)","v":""},{"$f":"IF(Y11=\"\",\"\",Resurssiluettelo!$H$14)","v":""},{"$f":"IF(Y11=\"\",\"\",Resurssiluettelo!$I$14)","v":""},{"$f":"IF(Y11=\"\",\"\",Resurssiluettelo!$J$14)","v":""},{"$f":"IF(Y11=\"\",\"\",Resurssiluettelo!$N$14)","v":""},{"$f":"IF(Y11=\"\",\"\",Resurssiluettelo!$O$14)","v":""},{"$f":"IF(Resurssiluettelo!B58=0,\"\",Resurssiluettelo!B58)","v":""},{"$f":"IF(Resurssiluettelo!C58=0,\"\",Resurssiluettelo!C58)","v":""},{"$f":"IF(Resurssiluettelo!D58=0,\"\",Resurssiluettelo!D58)","v":""},{"$f":"IF($J11=\"\",\"\",VLOOKUP($J11, Resurssiluettelo!$D$21:$X$40,Ohjeistus!K$98-1,FALSE))","v":""},{"$f":"IF($J11=\"\",\"\",VLOOKUP($J11, Resurssiluettelo!$D$21:$X$40,Ohjeistus!L$98-1,FALSE))","v":""},{"$f":"IF($J11=\"\",\"\",VLOOKUP($J11, Resurssiluettelo!$D$21:$X$40,Ohjeistus!M$98-1,FALSE))","v":""},{"$f":"IF($J11=\"\",\"\",VLOOKUP($J11, Resurssiluettelo!$D$21:$X$40,Ohjeistus!N$98-1,FALSE))","v":""},{"$f":"IF($J11=\"\",\"\",VLOOKUP($J11, Resurssiluettelo!$D$21:$X$40,Ohjeistus!O$98-1,FALSE))","v":""},{"$f":"IF($J11=\"\",\"\",VLOOKUP($J11, Resurssiluettelo!$D$21:$X$40,Ohjeistus!P$98-1,FALSE))","v":""},{"$f":"IF($J11=\"\",IF($I11=\"\",\"\",VLOOKUP($I11, Resurssiluettelo!$C$21:$X$40,Ohjeistus!Q$98,FALSE)),VLOOKUP($J11, Resurssiluettelo!$D$21:$X$40,Ohjeistus!Q$98-1,FALSE))","v":""},{"$f":"IF($J11=\"\",IF($I11=\"\",\"\",VLOOKUP($I11, Resurssiluettelo!$C$21:$X$40,Ohjeistus!R$98,FALSE)),VLOOKUP($J11, Resurssiluettelo!$D$21:$X$40,Ohjeistus!R$98-1,FALSE))","v":""},{"$f":"IF($J11=\"\",IF($I11=\"\",\"\",VLOOKUP($I11, Resurssiluettelo!$C$21:$X$40,Ohjeistus!S$98,FALSE)),VLOOKUP($J11, Resurssiluettelo!$D$21:$X$40,Ohjeistus!S$98-1,FALSE))","v":""},{"$f":"IF($J11=\"\",IF($I11=\"\",\"\",VLOOKUP($I11, Resurssiluettelo!$C$21:$X$40,Ohjeistus!T$98,FALSE)),VLOOKUP($J11, Resurssiluettelo!$D$21:$X$40,Ohjeistus!T$98-1,FALSE))","v":""},{"$f":"IF($J11=\"\",\"\",VLOOKUP($J11, Resurssiluettelo!$D$21:$X$40,Ohjeistus!U$98-1,FALSE))","v":""},{"$f":"IF($J11=\"\",\"\",VLOOKUP($J11, Resurssiluettelo!$D$21:$X$40,Ohjeistus!V$98-1,FALSE))","v":""},{"$f":"IF($J11=\"\",\"\",VLOOKUP($J11, Resurssiluettelo!$D$21:$X$40,Ohjeistus!W$98-1,FALSE))","v":""},{"$f":"IF($J11=\"\",\"\",VLOOKUP($J11, Resurssiluettelo!$D$21:$X$40,Ohjeistus!X$98-1,FALSE))","v":""},{"$f":"IF(Resurssiluettelo!E58=0,\"\",Resurssiluettelo!E58)","v":""},{"$f":"IF(Resurssiluettelo!F58=0,\"\",YEAR(Resurssiluettelo!F58)&IF(MONTH(Resurssiluettelo!F58)<10,\"0\",\"\")&MONTH(Resurssiluettelo!F58)&IF(DAY(Resurssiluettelo!F58)<10,\"0\",\"\")&DAY(Resurssiluettelo!F58))","v":""},{"$f":"IF(Resurssiluettelo!G58=0,\"\",Resurssiluettelo!G58)","v":""},{"$f":"IF(Resurssiluettelo!H58=0,\"\",Resurssiluettelo!H58)","v":""},{"$f":"IF(Resurssiluettelo!I58=0,\"\",Resurssiluettelo!I58)","v":""},{"$f":"IF(Resurssiluettelo!W58=0,\"\",Resurssiluettelo!W58)","v":""},{"$f":"IF(Resurssiluettelo!X58=0,\"\",Resurssiluettelo!X58)","v":""},{"$f":"IF(Resurssiluettelo!Y58=0,\"\",Resurssiluettelo!Y58)","v":""},{"$f":"IF(Resurssiluettelo!Z58=0,\"\",Resurssiluettelo!Z58)","v":""},{"$f":"IF(Resurssiluettelo!AA58=0,\"\",Resurssiluettelo!AA58)","v":""},{"$f":"IF(Resurssiluettelo!AB58=0,\"\",Resurssiluettelo!AB58)","v":""},{"$f":"IF(Resurssiluettelo!AC58=0,\"\",Resurssiluettelo!AC58)","v":""},{"$f":"IF(Resurssiluettelo!AD58=0,\"\",Resurssiluettelo!AD58)","v":""},{"$f":"IF(Resurssiluettelo!J58=0,\"\",Resurssiluettelo!J58)","v":""},{"$f":"IF(Resurssiluettelo!K58=0,\"\",Resurssiluettelo!K58)","v":""},{"$f":"IF(Resurssiluettelo!L58=0,\"\",Resurssiluettelo!L58)","v":""},{"$f":"IF(Resurssiluettelo!M58=0,\"\",Resurssiluettelo!M58)","v":""},{"$f":"IF(Resurssiluettelo!N58=0,\"\",Resurssiluettelo!N58)","v":""},{"$f":"IF(Resurssiluettelo!O58=0,\"\",Resurssiluettelo!O58)","v":""},{"$f":"IF(Resurssiluettelo!P58=0,\"\",Resurssiluettelo!P58)","v":""},{"$f":"IF(Resurssiluettelo!Q58=0,\"\",Resurssiluettelo!Q58)","v":""},{"$f":"IF(Resurssiluettelo!R58=0,\"\",Resurssiluettelo!R58)","v":""},{"$f":"IF(Resurssiluettelo!S58=0,\"\",Resurssiluettelo!S58)","v":""},{"$f":"IF(Resurssiluettelo!T58=0,\"\",Resurssiluettelo!T58)","v":""},{"$f":"IF(Resurssiluettelo!U58=0,\"\",Resurssiluettelo!U58)","v":""},{"$f":"IF(Resurssiluettelo!V58=0,\"\",Resurssiluettelo!V58)","v":""}]
[9,{"$f":"IF(Y12=\"\",\"\",Resurssiluettelo!$G$1)","v":""},{"$f":"IF(Y12=\"\",\"\",Resurssiluettelo!$H$14)","v":""},{"$f":"IF(Y12=\"\",\"\",Resurssiluettelo!$I$14)","v":""},{"$f":"IF(Y12=\"\",\"\",Resurssiluettelo!$J$14)","v":""},{"$f":"IF(Y12=\"\",\"\",Resurssiluettelo!$N$14)","v":""},{"$f":"IF(Y12=\"\",\"\",Resurssiluettelo!$O$14)","v":""},{"$f":"IF(Resurssiluettelo!B59=0,\"\",Resurssiluettelo!B59)","v":""},{"$f":"IF(Resurssiluettelo!C59=0,\"\",Resurssiluettelo!C59)","v":""},{"$f":"IF(Resurssiluettelo!D59=0,\"\",Resurssiluettelo!D59)","v":""},{"$f":"IF($J12=\"\",\"\",VLOOKUP($J12, Resurssiluettelo!$D$21:$X$40,Ohjeistus!K$98-1,FALSE))","v":""},{"$f":"IF($J12=\"\",\"\",VLOOKUP($J12, Resurssiluettelo!$D$21:$X$40,Ohjeistus!L$98-1,FALSE))","v":""},{"$f":"IF($J12=\"\",\"\",VLOOKUP($J12, Resurssiluettelo!$D$21:$X$40,Ohjeistus!M$98-1,FALSE))","v":""},{"$f":"IF($J12=\"\",\"\",VLOOKUP($J12, Resurssiluettelo!$D$21:$X$40,Ohjeistus!N$98-1,FALSE))","v":""},{"$f":"IF($J12=\"\",\"\",VLOOKUP($J12, Resurssiluettelo!$D$21:$X$40,Ohjeistus!O$98-1,FALSE))","v":""},{"$f":"IF($J12=\"\",\"\",VLOOKUP($J12, Resurssiluettelo!$D$21:$X$40,Ohjeistus!P$98-1,FALSE))","v":""},{"$f":"IF($J12=\"\",IF($I12=\"\",\"\",VLOOKUP($I12, Resurssiluettelo!$C$21:$X$40,Ohjeistus!Q$98,FALSE)),VLOOKUP($J12, Resurssiluettelo!$D$21:$X$40,Ohjeistus!Q$98-1,FALSE))","v":""},{"$f":"IF($J12=\"\",IF($I12=\"\",\"\",VLOOKUP($I12, Resurssiluettelo!$C$21:$X$40,Ohjeistus!R$98,FALSE)),VLOOKUP($J12, Resurssiluettelo!$D$21:$X$40,Ohjeistus!R$98-1,FALSE))","v":""},{"$f":"IF($J12=\"\",IF($I12=\"\",\"\",VLOOKUP($I12, Resurssiluettelo!$C$21:$X$40,Ohjeistus!S$98,FALSE)),VLOOKUP($J12, Resurssiluettelo!$D$21:$X$40,Ohjeistus!S$98-1,FALSE))","v":""},{"$f":"IF($J12=\"\",IF($I12=\"\",\"\",VLOOKUP($I12, Resurssiluettelo!$C$21:$X$40,Ohjeistus!T$98,FALSE)),VLOOKUP($J12, Resurssiluettelo!$D$21:$X$40,Ohjeistus!T$98-1,FALSE))","v":""},{"$f":"IF($J12=\"\",\"\",VLOOKUP($J12, Resurssiluettelo!$D$21:$X$40,Ohjeistus!U$98-1,FALSE))","v":""},{"$f":"IF($J12=\"\",\"\",VLOOKUP($J12, Resurssiluettelo!$D$21:$X$40,Ohjeistus!V$98-1,FALSE))","v":""},{"$f":"IF($J12=\"\",\"\",VLOOKUP($J12, Resurssiluettelo!$D$21:$X$40,Ohjeistus!W$98-1,FALSE))","v":""},{"$f":"IF($J12=\"\",\"\",VLOOKUP($J12, Resurssiluettelo!$D$21:$X$40,Ohjeistus!X$98-1,FALSE))","v":""},{"$f":"IF(Resurssiluettelo!E59=0,\"\",Resurssiluettelo!E59)","v":""},{"$f":"IF(Resurssiluettelo!F59=0,\"\",YEAR(Resurssiluettelo!F59)&IF(MONTH(Resurssiluettelo!F59)<10,\"0\",\"\")&MONTH(Resurssiluettelo!F59)&IF(DAY(Resurssiluettelo!F59)<10,\"0\",\"\")&DAY(Resurssiluettelo!F59))","v":""},{"$f":"IF(Resurssiluettelo!G59=0,\"\",Resurssiluettelo!G59)","v":""},{"$f":"IF(Resurssiluettelo!H59=0,\"\",Resurssiluettelo!H59)","v":""},{"$f":"IF(Resurssiluettelo!I59=0,\"\",Resurssiluettelo!I59)","v":""},{"$f":"IF(Resurssiluettelo!W59=0,\"\",Resurssiluettelo!W59)","v":""},{"$f":"IF(Resurssiluettelo!X59=0,\"\",Resurssiluettelo!X59)","v":""},{"$f":"IF(Resurssiluettelo!Y59=0,\"\",Resurssiluettelo!Y59)","v":""},{"$f":"IF(Resurssiluettelo!Z59=0,\"\",Resurssiluettelo!Z59)","v":""},{"$f":"IF(Resurssiluettelo!AA59=0,\"\",Resurssiluettelo!AA59)","v":""},{"$f":"IF(Resurssiluettelo!AB59=0,\"\",Resurssiluettelo!AB59)","v":""},{"$f":"IF(Resurssiluettelo!AC59=0,\"\",Resurssiluettelo!AC59)","v":""},{"$f":"IF(Resurssiluettelo!AD59=0,\"\",Resurssiluettelo!AD59)","v":""},{"$f":"IF(Resurssiluettelo!J59=0,\"\",Resurssiluettelo!J59)","v":""},{"$f":"IF(Resurssiluettelo!K59=0,\"\",Resurssiluettelo!K59)","v":""},{"$f":"IF(Resurssiluettelo!L59=0,\"\",Resurssiluettelo!L59)","v":""},{"$f":"IF(Resurssiluettelo!M59=0,\"\",Resurssiluettelo!M59)","v":""},{"$f":"IF(Resurssiluettelo!N59=0,\"\",Resurssiluettelo!N59)","v":""},{"$f":"IF(Resurssiluettelo!O59=0,\"\",Resurssiluettelo!O59)","v":""},{"$f":"IF(Resurssiluettelo!P59=0,\"\",Resurssiluettelo!P59)","v":""},{"$f":"IF(Resurssiluettelo!Q59=0,\"\",Resurssiluettelo!Q59)","v":""},{"$f":"IF(Resurssiluettelo!R59=0,\"\",Resurssiluettelo!R59)","v":""},{"$f":"IF(Resurssiluettelo!S59=0,\"\",Resurssiluettelo!S59)","v":""},{"$f":"IF(Resurssiluettelo!T59=0,\"\",Resurssiluettelo!T59)","v":""},{"$f":"IF(Resurssiluettelo!U59=0,\"\",Resurssiluettelo!U59)","v":""},{"$f":"IF(Resurssiluettelo!V59=0,\"\",Resurssiluettelo!V59)","v":""}]
[10,{"$f":"IF(Y13=\"\",\"\",Resurssiluettelo!$G$1)","v":""},{"$f":"IF(Y13=\"\",\"\",Resurssiluettelo!$H$14)","v":""},{"$f":"IF(Y13=\"\",\"\",Resurssiluettelo!$I$14)","v":""},{"$f":"IF(Y13=\"\",\"\",Resurssiluettelo!$J$14)","v":""},{"$f":"IF(Y13=\"\",\"\",Resurssiluettelo!$N$14)","v":""},{"$f":"IF(Y13=\"\",\"\",Resurssiluettelo!$O$14)","v":""},{"$f":"IF(Resurssiluettelo!B60=0,\"\",Resurssiluettelo!B60)","v":""},{"$f":"IF(Resurssiluettelo!C60=0,\"\",Resurssiluettelo!C60)","v":""},{"$f":"IF(Resurssiluettelo!D60=0,\"\",Resurssiluettelo!D60)","v":""},{"$f":"IF($J13=\"\",\"\",VLOOKUP($J13, Resurssiluettelo!$D$21:$X$40,Ohjeistus!K$98-1,FALSE))","v":""},{"$f":"IF($J13=\"\",\"\",VLOOKUP($J13, Resurssiluettelo!$D$21:$X$40,Ohjeistus!L$98-1,FALSE))","v":""},{"$f":"IF($J13=\"\",\"\",VLOOKUP($J13, Resurssiluettelo!$D$21:$X$40,Ohjeistus!M$98-1,FALSE))","v":""},{"$f":"IF($J13=\"\",\"\",VLOOKUP($J13, Resurssiluettelo!$D$21:$X$40,Ohjeistus!N$98-1,FALSE))","v":""},{"$f":"IF($J13=\"\",\"\",VLOOKUP($J13, Resurssiluettelo!$D$21:$X$40,Ohjeistus!O$98-1,FALSE))","v":""},{"$f":"IF($J13=\"\",\"\",VLOOKUP($J13, Resurssiluettelo!$D$21:$X$40,Ohjeistus!P$98-1,FALSE))","v":""},{"$f":"IF($J13=\"\",IF($I13=\"\",\"\",VLOOKUP($I13, Resurssiluettelo!$C$21:$X$40,Ohjeistus!Q$98,FALSE)),VLOOKUP($J13, Resurssiluettelo!$D$21:$X$40,Ohjeistus!Q$98-1,FALSE))","v":""},{"$f":"IF($J13=\"\",IF($I13=\"\",\"\",VLOOKUP($I13, Resurssiluettelo!$C$21:$X$40,Ohjeistus!R$98,FALSE)),VLOOKUP($J13, Resurssiluettelo!$D$21:$X$40,Ohjeistus!R$98-1,FALSE))","v":""},{"$f":"IF($J13=\"\",IF($I13=\"\",\"\",VLOOKUP($I13, Resurssiluettelo!$C$21:$X$40,Ohjeistus!S$98,FALSE)),VLOOKUP($J13, Resurssiluettelo!$D$21:$X$40,Ohjeistus!S$98-1,FALSE))","v":""},{"$f":"IF($J13=\"\",IF($I13=\"\",\"\",VLOOKUP($I13, Resurssiluettelo!$C$21:$X$40,Ohjeistus!T$98,FALSE)),VLOOKUP($J13, Resurssiluettelo!$D$21:$X$40,Ohjeistus!T$98-1,FALSE))","v":""},{"$f":"IF($J13=\"\",\"\",VLOOKUP($J13, Resurssiluettelo!$D$21:$X$40,Ohjeistus!U$98-1,FALSE))","v":""},{"$f":"IF($J13=\"\",\"\",VLOOKUP($J13, Resurssiluettelo!$D$21:$X$40,Ohjeistus!V$98-1,FALSE))","v":""},{"$f":"IF($J13=\"\",\"\",VLOOKUP($J13, Resurssiluettelo!$D$21:$X$40,Ohjeistus!W$98-1,FALSE))","v":""},{"$f":"IF($J13=\"\",\"\",VLOOKUP($J13, Resurssiluettelo!$D$21:$X$40,Ohjeistus!X$98-1,FALSE))","v":""},{"$f":"IF(Resurssiluettelo!E60=0,\"\",Resurssiluettelo!E60)","v":""},{"$f":"IF(Resurssiluettelo!F60=0,\"\",YEAR(Resurssiluettelo!F60)&IF(MONTH(Resurssiluettelo!F60)<10,\"0\",\"\")&MONTH(Resurssiluettelo!F60)&IF(DAY(Resurssiluettelo!F60)<10,\"0\",\"\")&DAY(Resurssiluettelo!F60))","v":""},{"$f":"IF(Resurssiluettelo!G60=0,\"\",Resurssiluettelo!G60)","v":""},{"$f":"IF(Resurssiluettelo!H60=0,\"\",Resurssiluettelo!H60)","v":""},{"$f":"IF(Resurssiluettelo!I60=0,\"\",Resurssiluettelo!I60)","v":""},{"$f":"IF(Resurssiluettelo!W60=0,\"\",Resurssiluettelo!W60)","v":""},{"$f":"IF(Resurssiluettelo!X60=0,\"\",Resurssiluettelo!X60)","v":""},{"$f":"IF(Resurssiluettelo!Y60=0,\"\",Resurssiluettelo!Y60)","v":""},{"$f":"IF(Resurssiluettelo!Z60=0,\"\",Resurssiluettelo!Z60)","v":""},{"$f":"IF(Resurssiluettelo!AA60=0,\"\",Resurssiluettelo!AA60)","v":""},{"$f":"IF(Resurssiluettelo!AB60=0,\"\",Resurssiluettelo!AB60)","v":""},{"$f":"IF(Resurssiluettelo!AC60=0,\"\",Resurssiluettelo!AC60)","v":""},{"$f":"IF(Resurssiluettelo!AD60=0,\"\",Resurssiluettelo!AD60)","v":""},{"$f":"IF(Resurssiluettelo!J60=0,\"\",Resurssiluettelo!J60)","v":""},{"$f":"IF(Resurssiluettelo!K60=0,\"\",Resurssiluettelo!K60)","v":""},{"$f":"IF(Resurssiluettelo!L60=0,\"\",Resurssiluettelo!L60)","v":""},{"$f":"IF(Resurssiluettelo!M60=0,\"\",Resurssiluettelo!M60)","v":""},{"$f":"IF(Resurssiluettelo!N60=0,\"\",Resurssiluettelo!N60)","v":""},{"$f":"IF(Resurssiluettelo!O60=0,\"\",Resurssiluettelo!O60)","v":""},{"$f":"IF(Resurssiluettelo!P60=0,\"\",Resurssiluettelo!P60)","v":""},{"$f":"IF(Resurssiluettelo!Q60=0,\"\",Resurssiluettelo!Q60)","v":""},{"$f":"IF(Resurssiluettelo!R60=0,\"\",Resurssiluettelo!R60)","v":""},{"$f":"IF(Resurssiluettelo!S60=0,\"\",Resurssiluettelo!S60)","v":""},{"$f":"IF(Resurssiluettelo!T60=0,\"\",Resurssiluettelo!T60)","v":""},{"$f":"IF(Resurssiluettelo!U60=0,\"\",Resurssiluettelo!U60)","v":""},{"$f":"IF(Resurssiluettelo!V60=0,\"\",Resurssiluettelo!V60)","v":""}]
[11,{"$f":"IF(Y14=\"\",\"\",Resurssiluettelo!$G$1)","v":""},{"$f":"IF(Y14=\"\",\"\",Resurssiluettelo!$H$14)","v":""},{"$f":"IF(Y14=\"\",\"\",Resurssiluettelo!$I$14)","v":""},{"$f":"IF(Y14=\"\",\"\",Resurssiluettelo!$J$14)","v":""},{"$f":"IF(Y14=\"\",\"\",Resurssiluettelo!$N$14)","v":""},{"$f":"IF(Y14=\"\",\"\",Resurssiluettelo!$O$14)","v":""},{"$f":"IF(Resurssiluettelo!B61=0,\"\",Resurssiluettelo!B61)","v":""},{"$f":"IF(Resurssiluettelo!C61=0,\"\",Resurssiluettelo!C61)","v":""},{"$f":"IF(Resurssiluettelo!D61=0,\"\",Resurssiluettelo!D61)","v":""},{"$f":"IF($J14=\"\",\"\",VLOOKUP($J14, Resurssiluettelo!$D$21:$X$40,Ohjeistus!K$98-1,FALSE))","v":""},{"$f":"IF($J14=\"\",\"\",VLOOKUP($J14, Resurssiluettelo!$D$21:$X$40,Ohjeistus!L$98-1,FALSE))","v":""},{"$f":"IF($J14=\"\",\"\",VLOOKUP($J14, Resurssiluettelo!$D$21:$X$40,Ohjeistus!M$98-1,FALSE))","v":""},{"$f":"IF($J14=\"\",\"\",VLOOKUP($J14, Resurssiluettelo!$D$21:$X$40,Ohjeistus!N$98-1,FALSE))","v":""},{"$f":"IF($J14=\"\",\"\",VLOOKUP($J14, Resurssiluettelo!$D$21:$X$40,Ohjeistus!O$98-1,FALSE))","v":""},{"$f":"IF($J14=\"\",\"\",VLOOKUP($J14, Resurssiluettelo!$D$21:$X$40,Ohjeistus!P$98-1,FALSE))","v":""},{"$f":"IF($J14=\"\",IF($I14=\"\",\"\",VLOOKUP($I14, Resurssiluettelo!$C$21:$X$40,Ohjeistus!Q$98,FALSE)),VLOOKUP($J14, Resurssiluettelo!$D$21:$X$40,Ohjeistus!Q$98-1,FALSE))","v":""},{"$f":"IF($J14=\"\",IF($I14=\"\",\"\",VLOOKUP($I14, Resurssiluettelo!$C$21:$X$40,Ohjeistus!R$98,FALSE)),VLOOKUP($J14, Resurssiluettelo!$D$21:$X$40,Ohjeistus!R$98-1,FALSE))","v":""},{"$f":"IF($J14=\"\",IF($I14=\"\",\"\",VLOOKUP($I14, Resurssiluettelo!$C$21:$X$40,Ohjeistus!S$98,FALSE)),VLOOKUP($J14, Resurssiluettelo!$D$21:$X$40,Ohjeistus!S$98-1,FALSE))","v":""},{"$f":"IF($J14=\"\",IF($I14=\"\",\"\",VLOOKUP($I14, Resurssiluettelo!$C$21:$X$40,Ohjeistus!T$98,FALSE)),VLOOKUP($J14, Resurssiluettelo!$D$21:$X$40,Ohjeistus!T$98-1,FALSE))","v":""},{"$f":"IF($J14=\"\",\"\",VLOOKUP($J14, Resurssiluettelo!$D$21:$X$40,Ohjeistus!U$98-1,FALSE))","v":""},{"$f":"IF($J14=\"\",\"\",VLOOKUP($J14, Resurssiluettelo!$D$21:$X$40,Ohjeistus!V$98-1,FALSE))","v":""},{"$f":"IF($J14=\"\",\"\",VLOOKUP($J14, Resurssiluettelo!$D$21:$X$40,Ohjeistus!W$98-1,FALSE))","v":""},{"$f":"IF($J14=\"\",\"\",VLOOKUP($J14, Resurssiluettelo!$D$21:$X$40,Ohjeistus!X$98-1,FALSE))","v":""},{"$f":"IF(Resurssiluettelo!E61=0,\"\",Resurssiluettelo!E61)","v":""},{"$f":"IF(Resurssiluettelo!F61=0,\"\",YEAR(Resurssiluettelo!F61)&IF(MONTH(Resurssiluettelo!F61)<10,\"0\",\"\")&MONTH(Resurssiluettelo!F61)&IF(DAY(Resurssiluettelo!F61)<10,\"0\",\"\")&DAY(Resurssiluettelo!F61))","v":""},{"$f":"IF(Resurssiluettelo!G61=0,\"\",Resurssiluettelo!G61)","v":""},{"$f":"IF(Resurssiluettelo!H61=0,\"\",Resurssiluettelo!H61)","v":""},{"$f":"IF(Resurssiluettelo!I61=0,\"\",Resurssiluettelo!I61)","v":""},{"$f":"IF(Resurssiluettelo!W61=0,\"\",Resurssiluettelo!W61)","v":""},{"$f":"IF(Resurssiluettelo!X61=0,\"\",Resurssiluettelo!X61)","v":""},{"$f":"IF(Resurssiluettelo!Y61=0,\"\",Resurssiluettelo!Y61)","v":""},{"$f":"IF(Resurssiluettelo!Z61=0,\"\",Resurssiluettelo!Z61)","v":""},{"$f":"IF(Resurssiluettelo!AA61=0,\"\",Resurssiluettelo!AA61)","v":""},{"$f":"IF(Resurssiluettelo!AB61=0,\"\",Resurssiluettelo!AB61)","v":""},{"$f":"IF(Resurssiluettelo!AC61=0,\"\",Resurssiluettelo!AC61)","v":""},{"$f":"IF(Resurssiluettelo!AD61=0,\"\",Resurssiluettelo!AD61)","v":""},{"$f":"IF(Resurssiluettelo!J61=0,\"\",Resurssiluettelo!J61)","v":""},{"$f":"IF(Resurssiluettelo!K61=0,\"\",Resurssiluettelo!K61)","v":""},{"$f":"IF(Resurssiluettelo!L61=0,\"\",Resurssiluettelo!L61)","v":""},{"$f":"IF(Resurssiluettelo!M61=0,\"\",Resurssiluettelo!M61)","v":""},{"$f":"IF(Resurssiluettelo!N61=0,\"\",Resurssiluettelo!N61)","v":""},{"$f":"IF(Resurssiluettelo!O61=0,\"\",Resurssiluettelo!O61)","v":""},{"$f":"IF(Resurssiluettelo!P61=0,\"\",Resurssiluettelo!P61)","v":""},{"$f":"IF(Resurssiluettelo!Q61=0,\"\",Resurssiluettelo!Q61)","v":""},{"$f":"IF(Resurssiluettelo!R61=0,\"\",Resurssiluettelo!R61)","v":""},{"$f":"IF(Resurssiluettelo!S61=0,\"\",Resurssiluettelo!S61)","v":""},{"$f":"IF(Resurssiluettelo!T61=0,\"\",Resurssiluettelo!T61)","v":""},{"$f":"IF(Resurssiluettelo!U61=0,\"\",Resurssiluettelo!U61)","v":""},{"$f":"IF(Resurssiluettelo!V61=0,\"\",Resurssiluettelo!V61)","v":""}]
[12,{"$f":"IF(Y15=\"\",\"\",Resurssiluettelo!$G$1)","v":""},{"$f":"IF(Y15=\"\",\"\",Resurssiluettelo!$H$14)","v":""},{"$f":"IF(Y15=\"\",\"\",Resurssiluettelo!$I$14)","v":""},{"$f":"IF(Y15=\"\",\"\",Resurssiluettelo!$J$14)","v":""},{"$f":"IF(Y15=\"\",\"\",Resurssiluettelo!$N$14)","v":""},{"$f":"IF(Y15=\"\",\"\",Resurssiluettelo!$O$14)","v":""},{"$f":"IF(Resurssiluettelo!B62=0,\"\",Resurssiluettelo!B62)","v":""},{"$f":"IF(Resurssiluettelo!C62=0,\"\",Resurssiluettelo!C62)","v":""},{"$f":"IF(Resurssiluettelo!D62=0,\"\",Resurssiluettelo!D62)","v":""},{"$f":"IF($J15=\"\",\"\",VLOOKUP($J15, Resurssiluettelo!$D$21:$X$40,Ohjeistus!K$98-1,FALSE))","v":""},{"$f":"IF($J15=\"\",\"\",VLOOKUP($J15, Resurssiluettelo!$D$21:$X$40,Ohjeistus!L$98-1,FALSE))","v":""},{"$f":"IF($J15=\"\",\"\",VLOOKUP($J15, Resurssiluettelo!$D$21:$X$40,Ohjeistus!M$98-1,FALSE))","v":""},{"$f":"IF($J15=\"\",\"\",VLOOKUP($J15, Resurssiluettelo!$D$21:$X$40,Ohjeistus!N$98-1,FALSE))","v":""},{"$f":"IF($J15=\"\",\"\",VLOOKUP($J15, Resurssiluettelo!$D$21:$X$40,Ohjeistus!O$98-1,FALSE))","v":""},{"$f":"IF($J15=\"\",\"\",VLOOKUP($J15, Resurssiluettelo!$D$21:$X$40,Ohjeistus!P$98-1,FALSE))","v":""},{"$f":"IF($J15=\"\",IF($I15=\"\",\"\",VLOOKUP($I15, Resurssiluettelo!$C$21:$X$40,Ohjeistus!Q$98,FALSE)),VLOOKUP($J15, Resurssiluettelo!$D$21:$X$40,Ohjeistus!Q$98-1,FALSE))","v":""},{"$f":"IF($J15=\"\",IF($I15=\"\",\"\",VLOOKUP($I15, Resurssiluettelo!$C$21:$X$40,Ohjeistus!R$98,FALSE)),VLOOKUP($J15, Resurssiluettelo!$D$21:$X$40,Ohjeistus!R$98-1,FALSE))","v":""},{"$f":"IF($J15=\"\",IF($I15=\"\",\"\",VLOOKUP($I15, Resurssiluettelo!$C$21:$X$40,Ohjeistus!S$98,FALSE)),VLOOKUP($J15, Resurssiluettelo!$D$21:$X$40,Ohjeistus!S$98-1,FALSE))","v":""},{"$f":"IF($J15=\"\",IF($I15=\"\",\"\",VLOOKUP($I15, Resurssiluettelo!$C$21:$X$40,Ohjeistus!T$98,FALSE)),VLOOKUP($J15, Resurssiluettelo!$D$21:$X$40,Ohjeistus!T$98-1,FALSE))","v":""},{"$f":"IF($J15=\"\",\"\",VLOOKUP($J15, Resurssiluettelo!$D$21:$X$40,Ohjeistus!U$98-1,FALSE))","v":""},{"$f":"IF($J15=\"\",\"\",VLOOKUP($J15, Resurssiluettelo!$D$21:$X$40,Ohjeistus!V$98-1,FALSE))","v":""},{"$f":"IF($J15=\"\",\"\",VLOOKUP($J15, Resurssiluettelo!$D$21:$X$40,Ohjeistus!W$98-1,FALSE))","v":""},{"$f":"IF($J15=\"\",\"\",VLOOKUP($J15, Resurssiluettelo!$D$21:$X$40,Ohjeistus!X$98-1,FALSE))","v":""},{"$f":"IF(Resurssiluettelo!E62=0,\"\",Resurssiluettelo!E62)","v":""},{"$f":"IF(Resurssiluettelo!F62=0,\"\",YEAR(Resurssiluettelo!F62)&IF(MONTH(Resurssiluettelo!F62)<10,\"0\",\"\")&MONTH(Resurssiluettelo!F62)&IF(DAY(Resurssiluettelo!F62)<10,\"0\",\"\")&DAY(Resurssiluettelo!F62))","v":""},{"$f":"IF(Resurssiluettelo!G62=0,\"\",Resurssiluettelo!G62)","v":""},{"$f":"IF(Resurssiluettelo!H62=0,\"\",Resurssiluettelo!H62)","v":""},{"$f":"IF(Resurssiluettelo!I62=0,\"\",Resurssiluettelo!I62)","v":""},{"$f":"IF(Resurssiluettelo!W62=0,\"\",Resurssiluettelo!W62)","v":""},{"$f":"IF(Resurssiluettelo!X62=0,\"\",Resurssiluettelo!X62)","v":""},{"$f":"IF(Resurssiluettelo!Y62=0,\"\",Resurssiluettelo!Y62)","v":""},{"$f":"IF(Resurssiluettelo!Z62=0,\"\",Resurssiluettelo!Z62)","v":""},{"$f":"IF(Resurssiluettelo!AA62=0,\"\",Resurssiluettelo!AA62)","v":""},{"$f":"IF(Resurssiluettelo!AB62=0,\"\",Resurssiluettelo!AB62)","v":""},{"$f":"IF(Resurssiluettelo!AC62=0,\"\",Resurssiluettelo!AC62)","v":""},{"$f":"IF(Resurssiluettelo!AD62=0,\"\",Resurssiluettelo!AD62)","v":""},{"$f":"IF(Resurssiluettelo!J62=0,\"\",Resurssiluettelo!J62)","v":""},{"$f":"IF(Resurssiluettelo!K62=0,\"\",Resurssiluettelo!K62)","v":""},{"$f":"IF(Resurssiluettelo!L62=0,\"\",Resurssiluettelo!L62)","v":""},{"$f":"IF(Resurssiluettelo!M62=0,\"\",Resurssiluettelo!M62)","v":""},{"$f":"IF(Resurssiluettelo!N62=0,\"\",Resurssiluettelo!N62)","v":""},{"$f":"IF(Resurssiluettelo!O62=0,\"\",Resurssiluettelo!O62)","v":""},{"$f":"IF(Resurssiluettelo!P62=0,\"\",Resurssiluettelo!P62)","v":""},{"$f":"IF(Resurssiluettelo!Q62=0,\"\",Resurssiluettelo!Q62)","v":""},{"$f":"IF(Resurssiluettelo!R62=0,\"\",Resurssiluettelo!R62)","v":""},{"$f":"IF(Resurssiluettelo!S62=0,\"\",Resurssiluettelo!S62)","v":""},{"$f":"IF(Resurssiluettelo!T62=0,\"\",Resurssiluettelo!T62)","v":""},{"$f":"IF(Resurssiluettelo!U62=0,\"\",Resurssiluettelo!U62)","v":""},{"$f":"IF(Resurssiluettelo!V62=0,\"\",Resurssiluettelo!V62)","v":""}]
[13,{"$f":"IF(Y16=\"\",\"\",Resurssiluettelo!$G$1)","v":""},{"$f":"IF(Y16=\"\",\"\",Resurssiluettelo!$H$14)","v":""},{"$f":"IF(Y16=\"\",\"\",Resurssiluettelo!$I$14)","v":""},{"$f":"IF(Y16=\"\",\"\",Resurssiluettelo!$J$14)","v":""},{"$f":"IF(Y16=\"\",\"\",Resurssiluettelo!$N$14)","v":""},{"$f":"IF(Y16=\"\",\"\",Resurssiluettelo!$O$14)","v":""},{"$f":"IF(Resurssiluettelo!B63=0,\"\",Resurssiluettelo!B63)","v":""},{"$f":"IF(Resurssiluettelo!C63=0,\"\",Resurssiluettelo!C63)","v":""},{"$f":"IF(Resurssiluettelo!D63=0,\"\",Resurssiluettelo!D63)","v":""},{"$f":"IF($J16=\"\",\"\",VLOOKUP($J16, Resurssiluettelo!$D$21:$X$40,Ohjeistus!K$98-1,FALSE))","v":""},{"$f":"IF($J16=\"\",\"\",VLOOKUP($J16, Resurssiluettelo!$D$21:$X$40,Ohjeistus!L$98-1,FALSE))","v":""},{"$f":"IF($J16=\"\",\"\",VLOOKUP($J16, Resurssiluettelo!$D$21:$X$40,Ohjeistus!M$98-1,FALSE))","v":""},{"$f":"IF($J16=\"\",\"\",VLOOKUP($J16, Resurssiluettelo!$D$21:$X$40,Ohjeistus!N$98-1,FALSE))","v":""},{"$f":"IF($J16=\"\",\"\",VLOOKUP($J16, Resurssiluettelo!$D$21:$X$40,Ohjeistus!O$98-1,FALSE))","v":""},{"$f":"IF($J16=\"\",\"\",VLOOKUP($J16, Resurssiluettelo!$D$21:$X$40,Ohjeistus!P$98-1,FALSE))","v":""},{"$f":"IF($J16=\"\",IF($I16=\"\",\"\",VLOOKUP($I16, Resurssiluettelo!$C$21:$X$40,Ohjeistus!Q$98,FALSE)),VLOOKUP($J16, Resurssiluettelo!$D$21:$X$40,Ohjeistus!Q$98-1,FALSE))","v":""},{"$f":"IF($J16=\"\",IF($I16=\"\",\"\",VLOOKUP($I16, Resurssiluettelo!$C$21:$X$40,Ohjeistus!R$98,FALSE)),VLOOKUP($J16, Resurssiluettelo!$D$21:$X$40,Ohjeistus!R$98-1,FALSE))","v":""},{"$f":"IF($J16=\"\",IF($I16=\"\",\"\",VLOOKUP($I16, Resurssiluettelo!$C$21:$X$40,Ohjeistus!S$98,FALSE)),VLOOKUP($J16, Resurssiluettelo!$D$21:$X$40,Ohjeistus!S$98-1,FALSE))","v":""},{"$f":"IF($J16=\"\",IF($I16=\"\",\"\",VLOOKUP($I16, Resurssiluettelo!$C$21:$X$40,Ohjeistus!T$98,FALSE)),VLOOKUP($J16, Resurssiluettelo!$D$21:$X$40,Ohjeistus!T$98-1,FALSE))","v":""},{"$f":"IF($J16=\"\",\"\",VLOOKUP($J16, Resurssiluettelo!$D$21:$X$40,Ohjeistus!U$98-1,FALSE))","v":""},{"$f":"IF($J16=\"\",\"\",VLOOKUP($J16, Resurssiluettelo!$D$21:$X$40,Ohjeistus!V$98-1,FALSE))","v":""},{"$f":"IF($J16=\"\",\"\",VLOOKUP($J16, Resurssiluettelo!$D$21:$X$40,Ohjeistus!W$98-1,FALSE))","v":""},{"$f":"IF($J16=\"\",\"\",VLOOKUP($J16, Resurssiluettelo!$D$21:$X$40,Ohjeistus!X$98-1,FALSE))","v":""},{"$f":"IF(Resurssiluettelo!E63=0,\"\",Resurssiluettelo!E63)","v":""},{"$f":"IF(Resurssiluettelo!F63=0,\"\",YEAR(Resurssiluettelo!F63)&IF(MONTH(Resurssiluettelo!F63)<10,\"0\",\"\")&MONTH(Resurssiluettelo!F63)&IF(DAY(Resurssiluettelo!F63)<10,\"0\",\"\")&DAY(Resurssiluettelo!F63))","v":""},{"$f":"IF(Resurssiluettelo!G63=0,\"\",Resurssiluettelo!G63)","v":""},{"$f":"IF(Resurssiluettelo!H63=0,\"\",Resurssiluettelo!H63)","v":""},{"$f":"IF(Resurssiluettelo!I63=0,\"\",Resurssiluettelo!I63)","v":""},{"$f":"IF(Resurssiluettelo!W63=0,\"\",Resurssiluettelo!W63)","v":""},{"$f":"IF(Resurssiluettelo!X63=0,\"\",Resurssiluettelo!X63)","v":""},{"$f":"IF(Resurssiluettelo!Y63=0,\"\",Resurssiluettelo!Y63)","v":""},{"$f":"IF(Resurssiluettelo!Z63=0,\"\",Resurssiluettelo!Z63)","v":""},{"$f":"IF(Resurssiluettelo!AA63=0,\"\",Resurssiluettelo!AA63)","v":""},{"$f":"IF(Resurssiluettelo!AB63=0,\"\",Resurssiluettelo!AB63)","v":""},{"$f":"IF(Resurssiluettelo!AC63=0,\"\",Resurssiluettelo!AC63)","v":""},{"$f":"IF(Resurssiluettelo!AD63=0,\"\",Resurssiluettelo!AD63)","v":""},{"$f":"IF(Resurssiluettelo!J63=0,\"\",Resurssiluettelo!J63)","v":""},{"$f":"IF(Resurssiluettelo!K63=0,\"\",Resurssiluettelo!K63)","v":""},{"$f":"IF(Resurssiluettelo!L63=0,\"\",Resurssiluettelo!L63)","v":""},{"$f":"IF(Resurssiluettelo!M63=0,\"\",Resurssiluettelo!M63)","v":""},{"$f":"IF(Resurssiluettelo!N63=0,\"\",Resurssiluettelo!N63)","v":""},{"$f":"IF(Resurssiluettelo!O63=0,\"\",Resurssiluettelo!O63)","v":""},{"$f":"IF(Resurssiluettelo!P63=0,\"\",Resurssiluettelo!P63)","v":""},{"$f":"IF(Resurssiluettelo!Q63=0,\"\",Resurssiluettelo!Q63)","v":""},{"$f":"IF(Resurssiluettelo!R63=0,\"\",Resurssiluettelo!R63)","v":""},{"$f":"IF(Resurssiluettelo!S63=0,\"\",Resurssiluettelo!S63)","v":""},{"$f":"IF(Resurssiluettelo!T63=0,\"\",Resurssiluettelo!T63)","v":""},{"$f":"IF(Resurssiluettelo!U63=0,\"\",Resurssiluettelo!U63)","v":""},{"$f":"IF(Resurssiluettelo!V63=0,\"\",Resurssiluettelo!V63)","v":""}]
[14,{"$f":"IF(Y17=\"\",\"\",Resurssiluettelo!$G$1)","v":""},{"$f":"IF(Y17=\"\",\"\",Resurssiluettelo!$H$14)","v":""},{"$f":"IF(Y17=\"\",\"\",Resurssiluettelo!$I$14)","v":""},{"$f":"IF(Y17=\"\",\"\",Resurssiluettelo!$J$14)","v":""},{"$f":"IF(Y17=\"\",\"\",Resurssiluettelo!$N$14)","v":""},{"$f":"IF(Y17=\"\",\"\",Resurssiluettelo!$O$14)","v":""},{"$f":"IF(Resurssiluettelo!B64=0,\"\",Resurssiluettelo!B64)","v":""},{"$f":"IF(Resurssiluettelo!C64=0,\"\",Resurssiluettelo!C64)","v":""},{"$f":"IF(Resurssiluettelo!D64=0,\"\",Resurssiluettelo!D64)","v":""},{"$f":"IF($J17=\"\",\"\",VLOOKUP($J17, Resurssiluettelo!$D$21:$X$40,Ohjeistus!K$98-1,FALSE))","v":""},{"$f":"IF($J17=\"\",\"\",VLOOKUP($J17, Resurssiluettelo!$D$21:$X$40,Ohjeistus!L$98-1,FALSE))","v":""},{"$f":"IF($J17=\"\",\"\",VLOOKUP($J17, Resurssiluettelo!$D$21:$X$40,Ohjeistus!M$98-1,FALSE))","v":""},{"$f":"IF($J17=\"\",\"\",VLOOKUP($J17, Resurssiluettelo!$D$21:$X$40,Ohjeistus!N$98-1,FALSE))","v":""},{"$f":"IF($J17=\"\",\"\",VLOOKUP($J17, Resurssiluettelo!$D$21:$X$40,Ohjeistus!O$98-1,FALSE))","v":""},{"$f":"IF($J17=\"\",\"\",VLOOKUP($J17, Resurssiluettelo!$D$21:$X$40,Ohjeistus!P$98-1,FALSE))","v":""},{"$f":"IF($J17=\"\",IF($I17=\"\",\"\",VLOOKUP($I17, Resurssiluettelo!$C$21:$X$40,Ohjeistus!Q$98,FALSE)),VLOOKUP($J17, Resurssiluettelo!$D$21:$X$40,Ohjeistus!Q$98-1,FALSE))","v":""},{"$f":"IF($J17=\"\",IF($I17=\"\",\"\",VLOOKUP($I17, Resurssiluettelo!$C$21:$X$40,Ohjeistus!R$98,FALSE)),VLOOKUP($J17, Resurssiluettelo!$D$21:$X$40,Ohjeistus!R$98-1,FALSE))","v":""},{"$f":"IF($J17=\"\",IF($I17=\"\",\"\",VLOOKUP($I17, Resurssiluettelo!$C$21:$X$40,Ohjeistus!S$98,FALSE)),VLOOKUP($J17, Resurssiluettelo!$D$21:$X$40,Ohjeistus!S$98-1,FALSE))","v":""},{"$f":"IF($J17=\"\",IF($I17=\"\",\"\",VLOOKUP($I17, Resurssiluettelo!$C$21:$X$40,Ohjeistus!T$98,FALSE)),VLOOKUP($J17, Resurssiluettelo!$D$21:$X$40,Ohjeistus!T$98-1,FALSE))","v":""},{"$f":"IF($J17=\"\",\"\",VLOOKUP($J17, Resurssiluettelo!$D$21:$X$40,Ohjeistus!U$98-1,FALSE))","v":""},{"$f":"IF($J17=\"\",\"\",VLOOKUP($J17, Resurssiluettelo!$D$21:$X$40,Ohjeistus!V$98-1,FALSE))","v":""},{"$f":"IF($J17=\"\",\"\",VLOOKUP($J17, Resurssiluettelo!$D$21:$X$40,Ohjeistus!W$98-1,FALSE))","v":""},{"$f":"IF($J17=\"\",\"\",VLOOKUP($J17, Resurssiluettelo!$D$21:$X$40,Ohjeistus!X$98-1,FALSE))","v":""},{"$f":"IF(Resurssiluettelo!E64=0,\"\",Resurssiluettelo!E64)","v":""},{"$f":"IF(Resurssiluettelo!F64=0,\"\",YEAR(Resurssiluettelo!F64)&IF(MONTH(Resurssiluettelo!F64)<10,\"0\",\"\")&MONTH(Resurssiluettelo!F64)&IF(DAY(Resurssiluettelo!F64)<10,\"0\",\"\")&DAY(Resurssiluettelo!F64))","v":""},{"$f":"IF(Resurssiluettelo!G64=0,\"\",Resurssiluettelo!G64)","v":""},{"$f":"IF(Resurssiluettelo!H64=0,\"\",Resurssiluettelo!H64)","v":""},{"$f":"IF(Resurssiluettelo!I64=0,\"\",Resurssiluettelo!I64)","v":""},{"$f":"IF(Resurssiluettelo!W64=0,\"\",Resurssiluettelo!W64)","v":""},{"$f":"IF(Resurssiluettelo!X64=0,\"\",Resurssiluettelo!X64)","v":""},{"$f":"IF(Resurssiluettelo!Y64=0,\"\",Resurssiluettelo!Y64)","v":""},{"$f":"IF(Resurssiluettelo!Z64=0,\"\",Resurssiluettelo!Z64)","v":""},{"$f":"IF(Resurssiluettelo!AA64=0,\"\",Resurssiluettelo!AA64)","v":""},{"$f":"IF(Resurssiluettelo!AB64=0,\"\",Resurssiluettelo!AB64)","v":""},{"$f":"IF(Resurssiluettelo!AC64=0,\"\",Resurssiluettelo!AC64)","v":""},{"$f":"IF(Resurssiluettelo!AD64=0,\"\",Resurssiluettelo!AD64)","v":""},{"$f":"IF(Resurssiluettelo!J64=0,\"\",Resurssiluettelo!J64)","v":""},{"$f":"IF(Resurssiluettelo!K64=0,\"\",Resurssiluettelo!K64)","v":""},{"$f":"IF(Resurssiluettelo!L64=0,\"\",Resurssiluettelo!L64)","v":""},{"$f":"IF(Resurssiluettelo!M64=0,\"\",Resurssiluettelo!M64)","v":""},{"$f":"IF(Resurssiluettelo!N64=0,\"\",Resurssiluettelo!N64)","v":""},{"$f":"IF(Resurssiluettelo!O64=0,\"\",Resurssiluettelo!O64)","v":""},{"$f":"IF(Resurssiluettelo!P64=0,\"\",Resurssiluettelo!P64)","v":""},{"$f":"IF(Resurssiluettelo!Q64=0,\"\",Resurssiluettelo!Q64)","v":""},{"$f":"IF(Resurssiluettelo!R64=0,\"\",Resurssiluettelo!R64)","v":""},{"$f":"IF(Resurssiluettelo!S64=0,\"\",Resurssiluettelo!S64)","v":""},{"$f":"IF(Resurssiluettelo!T64=0,\"\",Resurssiluettelo!T64)","v":""},{"$f":"IF(Resurssiluettelo!U64=0,\"\",Resurssiluettelo!U64)","v":""},{"$f":"IF(Resurssiluettelo!V64=0,\"\",Resurssiluettelo!V64)","v":""}]
[15,{"$f":"IF(Y18=\"\",\"\",Resurssiluettelo!$G$1)","v":""},{"$f":"IF(Y18=\"\",\"\",Resurssiluettelo!$H$14)","v":""},{"$f":"IF(Y18=\"\",\"\",Resurssiluettelo!$I$14)","v":""},{"$f":"IF(Y18=\"\",\"\",Resurssiluettelo!$J$14)","v":""},{"$f":"IF(Y18=\"\",\"\",Resurssiluettelo!$N$14)","v":""},{"$f":"IF(Y18=\"\",\"\",Resurssiluettelo!$O$14)","v":""},{"$f":"IF(Resurssiluettelo!B65=0,\"\",Resurssiluettelo!B65)","v":""},{"$f":"IF(Resurssiluettelo!C65=0,\"\",Resurssiluettelo!C65)","v":""},{"$f":"IF(Resurssiluettelo!D65=0,\"\",Resurssiluettelo!D65)","v":""},{"$f":"IF($J18=\"\",\"\",VLOOKUP($J18, Resurssiluettelo!$D$21:$X$40,Ohjeistus!K$98-1,FALSE))","v":""},{"$f":"IF($J18=\"\",\"\",VLOOKUP($J18, Resurssiluettelo!$D$21:$X$40,Ohjeistus!L$98-1,FALSE))","v":""},{"$f":"IF($J18=\"\",\"\",VLOOKUP($J18, Resurssiluettelo!$D$21:$X$40,Ohjeistus!M$98-1,FALSE))","v":""},{"$f":"IF($J18=\"\",\"\",VLOOKUP($J18, Resurssiluettelo!$D$21:$X$40,Ohjeistus!N$98-1,FALSE))","v":""},{"$f":"IF($J18=\"\",\"\",VLOOKUP($J18, Resurssiluettelo!$D$21:$X$40,Ohjeistus!O$98-1,FALSE))","v":""},{"$f":"IF($J18=\"\",\"\",VLOOKUP($J18, Resurssiluettelo!$D$21:$X$40,Ohjeistus!P$98-1,FALSE))","v":""},{"$f":"IF($J18=\"\",IF($I18=\"\",\"\",VLOOKUP($I18, Resurssiluettelo!$C$21:$X$40,Ohjeistus!Q$98,FALSE)),VLOOKUP($J18, Resurssiluettelo!$D$21:$X$40,Ohjeistus!Q$98-1,FALSE))","v":""},{"$f":"IF($J18=\"\",IF($I18=\"\",\"\",VLOOKUP($I18, Resurssiluettelo!$C$21:$X$40,Ohjeistus!R$98,FALSE)),VLOOKUP($J18, Resurssiluettelo!$D$21:$X$40,Ohjeistus!R$98-1,FALSE))","v":""},{"$f":"IF($J18=\"\",IF($I18=\"\",\"\",VLOOKUP($I18, Resurssiluettelo!$C$21:$X$40,Ohjeistus!S$98,FALSE)),VLOOKUP($J18, Resurssiluettelo!$D$21:$X$40,Ohjeistus!S$98-1,FALSE))","v":""},{"$f":"IF($J18=\"\",IF($I18=\"\",\"\",VLOOKUP($I18, Resurssiluettelo!$C$21:$X$40,Ohjeistus!T$98,FALSE)),VLOOKUP($J18, Resurssiluettelo!$D$21:$X$40,Ohjeistus!T$98-1,FALSE))","v":""},{"$f":"IF($J18=\"\",\"\",VLOOKUP($J18, Resurssiluettelo!$D$21:$X$40,Ohjeistus!U$98-1,FALSE))","v":""},{"$f":"IF($J18=\"\",\"\",VLOOKUP($J18, Resurssiluettelo!$D$21:$X$40,Ohjeistus!V$98-1,FALSE))","v":""},{"$f":"IF($J18=\"\",\"\",VLOOKUP($J18, Resurssiluettelo!$D$21:$X$40,Ohjeistus!W$98-1,FALSE))","v":""},{"$f":"IF($J18=\"\",\"\",VLOOKUP($J18, Resurssiluettelo!$D$21:$X$40,Ohjeistus!X$98-1,FALSE))","v":""},{"$f":"IF(Resurssiluettelo!E65=0,\"\",Resurssiluettelo!E65)","v":""},{"$f":"IF(Resurssiluettelo!F65=0,\"\",YEAR(Resurssiluettelo!F65)&IF(MONTH(Resurssiluettelo!F65)<10,\"0\",\"\")&MONTH(Resurssiluettelo!F65)&IF(DAY(Resurssiluettelo!F65)<10,\"0\",\"\")&DAY(Resurssiluettelo!F65))","v":""},{"$f":"IF(Resurssiluettelo!G65=0,\"\",Resurssiluettelo!G65)","v":""},{"$f":"IF(Resurssiluettelo!H65=0,\"\",Resurssiluettelo!H65)","v":""},{"$f":"IF(Resurssiluettelo!I65=0,\"\",Resurssiluettelo!I65)","v":""},{"$f":"IF(Resurssiluettelo!W65=0,\"\",Resurssiluettelo!W65)","v":""},{"$f":"IF(Resurssiluettelo!X65=0,\"\",Resurssiluettelo!X65)","v":""},{"$f":"IF(Resurssiluettelo!Y65=0,\"\",Resurssiluettelo!Y65)","v":""},{"$f":"IF(Resurssiluettelo!Z65=0,\"\",Resurssiluettelo!Z65)","v":""},{"$f":"IF(Resurssiluettelo!AA65=0,\"\",Resurssiluettelo!AA65)","v":""},{"$f":"IF(Resurssiluettelo!AB65=0,\"\",Resurssiluettelo!AB65)","v":""},{"$f":"IF(Resurssiluettelo!AC65=0,\"\",Resurssiluettelo!AC65)","v":""},{"$f":"IF(Resurssiluettelo!AD65=0,\"\",Resurssiluettelo!AD65)","v":""},{"$f":"IF(Resurssiluettelo!J65=0,\"\",Resurssiluettelo!J65)","v":""},{"$f":"IF(Resurssiluettelo!K65=0,\"\",Resurssiluettelo!K65)","v":""},{"$f":"IF(Resurssiluettelo!L65=0,\"\",Resurssiluettelo!L65)","v":""},{"$f":"IF(Resurssiluettelo!M65=0,\"\",Resurssiluettelo!M65)","v":""},{"$f":"IF(Resurssiluettelo!N65=0,\"\",Resurssiluettelo!N65)","v":""},{"$f":"IF(Resurssiluettelo!O65=0,\"\",Resurssiluettelo!O65)","v":""},{"$f":"IF(Resurssiluettelo!P65=0,\"\",Resurssiluettelo!P65)","v":""},{"$f":"IF(Resurssiluettelo!Q65=0,\"\",Resurssiluettelo!Q65)","v":""},{"$f":"IF(Resurssiluettelo!R65=0,\"\",Resurssiluettelo!R65)","v":""},{"$f":"IF(Resurssiluettelo!S65=0,\"\",Resurssiluettelo!S65)","v":""},{"$f":"IF(Resurssiluettelo!T65=0,\"\",Resurssiluettelo!T65)","v":""},{"$f":"IF(Resurssiluettelo!U65=0,\"\",Resurssiluettelo!U65)","v":""},{"$f":"IF(Resurssiluettelo!V65=0,\"\",Resurssiluettelo!V65)","v":""}]
[16,{"$f":"IF(Y19=\"\",\"\",Resurssiluettelo!$G$1)","v":""},{"$f":"IF(Y19=\"\",\"\",Resurssiluettelo!$H$14)","v":""},{"$f":"IF(Y19=\"\",\"\",Resurssiluettelo!$I$14)","v":""},{"$f":"IF(Y19=\"\",\"\",Resurssiluettelo!$J$14)","v":""},{"$f":"IF(Y19=\"\",\"\",Resurssiluettelo!$N$14)","v":""},{"$f":"IF(Y19=\"\",\"\",Resurssiluettelo!$O$14)","v":""},{"$f":"IF(Resurssiluettelo!B66=0,\"\",Resurssiluettelo!B66)","v":""},{"$f":"IF(Resurssiluettelo!C66=0,\"\",Resurssiluettelo!C66)","v":""},{"$f":"IF(Resurssiluettelo!D66=0,\"\",Resurssiluettelo!D66)","v":""},{"$f":"IF($J19=\"\",\"\",VLOOKUP($J19, Resurssiluettelo!$D$21:$X$40,Ohjeistus!K$98-1,FALSE))","v":""},{"$f":"IF($J19=\"\",\"\",VLOOKUP($J19, Resurssiluettelo!$D$21:$X$40,Ohjeistus!L$98-1,FALSE))","v":""},{"$f":"IF($J19=\"\",\"\",VLOOKUP($J19, Resurssiluettelo!$D$21:$X$40,Ohjeistus!M$98-1,FALSE))","v":""},{"$f":"IF($J19=\"\",\"\",VLOOKUP($J19, Resurssiluettelo!$D$21:$X$40,Ohjeistus!N$98-1,FALSE))","v":""},{"$f":"IF($J19=\"\",\"\",VLOOKUP($J19, Resurssiluettelo!$D$21:$X$40,Ohjeistus!O$98-1,FALSE))","v":""},{"$f":"IF($J19=\"\",\"\",VLOOKUP($J19, Resurssiluettelo!$D$21:$X$40,Ohjeistus!P$98-1,FALSE))","v":""},{"$f":"IF($J19=\"\",IF($I19=\"\",\"\",VLOOKUP($I19, Resurssiluettelo!$C$21:$X$40,Ohjeistus!Q$98,FALSE)),VLOOKUP($J19, Resurssiluettelo!$D$21:$X$40,Ohjeistus!Q$98-1,FALSE))","v":""},{"$f":"IF($J19=\"\",IF($I19=\"\",\"\",VLOOKUP($I19, Resurssiluettelo!$C$21:$X$40,Ohjeistus!R$98,FALSE)),VLOOKUP($J19, Resurssiluettelo!$D$21:$X$40,Ohjeistus!R$98-1,FALSE))","v":""},{"$f":"IF($J19=\"\",IF($I19=\"\",\"\",VLOOKUP($I19, Resurssiluettelo!$C$21:$X$40,Ohjeistus!S$98,FALSE)),VLOOKUP($J19, Resurssiluettelo!$D$21:$X$40,Ohjeistus!S$98-1,FALSE))","v":""},{"$f":"IF($J19=\"\",IF($I19=\"\",\"\",VLOOKUP($I19, Resurssiluettelo!$C$21:$X$40,Ohjeistus!T$98,FALSE)),VLOOKUP($J19, Resurssiluettelo!$D$21:$X$40,Ohjeistus!T$98-1,FALSE))","v":""},{"$f":"IF($J19=\"\",\"\",VLOOKUP($J19, Resurssiluettelo!$D$21:$X$40,Ohjeistus!U$98-1,FALSE))","v":""},{"$f":"IF($J19=\"\",\"\",VLOOKUP($J19, Resurssiluettelo!$D$21:$X$40,Ohjeistus!V$98-1,FALSE))","v":""},{"$f":"IF($J19=\"\",\"\",VLOOKUP($J19, Resurssiluettelo!$D$21:$X$40,Ohjeistus!W$98-1,FALSE))","v":""},{"$f":"IF($J19=\"\",\"\",VLOOKUP($J19, Resurssiluettelo!$D$21:$X$40,Ohjeistus!X$98-1,FALSE))","v":""},{"$f":"IF(Resurssiluettelo!E66=0,\"\",Resurssiluettelo!E66)","v":""},{"$f":"IF(Resurssiluettelo!F66=0,\"\",YEAR(Resurssiluettelo!F66)&IF(MONTH(Resurssiluettelo!F66)<10,\"0\",\"\")&MONTH(Resurssiluettelo!F66)&IF(DAY(Resurssiluettelo!F66)<10,\"0\",\"\")&DAY(Resurssiluettelo!F66))","v":""},{"$f":"IF(Resurssiluettelo!G66=0,\"\",Resurssiluettelo!G66)","v":""},{"$f":"IF(Resurssiluettelo!H66=0,\"\",Resurssiluettelo!H66)","v":""},{"$f":"IF(Resurssiluettelo!I66=0,\"\",Resurssiluettelo!I66)","v":""},{"$f":"IF(Resurssiluettelo!W66=0,\"\",Resurssiluettelo!W66)","v":""},{"$f":"IF(Resurssiluettelo!X66=0,\"\",Resurssiluettelo!X66)","v":""},{"$f":"IF(Resurssiluettelo!Y66=0,\"\",Resurssiluettelo!Y66)","v":""},{"$f":"IF(Resurssiluettelo!Z66=0,\"\",Resurssiluettelo!Z66)","v":""},{"$f":"IF(Resurssiluettelo!AA66=0,\"\",Resurssiluettelo!AA66)","v":""},{"$f":"IF(Resurssiluettelo!AB66=0,\"\",Resurssiluettelo!AB66)","v":""},{"$f":"IF(Resurssiluettelo!AC66=0,\"\",Resurssiluettelo!AC66)","v":""},{"$f":"IF(Resurssiluettelo!AD66=0,\"\",Resurssiluettelo!AD66)","v":""},{"$f":"IF(Resurssiluettelo!J66=0,\"\",Resurssiluettelo!J66)","v":""},{"$f":"IF(Resurssiluettelo!K66=0,\"\",Resurssiluettelo!K66)","v":""},{"$f":"IF(Resurssiluettelo!L66=0,\"\",Resurssiluettelo!L66)","v":""},{"$f":"IF(Resurssiluettelo!M66=0,\"\",Resurssiluettelo!M66)","v":""},{"$f":"IF(Resurssiluettelo!N66=0,\"\",Resurssiluettelo!N66)","v":""},{"$f":"IF(Resurssiluettelo!O66=0,\"\",Resurssiluettelo!O66)","v":""},{"$f":"IF(Resurssiluettelo!P66=0,\"\",Resurssiluettelo!P66)","v":""},{"$f":"IF(Resurssiluettelo!Q66=0,\"\",Resurssiluettelo!Q66)","v":""},{"$f":"IF(Resurssiluettelo!R66=0,\"\",Resurssiluettelo!R66)","v":""},{"$f":"IF(Resurssiluettelo!S66=0,\"\",Resurssiluettelo!S66)","v":""},{"$f":"IF(Resurssiluettelo!T66=0,\"\",Resurssiluettelo!T66)","v":""},{"$f":"IF(Resurssiluettelo!U66=0,\"\",Resurssiluettelo!U66)","v":""},{"$f":"IF(Resurssiluettelo!V66=0,\"\",Resurssiluettelo!V66)","v":""}]
[17,{"$f":"IF(Y20=\"\",\"\",Resurssiluettelo!$G$1)","v":""},{"$f":"IF(Y20=\"\",\"\",Resurssiluettelo!$H$14)","v":""},{"$f":"IF(Y20=\"\",\"\",Resurssiluettelo!$I$14)","v":""},{"$f":"IF(Y20=\"\",\"\",Resurssiluettelo!$J$14)","v":""},{"$f":"IF(Y20=\"\",\"\",Resurssiluettelo!$N$14)","v":""},{"$f":"IF(Y20=\"\",\"\",Resurssiluettelo!$O$14)","v":""},{"$f":"IF(Resurssiluettelo!B67=0,\"\",Resurssiluettelo!B67)","v":""},{"$f":"IF(Resurssiluettelo!C67=0,\"\",Resurssiluettelo!C67)","v":""},{"$f":"IF(Resurssiluettelo!D67=0,\"\",Resurssiluettelo!D67)","v":""},{"$f":"IF($J20=\"\",\"\",VLOOKUP($J20, Resurssiluettelo!$D$21:$X$40,Ohjeistus!K$98-1,FALSE))","v":""},{"$f":"IF($J20=\"\",\"\",VLOOKUP($J20, Resurssiluettelo!$D$21:$X$40,Ohjeistus!L$98-1,FALSE))","v":""},{"$f":"IF($J20=\"\",\"\",VLOOKUP($J20, Resurssiluettelo!$D$21:$X$40,Ohjeistus!M$98-1,FALSE))","v":""},{"$f":"IF($J20=\"\",\"\",VLOOKUP($J20, Resurssiluettelo!$D$21:$X$40,Ohjeistus!N$98-1,FALSE))","v":""},{"$f":"IF($J20=\"\",\"\",VLOOKUP($J20, Resurssiluettelo!$D$21:$X$40,Ohjeistus!O$98-1,FALSE))","v":""},{"$f":"IF($J20=\"\",\"\",VLOOKUP($J20, Resurssiluettelo!$D$21:$X$40,Ohjeistus!P$98-1,FALSE))","v":""},{"$f":"IF($J20=\"\",IF($I20=\"\",\"\",VLOOKUP($I20, Resurssiluettelo!$C$21:$X$40,Ohjeistus!Q$98,FALSE)),VLOOKUP($J20, Resurssiluettelo!$D$21:$X$40,Ohjeistus!Q$98-1,FALSE))","v":""},{"$f":"IF($J20=\"\",IF($I20=\"\",\"\",VLOOKUP($I20, Resurssiluettelo!$C$21:$X$40,Ohjeistus!R$98,FALSE)),VLOOKUP($J20, Resurssiluettelo!$D$21:$X$40,Ohjeistus!R$98-1,FALSE))","v":""},{"$f":"IF($J20=\"\",IF($I20=\"\",\"\",VLOOKUP($I20, Resurssiluettelo!$C$21:$X$40,Ohjeistus!S$98,FALSE)),VLOOKUP($J20, Resurssiluettelo!$D$21:$X$40,Ohjeistus!S$98-1,FALSE))","v":""},{"$f":"IF($J20=\"\",IF($I20=\"\",\"\",VLOOKUP($I20, Resurssiluettelo!$C$21:$X$40,Ohjeistus!T$98,FALSE)),VLOOKUP($J20, Resurssiluettelo!$D$21:$X$40,Ohjeistus!T$98-1,FALSE))","v":""},{"$f":"IF($J20=\"\",\"\",VLOOKUP($J20, Resurssiluettelo!$D$21:$X$40,Ohjeistus!U$98-1,FALSE))","v":""},{"$f":"IF($J20=\"\",\"\",VLOOKUP($J20, Resurssiluettelo!$D$21:$X$40,Ohjeistus!V$98-1,FALSE))","v":""},{"$f":"IF($J20=\"\",\"\",VLOOKUP($J20, Resurssiluettelo!$D$21:$X$40,Ohjeistus!W$98-1,FALSE))","v":""},{"$f":"IF($J20=\"\",\"\",VLOOKUP($J20, Resurssiluettelo!$D$21:$X$40,Ohjeistus!X$98-1,FALSE))","v":""},{"$f":"IF(Resurssiluettelo!E67=0,\"\",Resurssiluettelo!E67)","v":""},{"$f":"IF(Resurssiluettelo!F67=0,\"\",YEAR(Resurssiluettelo!F67)&IF(MONTH(Resurssiluettelo!F67)<10,\"0\",\"\")&MONTH(Resurssiluettelo!F67)&IF(DAY(Resurssiluettelo!F67)<10,\"0\",\"\")&DAY(Resurssiluettelo!F67))","v":""},{"$f":"IF(Resurssiluettelo!G67=0,\"\",Resurssiluettelo!G67)","v":""},{"$f":"IF(Resurssiluettelo!H67=0,\"\",Resurssiluettelo!H67)","v":""},{"$f":"IF(Resurssiluettelo!I67=0,\"\",Resurssiluettelo!I67)","v":""},{"$f":"IF(Resurssiluettelo!W67=0,\"\",Resurssiluettelo!W67)","v":""},{"$f":"IF(Resurssiluettelo!X67=0,\"\",Resurssiluettelo!X67)","v":""},{"$f":"IF(Resurssiluettelo!Y67=0,\"\",Resurssiluettelo!Y67)","v":""},{"$f":"IF(Resurssiluettelo!Z67=0,\"\",Resurssiluettelo!Z67)","v":""},{"$f":"IF(Resurssiluettelo!AA67=0,\"\",Resurssiluettelo!AA67)","v":""},{"$f":"IF(Resurssiluettelo!AB67=0,\"\",Resurssiluettelo!AB67)","v":""},{"$f":"IF(Resurssiluettelo!AC67=0,\"\",Resurssiluettelo!AC67)","v":""},{"$f":"IF(Resurssiluettelo!AD67=0,\"\",Resurssiluettelo!AD67)","v":""},{"$f":"IF(Resurssiluettelo!J67=0,\"\",Resurssiluettelo!J67)","v":""},{"$f":"IF(Resurssiluettelo!K67=0,\"\",Resurssiluettelo!K67)","v":""},{"$f":"IF(Resurssiluettelo!L67=0,\"\",Resurssiluettelo!L67)","v":""},{"$f":"IF(Resurssiluettelo!M67=0,\"\",Resurssiluettelo!M67)","v":""},{"$f":"IF(Resurssiluettelo!N67=0,\"\",Resurssiluettelo!N67)","v":""},{"$f":"IF(Resurssiluettelo!O67=0,\"\",Resurssiluettelo!O67)","v":""},{"$f":"IF(Resurssiluettelo!P67=0,\"\",Resurssiluettelo!P67)","v":""},{"$f":"IF(Resurssiluettelo!Q67=0,\"\",Resurssiluettelo!Q67)","v":""},{"$f":"IF(Resurssiluettelo!R67=0,\"\",Resurssiluettelo!R67)","v":""},{"$f":"IF(Resurssiluettelo!S67=0,\"\",Resurssiluettelo!S67)","v":""},{"$f":"IF(Resurssiluettelo!T67=0,\"\",Resurssiluettelo!T67)","v":""},{"$f":"IF(Resurssiluettelo!U67=0,\"\",Resurssiluettelo!U67)","v":""},{"$f":"IF(Resurssiluettelo!V67=0,\"\",Resurssiluettelo!V67)","v":""}]
[18,{"$f":"IF(Y21=\"\",\"\",Resurssiluettelo!$G$1)","v":""},{"$f":"IF(Y21=\"\",\"\",Resurssiluettelo!$H$14)","v":""},{"$f":"IF(Y21=\"\",\"\",Resurssiluettelo!$I$14)","v":""},{"$f":"IF(Y21=\"\",\"\",Resurssiluettelo!$J$14)","v":""},{"$f":"IF(Y21=\"\",\"\",Resurssiluettelo!$N$14)","v":""},{"$f":"IF(Y21=\"\",\"\",Resurssiluettelo!$O$14)","v":""},{"$f":"IF(Resurssiluettelo!B68=0,\"\",Resurssiluettelo!B68)","v":""},{"$f":"IF(Resurssiluettelo!C68=0,\"\",Resurssiluettelo!C68)","v":""},{"$f":"IF(Resurssiluettelo!D68=0,\"\",Resurssiluettelo!D68)","v":""},{"$f":"IF($J21=\"\",\"\",VLOOKUP($J21, Resurssiluettelo!$D$21:$X$40,Ohjeistus!K$98-1,FALSE))","v":""},{"$f":"IF($J21=\"\",\"\",VLOOKUP($J21, Resurssiluettelo!$D$21:$X$40,Ohjeistus!L$98-1,FALSE))","v":""},{"$f":"IF($J21=\"\",\"\",VLOOKUP($J21, Resurssiluettelo!$D$21:$X$40,Ohjeistus!M$98-1,FALSE))","v":""},{"$f":"IF($J21=\"\",\"\",VLOOKUP($J21, Resurssiluettelo!$D$21:$X$40,Ohjeistus!N$98-1,FALSE))","v":""},{"$f":"IF($J21=\"\",\"\",VLOOKUP($J21, Resurssiluettelo!$D$21:$X$40,Ohjeistus!O$98-1,FALSE))","v":""},{"$f":"IF($J21=\"\",\"\",VLOOKUP($J21, Resurssiluettelo!$D$21:$X$40,Ohjeistus!P$98-1,FALSE))","v":""},{"$f":"IF($J21=\"\",IF($I21=\"\",\"\",VLOOKUP($I21, Resurssiluettelo!$C$21:$X$40,Ohjeistus!Q$98,FALSE)),VLOOKUP($J21, Resurssiluettelo!$D$21:$X$40,Ohjeistus!Q$98-1,FALSE))","v":""},{"$f":"IF($J21=\"\",IF($I21=\"\",\"\",VLOOKUP($I21, Resurssiluettelo!$C$21:$X$40,Ohjeistus!R$98,FALSE)),VLOOKUP($J21, Resurssiluettelo!$D$21:$X$40,Ohjeistus!R$98-1,FALSE))","v":""},{"$f":"IF($J21=\"\",IF($I21=\"\",\"\",VLOOKUP($I21, Resurssiluettelo!$C$21:$X$40,Ohjeistus!S$98,FALSE)),VLOOKUP($J21, Resurssiluettelo!$D$21:$X$40,Ohjeistus!S$98-1,FALSE))","v":""},{"$f":"IF($J21=\"\",IF($I21=\"\",\"\",VLOOKUP($I21, Resurssiluettelo!$C$21:$X$40,Ohjeistus!T$98,FALSE)),VLOOKUP($J21, Resurssiluettelo!$D$21:$X$40,Ohjeistus!T$98-1,FALSE))","v":""},{"$f":"IF($J21=\"\",\"\",VLOOKUP($J21, Resurssiluettelo!$D$21:$X$40,Ohjeistus!U$98-1,FALSE))","v":""},{"$f":"IF($J21=\"\",\"\",VLOOKUP($J21, Resurssiluettelo!$D$21:$X$40,Ohjeistus!V$98-1,FALSE))","v":""},{"$f":"IF($J21=\"\",\"\",VLOOKUP($J21, Resurssiluettelo!$D$21:$X$40,Ohjeistus!W$98-1,FALSE))","v":""},{"$f":"IF($J21=\"\",\"\",VLOOKUP($J21, Resurssiluettelo!$D$21:$X$40,Ohjeistus!X$98-1,FALSE))","v":""},{"$f":"IF(Resurssiluettelo!E68=0,\"\",Resurssiluettelo!E68)","v":""},{"$f":"IF(Resurssiluettelo!F68=0,\"\",YEAR(Resurssiluettelo!F68)&IF(MONTH(Resurssiluettelo!F68)<10,\"0\",\"\")&MONTH(Resurssiluettelo!F68)&IF(DAY(Resurssiluettelo!F68)<10,\"0\",\"\")&DAY(Resurssiluettelo!F68))","v":""},{"$f":"IF(Resurssiluettelo!G68=0,\"\",Resurssiluettelo!G68)","v":""},{"$f":"IF(Resurssiluettelo!H68=0,\"\",Resurssiluettelo!H68)","v":""},{"$f":"IF(Resurssiluettelo!I68=0,\"\",Resurssiluettelo!I68)","v":""},{"$f":"IF(Resurssiluettelo!W68=0,\"\",Resurssiluettelo!W68)","v":""},{"$f":"IF(Resurssiluettelo!X68=0,\"\",Resurssiluettelo!X68)","v":""},{"$f":"IF(Resurssiluettelo!Y68=0,\"\",Resurssiluettelo!Y68)","v":""},{"$f":"IF(Resurssiluettelo!Z68=0,\"\",Resurssiluettelo!Z68)","v":""},{"$f":"IF(Resurssiluettelo!AA68=0,\"\",Resurssiluettelo!AA68)","v":""},{"$f":"IF(Resurssiluettelo!AB68=0,\"\",Resurssiluettelo!AB68)","v":""},{"$f":"IF(Resurssiluettelo!AC68=0,\"\",Resurssiluettelo!AC68)","v":""},{"$f":"IF(Resurssiluettelo!AD68=0,\"\",Resurssiluettelo!AD68)","v":""},{"$f":"IF(Resurssiluettelo!J68=0,\"\",Resurssiluettelo!J68)","v":""},{"$f":"IF(Resurssiluettelo!K68=0,\"\",Resurssiluettelo!K68)","v":""},{"$f":"IF(Resurssiluettelo!L68=0,\"\",Resurssiluettelo!L68)","v":""},{"$f":"IF(Resurssiluettelo!M68=0,\"\",Resurssiluettelo!M68)","v":""},{"$f":"IF(Resurssiluettelo!N68=0,\"\",Resurssiluettelo!N68)","v":""},{"$f":"IF(Resurssiluettelo!O68=0,\"\",Resurssiluettelo!O68)","v":""},{"$f":"IF(Resurssiluettelo!P68=0,\"\",Resurssiluettelo!P68)","v":""},{"$f":"IF(Resurssiluettelo!Q68=0,\"\",Resurssiluettelo!Q68)","v":""},{"$f":"IF(Resurssiluettelo!R68=0,\"\",Resurssiluettelo!R68)","v":""},{"$f":"IF(Resurssiluettelo!S68=0,\"\",Resurssiluettelo!S68)","v":""},{"$f":"IF(Resurssiluettelo!T68=0,\"\",Resurssiluettelo!T68)","v":""},{"$f":"IF(Resurssiluettelo!U68=0,\"\",Resurssiluettelo!U68)","v":""},{"$f":"IF(Resurssiluettelo!V68=0,\"\",Resurssiluettelo!V68)","v":""}]
[19,{"$f":"IF(Y22=\"\",\"\",Resurssiluettelo!$G$1)","v":""},{"$f":"IF(Y22=\"\",\"\",Resurssiluettelo!$H$14)","v":""},{"$f":"IF(Y22=\"\",\"\",Resurssiluettelo!$I$14)","v":""},{"$f":"IF(Y22=\"\",\"\",Resurssiluettelo!$J$14)","v":""},{"$f":"IF(Y22=\"\",\"\",Resurssiluettelo!$N$14)","v":""},{"$f":"IF(Y22=\"\",\"\",Resurssiluettelo!$O$14)","v":""},{"$f":"IF(Resurssiluettelo!B69=0,\"\",Resurssiluettelo!B69)","v":""},{"$f":"IF(Resurssiluettelo!C69=0,\"\",Resurssiluettelo!C69)","v":""},{"$f":"IF(Resurssiluettelo!D69=0,\"\",Resurssiluettelo!D69)","v":""},{"$f":"IF($J22=\"\",\"\",VLOOKUP($J22, Resurssiluettelo!$D$21:$X$40,Ohjeistus!K$98-1,FALSE))","v":""},{"$f":"IF($J22=\"\",\"\",VLOOKUP($J22, Resurssiluettelo!$D$21:$X$40,Ohjeistus!L$98-1,FALSE))","v":""},{"$f":"IF($J22=\"\",\"\",VLOOKUP($J22, Resurssiluettelo!$D$21:$X$40,Ohjeistus!M$98-1,FALSE))","v":""},{"$f":"IF($J22=\"\",\"\",VLOOKUP($J22, Resurssiluettelo!$D$21:$X$40,Ohjeistus!N$98-1,FALSE))","v":""},{"$f":"IF($J22=\"\",\"\",VLOOKUP($J22, Resurssiluettelo!$D$21:$X$40,Ohjeistus!O$98-1,FALSE))","v":""},{"$f":"IF($J22=\"\",\"\",VLOOKUP($J22, Resurssiluettelo!$D$21:$X$40,Ohjeistus!P$98-1,FALSE))","v":""},{"$f":"IF($J22=\"\",IF($I22=\"\",\"\",VLOOKUP($I22, Resurssiluettelo!$C$21:$X$40,Ohjeistus!Q$98,FALSE)),VLOOKUP($J22, Resurssiluettelo!$D$21:$X$40,Ohjeistus!Q$98-1,FALSE))","v":""},{"$f":"IF($J22=\"\",IF($I22=\"\",\"\",VLOOKUP($I22, Resurssiluettelo!$C$21:$X$40,Ohjeistus!R$98,FALSE)),VLOOKUP($J22, Resurssiluettelo!$D$21:$X$40,Ohjeistus!R$98-1,FALSE))","v":""},{"$f":"IF($J22=\"\",IF($I22=\"\",\"\",VLOOKUP($I22, Resurssiluettelo!$C$21:$X$40,Ohjeistus!S$98,FALSE)),VLOOKUP($J22, Resurssiluettelo!$D$21:$X$40,Ohjeistus!S$98-1,FALSE))","v":""},{"$f":"IF($J22=\"\",IF($I22=\"\",\"\",VLOOKUP($I22, Resurssiluettelo!$C$21:$X$40,Ohjeistus!T$98,FALSE)),VLOOKUP($J22, Resurssiluettelo!$D$21:$X$40,Ohjeistus!T$98-1,FALSE))","v":""},{"$f":"IF($J22=\"\",\"\",VLOOKUP($J22, Resurssiluettelo!$D$21:$X$40,Ohjeistus!U$98-1,FALSE))","v":""},{"$f":"IF($J22=\"\",\"\",VLOOKUP($J22, Resurssiluettelo!$D$21:$X$40,Ohjeistus!V$98-1,FALSE))","v":""},{"$f":"IF($J22=\"\",\"\",VLOOKUP($J22, Resurssiluettelo!$D$21:$X$40,Ohjeistus!W$98-1,FALSE))","v":""},{"$f":"IF($J22=\"\",\"\",VLOOKUP($J22, Resurssiluettelo!$D$21:$X$40,Ohjeistus!X$98-1,FALSE))","v":""},{"$f":"IF(Resurssiluettelo!E69=0,\"\",Resurssiluettelo!E69)","v":""},{"$f":"IF(Resurssiluettelo!F69=0,\"\",YEAR(Resurssiluettelo!F69)&IF(MONTH(Resurssiluettelo!F69)<10,\"0\",\"\")&MONTH(Resurssiluettelo!F69)&IF(DAY(Resurssiluettelo!F69)<10,\"0\",\"\")&DAY(Resurssiluettelo!F69))","v":""},{"$f":"IF(Resurssiluettelo!G69=0,\"\",Resurssiluettelo!G69)","v":""},{"$f":"IF(Resurssiluettelo!H69=0,\"\",Resurssiluettelo!H69)","v":""},{"$f":"IF(Resurssiluettelo!I69=0,\"\",Resurssiluettelo!I69)","v":""},{"$f":"IF(Resurssiluettelo!W69=0,\"\",Resurssiluettelo!W69)","v":""},{"$f":"IF(Resurssiluettelo!X69=0,\"\",Resurssiluettelo!X69)","v":""},{"$f":"IF(Resurssiluettelo!Y69=0,\"\",Resurssiluettelo!Y69)","v":""},{"$f":"IF(Resurssiluettelo!Z69=0,\"\",Resurssiluettelo!Z69)","v":""},{"$f":"IF(Resurssiluettelo!AA69=0,\"\",Resurssiluettelo!AA69)","v":""},{"$f":"IF(Resurssiluettelo!AB69=0,\"\",Resurssiluettelo!AB69)","v":""},{"$f":"IF(Resurssiluettelo!AC69=0,\"\",Resurssiluettelo!AC69)","v":""},{"$f":"IF(Resurssiluettelo!AD69=0,\"\",Resurssiluettelo!AD69)","v":""},{"$f":"IF(Resurssiluettelo!J69=0,\"\",Resurssiluettelo!J69)","v":""},{"$f":"IF(Resurssiluettelo!K69=0,\"\",Resurssiluettelo!K69)","v":""},{"$f":"IF(Resurssiluettelo!L69=0,\"\",Resurssiluettelo!L69)","v":""},{"$f":"IF(Resurssiluettelo!M69=0,\"\",Resurssiluettelo!M69)","v":""},{"$f":"IF(Resurssiluettelo!N69=0,\"\",Resurssiluettelo!N69)","v":""},{"$f":"IF(Resurssiluettelo!O69=0,\"\",Resurssiluettelo!O69)","v":""},{"$f":"IF(Resurssiluettelo!P69=0,\"\",Resurssiluettelo!P69)","v":""},{"$f":"IF(Resurssiluettelo!Q69=0,\"\",Resurssiluettelo!Q69)","v":""},{"$f":"IF(Resurssiluettelo!R69=0,\"\",Resurssiluettelo!R69)","v":""},{"$f":"IF(Resurssiluettelo!S69=0,\"\",Resurssiluettelo!S69)","v":""},{"$f":"IF(Resurssiluettelo!T69=0,\"\",Resurssiluettelo!T69)","v":""},{"$f":"IF(Resurssiluettelo!U69=0,\"\",Resurssiluettelo!U69)","v":""},{"$f":"IF(Resurssiluettelo!V69=0,\"\",Resurssiluettelo!V69)","v":""}]
[20,{"$f":"IF(Y23=\"\",\"\",Resurssiluettelo!$G$1)","v":""},{"$f":"IF(Y23=\"\",\"\",Resurssiluettelo!$H$14)","v":""},{"$f":"IF(Y23=\"\",\"\",Resurssiluettelo!$I$14)","v":""},{"$f":"IF(Y23=\"\",\"\",Resurssiluettelo!$J$14)","v":""},{"$f":"IF(Y23=\"\",\"\",Resurssiluettelo!$N$14)","v":""},{"$f":"IF(Y23=\"\",\"\",Resurssiluettelo!$O$14)","v":""},{"$f":"IF(Resurssiluettelo!B70=0,\"\",Resurssiluettelo!B70)","v":""},{"$f":"IF(Resurssiluettelo!C70=0,\"\",Resurssiluettelo!C70)","v":""},{"$f":"IF(Resurssiluettelo!D70=0,\"\",Resurssiluettelo!D70)","v":""},{"$f":"IF($J23=\"\",\"\",VLOOKUP($J23, Resurssiluettelo!$D$21:$X$40,Ohjeistus!K$98-1,FALSE))","v":""},{"$f":"IF($J23=\"\",\"\",VLOOKUP($J23, Resurssiluettelo!$D$21:$X$40,Ohjeistus!L$98-1,FALSE))","v":""},{"$f":"IF($J23=\"\",\"\",VLOOKUP($J23, Resurssiluettelo!$D$21:$X$40,Ohjeistus!M$98-1,FALSE))","v":""},{"$f":"IF($J23=\"\",\"\",VLOOKUP($J23, Resurssiluettelo!$D$21:$X$40,Ohjeistus!N$98-1,FALSE))","v":""},{"$f":"IF($J23=\"\",\"\",VLOOKUP($J23, Resurssiluettelo!$D$21:$X$40,Ohjeistus!O$98-1,FALSE))","v":""},{"$f":"IF($J23=\"\",\"\",VLOOKUP($J23, Resurssiluettelo!$D$21:$X$40,Ohjeistus!P$98-1,FALSE))","v":""},{"$f":"IF($J23=\"\",IF($I23=\"\",\"\",VLOOKUP($I23, Resurssiluettelo!$C$21:$X$40,Ohjeistus!Q$98,FALSE)),VLOOKUP($J23, Resurssiluettelo!$D$21:$X$40,Ohjeistus!Q$98-1,FALSE))","v":""},{"$f":"IF($J23=\"\",IF($I23=\"\",\"\",VLOOKUP($I23, Resurssiluettelo!$C$21:$X$40,Ohjeistus!R$98,FALSE)),VLOOKUP($J23, Resurssiluettelo!$D$21:$X$40,Ohjeistus!R$98-1,FALSE))","v":""},{"$f":"IF($J23=\"\",IF($I23=\"\",\"\",VLOOKUP($I23, Resurssiluettelo!$C$21:$X$40,Ohjeistus!S$98,FALSE)),VLOOKUP($J23, Resurssiluettelo!$D$21:$X$40,Ohjeistus!S$98-1,FALSE))","v":""},{"$f":"IF($J23=\"\",IF($I23=\"\",\"\",VLOOKUP($I23, Resurssiluettelo!$C$21:$X$40,Ohjeistus!T$98,FALSE)),VLOOKUP($J23, Resurssiluettelo!$D$21:$X$40,Ohjeistus!T$98-1,FALSE))","v":""},{"$f":"IF($J23=\"\",\"\",VLOOKUP($J23, Resurssiluettelo!$D$21:$X$40,Ohjeistus!U$98-1,FALSE))","v":""},{"$f":"IF($J23=\"\",\"\",VLOOKUP($J23, Resurssiluettelo!$D$21:$X$40,Ohjeistus!V$98-1,FALSE))","v":""},{"$f":"IF($J23=\"\",\"\",VLOOKUP($J23, Resurssiluettelo!$D$21:$X$40,Ohjeistus!W$98-1,FALSE))","v":""},{"$f":"IF($J23=\"\",\"\",VLOOKUP($J23, Resurssiluettelo!$D$21:$X$40,Ohjeistus!X$98-1,FALSE))","v":""},{"$f":"IF(Resurssiluettelo!E70=0,\"\",Resurssiluettelo!E70)","v":""},{"$f":"IF(Resurssiluettelo!F70=0,\"\",YEAR(Resurssiluettelo!F70)&IF(MONTH(Resurssiluettelo!F70)<10,\"0\",\"\")&MONTH(Resurssiluettelo!F70)&IF(DAY(Resurssiluettelo!F70)<10,\"0\",\"\")&DAY(Resurssiluettelo!F70))","v":""},{"$f":"IF(Resurssiluettelo!G70=0,\"\",Resurssiluettelo!G70)","v":""},{"$f":"IF(Resurssiluettelo!H70=0,\"\",Resurssiluettelo!H70)","v":""},{"$f":"IF(Resurssiluettelo!I70=0,\"\",Resurssiluettelo!I70)","v":""},{"$f":"IF(Resurssiluettelo!W70=0,\"\",Resurssiluettelo!W70)","v":""},{"$f":"IF(Resurssiluettelo!X70=0,\"\",Resurssiluettelo!X70)","v":""},{"$f":"IF(Resurssiluettelo!Y70=0,\"\",Resurssiluettelo!Y70)","v":""},{"$f":"IF(Resurssiluettelo!Z70=0,\"\",Resurssiluettelo!Z70)","v":""},{"$f":"IF(Resurssiluettelo!AA70=0,\"\",Resurssiluettelo!AA70)","v":""},{"$f":"IF(Resurssiluettelo!AB70=0,\"\",Resurssiluettelo!AB70)","v":""},{"$f":"IF(Resurssiluettelo!AC70=0,\"\",Resurssiluettelo!AC70)","v":""},{"$f":"IF(Resurssiluettelo!AD70=0,\"\",Resurssiluettelo!AD70)","v":""},{"$f":"IF(Resurssiluettelo!J70=0,\"\",Resurssiluettelo!J70)","v":""},{"$f":"IF(Resurssiluettelo!K70=0,\"\",Resurssiluettelo!K70)","v":""},{"$f":"IF(Resurssiluettelo!L70=0,\"\",Resurssiluettelo!L70)","v":""},{"$f":"IF(Resurssiluettelo!M70=0,\"\",Resurssiluettelo!M70)","v":""},{"$f":"IF(Resurssiluettelo!N70=0,\"\",Resurssiluettelo!N70)","v":""},{"$f":"IF(Resurssiluettelo!O70=0,\"\",Resurssiluettelo!O70)","v":""},{"$f":"IF(Resurssiluettelo!P70=0,\"\",Resurssiluettelo!P70)","v":""},{"$f":"IF(Resurssiluettelo!Q70=0,\"\",Resurssiluettelo!Q70)","v":""},{"$f":"IF(Resurssiluettelo!R70=0,\"\",Resurssiluettelo!R70)","v":""},{"$f":"IF(Resurssiluettelo!S70=0,\"\",Resurssiluettelo!S70)","v":""},{"$f":"IF(Resurssiluettelo!T70=0,\"\",Resurssiluettelo!T70)","v":""},{"$f":"IF(Resurssiluettelo!U70=0,\"\",Resurssiluettelo!U70)","v":""},{"$f":"IF(Resurssiluettelo!V70=0,\"\",Resurssiluettelo!V70)","v":""}]
[21,{"$f":"IF(Y24=\"\",\"\",Resurssiluettelo!$G$1)","v":""},{"$f":"IF(Y24=\"\",\"\",Resurssiluettelo!$H$14)","v":""},{"$f":"IF(Y24=\"\",\"\",Resurssiluettelo!$I$14)","v":""},{"$f":"IF(Y24=\"\",\"\",Resurssiluettelo!$J$14)","v":""},{"$f":"IF(Y24=\"\",\"\",Resurssiluettelo!$N$14)","v":""},{"$f":"IF(Y24=\"\",\"\",Resurssiluettelo!$O$14)","v":""},{"$f":"IF(Resurssiluettelo!B71=0,\"\",Resurssiluettelo!B71)","v":""},{"$f":"IF(Resurssiluettelo!C71=0,\"\",Resurssiluettelo!C71)","v":""},{"$f":"IF(Resurssiluettelo!D71=0,\"\",Resurssiluettelo!D71)","v":""},{"$f":"IF($J24=\"\",\"\",VLOOKUP($J24, Resurssiluettelo!$D$21:$X$40,Ohjeistus!K$98-1,FALSE))","v":""},{"$f":"IF($J24=\"\",\"\",VLOOKUP($J24, Resurssiluettelo!$D$21:$X$40,Ohjeistus!L$98-1,FALSE))","v":""},{"$f":"IF($J24=\"\",\"\",VLOOKUP($J24, Resurssiluettelo!$D$21:$X$40,Ohjeistus!M$98-1,FALSE))","v":""},{"$f":"IF($J24=\"\",\"\",VLOOKUP($J24, Resurssiluettelo!$D$21:$X$40,Ohjeistus!N$98-1,FALSE))","v":""},{"$f":"IF($J24=\"\",\"\",VLOOKUP($J24, Resurssiluettelo!$D$21:$X$40,Ohjeistus!O$98-1,FALSE))","v":""},{"$f":"IF($J24=\"\",\"\",VLOOKUP($J24, Resurssiluettelo!$D$21:$X$40,Ohjeistus!P$98-1,FALSE))","v":""},{"$f":"IF($J24=\"\",IF($I24=\"\",\"\",VLOOKUP($I24, Resurssiluettelo!$C$21:$X$40,Ohjeistus!Q$98,FALSE)),VLOOKUP($J24, Resurssiluettelo!$D$21:$X$40,Ohjeistus!Q$98-1,FALSE))","v":""},{"$f":"IF($J24=\"\",IF($I24=\"\",\"\",VLOOKUP($I24, Resurssiluettelo!$C$21:$X$40,Ohjeistus!R$98,FALSE)),VLOOKUP($J24, Resurssiluettelo!$D$21:$X$40,Ohjeistus!R$98-1,FALSE))","v":""},{"$f":"IF($J24=\"\",IF($I24=\"\",\"\",VLOOKUP($I24, Resurssiluettelo!$C$21:$X$40,Ohjeistus!S$98,FALSE)),VLOOKUP($J24, Resurssiluettelo!$D$21:$X$40,Ohjeistus!S$98-1,FALSE))","v":""},{"$f":"IF($J24=\"\",IF($I24=\"\",\"\",VLOOKUP($I24, Resurssiluettelo!$C$21:$X$40,Ohjeistus!T$98,FALSE)),VLOOKUP($J24, Resurssiluettelo!$D$21:$X$40,Ohjeistus!T$98-1,FALSE))","v":""},{"$f":"IF($J24=\"\",\"\",VLOOKUP($J24, Resurssiluettelo!$D$21:$X$40,Ohjeistus!U$98-1,FALSE))","v":""},{"$f":"IF($J24=\"\",\"\",VLOOKUP($J24, Resurssiluettelo!$D$21:$X$40,Ohjeistus!V$98-1,FALSE))","v":""},{"$f":"IF($J24=\"\",\"\",VLOOKUP($J24, Resurssiluettelo!$D$21:$X$40,Ohjeistus!W$98-1,FALSE))","v":""},{"$f":"IF($J24=\"\",\"\",VLOOKUP($J24, Resurssiluettelo!$D$21:$X$40,Ohjeistus!X$98-1,FALSE))","v":""},{"$f":"IF(Resurssiluettelo!E71=0,\"\",Resurssiluettelo!E71)","v":""},{"$f":"IF(Resurssiluettelo!F71=0,\"\",YEAR(Resurssiluettelo!F71)&IF(MONTH(Resurssiluettelo!F71)<10,\"0\",\"\")&MONTH(Resurssiluettelo!F71)&IF(DAY(Resurssiluettelo!F71)<10,\"0\",\"\")&DAY(Resurssiluettelo!F71))","v":""},{"$f":"IF(Resurssiluettelo!G71=0,\"\",Resurssiluettelo!G71)","v":""},{"$f":"IF(Resurssiluettelo!H71=0,\"\",Resurssiluettelo!H71)","v":""},{"$f":"IF(Resurssiluettelo!I71=0,\"\",Resurssiluettelo!I71)","v":""},{"$f":"IF(Resurssiluettelo!W71=0,\"\",Resurssiluettelo!W71)","v":""},{"$f":"IF(Resurssiluettelo!X71=0,\"\",Resurssiluettelo!X71)","v":""},{"$f":"IF(Resurssiluettelo!Y71=0,\"\",Resurssiluettelo!Y71)","v":""},{"$f":"IF(Resurssiluettelo!Z71=0,\"\",Resurssiluettelo!Z71)","v":""},{"$f":"IF(Resurssiluettelo!AA71=0,\"\",Resurssiluettelo!AA71)","v":""},{"$f":"IF(Resurssiluettelo!AB71=0,\"\",Resurssiluettelo!AB71)","v":""},{"$f":"IF(Resurssiluettelo!AC71=0,\"\",Resurssiluettelo!AC71)","v":""},{"$f":"IF(Resurssiluettelo!AD71=0,\"\",Resurssiluettelo!AD71)","v":""},{"$f":"IF(Resurssiluettelo!J71=0,\"\",Resurssiluettelo!J71)","v":""},{"$f":"IF(Resurssiluettelo!K71=0,\"\",Resurssiluettelo!K71)","v":""},{"$f":"IF(Resurssiluettelo!L71=0,\"\",Resurssiluettelo!L71)","v":""},{"$f":"IF(Resurssiluettelo!M71=0,\"\",Resurssiluettelo!M71)","v":""},{"$f":"IF(Resurssiluettelo!N71=0,\"\",Resurssiluettelo!N71)","v":""},{"$f":"IF(Resurssiluettelo!O71=0,\"\",Resurssiluettelo!O71)","v":""},{"$f":"IF(Resurssiluettelo!P71=0,\"\",Resurssiluettelo!P71)","v":""},{"$f":"IF(Resurssiluettelo!Q71=0,\"\",Resurssiluettelo!Q71)","v":""},{"$f":"IF(Resurssiluettelo!R71=0,\"\",Resurssiluettelo!R71)","v":""},{"$f":"IF(Resurssiluettelo!S71=0,\"\",Resurssiluettelo!S71)","v":""},{"$f":"IF(Resurssiluettelo!T71=0,\"\",Resurssiluettelo!T71)","v":""},{"$f":"IF(Resurssiluettelo!U71=0,\"\",Resurssiluettelo!U71)","v":""},{"$f":"IF(Resurssiluettelo!V71=0,\"\",Resurssiluettelo!V71)","v":""}]
[22,{"$f":"IF(Y25=\"\",\"\",Resurssiluettelo!$G$1)","v":""},{"$f":"IF(Y25=\"\",\"\",Resurssiluettelo!$H$14)","v":""},{"$f":"IF(Y25=\"\",\"\",Resurssiluettelo!$I$14)","v":""},{"$f":"IF(Y25=\"\",\"\",Resurssiluettelo!$J$14)","v":""},{"$f":"IF(Y25=\"\",\"\",Resurssiluettelo!$N$14)","v":""},{"$f":"IF(Y25=\"\",\"\",Resurssiluettelo!$O$14)","v":""},{"$f":"IF(Resurssiluettelo!B72=0,\"\",Resurssiluettelo!B72)","v":""},{"$f":"IF(Resurssiluettelo!C72=0,\"\",Resurssiluettelo!C72)","v":""},{"$f":"IF(Resurssiluettelo!D72=0,\"\",Resurssiluettelo!D72)","v":""},{"$f":"IF($J25=\"\",\"\",VLOOKUP($J25, Resurssiluettelo!$D$21:$X$40,Ohjeistus!K$98-1,FALSE))","v":""},{"$f":"IF($J25=\"\",\"\",VLOOKUP($J25, Resurssiluettelo!$D$21:$X$40,Ohjeistus!L$98-1,FALSE))","v":""},{"$f":"IF($J25=\"\",\"\",VLOOKUP($J25, Resurssiluettelo!$D$21:$X$40,Ohjeistus!M$98-1,FALSE))","v":""},{"$f":"IF($J25=\"\",\"\",VLOOKUP($J25, Resurssiluettelo!$D$21:$X$40,Ohjeistus!N$98-1,FALSE))","v":""},{"$f":"IF($J25=\"\",\"\",VLOOKUP($J25, Resurssiluettelo!$D$21:$X$40,Ohjeistus!O$98-1,FALSE))","v":""},{"$f":"IF($J25=\"\",\"\",VLOOKUP($J25, Resurssiluettelo!$D$21:$X$40,Ohjeistus!P$98-1,FALSE))","v":""},{"$f":"IF($J25=\"\",IF($I25=\"\",\"\",VLOOKUP($I25, Resurssiluettelo!$C$21:$X$40,Ohjeistus!Q$98,FALSE)),VLOOKUP($J25, Resurssiluettelo!$D$21:$X$40,Ohjeistus!Q$98-1,FALSE))","v":""},{"$f":"IF($J25=\"\",IF($I25=\"\",\"\",VLOOKUP($I25, Resurssiluettelo!$C$21:$X$40,Ohjeistus!R$98,FALSE)),VLOOKUP($J25, Resurssiluettelo!$D$21:$X$40,Ohjeistus!R$98-1,FALSE))","v":""},{"$f":"IF($J25=\"\",IF($I25=\"\",\"\",VLOOKUP($I25, Resurssiluettelo!$C$21:$X$40,Ohjeistus!S$98,FALSE)),VLOOKUP($J25, Resurssiluettelo!$D$21:$X$40,Ohjeistus!S$98-1,FALSE))","v":""},{"$f":"IF($J25=\"\",IF($I25=\"\",\"\",VLOOKUP($I25, Resurssiluettelo!$C$21:$X$40,Ohjeistus!T$98,FALSE)),VLOOKUP($J25, Resurssiluettelo!$D$21:$X$40,Ohjeistus!T$98-1,FALSE))","v":""},{"$f":"IF($J25=\"\",\"\",VLOOKUP($J25, Resurssiluettelo!$D$21:$X$40,Ohjeistus!U$98-1,FALSE))","v":""},{"$f":"IF($J25=\"\",\"\",VLOOKUP($J25, Resurssiluettelo!$D$21:$X$40,Ohjeistus!V$98-1,FALSE))","v":""},{"$f":"IF($J25=\"\",\"\",VLOOKUP($J25, Resurssiluettelo!$D$21:$X$40,Ohjeistus!W$98-1,FALSE))","v":""},{"$f":"IF($J25=\"\",\"\",VLOOKUP($J25, Resurssiluettelo!$D$21:$X$40,Ohjeistus!X$98-1,FALSE))","v":""},{"$f":"IF(Resurssiluettelo!E72=0,\"\",Resurssiluettelo!E72)","v":""},{"$f":"IF(Resurssiluettelo!F72=0,\"\",YEAR(Resurssiluettelo!F72)&IF(MONTH(Resurssiluettelo!F72)<10,\"0\",\"\")&MONTH(Resurssiluettelo!F72)&IF(DAY(Resurssiluettelo!F72)<10,\"0\",\"\")&DAY(Resurssiluettelo!F72))","v":""},{"$f":"IF(Resurssiluettelo!G72=0,\"\",Resurssiluettelo!G72)","v":""},{"$f":"IF(Resurssiluettelo!H72=0,\"\",Resurssiluettelo!H72)","v":""},{"$f":"IF(Resurssiluettelo!I72=0,\"\",Resurssiluettelo!I72)","v":""},{"$f":"IF(Resurssiluettelo!W72=0,\"\",Resurssiluettelo!W72)","v":""},{"$f":"IF(Resurssiluettelo!X72=0,\"\",Resurssiluettelo!X72)","v":""},{"$f":"IF(Resurssiluettelo!Y72=0,\"\",Resurssiluettelo!Y72)","v":""},{"$f":"IF(Resurssiluettelo!Z72=0,\"\",Resurssiluettelo!Z72)","v":""},{"$f":"IF(Resurssiluettelo!AA72=0,\"\",Resurssiluettelo!AA72)","v":""},{"$f":"IF(Resurssiluettelo!AB72=0,\"\",Resurssiluettelo!AB72)","v":""},{"$f":"IF(Resurssiluettelo!AC72=0,\"\",Resurssiluettelo!AC72)","v":""},{"$f":"IF(Resurssiluettelo!AD72=0,\"\",Resurssiluettelo!AD72)","v":""},{"$f":"IF(Resurssiluettelo!J72=0,\"\",Resurssiluettelo!J72)","v":""},{"$f":"IF(Resurssiluettelo!K72=0,\"\",Resurssiluettelo!K72)","v":""},{"$f":"IF(Resurssiluettelo!L72=0,\"\",Resurssiluettelo!L72)","v":""},{"$f":"IF(Resurssiluettelo!M72=0,\"\",Resurssiluettelo!M72)","v":""},{"$f":"IF(Resurssiluettelo!N72=0,\"\",Resurssiluettelo!N72)","v":""},{"$f":"IF(Resurssiluettelo!O72=0,\"\",Resurssiluettelo!O72)","v":""},{"$f":"IF(Resurssiluettelo!P72=0,\"\",Resurssiluettelo!P72)","v":""},{"$f":"IF(Resurssiluettelo!Q72=0,\"\",Resurssiluettelo!Q72)","v":""},{"$f":"IF(Resurssiluettelo!R72=0,\"\",Resurssiluettelo!R72)","v":""},{"$f":"IF(Resurssiluettelo!S72=0,\"\",Resurssiluettelo!S72)","v":""},{"$f":"IF(Resurssiluettelo!T72=0,\"\",Resurssiluettelo!T72)","v":""},{"$f":"IF(Resurssiluettelo!U72=0,\"\",Resurssiluettelo!U72)","v":""},{"$f":"IF(Resurssiluettelo!V72=0,\"\",Resurssiluettelo!V72)","v":""}]
[23,{"$f":"IF(Y26=\"\",\"\",Resurssiluettelo!$G$1)","v":""},{"$f":"IF(Y26=\"\",\"\",Resurssiluettelo!$H$14)","v":""},{"$f":"IF(Y26=\"\",\"\",Resurssiluettelo!$I$14)","v":""},{"$f":"IF(Y26=\"\",\"\",Resurssiluettelo!$J$14)","v":""},{"$f":"IF(Y26=\"\",\"\",Resurssiluettelo!$N$14)","v":""},{"$f":"IF(Y26=\"\",\"\",Resurssiluettelo!$O$14)","v":""},{"$f":"IF(Resurssiluettelo!B73=0,\"\",Resurssiluettelo!B73)","v":""},{"$f":"IF(Resurssiluettelo!C73=0,\"\",Resurssiluettelo!C73)","v":""},{"$f":"IF(Resurssiluettelo!D73=0,\"\",Resurssiluettelo!D73)","v":""},{"$f":"IF($J26=\"\",\"\",VLOOKUP($J26, Resurssiluettelo!$D$21:$X$40,Ohjeistus!K$98-1,FALSE))","v":""},{"$f":"IF($J26=\"\",\"\",VLOOKUP($J26, Resurssiluettelo!$D$21:$X$40,Ohjeistus!L$98-1,FALSE))","v":""},{"$f":"IF($J26=\"\",\"\",VLOOKUP($J26, Resurssiluettelo!$D$21:$X$40,Ohjeistus!M$98-1,FALSE))","v":""},{"$f":"IF($J26=\"\",\"\",VLOOKUP($J26, Resurssiluettelo!$D$21:$X$40,Ohjeistus!N$98-1,FALSE))","v":""},{"$f":"IF($J26=\"\",\"\",VLOOKUP($J26, Resurssiluettelo!$D$21:$X$40,Ohjeistus!O$98-1,FALSE))","v":""},{"$f":"IF($J26=\"\",\"\",VLOOKUP($J26, Resurssiluettelo!$D$21:$X$40,Ohjeistus!P$98-1,FALSE))","v":""},{"$f":"IF($J26=\"\",IF($I26=\"\",\"\",VLOOKUP($I26, Resurssiluettelo!$C$21:$X$40,Ohjeistus!Q$98,FALSE)),VLOOKUP($J26, Resurssiluettelo!$D$21:$X$40,Ohjeistus!Q$98-1,FALSE))","v":""},{"$f":"IF($J26=\"\",IF($I26=\"\",\"\",VLOOKUP($I26, Resurssiluettelo!$C$21:$X$40,Ohjeistus!R$98,FALSE)),VLOOKUP($J26, Resurssiluettelo!$D$21:$X$40,Ohjeistus!R$98-1,FALSE))","v":""},{"$f":"IF($J26=\"\",IF($I26=\"\",\"\",VLOOKUP($I26, Resurssiluettelo!$C$21:$X$40,Ohjeistus!S$98,FALSE)),VLOOKUP($J26, Resurssiluettelo!$D$21:$X$40,Ohjeistus!S$98-1,FALSE))","v":""},{"$f":"IF($J26=\"\",IF($I26=\"\",\"\",VLOOKUP($I26, Resurssiluettelo!$C$21:$X$40,Ohjeistus!T$98,FALSE)),VLOOKUP($J26, Resurssiluettelo!$D$21:$X$40,Ohjeistus!T$98-1,FALSE))","v":""},{"$f":"IF($J26=\"\",\"\",VLOOKUP($J26, Resurssiluettelo!$D$21:$X$40,Ohjeistus!U$98-1,FALSE))","v":""},{"$f":"IF($J26=\"\",\"\",VLOOKUP($J26, Resurssiluettelo!$D$21:$X$40,Ohjeistus!V$98-1,FALSE))","v":""},{"$f":"IF($J26=\"\",\"\",VLOOKUP($J26, Resurssiluettelo!$D$21:$X$40,Ohjeistus!W$98-1,FALSE))","v":""},{"$f":"IF($J26=\"\",\"\",VLOOKUP($J26, Resurssiluettelo!$D$21:$X$40,Ohjeistus!X$98-1,FALSE))","v":""},{"$f":"IF(Resurssiluettelo!E73=0,\"\",Resurssiluettelo!E73)","v":""},{"$f":"IF(Resurssiluettelo!F73=0,\"\",YEAR(Resurssiluettelo!F73)&IF(MONTH(Resurssiluettelo!F73)<10,\"0\",\"\")&MONTH(Resurssiluettelo!F73)&IF(DAY(Resurssiluettelo!F73)<10,\"0\",\"\")&DAY(Resurssiluettelo!F73))","v":""},{"$f":"IF(Resurssiluettelo!G73=0,\"\",Resurssiluettelo!G73)","v":""},{"$f":"IF(Resurssiluettelo!H73=0,\"\",Resurssiluettelo!H73)","v":""},{"$f":"IF(Resurssiluettelo!I73=0,\"\",Resurssiluettelo!I73)","v":""},{"$f":"IF(Resurssiluettelo!W73=0,\"\",Resurssiluettelo!W73)","v":""},{"$f":"IF(Resurssiluettelo!X73=0,\"\",Resurssiluettelo!X73)","v":""},{"$f":"IF(Resurssiluettelo!Y73=0,\"\",Resurssiluettelo!Y73)","v":""},{"$f":"IF(Resurssiluettelo!Z73=0,\"\",Resurssiluettelo!Z73)","v":""},{"$f":"IF(Resurssiluettelo!AA73=0,\"\",Resurssiluettelo!AA73)","v":""},{"$f":"IF(Resurssiluettelo!AB73=0,\"\",Resurssiluettelo!AB73)","v":""},{"$f":"IF(Resurssiluettelo!AC73=0,\"\",Resurssiluettelo!AC73)","v":""},{"$f":"IF(Resurssiluettelo!AD73=0,\"\",Resurssiluettelo!AD73)","v":""},{"$f":"IF(Resurssiluettelo!J73=0,\"\",Resurssiluettelo!J73)","v":""},{"$f":"IF(Resurssiluettelo!K73=0,\"\",Resurssiluettelo!K73)","v":""},{"$f":"IF(Resurssiluettelo!L73=0,\"\",Resurssiluettelo!L73)","v":""},{"$f":"IF(Resurssiluettelo!M73=0,\"\",Resurssiluettelo!M73)","v":""},{"$f":"IF(Resurssiluettelo!N73=0,\"\",Resurssiluettelo!N73)","v":""},{"$f":"IF(Resurssiluettelo!O73=0,\"\",Resurssiluettelo!O73)","v":""},{"$f":"IF(Resurssiluettelo!P73=0,\"\",Resurssiluettelo!P73)","v":""},{"$f":"IF(Resurssiluettelo!Q73=0,\"\",Resurssiluettelo!Q73)","v":""},{"$f":"IF(Resurssiluettelo!R73=0,\"\",Resurssiluettelo!R73)","v":""},{"$f":"IF(Resurssiluettelo!S73=0,\"\",Resurssiluettelo!S73)","v":""},{"$f":"IF(Resurssiluettelo!T73=0,\"\",Resurssiluettelo!T73)","v":""},{"$f":"IF(Resurssiluettelo!U73=0,\"\",Resurssiluettelo!U73)","v":""},{"$f":"IF(Resurssiluettelo!V73=0,\"\",Resurssiluettelo!V73)","v":""}]
[24,{"$f":"IF(Y27=\"\",\"\",Resurssiluettelo!$G$1)","v":""},{"$f":"IF(Y27=\"\",\"\",Resurssiluettelo!$H$14)","v":""},{"$f":"IF(Y27=\"\",\"\",Resurssiluettelo!$I$14)","v":""},{"$f":"IF(Y27=\"\",\"\",Resurssiluettelo!$J$14)","v":""},{"$f":"IF(Y27=\"\",\"\",Resurssiluettelo!$N$14)","v":""},{"$f":"IF(Y27=\"\",\"\",Resurssiluettelo!$O$14)","v":""},{"$f":"IF(Resurssiluettelo!B74=0,\"\",Resurssiluettelo!B74)","v":""},{"$f":"IF(Resurssiluettelo!C74=0,\"\",Resurssiluettelo!C74)","v":""},{"$f":"IF(Resurssiluettelo!D74=0,\"\",Resurssiluettelo!D74)","v":""},{"$f":"IF($J27=\"\",\"\",VLOOKUP($J27, Resurssiluettelo!$D$21:$X$40,Ohjeistus!K$98-1,FALSE))","v":""},{"$f":"IF($J27=\"\",\"\",VLOOKUP($J27, Resurssiluettelo!$D$21:$X$40,Ohjeistus!L$98-1,FALSE))","v":""},{"$f":"IF($J27=\"\",\"\",VLOOKUP($J27, Resurssiluettelo!$D$21:$X$40,Ohjeistus!M$98-1,FALSE))","v":""},{"$f":"IF($J27=\"\",\"\",VLOOKUP($J27, Resurssiluettelo!$D$21:$X$40,Ohjeistus!N$98-1,FALSE))","v":""},{"$f":"IF($J27=\"\",\"\",VLOOKUP($J27, Resurssiluettelo!$D$21:$X$40,Ohjeistus!O$98-1,FALSE))","v":""},{"$f":"IF($J27=\"\",\"\",VLOOKUP($J27, Resurssiluettelo!$D$21:$X$40,Ohjeistus!P$98-1,FALSE))","v":""},{"$f":"IF($J27=\"\",IF($I27=\"\",\"\",VLOOKUP($I27, Resurssiluettelo!$C$21:$X$40,Ohjeistus!Q$98,FALSE)),VLOOKUP($J27, Resurssiluettelo!$D$21:$X$40,Ohjeistus!Q$98-1,FALSE))","v":""},{"$f":"IF($J27=\"\",IF($I27=\"\",\"\",VLOOKUP($I27, Resurssiluettelo!$C$21:$X$40,Ohjeistus!R$98,FALSE)),VLOOKUP($J27, Resurssiluettelo!$D$21:$X$40,Ohjeistus!R$98-1,FALSE))","v":""},{"$f":"IF($J27=\"\",IF($I27=\"\",\"\",VLOOKUP($I27, Resurssiluettelo!$C$21:$X$40,Ohjeistus!S$98,FALSE)),VLOOKUP($J27, Resurssiluettelo!$D$21:$X$40,Ohjeistus!S$98-1,FALSE))","v":""},{"$f":"IF($J27=\"\",IF($I27=\"\",\"\",VLOOKUP($I27, Resurssiluettelo!$C$21:$X$40,Ohjeistus!T$98,FALSE)),VLOOKUP($J27, Resurssiluettelo!$D$21:$X$40,Ohjeistus!T$98-1,FALSE))","v":""},{"$f":"IF($J27=\"\",\"\",VLOOKUP($J27, Resurssiluettelo!$D$21:$X$40,Ohjeistus!U$98-1,FALSE))","v":""},{"$f":"IF($J27=\"\",\"\",VLOOKUP($J27, Resurssiluettelo!$D$21:$X$40,Ohjeistus!V$98-1,FALSE))","v":""},{"$f":"IF($J27=\"\",\"\",VLOOKUP($J27, Resurssiluettelo!$D$21:$X$40,Ohjeistus!W$98-1,FALSE))","v":""},{"$f":"IF($J27=\"\",\"\",VLOOKUP($J27, Resurssiluettelo!$D$21:$X$40,Ohjeistus!X$98-1,FALSE))","v":""},{"$f":"IF(Resurssiluettelo!E74=0,\"\",Resurssiluettelo!E74)","v":""},{"$f":"IF(Resurssiluettelo!F74=0,\"\",YEAR(Resurssiluettelo!F74)&IF(MONTH(Resurssiluettelo!F74)<10,\"0\",\"\")&MONTH(Resurssiluettelo!F74)&IF(DAY(Resurssiluettelo!F74)<10,\"0\",\"\")&DAY(Resurssiluettelo!F74))","v":""},{"$f":"IF(Resurssiluettelo!G74=0,\"\",Resurssiluettelo!G74)","v":""},{"$f":"IF(Resurssiluettelo!H74=0,\"\",Resurssiluettelo!H74)","v":""},{"$f":"IF(Resurssiluettelo!I74=0,\"\",Resurssiluettelo!I74)","v":""},{"$f":"IF(Resurssiluettelo!W74=0,\"\",Resurssiluettelo!W74)","v":""},{"$f":"IF(Resurssiluettelo!X74=0,\"\",Resurssiluettelo!X74)","v":""},{"$f":"IF(Resurssiluettelo!Y74=0,\"\",Resurssiluettelo!Y74)","v":""},{"$f":"IF(Resurssiluettelo!Z74=0,\"\",Resurssiluettelo!Z74)","v":""},{"$f":"IF(Resurssiluettelo!AA74=0,\"\",Resurssiluettelo!AA74)","v":""},{"$f":"IF(Resurssiluettelo!AB74=0,\"\",Resurssiluettelo!AB74)","v":""},{"$f":"IF(Resurssiluettelo!AC74=0,\"\",Resurssiluettelo!AC74)","v":""},{"$f":"IF(Resurssiluettelo!AD74=0,\"\",Resurssiluettelo!AD74)","v":""},{"$f":"IF(Resurssiluettelo!J74=0,\"\",Resurssiluettelo!J74)","v":""},{"$f":"IF(Resurssiluettelo!K74=0,\"\",Resurssiluettelo!K74)","v":""},{"$f":"IF(Resurssiluettelo!L74=0,\"\",Resurssiluettelo!L74)","v":""},{"$f":"IF(Resurssiluettelo!M74=0,\"\",Resurssiluettelo!M74)","v":""},{"$f":"IF(Resurssiluettelo!N74=0,\"\",Resurssiluettelo!N74)","v":""},{"$f":"IF(Resurssiluettelo!O74=0,\"\",Resurssiluettelo!O74)","v":""},{"$f":"IF(Resurssiluettelo!P74=0,\"\",Resurssiluettelo!P74)","v":""},{"$f":"IF(Resurssiluettelo!Q74=0,\"\",Resurssiluettelo!Q74)","v":""},{"$f":"IF(Resurssiluettelo!R74=0,\"\",Resurssiluettelo!R74)","v":""},{"$f":"IF(Resurssiluettelo!S74=0,\"\",Resurssiluettelo!S74)","v":""},{"$f":"IF(Resurssiluettelo!T74=0,\"\",Resurssiluettelo!T74)","v":""},{"$f":"IF(Resurssiluettelo!U74=0,\"\",Resurssiluettelo!U74)","v":""},{"$f":"IF(Resurssiluettelo!V74=0,\"\",Resurssiluettelo!V74)","v":""}]
[25,{"$f":"IF(Y28=\"\",\"\",Resurssiluettelo!$G$1)","v":""},{"$f":"IF(Y28=\"\",\"\",Resurssiluettelo!$H$14)","v":""},{"$f":"IF(Y28=\"\",\"\",Resurssiluettelo!$I$14)","v":""},{"$f":"IF(Y28=\"\",\"\",Resurssiluettelo!$J$14)","v":""},{"$f":"IF(Y28=\"\",\"\",Resurssiluettelo!$N$14)","v":""},{"$f":"IF(Y28=\"\",\"\",Resurssiluettelo!$O$14)","v":""},{"$f":"IF(Resurssiluettelo!B75=0,\"\",Resurssiluettelo!B75)","v":""},{"$f":"IF(Resurssiluettelo!C75=0,\"\",Resurssiluettelo!C75)","v":""},{"$f":"IF(Resurssiluettelo!D75=0,\"\",Resurssiluettelo!D75)","v":""},{"$f":"IF($J28=\"\",\"\",VLOOKUP($J28, Resurssiluettelo!$D$21:$X$40,Ohjeistus!K$98-1,FALSE))","v":""},{"$f":"IF($J28=\"\",\"\",VLOOKUP($J28, Resurssiluettelo!$D$21:$X$40,Ohjeistus!L$98-1,FALSE))","v":""},{"$f":"IF($J28=\"\",\"\",VLOOKUP($J28, Resurssiluettelo!$D$21:$X$40,Ohjeistus!M$98-1,FALSE))","v":""},{"$f":"IF($J28=\"\",\"\",VLOOKUP($J28, Resurssiluettelo!$D$21:$X$40,Ohjeistus!N$98-1,FALSE))","v":""},{"$f":"IF($J28=\"\",\"\",VLOOKUP($J28, Resurssiluettelo!$D$21:$X$40,Ohjeistus!O$98-1,FALSE))","v":""},{"$f":"IF($J28=\"\",\"\",VLOOKUP($J28, Resurssiluettelo!$D$21:$X$40,Ohjeistus!P$98-1,FALSE))","v":""},{"$f":"IF($J28=\"\",IF($I28=\"\",\"\",VLOOKUP($I28, Resurssiluettelo!$C$21:$X$40,Ohjeistus!Q$98,FALSE)),VLOOKUP($J28, Resurssiluettelo!$D$21:$X$40,Ohjeistus!Q$98-1,FALSE))","v":""},{"$f":"IF($J28=\"\",IF($I28=\"\",\"\",VLOOKUP($I28, Resurssiluettelo!$C$21:$X$40,Ohjeistus!R$98,FALSE)),VLOOKUP($J28, Resurssiluettelo!$D$21:$X$40,Ohjeistus!R$98-1,FALSE))","v":""},{"$f":"IF($J28=\"\",IF($I28=\"\",\"\",VLOOKUP($I28, Resurssiluettelo!$C$21:$X$40,Ohjeistus!S$98,FALSE)),VLOOKUP($J28, Resurssiluettelo!$D$21:$X$40,Ohjeistus!S$98-1,FALSE))","v":""},{"$f":"IF($J28=\"\",IF($I28=\"\",\"\",VLOOKUP($I28, Resurssiluettelo!$C$21:$X$40,Ohjeistus!T$98,FALSE)),VLOOKUP($J28, Resurssiluettelo!$D$21:$X$40,Ohjeistus!T$98-1,FALSE))","v":""},{"$f":"IF($J28=\"\",\"\",VLOOKUP($J28, Resurssiluettelo!$D$21:$X$40,Ohjeistus!U$98-1,FALSE))","v":""},{"$f":"IF($J28=\"\",\"\",VLOOKUP($J28, Resurssiluettelo!$D$21:$X$40,Ohjeistus!V$98-1,FALSE))","v":""},{"$f":"IF($J28=\"\",\"\",VLOOKUP($J28, Resurssiluettelo!$D$21:$X$40,Ohjeistus!W$98-1,FALSE))","v":""},{"$f":"IF($J28=\"\",\"\",VLOOKUP($J28, Resurssiluettelo!$D$21:$X$40,Ohjeistus!X$98-1,FALSE))","v":""},{"$f":"IF(Resurssiluettelo!E75=0,\"\",Resurssiluettelo!E75)","v":""},{"$f":"IF(Resurssiluettelo!F75=0,\"\",YEAR(Resurssiluettelo!F75)&IF(MONTH(Resurssiluettelo!F75)<10,\"0\",\"\")&MONTH(Resurssiluettelo!F75)&IF(DAY(Resurssiluettelo!F75)<10,\"0\",\"\")&DAY(Resurssiluettelo!F75))","v":""},{"$f":"IF(Resurssiluettelo!G75=0,\"\",Resurssiluettelo!G75)","v":""},{"$f":"IF(Resurssiluettelo!H75=0,\"\",Resurssiluettelo!H75)","v":""},{"$f":"IF(Resurssiluettelo!I75=0,\"\",Resurssiluettelo!I75)","v":""},{"$f":"IF(Resurssiluettelo!W75=0,\"\",Resurssiluettelo!W75)","v":""},{"$f":"IF(Resurssiluettelo!X75=0,\"\",Resurssiluettelo!X75)","v":""},{"$f":"IF(Resurssiluettelo!Y75=0,\"\",Resurssiluettelo!Y75)","v":""},{"$f":"IF(Resurssiluettelo!Z75=0,\"\",Resurssiluettelo!Z75)","v":""},{"$f":"IF(Resurssiluettelo!AA75=0,\"\",Resurssiluettelo!AA75)","v":""},{"$f":"IF(Resurssiluettelo!AB75=0,\"\",Resurssiluettelo!AB75)","v":""},{"$f":"IF(Resurssiluettelo!AC75=0,\"\",Resurssiluettelo!AC75)","v":""},{"$f":"IF(Resurssiluettelo!AD75=0,\"\",Resurssiluettelo!AD75)","v":""},{"$f":"IF(Resurssiluettelo!J75=0,\"\",Resurssiluettelo!J75)","v":""},{"$f":"IF(Resurssiluettelo!K75=0,\"\",Resurssiluettelo!K75)","v":""},{"$f":"IF(Resurssiluettelo!L75=0,\"\",Resurssiluettelo!L75)","v":""},{"$f":"IF(Resurssiluettelo!M75=0,\"\",Resurssiluettelo!M75)","v":""},{"$f":"IF(Resurssiluettelo!N75=0,\"\",Resurssiluettelo!N75)","v":""},{"$f":"IF(Resurssiluettelo!O75=0,\"\",Resurssiluettelo!O75)","v":""},{"$f":"IF(Resurssiluettelo!P75=0,\"\",Resurssiluettelo!P75)","v":""},{"$f":"IF(Resurssiluettelo!Q75=0,\"\",Resurssiluettelo!Q75)","v":""},{"$f":"IF(Resurssiluettelo!R75=0,\"\",Resurssiluettelo!R75)","v":""},{"$f":"IF(Resurssiluettelo!S75=0,\"\",Resurssiluettelo!S75)","v":""},{"$f":"IF(Resurssiluettelo!T75=0,\"\",Resurssiluettelo!T75)","v":""},{"$f":"IF(Resurssiluettelo!U75=0,\"\",Resurssiluettelo!U75)","v":""},{"$f":"IF(Resurssiluettelo!V75=0,\"\",Resurssiluettelo!V75)","v":""}]
[26,{"$f":"IF(Y29=\"\",\"\",Resurssiluettelo!$G$1)","v":""},{"$f":"IF(Y29=\"\",\"\",Resurssiluettelo!$H$14)","v":""},{"$f":"IF(Y29=\"\",\"\",Resurssiluettelo!$I$14)","v":""},{"$f":"IF(Y29=\"\",\"\",Resurssiluettelo!$J$14)","v":""},{"$f":"IF(Y29=\"\",\"\",Resurssiluettelo!$N$14)","v":""},{"$f":"IF(Y29=\"\",\"\",Resurssiluettelo!$O$14)","v":""},{"$f":"IF(Resurssiluettelo!B76=0,\"\",Resurssiluettelo!B76)","v":""},{"$f":"IF(Resurssiluettelo!C76=0,\"\",Resurssiluettelo!C76)","v":""},{"$f":"IF(Resurssiluettelo!D76=0,\"\",Resurssiluettelo!D76)","v":""},{"$f":"IF($J29=\"\",\"\",VLOOKUP($J29, Resurssiluettelo!$D$21:$X$40,Ohjeistus!K$98-1,FALSE))","v":""},{"$f":"IF($J29=\"\",\"\",VLOOKUP($J29, Resurssiluettelo!$D$21:$X$40,Ohjeistus!L$98-1,FALSE))","v":""},{"$f":"IF($J29=\"\",\"\",VLOOKUP($J29, Resurssiluettelo!$D$21:$X$40,Ohjeistus!M$98-1,FALSE))","v":""},{"$f":"IF($J29=\"\",\"\",VLOOKUP($J29, Resurssiluettelo!$D$21:$X$40,Ohjeistus!N$98-1,FALSE))","v":""},{"$f":"IF($J29=\"\",\"\",VLOOKUP($J29, Resurssiluettelo!$D$21:$X$40,Ohjeistus!O$98-1,FALSE))","v":""},{"$f":"IF($J29=\"\",\"\",VLOOKUP($J29, Resurssiluettelo!$D$21:$X$40,Ohjeistus!P$98-1,FALSE))","v":""},{"$f":"IF($J29=\"\",IF($I29=\"\",\"\",VLOOKUP($I29, Resurssiluettelo!$C$21:$X$40,Ohjeistus!Q$98,FALSE)),VLOOKUP($J29, Resurssiluettelo!$D$21:$X$40,Ohjeistus!Q$98-1,FALSE))","v":""},{"$f":"IF($J29=\"\",IF($I29=\"\",\"\",VLOOKUP($I29, Resurssiluettelo!$C$21:$X$40,Ohjeistus!R$98,FALSE)),VLOOKUP($J29, Resurssiluettelo!$D$21:$X$40,Ohjeistus!R$98-1,FALSE))","v":""},{"$f":"IF($J29=\"\",IF($I29=\"\",\"\",VLOOKUP($I29, Resurssiluettelo!$C$21:$X$40,Ohjeistus!S$98,FALSE)),VLOOKUP($J29, Resurssiluettelo!$D$21:$X$40,Ohjeistus!S$98-1,FALSE))","v":""},{"$f":"IF($J29=\"\",IF($I29=\"\",\"\",VLOOKUP($I29, Resurssiluettelo!$C$21:$X$40,Ohjeistus!T$98,FALSE)),VLOOKUP($J29, Resurssiluettelo!$D$21:$X$40,Ohjeistus!T$98-1,FALSE))","v":""},{"$f":"IF($J29=\"\",\"\",VLOOKUP($J29, Resurssiluettelo!$D$21:$X$40,Ohjeistus!U$98-1,FALSE))","v":""},{"$f":"IF($J29=\"\",\"\",VLOOKUP($J29, Resurssiluettelo!$D$21:$X$40,Ohjeistus!V$98-1,FALSE))","v":""},{"$f":"IF($J29=\"\",\"\",VLOOKUP($J29, Resurssiluettelo!$D$21:$X$40,Ohjeistus!W$98-1,FALSE))","v":""},{"$f":"IF($J29=\"\",\"\",VLOOKUP($J29, Resurssiluettelo!$D$21:$X$40,Ohjeistus!X$98-1,FALSE))","v":""},{"$f":"IF(Resurssiluettelo!E76=0,\"\",Resurssiluettelo!E76)","v":""},{"$f":"IF(Resurssiluettelo!F76=0,\"\",YEAR(Resurssiluettelo!F76)&IF(MONTH(Resurssiluettelo!F76)<10,\"0\",\"\")&MONTH(Resurssiluettelo!F76)&IF(DAY(Resurssiluettelo!F76)<10,\"0\",\"\")&DAY(Resurssiluettelo!F76))","v":""},{"$f":"IF(Resurssiluettelo!G76=0,\"\",Resurssiluettelo!G76)","v":""},{"$f":"IF(Resurssiluettelo!H76=0,\"\",Resurssiluettelo!H76)","v":""},{"$f":"IF(Resurssiluettelo!I76=0,\"\",Resurssiluettelo!I76)","v":""},{"$f":"IF(Resurssiluettelo!W76=0,\"\",Resurssiluettelo!W76)","v":""},{"$f":"IF(Resurssiluettelo!X76=0,\"\",Resurssiluettelo!X76)","v":""},{"$f":"IF(Resurssiluettelo!Y76=0,\"\",Resurssiluettelo!Y76)","v":""},{"$f":"IF(Resurssiluettelo!Z76=0,\"\",Resurssiluettelo!Z76)","v":""},{"$f":"IF(Resurssiluettelo!AA76=0,\"\",Resurssiluettelo!AA76)","v":""},{"$f":"IF(Resurssiluettelo!AB76=0,\"\",Resurssiluettelo!AB76)","v":""},{"$f":"IF(Resurssiluettelo!AC76=0,\"\",Resurssiluettelo!AC76)","v":""},{"$f":"IF(Resurssiluettelo!AD76=0,\"\",Resurssiluettelo!AD76)","v":""},{"$f":"IF(Resurssiluettelo!J76=0,\"\",Resurssiluettelo!J76)","v":""},{"$f":"IF(Resurssiluettelo!K76=0,\"\",Resurssiluettelo!K76)","v":""},{"$f":"IF(Resurssiluettelo!L76=0,\"\",Resurssiluettelo!L76)","v":""},{"$f":"IF(Resurssiluettelo!M76=0,\"\",Resurssiluettelo!M76)","v":""},{"$f":"IF(Resurssiluettelo!N76=0,\"\",Resurssiluettelo!N76)","v":""},{"$f":"IF(Resurssiluettelo!O76=0,\"\",Resurssiluettelo!O76)","v":""},{"$f":"IF(Resurssiluettelo!P76=0,\"\",Resurssiluettelo!P76)","v":""},{"$f":"IF(Resurssiluettelo!Q76=0,\"\",Resurssiluettelo!Q76)","v":""},{"$f":"IF(Resurssiluettelo!R76=0,\"\",Resurssiluettelo!R76)","v":""},{"$f":"IF(Resurssiluettelo!S76=0,\"\",Resurssiluettelo!S76)","v":""},{"$f":"IF(Resurssiluettelo!T76=0,\"\",Resurssiluettelo!T76)","v":""},{"$f":"IF(Resurssiluettelo!U76=0,\"\",Resurssiluettelo!U76)","v":""},{"$f":"IF(Resurssiluettelo!V76=0,\"\",Resurssiluettelo!V76)","v":""}]
[27,{"$f":"IF(Y30=\"\",\"\",Resurssiluettelo!$G$1)","v":""},{"$f":"IF(Y30=\"\",\"\",Resurssiluettelo!$H$14)","v":""},{"$f":"IF(Y30=\"\",\"\",Resurssiluettelo!$I$14)","v":""},{"$f":"IF(Y30=\"\",\"\",Resurssiluettelo!$J$14)","v":""},{"$f":"IF(Y30=\"\",\"\",Resurssiluettelo!$N$14)","v":""},{"$f":"IF(Y30=\"\",\"\",Resurssiluettelo!$O$14)","v":""},{"$f":"IF(Resurssiluettelo!B77=0,\"\",Resurssiluettelo!B77)","v":""},{"$f":"IF(Resurssiluettelo!C77=0,\"\",Resurssiluettelo!C77)","v":""},{"$f":"IF(Resurssiluettelo!D77=0,\"\",Resurssiluettelo!D77)","v":""},{"$f":"IF($J30=\"\",\"\",VLOOKUP($J30, Resurssiluettelo!$D$21:$X$40,Ohjeistus!K$98-1,FALSE))","v":""},{"$f":"IF($J30=\"\",\"\",VLOOKUP($J30, Resurssiluettelo!$D$21:$X$40,Ohjeistus!L$98-1,FALSE))","v":""},{"$f":"IF($J30=\"\",\"\",VLOOKUP($J30, Resurssiluettelo!$D$21:$X$40,Ohjeistus!M$98-1,FALSE))","v":""},{"$f":"IF($J30=\"\",\"\",VLOOKUP($J30, Resurssiluettelo!$D$21:$X$40,Ohjeistus!N$98-1,FALSE))","v":""},{"$f":"IF($J30=\"\",\"\",VLOOKUP($J30, Resurssiluettelo!$D$21:$X$40,Ohjeistus!O$98-1,FALSE))","v":""},{"$f":"IF($J30=\"\",\"\",VLOOKUP($J30, Resurssiluettelo!$D$21:$X$40,Ohjeistus!P$98-1,FALSE))","v":""},{"$f":"IF($J30=\"\",IF($I30=\"\",\"\",VLOOKUP($I30, Resurssiluettelo!$C$21:$X$40,Ohjeistus!Q$98,FALSE)),VLOOKUP($J30, Resurssiluettelo!$D$21:$X$40,Ohjeistus!Q$98-1,FALSE))","v":""},{"$f":"IF($J30=\"\",IF($I30=\"\",\"\",VLOOKUP($I30, Resurssiluettelo!$C$21:$X$40,Ohjeistus!R$98,FALSE)),VLOOKUP($J30, Resurssiluettelo!$D$21:$X$40,Ohjeistus!R$98-1,FALSE))","v":""},{"$f":"IF($J30=\"\",IF($I30=\"\",\"\",VLOOKUP($I30, Resurssiluettelo!$C$21:$X$40,Ohjeistus!S$98,FALSE)),VLOOKUP($J30, Resurssiluettelo!$D$21:$X$40,Ohjeistus!S$98-1,FALSE))","v":""},{"$f":"IF($J30=\"\",IF($I30=\"\",\"\",VLOOKUP($I30, Resurssiluettelo!$C$21:$X$40,Ohjeistus!T$98,FALSE)),VLOOKUP($J30, Resurssiluettelo!$D$21:$X$40,Ohjeistus!T$98-1,FALSE))","v":""},{"$f":"IF($J30=\"\",\"\",VLOOKUP($J30, Resurssiluettelo!$D$21:$X$40,Ohjeistus!U$98-1,FALSE))","v":""},{"$f":"IF($J30=\"\",\"\",VLOOKUP($J30, Resurssiluettelo!$D$21:$X$40,Ohjeistus!V$98-1,FALSE))","v":""},{"$f":"IF($J30=\"\",\"\",VLOOKUP($J30, Resurssiluettelo!$D$21:$X$40,Ohjeistus!W$98-1,FALSE))","v":""},{"$f":"IF($J30=\"\",\"\",VLOOKUP($J30, Resurssiluettelo!$D$21:$X$40,Ohjeistus!X$98-1,FALSE))","v":""},{"$f":"IF(Resurssiluettelo!E77=0,\"\",Resurssiluettelo!E77)","v":""},{"$f":"IF(Resurssiluettelo!F77=0,\"\",YEAR(Resurssiluettelo!F77)&IF(MONTH(Resurssiluettelo!F77)<10,\"0\",\"\")&MONTH(Resurssiluettelo!F77)&IF(DAY(Resurssiluettelo!F77)<10,\"0\",\"\")&DAY(Resurssiluettelo!F77))","v":""},{"$f":"IF(Resurssiluettelo!G77=0,\"\",Resurssiluettelo!G77)","v":""},{"$f":"IF(Resurssiluettelo!H77=0,\"\",Resurssiluettelo!H77)","v":""},{"$f":"IF(Resurssiluettelo!I77=0,\"\",Resurssiluettelo!I77)","v":""},{"$f":"IF(Resurssiluettelo!W77=0,\"\",Resurssiluettelo!W77)","v":""},{"$f":"IF(Resurssiluettelo!X77=0,\"\",Resurssiluettelo!X77)","v":""},{"$f":"IF(Resurssiluettelo!Y77=0,\"\",Resurssiluettelo!Y77)","v":""},{"$f":"IF(Resurssiluettelo!Z77=0,\"\",Resurssiluettelo!Z77)","v":""},{"$f":"IF(Resurssiluettelo!AA77=0,\"\",Resurssiluettelo!AA77)","v":""},{"$f":"IF(Resurssiluettelo!AB77=0,\"\",Resurssiluettelo!AB77)","v":""},{"$f":"IF(Resurssiluettelo!AC77=0,\"\",Resurssiluettelo!AC77)","v":""},{"$f":"IF(Resurssiluettelo!AD77=0,\"\",Resurssiluettelo!AD77)","v":""},{"$f":"IF(Resurssiluettelo!J77=0,\"\",Resurssiluettelo!J77)","v":""},{"$f":"IF(Resurssiluettelo!K77=0,\"\",Resurssiluettelo!K77)","v":""},{"$f":"IF(Resurssiluettelo!L77=0,\"\",Resurssiluettelo!L77)","v":""},{"$f":"IF(Resurssiluettelo!M77=0,\"\",Resurssiluettelo!M77)","v":""},{"$f":"IF(Resurssiluettelo!N77=0,\"\",Resurssiluettelo!N77)","v":""},{"$f":"IF(Resurssiluettelo!O77=0,\"\",Resurssiluettelo!O77)","v":""},{"$f":"IF(Resurssiluettelo!P77=0,\"\",Resurssiluettelo!P77)","v":""},{"$f":"IF(Resurssiluettelo!Q77=0,\"\",Resurssiluettelo!Q77)","v":""},{"$f":"IF(Resurssiluettelo!R77=0,\"\",Resurssiluettelo!R77)","v":""},{"$f":"IF(Resurssiluettelo!S77=0,\"\",Resurssiluettelo!S77)","v":""},{"$f":"IF(Resurssiluettelo!T77=0,\"\",Resurssiluettelo!T77)","v":""},{"$f":"IF(Resurssiluettelo!U77=0,\"\",Resurssiluettelo!U77)","v":""},{"$f":"IF(Resurssiluettelo!V77=0,\"\",Resurssiluettelo!V77)","v":""}]
[28,{"$f":"IF(Y31=\"\",\"\",Resurssiluettelo!$G$1)","v":""},{"$f":"IF(Y31=\"\",\"\",Resurssiluettelo!$H$14)","v":""},{"$f":"IF(Y31=\"\",\"\",Resurssiluettelo!$I$14)","v":""},{"$f":"IF(Y31=\"\",\"\",Resurssiluettelo!$J$14)","v":""},{"$f":"IF(Y31=\"\",\"\",Resurssiluettelo!$N$14)","v":""},{"$f":"IF(Y31=\"\",\"\",Resurssiluettelo!$O$14)","v":""},{"$f":"IF(Resurssiluettelo!B78=0,\"\",Resurssiluettelo!B78)","v":""},{"$f":"IF(Resurssiluettelo!C78=0,\"\",Resurssiluettelo!C78)","v":""},{"$f":"IF(Resurssiluettelo!D78=0,\"\",Resurssiluettelo!D78)","v":""},{"$f":"IF($J31=\"\",\"\",VLOOKUP($J31, Resurssiluettelo!$D$21:$X$40,Ohjeistus!K$98-1,FALSE))","v":""},{"$f":"IF($J31=\"\",\"\",VLOOKUP($J31, Resurssiluettelo!$D$21:$X$40,Ohjeistus!L$98-1,FALSE))","v":""},{"$f":"IF($J31=\"\",\"\",VLOOKUP($J31, Resurssiluettelo!$D$21:$X$40,Ohjeistus!M$98-1,FALSE))","v":""},{"$f":"IF($J31=\"\",\"\",VLOOKUP($J31, Resurssiluettelo!$D$21:$X$40,Ohjeistus!N$98-1,FALSE))","v":""},{"$f":"IF($J31=\"\",\"\",VLOOKUP($J31, Resurssiluettelo!$D$21:$X$40,Ohjeistus!O$98-1,FALSE))","v":""},{"$f":"IF($J31=\"\",\"\",VLOOKUP($J31, Resurssiluettelo!$D$21:$X$40,Ohjeistus!P$98-1,FALSE))","v":""},{"$f":"IF($J31=\"\",IF($I31=\"\",\"\",VLOOKUP($I31, Resurssiluettelo!$C$21:$X$40,Ohjeistus!Q$98,FALSE)),VLOOKUP($J31, Resurssiluettelo!$D$21:$X$40,Ohjeistus!Q$98-1,FALSE))","v":""},{"$f":"IF($J31=\"\",IF($I31=\"\",\"\",VLOOKUP($I31, Resurssiluettelo!$C$21:$X$40,Ohjeistus!R$98,FALSE)),VLOOKUP($J31, Resurssiluettelo!$D$21:$X$40,Ohjeistus!R$98-1,FALSE))","v":""},{"$f":"IF($J31=\"\",IF($I31=\"\",\"\",VLOOKUP($I31, Resurssiluettelo!$C$21:$X$40,Ohjeistus!S$98,FALSE)),VLOOKUP($J31, Resurssiluettelo!$D$21:$X$40,Ohjeistus!S$98-1,FALSE))","v":""},{"$f":"IF($J31=\"\",IF($I31=\"\",\"\",VLOOKUP($I31, Resurssiluettelo!$C$21:$X$40,Ohjeistus!T$98,FALSE)),VLOOKUP($J31, Resurssiluettelo!$D$21:$X$40,Ohjeistus!T$98-1,FALSE))","v":""},{"$f":"IF($J31=\"\",\"\",VLOOKUP($J31, Resurssiluettelo!$D$21:$X$40,Ohjeistus!U$98-1,FALSE))","v":""},{"$f":"IF($J31=\"\",\"\",VLOOKUP($J31, Resurssiluettelo!$D$21:$X$40,Ohjeistus!V$98-1,FALSE))","v":""},{"$f":"IF($J31=\"\",\"\",VLOOKUP($J31, Resurssiluettelo!$D$21:$X$40,Ohjeistus!W$98-1,FALSE))","v":""},{"$f":"IF($J31=\"\",\"\",VLOOKUP($J31, Resurssiluettelo!$D$21:$X$40,Ohjeistus!X$98-1,FALSE))","v":""},{"$f":"IF(Resurssiluettelo!E78=0,\"\",Resurssiluettelo!E78)","v":""},{"$f":"IF(Resurssiluettelo!F78=0,\"\",YEAR(Resurssiluettelo!F78)&IF(MONTH(Resurssiluettelo!F78)<10,\"0\",\"\")&MONTH(Resurssiluettelo!F78)&IF(DAY(Resurssiluettelo!F78)<10,\"0\",\"\")&DAY(Resurssiluettelo!F78))","v":""},{"$f":"IF(Resurssiluettelo!G78=0,\"\",Resurssiluettelo!G78)","v":""},{"$f":"IF(Resurssiluettelo!H78=0,\"\",Resurssiluettelo!H78)","v":""},{"$f":"IF(Resurssiluettelo!I78=0,\"\",Resurssiluettelo!I78)","v":""},{"$f":"IF(Resurssiluettelo!W78=0,\"\",Resurssiluettelo!W78)","v":""},{"$f":"IF(Resurssiluettelo!X78=0,\"\",Resurssiluettelo!X78)","v":""},{"$f":"IF(Resurssiluettelo!Y78=0,\"\",Resurssiluettelo!Y78)","v":""},{"$f":"IF(Resurssiluettelo!Z78=0,\"\",Resurssiluettelo!Z78)","v":""},{"$f":"IF(Resurssiluettelo!AA78=0,\"\",Resurssiluettelo!AA78)","v":""},{"$f":"IF(Resurssiluettelo!AB78=0,\"\",Resurssiluettelo!AB78)","v":""},{"$f":"IF(Resurssiluettelo!AC78=0,\"\",Resurssiluettelo!AC78)","v":""},{"$f":"IF(Resurssiluettelo!AD78=0,\"\",Resurssiluettelo!AD78)","v":""},{"$f":"IF(Resurssiluettelo!J78=0,\"\",Resurssiluettelo!J78)","v":""},{"$f":"IF(Resurssiluettelo!K78=0,\"\",Resurssiluettelo!K78)","v":""},{"$f":"IF(Resurssiluettelo!L78=0,\"\",Resurssiluettelo!L78)","v":""},{"$f":"IF(Resurssiluettelo!M78=0,\"\",Resurssiluettelo!M78)","v":""},{"$f":"IF(Resurssiluettelo!N78=0,\"\",Resurssiluettelo!N78)","v":""},{"$f":"IF(Resurssiluettelo!O78=0,\"\",Resurssiluettelo!O78)","v":""},{"$f":"IF(Resurssiluettelo!P78=0,\"\",Resurssiluettelo!P78)","v":""},{"$f":"IF(Resurssiluettelo!Q78=0,\"\",Resurssiluettelo!Q78)","v":""},{"$f":"IF(Resurssiluettelo!R78=0,\"\",Resurssiluettelo!R78)","v":""},{"$f":"IF(Resurssiluettelo!S78=0,\"\",Resurssiluettelo!S78)","v":""},{"$f":"IF(Resurssiluettelo!T78=0,\"\",Resurssiluettelo!T78)","v":""},{"$f":"IF(Resurssiluettelo!U78=0,\"\",Resurssiluettelo!U78)","v":""},{"$f":"IF(Resurssiluettelo!V78=0,\"\",Resurssiluettelo!V78)","v":""}]
[29,{"$f":"IF(Y32=\"\",\"\",Resurssiluettelo!$G$1)","v":""},{"$f":"IF(Y32=\"\",\"\",Resurssiluettelo!$H$14)","v":""},{"$f":"IF(Y32=\"\",\"\",Resurssiluettelo!$I$14)","v":""},{"$f":"IF(Y32=\"\",\"\",Resurssiluettelo!$J$14)","v":""},{"$f":"IF(Y32=\"\",\"\",Resurssiluettelo!$N$14)","v":""},{"$f":"IF(Y32=\"\",\"\",Resurssiluettelo!$O$14)","v":""},{"$f":"IF(Resurssiluettelo!B79=0,\"\",Resurssiluettelo!B79)","v":""},{"$f":"IF(Resurssiluettelo!C79=0,\"\",Resurssiluettelo!C79)","v":""},{"$f":"IF(Resurssiluettelo!D79=0,\"\",Resurssiluettelo!D79)","v":""},{"$f":"IF($J32=\"\",\"\",VLOOKUP($J32, Resurssiluettelo!$D$21:$X$40,Ohjeistus!K$98-1,FALSE))","v":""},{"$f":"IF($J32=\"\",\"\",VLOOKUP($J32, Resurssiluettelo!$D$21:$X$40,Ohjeistus!L$98-1,FALSE))","v":""},{"$f":"IF($J32=\"\",\"\",VLOOKUP($J32, Resurssiluettelo!$D$21:$X$40,Ohjeistus!M$98-1,FALSE))","v":""},{"$f":"IF($J32=\"\",\"\",VLOOKUP($J32, Resurssiluettelo!$D$21:$X$40,Ohjeistus!N$98-1,FALSE))","v":""},{"$f":"IF($J32=\"\",\"\",VLOOKUP($J32, Resurssiluettelo!$D$21:$X$40,Ohjeistus!O$98-1,FALSE))","v":""},{"$f":"IF($J32=\"\",\"\",VLOOKUP($J32, Resurssiluettelo!$D$21:$X$40,Ohjeistus!P$98-1,FALSE))","v":""},{"$f":"IF($J32=\"\",IF($I32=\"\",\"\",VLOOKUP($I32, Resurssiluettelo!$C$21:$X$40,Ohjeistus!Q$98,FALSE)),VLOOKUP($J32, Resurssiluettelo!$D$21:$X$40,Ohjeistus!Q$98-1,FALSE))","v":""},{"$f":"IF($J32=\"\",IF($I32=\"\",\"\",VLOOKUP($I32, Resurssiluettelo!$C$21:$X$40,Ohjeistus!R$98,FALSE)),VLOOKUP($J32, Resurssiluettelo!$D$21:$X$40,Ohjeistus!R$98-1,FALSE))","v":""},{"$f":"IF($J32=\"\",IF($I32=\"\",\"\",VLOOKUP($I32, Resurssiluettelo!$C$21:$X$40,Ohjeistus!S$98,FALSE)),VLOOKUP($J32, Resurssiluettelo!$D$21:$X$40,Ohjeistus!S$98-1,FALSE))","v":""},{"$f":"IF($J32=\"\",IF($I32=\"\",\"\",VLOOKUP($I32, Resurssiluettelo!$C$21:$X$40,Ohjeistus!T$98,FALSE)),VLOOKUP($J32, Resurssiluettelo!$D$21:$X$40,Ohjeistus!T$98-1,FALSE))","v":""},{"$f":"IF($J32=\"\",\"\",VLOOKUP($J32, Resurssiluettelo!$D$21:$X$40,Ohjeistus!U$98-1,FALSE))","v":""},{"$f":"IF($J32=\"\",\"\",VLOOKUP($J32, Resurssiluettelo!$D$21:$X$40,Ohjeistus!V$98-1,FALSE))","v":""},{"$f":"IF($J32=\"\",\"\",VLOOKUP($J32, Resurssiluettelo!$D$21:$X$40,Ohjeistus!W$98-1,FALSE))","v":""},{"$f":"IF($J32=\"\",\"\",VLOOKUP($J32, Resurssiluettelo!$D$21:$X$40,Ohjeistus!X$98-1,FALSE))","v":""},{"$f":"IF(Resurssiluettelo!E79=0,\"\",Resurssiluettelo!E79)","v":""},{"$f":"IF(Resurssiluettelo!F79=0,\"\",YEAR(Resurssiluettelo!F79)&IF(MONTH(Resurssiluettelo!F79)<10,\"0\",\"\")&MONTH(Resurssiluettelo!F79)&IF(DAY(Resurssiluettelo!F79)<10,\"0\",\"\")&DAY(Resurssiluettelo!F79))","v":""},{"$f":"IF(Resurssiluettelo!G79=0,\"\",Resurssiluettelo!G79)","v":""},{"$f":"IF(Resurssiluettelo!H79=0,\"\",Resurssiluettelo!H79)","v":""},{"$f":"IF(Resurssiluettelo!I79=0,\"\",Resurssiluettelo!I79)","v":""},{"$f":"IF(Resurssiluettelo!W79=0,\"\",Resurssiluettelo!W79)","v":""},{"$f":"IF(Resurssiluettelo!X79=0,\"\",Resurssiluettelo!X79)","v":""},{"$f":"IF(Resurssiluettelo!Y79=0,\"\",Resurssiluettelo!Y79)","v":""},{"$f":"IF(Resurssiluettelo!Z79=0,\"\",Resurssiluettelo!Z79)","v":""},{"$f":"IF(Resurssiluettelo!AA79=0,\"\",Resurssiluettelo!AA79)","v":""},{"$f":"IF(Resurssiluettelo!AB79=0,\"\",Resurssiluettelo!AB79)","v":""},{"$f":"IF(Resurssiluettelo!AC79=0,\"\",Resurssiluettelo!AC79)","v":""},{"$f":"IF(Resurssiluettelo!AD79=0,\"\",Resurssiluettelo!AD79)","v":""},{"$f":"IF(Resurssiluettelo!J79=0,\"\",Resurssiluettelo!J79)","v":""},{"$f":"IF(Resurssiluettelo!K79=0,\"\",Resurssiluettelo!K79)","v":""},{"$f":"IF(Resurssiluettelo!L79=0,\"\",Resurssiluettelo!L79)","v":""},{"$f":"IF(Resurssiluettelo!M79=0,\"\",Resurssiluettelo!M79)","v":""},{"$f":"IF(Resurssiluettelo!N79=0,\"\",Resurssiluettelo!N79)","v":""},{"$f":"IF(Resurssiluettelo!O79=0,\"\",Resurssiluettelo!O79)","v":""},{"$f":"IF(Resurssiluettelo!P79=0,\"\",Resurssiluettelo!P79)","v":""},{"$f":"IF(Resurssiluettelo!Q79=0,\"\",Resurssiluettelo!Q79)","v":""},{"$f":"IF(Resurssiluettelo!R79=0,\"\",Resurssiluettelo!R79)","v":""},{"$f":"IF(Resurssiluettelo!S79=0,\"\",Resurssiluettelo!S79)","v":""},{"$f":"IF(Resurssiluettelo!T79=0,\"\",Resurssiluettelo!T79)","v":""},{"$f":"IF(Resurssiluettelo!U79=0,\"\",Resurssiluettelo!U79)","v":""},{"$f":"IF(Resurssiluettelo!V79=0,\"\",Resurssiluettelo!V79)","v":""}]
[30,{"$f":"IF(Y33=\"\",\"\",Resurssiluettelo!$G$1)","v":""},{"$f":"IF(Y33=\"\",\"\",Resurssiluettelo!$H$14)","v":""},{"$f":"IF(Y33=\"\",\"\",Resurssiluettelo!$I$14)","v":""},{"$f":"IF(Y33=\"\",\"\",Resurssiluettelo!$J$14)","v":""},{"$f":"IF(Y33=\"\",\"\",Resurssiluettelo!$N$14)","v":""},{"$f":"IF(Y33=\"\",\"\",Resurssiluettelo!$O$14)","v":""},{"$f":"IF(Resurssiluettelo!B80=0,\"\",Resurssiluettelo!B80)","v":""},{"$f":"IF(Resurssiluettelo!C80=0,\"\",Resurssiluettelo!C80)","v":""},{"$f":"IF(Resurssiluettelo!D80=0,\"\",Resurssiluettelo!D80)","v":""},{"$f":"IF($J33=\"\",\"\",VLOOKUP($J33, Resurssiluettelo!$D$21:$X$40,Ohjeistus!K$98-1,FALSE))","v":""},{"$f":"IF($J33=\"\",\"\",VLOOKUP($J33, Resurssiluettelo!$D$21:$X$40,Ohjeistus!L$98-1,FALSE))","v":""},{"$f":"IF($J33=\"\",\"\",VLOOKUP($J33, Resurssiluettelo!$D$21:$X$40,Ohjeistus!M$98-1,FALSE))","v":""},{"$f":"IF($J33=\"\",\"\",VLOOKUP($J33, Resurssiluettelo!$D$21:$X$40,Ohjeistus!N$98-1,FALSE))","v":""},{"$f":"IF($J33=\"\",\"\",VLOOKUP($J33, Resurssiluettelo!$D$21:$X$40,Ohjeistus!O$98-1,FALSE))","v":""},{"$f":"IF($J33=\"\",\"\",VLOOKUP($J33, Resurssiluettelo!$D$21:$X$40,Ohjeistus!P$98-1,FALSE))","v":""},{"$f":"IF($J33=\"\",IF($I33=\"\",\"\",VLOOKUP($I33, Resurssiluettelo!$C$21:$X$40,Ohjeistus!Q$98,FALSE)),VLOOKUP($J33, Resurssiluettelo!$D$21:$X$40,Ohjeistus!Q$98-1,FALSE))","v":""},{"$f":"IF($J33=\"\",IF($I33=\"\",\"\",VLOOKUP($I33, Resurssiluettelo!$C$21:$X$40,Ohjeistus!R$98,FALSE)),VLOOKUP($J33, Resurssiluettelo!$D$21:$X$40,Ohjeistus!R$98-1,FALSE))","v":""},{"$f":"IF($J33=\"\",IF($I33=\"\",\"\",VLOOKUP($I33, Resurssiluettelo!$C$21:$X$40,Ohjeistus!S$98,FALSE)),VLOOKUP($J33, Resurssiluettelo!$D$21:$X$40,Ohjeistus!S$98-1,FALSE))","v":""},{"$f":"IF($J33=\"\",IF($I33=\"\",\"\",VLOOKUP($I33, Resurssiluettelo!$C$21:$X$40,Ohjeistus!T$98,FALSE)),VLOOKUP($J33, Resurssiluettelo!$D$21:$X$40,Ohjeistus!T$98-1,FALSE))","v":""},{"$f":"IF($J33=\"\",\"\",VLOOKUP($J33, Resurssiluettelo!$D$21:$X$40,Ohjeistus!U$98-1,FALSE))","v":""},{"$f":"IF($J33=\"\",\"\",VLOOKUP($J33, Resurssiluettelo!$D$21:$X$40,Ohjeistus!V$98-1,FALSE))","v":""},{"$f":"IF($J33=\"\",\"\",VLOOKUP($J33, Resurssiluettelo!$D$21:$X$40,Ohjeistus!W$98-1,FALSE))","v":""},{"$f":"IF($J33=\"\",\"\",VLOOKUP($J33, Resurssiluettelo!$D$21:$X$40,Ohjeistus!X$98-1,FALSE))","v":""},{"$f":"IF(Resurssiluettelo!E80=0,\"\",Resurssiluettelo!E80)","v":""},{"$f":"IF(Resurssiluettelo!F80=0,\"\",YEAR(Resurssiluettelo!F80)&IF(MONTH(Resurssiluettelo!F80)<10,\"0\",\"\")&MONTH(Resurssiluettelo!F80)&IF(DAY(Resurssiluettelo!F80)<10,\"0\",\"\")&DAY(Resurssiluettelo!F80))","v":""},{"$f":"IF(Resurssiluettelo!G80=0,\"\",Resurssiluettelo!G80)","v":""},{"$f":"IF(Resurssiluettelo!H80=0,\"\",Resurssiluettelo!H80)","v":""},{"$f":"IF(Resurssiluettelo!I80=0,\"\",Resurssiluettelo!I80)","v":""},{"$f":"IF(Resurssiluettelo!W80=0,\"\",Resurssiluettelo!W80)","v":""},{"$f":"IF(Resurssiluettelo!X80=0,\"\",Resurssiluettelo!X80)","v":""},{"$f":"IF(Resurssiluettelo!Y80=0,\"\",Resurssiluettelo!Y80)","v":""},{"$f":"IF(Resurssiluettelo!Z80=0,\"\",Resurssiluettelo!Z80)","v":""},{"$f":"IF(Resurssiluettelo!AA80=0,\"\",Resurssiluettelo!AA80)","v":""},{"$f":"IF(Resurssiluettelo!AB80=0,\"\",Resurssiluettelo!AB80)","v":""},{"$f":"IF(Resurssiluettelo!AC80=0,\"\",Resurssiluettelo!AC80)","v":""},{"$f":"IF(Resurssiluettelo!AD80=0,\"\",Resurssiluettelo!AD80)","v":""},{"$f":"IF(Resurssiluettelo!J80=0,\"\",Resurssiluettelo!J80)","v":""},{"$f":"IF(Resurssiluettelo!K80=0,\"\",Resurssiluettelo!K80)","v":""},{"$f":"IF(Resurssiluettelo!L80=0,\"\",Resurssiluettelo!L80)","v":""},{"$f":"IF(Resurssiluettelo!M80=0,\"\",Resurssiluettelo!M80)","v":""},{"$f":"IF(Resurssiluettelo!N80=0,\"\",Resurssiluettelo!N80)","v":""},{"$f":"IF(Resurssiluettelo!O80=0,\"\",Resurssiluettelo!O80)","v":""},{"$f":"IF(Resurssiluettelo!P80=0,\"\",Resurssiluettelo!P80)","v":""},{"$f":"IF(Resurssiluettelo!Q80=0,\"\",Resurssiluettelo!Q80)","v":""},{"$f":"IF(Resurssiluettelo!R80=0,\"\",Resurssiluettelo!R80)","v":""},{"$f":"IF(Resurssiluettelo!S80=0,\"\",Resurssiluettelo!S80)","v":""},{"$f":"IF(Resurssiluettelo!T80=0,\"\",Resurssiluettelo!T80)","v":""},{"$f":"IF(Resurssiluettelo!U80=0,\"\",Resurssiluettelo!U80)","v":""},{"$f":"IF(Resurssiluettelo!V80=0,\"\",Resurssiluettelo!V80)","v":""}]
[31,{"$f":"IF(Y34=\"\",\"\",Resurssiluettelo!$G$1)","v":""},{"$f":"IF(Y34=\"\",\"\",Resurssiluettelo!$H$14)","v":""},{"$f":"IF(Y34=\"\",\"\",Resurssiluettelo!$I$14)","v":""},{"$f":"IF(Y34=\"\",\"\",Resurssiluettelo!$J$14)","v":""},{"$f":"IF(Y34=\"\",\"\",Resurssiluettelo!$N$14)","v":""},{"$f":"IF(Y34=\"\",\"\",Resurssiluettelo!$O$14)","v":""},{"$f":"IF(Resurssiluettelo!B81=0,\"\",Resurssiluettelo!B81)","v":""},{"$f":"IF(Resurssiluettelo!C81=0,\"\",Resurssiluettelo!C81)","v":""},{"$f":"IF(Resurssiluettelo!D81=0,\"\",Resurssiluettelo!D81)","v":""},{"$f":"IF($J34=\"\",\"\",VLOOKUP($J34, Resurssiluettelo!$D$21:$X$40,Ohjeistus!K$98-1,FALSE))","v":""},{"$f":"IF($J34=\"\",\"\",VLOOKUP($J34, Resurssiluettelo!$D$21:$X$40,Ohjeistus!L$98-1,FALSE))","v":""},{"$f":"IF($J34=\"\",\"\",VLOOKUP($J34, Resurssiluettelo!$D$21:$X$40,Ohjeistus!M$98-1,FALSE))","v":""},{"$f":"IF($J34=\"\",\"\",VLOOKUP($J34, Resurssiluettelo!$D$21:$X$40,Ohjeistus!N$98-1,FALSE))","v":""},{"$f":"IF($J34=\"\",\"\",VLOOKUP($J34, Resurssiluettelo!$D$21:$X$40,Ohjeistus!O$98-1,FALSE))","v":""},{"$f":"IF($J34=\"\",\"\",VLOOKUP($J34, Resurssiluettelo!$D$21:$X$40,Ohjeistus!P$98-1,FALSE))","v":""},{"$f":"IF($J34=\"\",IF($I34=\"\",\"\",VLOOKUP($I34, Resurssiluettelo!$C$21:$X$40,Ohjeistus!Q$98,FALSE)),VLOOKUP($J34, Resurssiluettelo!$D$21:$X$40,Ohjeistus!Q$98-1,FALSE))","v":""},{"$f":"IF($J34=\"\",IF($I34=\"\",\"\",VLOOKUP($I34, Resurssiluettelo!$C$21:$X$40,Ohjeistus!R$98,FALSE)),VLOOKUP($J34, Resurssiluettelo!$D$21:$X$40,Ohjeistus!R$98-1,FALSE))","v":""},{"$f":"IF($J34=\"\",IF($I34=\"\",\"\",VLOOKUP($I34, Resurssiluettelo!$C$21:$X$40,Ohjeistus!S$98,FALSE)),VLOOKUP($J34, Resurssiluettelo!$D$21:$X$40,Ohjeistus!S$98-1,FALSE))","v":""},{"$f":"IF($J34=\"\",IF($I34=\"\",\"\",VLOOKUP($I34, Resurssiluettelo!$C$21:$X$40,Ohjeistus!T$98,FALSE)),VLOOKUP($J34, Resurssiluettelo!$D$21:$X$40,Ohjeistus!T$98-1,FALSE))","v":""},{"$f":"IF($J34=\"\",\"\",VLOOKUP($J34, Resurssiluettelo!$D$21:$X$40,Ohjeistus!U$98-1,FALSE))","v":""},{"$f":"IF($J34=\"\",\"\",VLOOKUP($J34, Resurssiluettelo!$D$21:$X$40,Ohjeistus!V$98-1,FALSE))","v":""},{"$f":"IF($J34=\"\",\"\",VLOOKUP($J34, Resurssiluettelo!$D$21:$X$40,Ohjeistus!W$98-1,FALSE))","v":""},{"$f":"IF($J34=\"\",\"\",VLOOKUP($J34, Resurssiluettelo!$D$21:$X$40,Ohjeistus!X$98-1,FALSE))","v":""},{"$f":"IF(Resurssiluettelo!E81=0,\"\",Resurssiluettelo!E81)","v":""},{"$f":"IF(Resurssiluettelo!F81=0,\"\",YEAR(Resurssiluettelo!F81)&IF(MONTH(Resurssiluettelo!F81)<10,\"0\",\"\")&MONTH(Resurssiluettelo!F81)&IF(DAY(Resurssiluettelo!F81)<10,\"0\",\"\")&DAY(Resurssiluettelo!F81))","v":""},{"$f":"IF(Resurssiluettelo!G81=0,\"\",Resurssiluettelo!G81)","v":""},{"$f":"IF(Resurssiluettelo!H81=0,\"\",Resurssiluettelo!H81)","v":""},{"$f":"IF(Resurssiluettelo!I81=0,\"\",Resurssiluettelo!I81)","v":""},{"$f":"IF(Resurssiluettelo!W81=0,\"\",Resurssiluettelo!W81)","v":""},{"$f":"IF(Resurssiluettelo!X81=0,\"\",Resurssiluettelo!X81)","v":""},{"$f":"IF(Resurssiluettelo!Y81=0,\"\",Resurssiluettelo!Y81)","v":""},{"$f":"IF(Resurssiluettelo!Z81=0,\"\",Resurssiluettelo!Z81)","v":""},{"$f":"IF(Resurssiluettelo!AA81=0,\"\",Resurssiluettelo!AA81)","v":""},{"$f":"IF(Resurssiluettelo!AB81=0,\"\",Resurssiluettelo!AB81)","v":""},{"$f":"IF(Resurssiluettelo!AC81=0,\"\",Resurssiluettelo!AC81)","v":""},{"$f":"IF(Resurssiluettelo!AD81=0,\"\",Resurssiluettelo!AD81)","v":""},{"$f":"IF(Resurssiluettelo!J81=0,\"\",Resurssiluettelo!J81)","v":""},{"$f":"IF(Resurssiluettelo!K81=0,\"\",Resurssiluettelo!K81)","v":""},{"$f":"IF(Resurssiluettelo!L81=0,\"\",Resurssiluettelo!L81)","v":""},{"$f":"IF(Resurssiluettelo!M81=0,\"\",Resurssiluettelo!M81)","v":""},{"$f":"IF(Resurssiluettelo!N81=0,\"\",Resurssiluettelo!N81)","v":""},{"$f":"IF(Resurssiluettelo!O81=0,\"\",Resurssiluettelo!O81)","v":""},{"$f":"IF(Resurssiluettelo!P81=0,\"\",Resurssiluettelo!P81)","v":""},{"$f":"IF(Resurssiluettelo!Q81=0,\"\",Resurssiluettelo!Q81)","v":""},{"$f":"IF(Resurssiluettelo!R81=0,\"\",Resurssiluettelo!R81)","v":""},{"$f":"IF(Resurssiluettelo!S81=0,\"\",Resurssiluettelo!S81)","v":""},{"$f":"IF(Resurssiluettelo!T81=0,\"\",Resurssiluettelo!T81)","v":""},{"$f":"IF(Resurssiluettelo!U81=0,\"\",Resurssiluettelo!U81)","v":""},{"$f":"IF(Resurssiluettelo!V81=0,\"\",Resurssiluettelo!V81)","v":""}]
[32,{"$f":"IF(Y35=\"\",\"\",Resurssiluettelo!$G$1)","v":""},{"$f":"IF(Y35=\"\",\"\",Resurssiluettelo!$H$14)","v":""},{"$f":"IF(Y35=\"\",\"\",Resurssiluettelo!$I$14)","v":""},{"$f":"IF(Y35=\"\",\"\",Resurssiluettelo!$J$14)","v":""},{"$f":"IF(Y35=\"\",\"\",Resurssiluettelo!$N$14)","v":""},{"$f":"IF(Y35=\"\",\"\",Resurssiluettelo!$O$14)","v":""},{"$f":"IF(Resurssiluettelo!B82=0,\"\",Resurssiluettelo!B82)","v":""},{"$f":"IF(Resurssiluettelo!C82=0,\"\",Resurssiluettelo!C82)","v":""},{"$f":"IF(Resurssiluettelo!D82=0,\"\",Resurssiluettelo!D82)","v":""},{"$f":"IF($J35=\"\",\"\",VLOOKUP($J35, Resurssiluettelo!$D$21:$X$40,Ohjeistus!K$98-1,FALSE))","v":""},{"$f":"IF($J35=\"\",\"\",VLOOKUP($J35, Resurssiluettelo!$D$21:$X$40,Ohjeistus!L$98-1,FALSE))","v":""},{"$f":"IF($J35=\"\",\"\",VLOOKUP($J35, Resurssiluettelo!$D$21:$X$40,Ohjeistus!M$98-1,FALSE))","v":""},{"$f":"IF($J35=\"\",\"\",VLOOKUP($J35, Resurssiluettelo!$D$21:$X$40,Ohjeistus!N$98-1,FALSE))","v":""},{"$f":"IF($J35=\"\",\"\",VLOOKUP($J35, Resurssiluettelo!$D$21:$X$40,Ohjeistus!O$98-1,FALSE))","v":""},{"$f":"IF($J35=\"\",\"\",VLOOKUP($J35, Resurssiluettelo!$D$21:$X$40,Ohjeistus!P$98-1,FALSE))","v":""},{"$f":"IF($J35=\"\",IF($I35=\"\",\"\",VLOOKUP($I35, Resurssiluettelo!$C$21:$X$40,Ohjeistus!Q$98,FALSE)),VLOOKUP($J35, Resurssiluettelo!$D$21:$X$40,Ohjeistus!Q$98-1,FALSE))","v":""},{"$f":"IF($J35=\"\",IF($I35=\"\",\"\",VLOOKUP($I35, Resurssiluettelo!$C$21:$X$40,Ohjeistus!R$98,FALSE)),VLOOKUP($J35, Resurssiluettelo!$D$21:$X$40,Ohjeistus!R$98-1,FALSE))","v":""},{"$f":"IF($J35=\"\",IF($I35=\"\",\"\",VLOOKUP($I35, Resurssiluettelo!$C$21:$X$40,Ohjeistus!S$98,FALSE)),VLOOKUP($J35, Resurssiluettelo!$D$21:$X$40,Ohjeistus!S$98-1,FALSE))","v":""},{"$f":"IF($J35=\"\",IF($I35=\"\",\"\",VLOOKUP($I35, Resurssiluettelo!$C$21:$X$40,Ohjeistus!T$98,FALSE)),VLOOKUP($J35, Resurssiluettelo!$D$21:$X$40,Ohjeistus!T$98-1,FALSE))","v":""},{"$f":"IF($J35=\"\",\"\",VLOOKUP($J35, Resurssiluettelo!$D$21:$X$40,Ohjeistus!U$98-1,FALSE))","v":""},{"$f":"IF($J35=\"\",\"\",VLOOKUP($J35, Resurssiluettelo!$D$21:$X$40,Ohjeistus!V$98-1,FALSE))","v":""},{"$f":"IF($J35=\"\",\"\",VLOOKUP($J35, Resurssiluettelo!$D$21:$X$40,Ohjeistus!W$98-1,FALSE))","v":""},{"$f":"IF($J35=\"\",\"\",VLOOKUP($J35, Resurssiluettelo!$D$21:$X$40,Ohjeistus!X$98-1,FALSE))","v":""},{"$f":"IF(Resurssiluettelo!E82=0,\"\",Resurssiluettelo!E82)","v":""},{"$f":"IF(Resurssiluettelo!F82=0,\"\",YEAR(Resurssiluettelo!F82)&IF(MONTH(Resurssiluettelo!F82)<10,\"0\",\"\")&MONTH(Resurssiluettelo!F82)&IF(DAY(Resurssiluettelo!F82)<10,\"0\",\"\")&DAY(Resurssiluettelo!F82))","v":""},{"$f":"IF(Resurssiluettelo!G82=0,\"\",Resurssiluettelo!G82)","v":""},{"$f":"IF(Resurssiluettelo!H82=0,\"\",Resurssiluettelo!H82)","v":""},{"$f":"IF(Resurssiluettelo!I82=0,\"\",Resurssiluettelo!I82)","v":""},{"$f":"IF(Resurssiluettelo!W82=0,\"\",Resurssiluettelo!W82)","v":""},{"$f":"IF(Resurssiluettelo!X82=0,\"\",Resurssiluettelo!X82)","v":""},{"$f":"IF(Resurssiluettelo!Y82=0,\"\",Resurssiluettelo!Y82)","v":""},{"$f":"IF(Resurssiluettelo!Z82=0,\"\",Resurssiluettelo!Z82)","v":""},{"$f":"IF(Resurssiluettelo!AA82=0,\"\",Resurssiluettelo!AA82)","v":""},{"$f":"IF(Resurssiluettelo!AB82=0,\"\",Resurssiluettelo!AB82)","v":""},{"$f":"IF(Resurssiluettelo!AC82=0,\"\",Resurssiluettelo!AC82)","v":""},{"$f":"IF(Resurssiluettelo!AD82=0,\"\",Resurssiluettelo!AD82)","v":""},{"$f":"IF(Resurssiluettelo!J82=0,\"\",Resurssiluettelo!J82)","v":""},{"$f":"IF(Resurssiluettelo!K82=0,\"\",Resurssiluettelo!K82)","v":""},{"$f":"IF(Resurssiluettelo!L82=0,\"\",Resurssiluettelo!L82)","v":""},{"$f":"IF(Resurssiluettelo!M82=0,\"\",Resurssiluettelo!M82)","v":""},{"$f":"IF(Resurssiluettelo!N82=0,\"\",Resurssiluettelo!N82)","v":""},{"$f":"IF(Resurssiluettelo!O82=0,\"\",Resurssiluettelo!O82)","v":""},{"$f":"IF(Resurssiluettelo!P82=0,\"\",Resurssiluettelo!P82)","v":""},{"$f":"IF(Resurssiluettelo!Q82=0,\"\",Resurssiluettelo!Q82)","v":""},{"$f":"IF(Resurssiluettelo!R82=0,\"\",Resurssiluettelo!R82)","v":""},{"$f":"IF(Resurssiluettelo!S82=0,\"\",Resurssiluettelo!S82)","v":""},{"$f":"IF(Resurssiluettelo!T82=0,\"\",Resurssiluettelo!T82)","v":""},{"$f":"IF(Resurssiluettelo!U82=0,\"\",Resurssiluettelo!U82)","v":""},{"$f":"IF(Resurssiluettelo!V82=0,\"\",Resurssiluettelo!V82)","v":""}]
[33,{"$f":"IF(Y36=\"\",\"\",Resurssiluettelo!$G$1)","v":""},{"$f":"IF(Y36=\"\",\"\",Resurssiluettelo!$H$14)","v":""},{"$f":"IF(Y36=\"\",\"\",Resurssiluettelo!$I$14)","v":""},{"$f":"IF(Y36=\"\",\"\",Resurssiluettelo!$J$14)","v":""},{"$f":"IF(Y36=\"\",\"\",Resurssiluettelo!$N$14)","v":""},{"$f":"IF(Y36=\"\",\"\",Resurssiluettelo!$O$14)","v":""},{"$f":"IF(Resurssiluettelo!B83=0,\"\",Resurssiluettelo!B83)","v":""},{"$f":"IF(Resurssiluettelo!C83=0,\"\",Resurssiluettelo!C83)","v":""},{"$f":"IF(Resurssiluettelo!D83=0,\"\",Resurssiluettelo!D83)","v":""},{"$f":"IF($J36=\"\",\"\",VLOOKUP($J36, Resurssiluettelo!$D$21:$X$40,Ohjeistus!K$98-1,FALSE))","v":""},{"$f":"IF($J36=\"\",\"\",VLOOKUP($J36, Resurssiluettelo!$D$21:$X$40,Ohjeistus!L$98-1,FALSE))","v":""},{"$f":"IF($J36=\"\",\"\",VLOOKUP($J36, Resurssiluettelo!$D$21:$X$40,Ohjeistus!M$98-1,FALSE))","v":""},{"$f":"IF($J36=\"\",\"\",VLOOKUP($J36, Resurssiluettelo!$D$21:$X$40,Ohjeistus!N$98-1,FALSE))","v":""},{"$f":"IF($J36=\"\",\"\",VLOOKUP($J36, Resurssiluettelo!$D$21:$X$40,Ohjeistus!O$98-1,FALSE))","v":""},{"$f":"IF($J36=\"\",\"\",VLOOKUP($J36, Resurssiluettelo!$D$21:$X$40,Ohjeistus!P$98-1,FALSE))","v":""},{"$f":"IF($J36=\"\",IF($I36=\"\",\"\",VLOOKUP($I36, Resurssiluettelo!$C$21:$X$40,Ohjeistus!Q$98,FALSE)),VLOOKUP($J36, Resurssiluettelo!$D$21:$X$40,Ohjeistus!Q$98-1,FALSE))","v":""},{"$f":"IF($J36=\"\",IF($I36=\"\",\"\",VLOOKUP($I36, Resurssiluettelo!$C$21:$X$40,Ohjeistus!R$98,FALSE)),VLOOKUP($J36, Resurssiluettelo!$D$21:$X$40,Ohjeistus!R$98-1,FALSE))","v":""},{"$f":"IF($J36=\"\",IF($I36=\"\",\"\",VLOOKUP($I36, Resurssiluettelo!$C$21:$X$40,Ohjeistus!S$98,FALSE)),VLOOKUP($J36, Resurssiluettelo!$D$21:$X$40,Ohjeistus!S$98-1,FALSE))","v":""},{"$f":"IF($J36=\"\",IF($I36=\"\",\"\",VLOOKUP($I36, Resurssiluettelo!$C$21:$X$40,Ohjeistus!T$98,FALSE)),VLOOKUP($J36, Resurssiluettelo!$D$21:$X$40,Ohjeistus!T$98-1,FALSE))","v":""},{"$f":"IF($J36=\"\",\"\",VLOOKUP($J36, Resurssiluettelo!$D$21:$X$40,Ohjeistus!U$98-1,FALSE))","v":""},{"$f":"IF($J36=\"\",\"\",VLOOKUP($J36, Resurssiluettelo!$D$21:$X$40,Ohjeistus!V$98-1,FALSE))","v":""},{"$f":"IF($J36=\"\",\"\",VLOOKUP($J36, Resurssiluettelo!$D$21:$X$40,Ohjeistus!W$98-1,FALSE))","v":""},{"$f":"IF($J36=\"\",\"\",VLOOKUP($J36, Resurssiluettelo!$D$21:$X$40,Ohjeistus!X$98-1,FALSE))","v":""},{"$f":"IF(Resurssiluettelo!E83=0,\"\",Resurssiluettelo!E83)","v":""},{"$f":"IF(Resurssiluettelo!F83=0,\"\",YEAR(Resurssiluettelo!F83)&IF(MONTH(Resurssiluettelo!F83)<10,\"0\",\"\")&MONTH(Resurssiluettelo!F83)&IF(DAY(Resurssiluettelo!F83)<10,\"0\",\"\")&DAY(Resurssiluettelo!F83))","v":""},{"$f":"IF(Resurssiluettelo!G83=0,\"\",Resurssiluettelo!G83)","v":""},{"$f":"IF(Resurssiluettelo!H83=0,\"\",Resurssiluettelo!H83)","v":""},{"$f":"IF(Resurssiluettelo!I83=0,\"\",Resurssiluettelo!I83)","v":""},{"$f":"IF(Resurssiluettelo!W83=0,\"\",Resurssiluettelo!W83)","v":""},{"$f":"IF(Resurssiluettelo!X83=0,\"\",Resurssiluettelo!X83)","v":""},{"$f":"IF(Resurssiluettelo!Y83=0,\"\",Resurssiluettelo!Y83)","v":""},{"$f":"IF(Resurssiluettelo!Z83=0,\"\",Resurssiluettelo!Z83)","v":""},{"$f":"IF(Resurssiluettelo!AA83=0,\"\",Resurssiluettelo!AA83)","v":""},{"$f":"IF(Resurssiluettelo!AB83=0,\"\",Resurssiluettelo!AB83)","v":""},{"$f":"IF(Resurssiluettelo!AC83=0,\"\",Resurssiluettelo!AC83)","v":""},{"$f":"IF(Resurssiluettelo!AD83=0,\"\",Resurssiluettelo!AD83)","v":""},{"$f":"IF(Resurssiluettelo!J83=0,\"\",Resurssiluettelo!J83)","v":""},{"$f":"IF(Resurssiluettelo!K83=0,\"\",Resurssiluettelo!K83)","v":""},{"$f":"IF(Resurssiluettelo!L83=0,\"\",Resurssiluettelo!L83)","v":""},{"$f":"IF(Resurssiluettelo!M83=0,\"\",Resurssiluettelo!M83)","v":""},{"$f":"IF(Resurssiluettelo!N83=0,\"\",Resurssiluettelo!N83)","v":""},{"$f":"IF(Resurssiluettelo!O83=0,\"\",Resurssiluettelo!O83)","v":""},{"$f":"IF(Resurssiluettelo!P83=0,\"\",Resurssiluettelo!P83)","v":""},{"$f":"IF(Resurssiluettelo!Q83=0,\"\",Resurssiluettelo!Q83)","v":""},{"$f":"IF(Resurssiluettelo!R83=0,\"\",Resurssiluettelo!R83)","v":""},{"$f":"IF(Resurssiluettelo!S83=0,\"\",Resurssiluettelo!S83)","v":""},{"$f":"IF(Resurssiluettelo!T83=0,\"\",Resurssiluettelo!T83)","v":""},{"$f":"IF(Resurssiluettelo!U83=0,\"\",Resurssiluettelo!U83)","v":""},{"$f":"IF(Resurssiluettelo!V83=0,\"\",Resurssiluettelo!V83)","v":""}]
[34,{"$f":"IF(Y37=\"\",\"\",Resurssiluettelo!$G$1)","v":""},{"$f":"IF(Y37=\"\",\"\",Resurssiluettelo!$H$14)","v":""},{"$f":"IF(Y37=\"\",\"\",Resurssiluettelo!$I$14)","v":""},{"$f":"IF(Y37=\"\",\"\",Resurssiluettelo!$J$14)","v":""},{"$f":"IF(Y37=\"\",\"\",Resurssiluettelo!$N$14)","v":""},{"$f":"IF(Y37=\"\",\"\",Resurssiluettelo!$O$14)","v":""},{"$f":"IF(Resurssiluettelo!B84=0,\"\",Resurssiluettelo!B84)","v":""},{"$f":"IF(Resurssiluettelo!C84=0,\"\",Resurssiluettelo!C84)","v":""},{"$f":"IF(Resurssiluettelo!D84=0,\"\",Resurssiluettelo!D84)","v":""},{"$f":"IF($J37=\"\",\"\",VLOOKUP($J37, Resurssiluettelo!$D$21:$X$40,Ohjeistus!K$98-1,FALSE))","v":""},{"$f":"IF($J37=\"\",\"\",VLOOKUP($J37, Resurssiluettelo!$D$21:$X$40,Ohjeistus!L$98-1,FALSE))","v":""},{"$f":"IF($J37=\"\",\"\",VLOOKUP($J37, Resurssiluettelo!$D$21:$X$40,Ohjeistus!M$98-1,FALSE))","v":""},{"$f":"IF($J37=\"\",\"\",VLOOKUP($J37, Resurssiluettelo!$D$21:$X$40,Ohjeistus!N$98-1,FALSE))","v":""},{"$f":"IF($J37=\"\",\"\",VLOOKUP($J37, Resurssiluettelo!$D$21:$X$40,Ohjeistus!O$98-1,FALSE))","v":""},{"$f":"IF($J37=\"\",\"\",VLOOKUP($J37, Resurssiluettelo!$D$21:$X$40,Ohjeistus!P$98-1,FALSE))","v":""},{"$f":"IF($J37=\"\",IF($I37=\"\",\"\",VLOOKUP($I37, Resurssiluettelo!$C$21:$X$40,Ohjeistus!Q$98,FALSE)),VLOOKUP($J37, Resurssiluettelo!$D$21:$X$40,Ohjeistus!Q$98-1,FALSE))","v":""},{"$f":"IF($J37=\"\",IF($I37=\"\",\"\",VLOOKUP($I37, Resurssiluettelo!$C$21:$X$40,Ohjeistus!R$98,FALSE)),VLOOKUP($J37, Resurssiluettelo!$D$21:$X$40,Ohjeistus!R$98-1,FALSE))","v":""},{"$f":"IF($J37=\"\",IF($I37=\"\",\"\",VLOOKUP($I37, Resurssiluettelo!$C$21:$X$40,Ohjeistus!S$98,FALSE)),VLOOKUP($J37, Resurssiluettelo!$D$21:$X$40,Ohjeistus!S$98-1,FALSE))","v":""},{"$f":"IF($J37=\"\",IF($I37=\"\",\"\",VLOOKUP($I37, Resurssiluettelo!$C$21:$X$40,Ohjeistus!T$98,FALSE)),VLOOKUP($J37, Resurssiluettelo!$D$21:$X$40,Ohjeistus!T$98-1,FALSE))","v":""},{"$f":"IF($J37=\"\",\"\",VLOOKUP($J37, Resurssiluettelo!$D$21:$X$40,Ohjeistus!U$98-1,FALSE))","v":""},{"$f":"IF($J37=\"\",\"\",VLOOKUP($J37, Resurssiluettelo!$D$21:$X$40,Ohjeistus!V$98-1,FALSE))","v":""},{"$f":"IF($J37=\"\",\"\",VLOOKUP($J37, Resurssiluettelo!$D$21:$X$40,Ohjeistus!W$98-1,FALSE))","v":""},{"$f":"IF($J37=\"\",\"\",VLOOKUP($J37, Resurssiluettelo!$D$21:$X$40,Ohjeistus!X$98-1,FALSE))","v":""},{"$f":"IF(Resurssiluettelo!E84=0,\"\",Resurssiluettelo!E84)","v":""},{"$f":"IF(Resurssiluettelo!F84=0,\"\",YEAR(Resurssiluettelo!F84)&IF(MONTH(Resurssiluettelo!F84)<10,\"0\",\"\")&MONTH(Resurssiluettelo!F84)&IF(DAY(Resurssiluettelo!F84)<10,\"0\",\"\")&DAY(Resurssiluettelo!F84))","v":""},{"$f":"IF(Resurssiluettelo!G84=0,\"\",Resurssiluettelo!G84)","v":""},{"$f":"IF(Resurssiluettelo!H84=0,\"\",Resurssiluettelo!H84)","v":""},{"$f":"IF(Resurssiluettelo!I84=0,\"\",Resurssiluettelo!I84)","v":""},{"$f":"IF(Resurssiluettelo!W84=0,\"\",Resurssiluettelo!W84)","v":""},{"$f":"IF(Resurssiluettelo!X84=0,\"\",Resurssiluettelo!X84)","v":""},{"$f":"IF(Resurssiluettelo!Y84=0,\"\",Resurssiluettelo!Y84)","v":""},{"$f":"IF(Resurssiluettelo!Z84=0,\"\",Resurssiluettelo!Z84)","v":""},{"$f":"IF(Resurssiluettelo!AA84=0,\"\",Resurssiluettelo!AA84)","v":""},{"$f":"IF(Resurssiluettelo!AB84=0,\"\",Resurssiluettelo!AB84)","v":""},{"$f":"IF(Resurssiluettelo!AC84=0,\"\",Resurssiluettelo!AC84)","v":""},{"$f":"IF(Resurssiluettelo!AD84=0,\"\",Resurssiluettelo!AD84)","v":""},{"$f":"IF(Resurssiluettelo!J84=0,\"\",Resurssiluettelo!J84)","v":""},{"$f":"IF(Resurssiluettelo!K84=0,\"\",Resurssiluettelo!K84)","v":""},{"$f":"IF(Resurssiluettelo!L84=0,\"\",Resurssiluettelo!L84)","v":""},{"$f":"IF(Resurssiluettelo!M84=0,\"\",Resurssiluettelo!M84)","v":""},{"$f":"IF(Resurssiluettelo!N84=0,\"\",Resurssiluettelo!N84)","v":""},{"$f":"IF(Resurssiluettelo!O84=0,\"\",Resurssiluettelo!O84)","v":""},{"$f":"IF(Resurssiluettelo!P84=0,\"\",Resurssiluettelo!P84)","v":""},{"$f":"IF(Resurssiluettelo!Q84=0,\"\",Resurssiluettelo!Q84)","v":""},{"$f":"IF(Resurssiluettelo!R84=0,\"\",Resurssiluettelo!R84)","v":""},{"$f":"IF(Resurssiluettelo!S84=0,\"\",Resurssiluettelo!S84)","v":""},{"$f":"IF(Resurssiluettelo!T84=0,\"\",Resurssiluettelo!T84)","v":""},{"$f":"IF(Resurssiluettelo!U84=0,\"\",Resurssiluettelo!U84)","v":""},{"$f":"IF(Resurssiluettelo!V84=0,\"\",Resurssiluettelo!V84)","v":""}]
[35,{"$f":"IF(Y38=\"\",\"\",Resurssiluettelo!$G$1)","v":""},{"$f":"IF(Y38=\"\",\"\",Resurssiluettelo!$H$14)","v":""},{"$f":"IF(Y38=\"\",\"\",Resurssiluettelo!$I$14)","v":""},{"$f":"IF(Y38=\"\",\"\",Resurssiluettelo!$J$14)","v":""},{"$f":"IF(Y38=\"\",\"\",Resurssiluettelo!$N$14)","v":""},{"$f":"IF(Y38=\"\",\"\",Resurssiluettelo!$O$14)","v":""},{"$f":"IF(Resurssiluettelo!B85=0,\"\",Resurssiluettelo!B85)","v":""},{"$f":"IF(Resurssiluettelo!C85=0,\"\",Resurssiluettelo!C85)","v":""},{"$f":"IF(Resurssiluettelo!D85=0,\"\",Resurssiluettelo!D85)","v":""},{"$f":"IF($J38=\"\",\"\",VLOOKUP($J38, Resurssiluettelo!$D$21:$X$40,Ohjeistus!K$98-1,FALSE))","v":""},{"$f":"IF($J38=\"\",\"\",VLOOKUP($J38, Resurssiluettelo!$D$21:$X$40,Ohjeistus!L$98-1,FALSE))","v":""},{"$f":"IF($J38=\"\",\"\",VLOOKUP($J38, Resurssiluettelo!$D$21:$X$40,Ohjeistus!M$98-1,FALSE))","v":""},{"$f":"IF($J38=\"\",\"\",VLOOKUP($J38, Resurssiluettelo!$D$21:$X$40,Ohjeistus!N$98-1,FALSE))","v":""},{"$f":"IF($J38=\"\",\"\",VLOOKUP($J38, Resurssiluettelo!$D$21:$X$40,Ohjeistus!O$98-1,FALSE))","v":""},{"$f":"IF($J38=\"\",\"\",VLOOKUP($J38, Resurssiluettelo!$D$21:$X$40,Ohjeistus!P$98-1,FALSE))","v":""},{"$f":"IF($J38=\"\",IF($I38=\"\",\"\",VLOOKUP($I38, Resurssiluettelo!$C$21:$X$40,Ohjeistus!Q$98,FALSE)),VLOOKUP($J38, Resurssiluettelo!$D$21:$X$40,Ohjeistus!Q$98-1,FALSE))","v":""},{"$f":"IF($J38=\"\",IF($I38=\"\",\"\",VLOOKUP($I38, Resurssiluettelo!$C$21:$X$40,Ohjeistus!R$98,FALSE)),VLOOKUP($J38, Resurssiluettelo!$D$21:$X$40,Ohjeistus!R$98-1,FALSE))","v":""},{"$f":"IF($J38=\"\",IF($I38=\"\",\"\",VLOOKUP($I38, Resurssiluettelo!$C$21:$X$40,Ohjeistus!S$98,FALSE)),VLOOKUP($J38, Resurssiluettelo!$D$21:$X$40,Ohjeistus!S$98-1,FALSE))","v":""},{"$f":"IF($J38=\"\",IF($I38=\"\",\"\",VLOOKUP($I38, Resurssiluettelo!$C$21:$X$40,Ohjeistus!T$98,FALSE)),VLOOKUP($J38, Resurssiluettelo!$D$21:$X$40,Ohjeistus!T$98-1,FALSE))","v":""},{"$f":"IF($J38=\"\",\"\",VLOOKUP($J38, Resurssiluettelo!$D$21:$X$40,Ohjeistus!U$98-1,FALSE))","v":""},{"$f":"IF($J38=\"\",\"\",VLOOKUP($J38, Resurssiluettelo!$D$21:$X$40,Ohjeistus!V$98-1,FALSE))","v":""},{"$f":"IF($J38=\"\",\"\",VLOOKUP($J38, Resurssiluettelo!$D$21:$X$40,Ohjeistus!W$98-1,FALSE))","v":""},{"$f":"IF($J38=\"\",\"\",VLOOKUP($J38, Resurssiluettelo!$D$21:$X$40,Ohjeistus!X$98-1,FALSE))","v":""},{"$f":"IF(Resurssiluettelo!E85=0,\"\",Resurssiluettelo!E85)","v":""},{"$f":"IF(Resurssiluettelo!F85=0,\"\",YEAR(Resurssiluettelo!F85)&IF(MONTH(Resurssiluettelo!F85)<10,\"0\",\"\")&MONTH(Resurssiluettelo!F85)&IF(DAY(Resurssiluettelo!F85)<10,\"0\",\"\")&DAY(Resurssiluettelo!F85))","v":""},{"$f":"IF(Resurssiluettelo!G85=0,\"\",Resurssiluettelo!G85)","v":""},{"$f":"IF(Resurssiluettelo!H85=0,\"\",Resurssiluettelo!H85)","v":""},{"$f":"IF(Resurssiluettelo!I85=0,\"\",Resurssiluettelo!I85)","v":""},{"$f":"IF(Resurssiluettelo!W85=0,\"\",Resurssiluettelo!W85)","v":""},{"$f":"IF(Resurssiluettelo!X85=0,\"\",Resurssiluettelo!X85)","v":""},{"$f":"IF(Resurssiluettelo!Y85=0,\"\",Resurssiluettelo!Y85)","v":""},{"$f":"IF(Resurssiluettelo!Z85=0,\"\",Resurssiluettelo!Z85)","v":""},{"$f":"IF(Resurssiluettelo!AA85=0,\"\",Resurssiluettelo!AA85)","v":""},{"$f":"IF(Resurssiluettelo!AB85=0,\"\",Resurssiluettelo!AB85)","v":""},{"$f":"IF(Resurssiluettelo!AC85=0,\"\",Resurssiluettelo!AC85)","v":""},{"$f":"IF(Resurssiluettelo!AD85=0,\"\",Resurssiluettelo!AD85)","v":""},{"$f":"IF(Resurssiluettelo!J85=0,\"\",Resurssiluettelo!J85)","v":""},{"$f":"IF(Resurssiluettelo!K85=0,\"\",Resurssiluettelo!K85)","v":""},{"$f":"IF(Resurssiluettelo!L85=0,\"\",Resurssiluettelo!L85)","v":""},{"$f":"IF(Resurssiluettelo!M85=0,\"\",Resurssiluettelo!M85)","v":""},{"$f":"IF(Resurssiluettelo!N85=0,\"\",Resurssiluettelo!N85)","v":""},{"$f":"IF(Resurssiluettelo!O85=0,\"\",Resurssiluettelo!O85)","v":""},{"$f":"IF(Resurssiluettelo!P85=0,\"\",Resurssiluettelo!P85)","v":""},{"$f":"IF(Resurssiluettelo!Q85=0,\"\",Resurssiluettelo!Q85)","v":""},{"$f":"IF(Resurssiluettelo!R85=0,\"\",Resurssiluettelo!R85)","v":""},{"$f":"IF(Resurssiluettelo!S85=0,\"\",Resurssiluettelo!S85)","v":""},{"$f":"IF(Resurssiluettelo!T85=0,\"\",Resurssiluettelo!T85)","v":""},{"$f":"IF(Resurssiluettelo!U85=0,\"\",Resurssiluettelo!U85)","v":""},{"$f":"IF(Resurssiluettelo!V85=0,\"\",Resurssiluettelo!V85)","v":""}]
[36,{"$f":"IF(Y39=\"\",\"\",Resurssiluettelo!$G$1)","v":""},{"$f":"IF(Y39=\"\",\"\",Resurssiluettelo!$H$14)","v":""},{"$f":"IF(Y39=\"\",\"\",Resurssiluettelo!$I$14)","v":""},{"$f":"IF(Y39=\"\",\"\",Resurssiluettelo!$J$14)","v":""},{"$f":"IF(Y39=\"\",\"\",Resurssiluettelo!$N$14)","v":""},{"$f":"IF(Y39=\"\",\"\",Resurssiluettelo!$O$14)","v":""},{"$f":"IF(Resurssiluettelo!B86=0,\"\",Resurssiluettelo!B86)","v":""},{"$f":"IF(Resurssiluettelo!C86=0,\"\",Resurssiluettelo!C86)","v":""},{"$f":"IF(Resurssiluettelo!D86=0,\"\",Resurssiluettelo!D86)","v":""},{"$f":"IF($J39=\"\",\"\",VLOOKUP($J39, Resurssiluettelo!$D$21:$X$40,Ohjeistus!K$98-1,FALSE))","v":""},{"$f":"IF($J39=\"\",\"\",VLOOKUP($J39, Resurssiluettelo!$D$21:$X$40,Ohjeistus!L$98-1,FALSE))","v":""},{"$f":"IF($J39=\"\",\"\",VLOOKUP($J39, Resurssiluettelo!$D$21:$X$40,Ohjeistus!M$98-1,FALSE))","v":""},{"$f":"IF($J39=\"\",\"\",VLOOKUP($J39, Resurssiluettelo!$D$21:$X$40,Ohjeistus!N$98-1,FALSE))","v":""},{"$f":"IF($J39=\"\",\"\",VLOOKUP($J39, Resurssiluettelo!$D$21:$X$40,Ohjeistus!O$98-1,FALSE))","v":""},{"$f":"IF($J39=\"\",\"\",VLOOKUP($J39, Resurssiluettelo!$D$21:$X$40,Ohjeistus!P$98-1,FALSE))","v":""},{"$f":"IF($J39=\"\",IF($I39=\"\",\"\",VLOOKUP($I39, Resurssiluettelo!$C$21:$X$40,Ohjeistus!Q$98,FALSE)),VLOOKUP($J39, Resurssiluettelo!$D$21:$X$40,Ohjeistus!Q$98-1,FALSE))","v":""},{"$f":"IF($J39=\"\",IF($I39=\"\",\"\",VLOOKUP($I39, Resurssiluettelo!$C$21:$X$40,Ohjeistus!R$98,FALSE)),VLOOKUP($J39, Resurssiluettelo!$D$21:$X$40,Ohjeistus!R$98-1,FALSE))","v":""},{"$f":"IF($J39=\"\",IF($I39=\"\",\"\",VLOOKUP($I39, Resurssiluettelo!$C$21:$X$40,Ohjeistus!S$98,FALSE)),VLOOKUP($J39, Resurssiluettelo!$D$21:$X$40,Ohjeistus!S$98-1,FALSE))","v":""},{"$f":"IF($J39=\"\",IF($I39=\"\",\"\",VLOOKUP($I39, Resurssiluettelo!$C$21:$X$40,Ohjeistus!T$98,FALSE)),VLOOKUP($J39, Resurssiluettelo!$D$21:$X$40,Ohjeistus!T$98-1,FALSE))","v":""},{"$f":"IF($J39=\"\",\"\",VLOOKUP($J39, Resurssiluettelo!$D$21:$X$40,Ohjeistus!U$98-1,FALSE))","v":""},{"$f":"IF($J39=\"\",\"\",VLOOKUP($J39, Resurssiluettelo!$D$21:$X$40,Ohjeistus!V$98-1,FALSE))","v":""},{"$f":"IF($J39=\"\",\"\",VLOOKUP($J39, Resurssiluettelo!$D$21:$X$40,Ohjeistus!W$98-1,FALSE))","v":""},{"$f":"IF($J39=\"\",\"\",VLOOKUP($J39, Resurssiluettelo!$D$21:$X$40,Ohjeistus!X$98-1,FALSE))","v":""},{"$f":"IF(Resurssiluettelo!E86=0,\"\",Resurssiluettelo!E86)","v":""},{"$f":"IF(Resurssiluettelo!F86=0,\"\",YEAR(Resurssiluettelo!F86)&IF(MONTH(Resurssiluettelo!F86)<10,\"0\",\"\")&MONTH(Resurssiluettelo!F86)&IF(DAY(Resurssiluettelo!F86)<10,\"0\",\"\")&DAY(Resurssiluettelo!F86))","v":""},{"$f":"IF(Resurssiluettelo!G86=0,\"\",Resurssiluettelo!G86)","v":""},{"$f":"IF(Resurssiluettelo!H86=0,\"\",Resurssiluettelo!H86)","v":""},{"$f":"IF(Resurssiluettelo!I86=0,\"\",Resurssiluettelo!I86)","v":""},{"$f":"IF(Resurssiluettelo!W86=0,\"\",Resurssiluettelo!W86)","v":""},{"$f":"IF(Resurssiluettelo!X86=0,\"\",Resurssiluettelo!X86)","v":""},{"$f":"IF(Resurssiluettelo!Y86=0,\"\",Resurssiluettelo!Y86)","v":""},{"$f":"IF(Resurssiluettelo!Z86=0,\"\",Resurssiluettelo!Z86)","v":""},{"$f":"IF(Resurssiluettelo!AA86=0,\"\",Resurssiluettelo!AA86)","v":""},{"$f":"IF(Resurssiluettelo!AB86=0,\"\",Resurssiluettelo!AB86)","v":""},{"$f":"IF(Resurssiluettelo!AC86=0,\"\",Resurssiluettelo!AC86)","v":""},{"$f":"IF(Resurssiluettelo!AD86=0,\"\",Resurssiluettelo!AD86)","v":""},{"$f":"IF(Resurssiluettelo!J86=0,\"\",Resurssiluettelo!J86)","v":""},{"$f":"IF(Resurssiluettelo!K86=0,\"\",Resurssiluettelo!K86)","v":""},{"$f":"IF(Resurssiluettelo!L86=0,\"\",Resurssiluettelo!L86)","v":""},{"$f":"IF(Resurssiluettelo!M86=0,\"\",Resurssiluettelo!M86)","v":""},{"$f":"IF(Resurssiluettelo!N86=0,\"\",Resurssiluettelo!N86)","v":""},{"$f":"IF(Resurssiluettelo!O86=0,\"\",Resurssiluettelo!O86)","v":""},{"$f":"IF(Resurssiluettelo!P86=0,\"\",Resurssiluettelo!P86)","v":""},{"$f":"IF(Resurssiluettelo!Q86=0,\"\",Resurssiluettelo!Q86)","v":""},{"$f":"IF(Resurssiluettelo!R86=0,\"\",Resurssiluettelo!R86)","v":""},{"$f":"IF(Resurssiluettelo!S86=0,\"\",Resurssiluettelo!S86)","v":""},{"$f":"IF(Resurssiluettelo!T86=0,\"\",Resurssiluettelo!T86)","v":""},{"$f":"IF(Resurssiluettelo!U86=0,\"\",Resurssiluettelo!U86)","v":""},{"$f":"IF(Resurssiluettelo!V86=0,\"\",Resurssiluettelo!V86)","v":""}]
[37,{"$f":"IF(Y40=\"\",\"\",Resurssiluettelo!$G$1)","v":""},{"$f":"IF(Y40=\"\",\"\",Resurssiluettelo!$H$14)","v":""},{"$f":"IF(Y40=\"\",\"\",Resurssiluettelo!$I$14)","v":""},{"$f":"IF(Y40=\"\",\"\",Resurssiluettelo!$J$14)","v":""},{"$f":"IF(Y40=\"\",\"\",Resurssiluettelo!$N$14)","v":""},{"$f":"IF(Y40=\"\",\"\",Resurssiluettelo!$O$14)","v":""},{"$f":"IF(Resurssiluettelo!B87=0,\"\",Resurssiluettelo!B87)","v":""},{"$f":"IF(Resurssiluettelo!C87=0,\"\",Resurssiluettelo!C87)","v":""},{"$f":"IF(Resurssiluettelo!D87=0,\"\",Resurssiluettelo!D87)","v":""},{"$f":"IF($J40=\"\",\"\",VLOOKUP($J40, Resurssiluettelo!$D$21:$X$40,Ohjeistus!K$98-1,FALSE))","v":""},{"$f":"IF($J40=\"\",\"\",VLOOKUP($J40, Resurssiluettelo!$D$21:$X$40,Ohjeistus!L$98-1,FALSE))","v":""},{"$f":"IF($J40=\"\",\"\",VLOOKUP($J40, Resurssiluettelo!$D$21:$X$40,Ohjeistus!M$98-1,FALSE))","v":""},{"$f":"IF($J40=\"\",\"\",VLOOKUP($J40, Resurssiluettelo!$D$21:$X$40,Ohjeistus!N$98-1,FALSE))","v":""},{"$f":"IF($J40=\"\",\"\",VLOOKUP($J40, Resurssiluettelo!$D$21:$X$40,Ohjeistus!O$98-1,FALSE))","v":""},{"$f":"IF($J40=\"\",\"\",VLOOKUP($J40, Resurssiluettelo!$D$21:$X$40,Ohjeistus!P$98-1,FALSE))","v":""},{"$f":"IF($J40=\"\",IF($I40=\"\",\"\",VLOOKUP($I40, Resurssiluettelo!$C$21:$X$40,Ohjeistus!Q$98,FALSE)),VLOOKUP($J40, Resurssiluettelo!$D$21:$X$40,Ohjeistus!Q$98-1,FALSE))","v":""},{"$f":"IF($J40=\"\",IF($I40=\"\",\"\",VLOOKUP($I40, Resurssiluettelo!$C$21:$X$40,Ohjeistus!R$98,FALSE)),VLOOKUP($J40, Resurssiluettelo!$D$21:$X$40,Ohjeistus!R$98-1,FALSE))","v":""},{"$f":"IF($J40=\"\",IF($I40=\"\",\"\",VLOOKUP($I40, Resurssiluettelo!$C$21:$X$40,Ohjeistus!S$98,FALSE)),VLOOKUP($J40, Resurssiluettelo!$D$21:$X$40,Ohjeistus!S$98-1,FALSE))","v":""},{"$f":"IF($J40=\"\",IF($I40=\"\",\"\",VLOOKUP($I40, Resurssiluettelo!$C$21:$X$40,Ohjeistus!T$98,FALSE)),VLOOKUP($J40, Resurssiluettelo!$D$21:$X$40,Ohjeistus!T$98-1,FALSE))","v":""},{"$f":"IF($J40=\"\",\"\",VLOOKUP($J40, Resurssiluettelo!$D$21:$X$40,Ohjeistus!U$98-1,FALSE))","v":""},{"$f":"IF($J40=\"\",\"\",VLOOKUP($J40, Resurssiluettelo!$D$21:$X$40,Ohjeistus!V$98-1,FALSE))","v":""},{"$f":"IF($J40=\"\",\"\",VLOOKUP($J40, Resurssiluettelo!$D$21:$X$40,Ohjeistus!W$98-1,FALSE))","v":""},{"$f":"IF($J40=\"\",\"\",VLOOKUP($J40, Resurssiluettelo!$D$21:$X$40,Ohjeistus!X$98-1,FALSE))","v":""},{"$f":"IF(Resurssiluettelo!E87=0,\"\",Resurssiluettelo!E87)","v":""},{"$f":"IF(Resurssiluettelo!F87=0,\"\",YEAR(Resurssiluettelo!F87)&IF(MONTH(Resurssiluettelo!F87)<10,\"0\",\"\")&MONTH(Resurssiluettelo!F87)&IF(DAY(Resurssiluettelo!F87)<10,\"0\",\"\")&DAY(Resurssiluettelo!F87))","v":""},{"$f":"IF(Resurssiluettelo!G87=0,\"\",Resurssiluettelo!G87)","v":""},{"$f":"IF(Resurssiluettelo!H87=0,\"\",Resurssiluettelo!H87)","v":""},{"$f":"IF(Resurssiluettelo!I87=0,\"\",Resurssiluettelo!I87)","v":""},{"$f":"IF(Resurssiluettelo!W87=0,\"\",Resurssiluettelo!W87)","v":""},{"$f":"IF(Resurssiluettelo!X87=0,\"\",Resurssiluettelo!X87)","v":""},{"$f":"IF(Resurssiluettelo!Y87=0,\"\",Resurssiluettelo!Y87)","v":""},{"$f":"IF(Resurssiluettelo!Z87=0,\"\",Resurssiluettelo!Z87)","v":""},{"$f":"IF(Resurssiluettelo!AA87=0,\"\",Resurssiluettelo!AA87)","v":""},{"$f":"IF(Resurssiluettelo!AB87=0,\"\",Resurssiluettelo!AB87)","v":""},{"$f":"IF(Resurssiluettelo!AC87=0,\"\",Resurssiluettelo!AC87)","v":""},{"$f":"IF(Resurssiluettelo!AD87=0,\"\",Resurssiluettelo!AD87)","v":""},{"$f":"IF(Resurssiluettelo!J87=0,\"\",Resurssiluettelo!J87)","v":""},{"$f":"IF(Resurssiluettelo!K87=0,\"\",Resurssiluettelo!K87)","v":""},{"$f":"IF(Resurssiluettelo!L87=0,\"\",Resurssiluettelo!L87)","v":""},{"$f":"IF(Resurssiluettelo!M87=0,\"\",Resurssiluettelo!M87)","v":""},{"$f":"IF(Resurssiluettelo!N87=0,\"\",Resurssiluettelo!N87)","v":""},{"$f":"IF(Resurssiluettelo!O87=0,\"\",Resurssiluettelo!O87)","v":""},{"$f":"IF(Resurssiluettelo!P87=0,\"\",Resurssiluettelo!P87)","v":""},{"$f":"IF(Resurssiluettelo!Q87=0,\"\",Resurssiluettelo!Q87)","v":""},{"$f":"IF(Resurssiluettelo!R87=0,\"\",Resurssiluettelo!R87)","v":""},{"$f":"IF(Resurssiluettelo!S87=0,\"\",Resurssiluettelo!S87)","v":""},{"$f":"IF(Resurssiluettelo!T87=0,\"\",Resurssiluettelo!T87)","v":""},{"$f":"IF(Resurssiluettelo!U87=0,\"\",Resurssiluettelo!U87)","v":""},{"$f":"IF(Resurssiluettelo!V87=0,\"\",Resurssiluettelo!V87)","v":""}]
[38,{"$f":"IF(Y41=\"\",\"\",Resurssiluettelo!$G$1)","v":""},{"$f":"IF(Y41=\"\",\"\",Resurssiluettelo!$H$14)","v":""},{"$f":"IF(Y41=\"\",\"\",Resurssiluettelo!$I$14)","v":""},{"$f":"IF(Y41=\"\",\"\",Resurssiluettelo!$J$14)","v":""},{"$f":"IF(Y41=\"\",\"\",Resurssiluettelo!$N$14)","v":""},{"$f":"IF(Y41=\"\",\"\",Resurssiluettelo!$O$14)","v":""},{"$f":"IF(Resurssiluettelo!B88=0,\"\",Resurssiluettelo!B88)","v":""},{"$f":"IF(Resurssiluettelo!C88=0,\"\",Resurssiluettelo!C88)","v":""},{"$f":"IF(Resurssiluettelo!D88=0,\"\",Resurssiluettelo!D88)","v":""},{"$f":"IF($J41=\"\",\"\",VLOOKUP($J41, Resurssiluettelo!$D$21:$X$40,Ohjeistus!K$98-1,FALSE))","v":""},{"$f":"IF($J41=\"\",\"\",VLOOKUP($J41, Resurssiluettelo!$D$21:$X$40,Ohjeistus!L$98-1,FALSE))","v":""},{"$f":"IF($J41=\"\",\"\",VLOOKUP($J41, Resurssiluettelo!$D$21:$X$40,Ohjeistus!M$98-1,FALSE))","v":""},{"$f":"IF($J41=\"\",\"\",VLOOKUP($J41, Resurssiluettelo!$D$21:$X$40,Ohjeistus!N$98-1,FALSE))","v":""},{"$f":"IF($J41=\"\",\"\",VLOOKUP($J41, Resurssiluettelo!$D$21:$X$40,Ohjeistus!O$98-1,FALSE))","v":""},{"$f":"IF($J41=\"\",\"\",VLOOKUP($J41, Resurssiluettelo!$D$21:$X$40,Ohjeistus!P$98-1,FALSE))","v":""},{"$f":"IF($J41=\"\",IF($I41=\"\",\"\",VLOOKUP($I41, Resurssiluettelo!$C$21:$X$40,Ohjeistus!Q$98,FALSE)),VLOOKUP($J41, Resurssiluettelo!$D$21:$X$40,Ohjeistus!Q$98-1,FALSE))","v":""},{"$f":"IF($J41=\"\",IF($I41=\"\",\"\",VLOOKUP($I41, Resurssiluettelo!$C$21:$X$40,Ohjeistus!R$98,FALSE)),VLOOKUP($J41, Resurssiluettelo!$D$21:$X$40,Ohjeistus!R$98-1,FALSE))","v":""},{"$f":"IF($J41=\"\",IF($I41=\"\",\"\",VLOOKUP($I41, Resurssiluettelo!$C$21:$X$40,Ohjeistus!S$98,FALSE)),VLOOKUP($J41, Resurssiluettelo!$D$21:$X$40,Ohjeistus!S$98-1,FALSE))","v":""},{"$f":"IF($J41=\"\",IF($I41=\"\",\"\",VLOOKUP($I41, Resurssiluettelo!$C$21:$X$40,Ohjeistus!T$98,FALSE)),VLOOKUP($J41, Resurssiluettelo!$D$21:$X$40,Ohjeistus!T$98-1,FALSE))","v":""},{"$f":"IF($J41=\"\",\"\",VLOOKUP($J41, Resurssiluettelo!$D$21:$X$40,Ohjeistus!U$98-1,FALSE))","v":""},{"$f":"IF($J41=\"\",\"\",VLOOKUP($J41, Resurssiluettelo!$D$21:$X$40,Ohjeistus!V$98-1,FALSE))","v":""},{"$f":"IF($J41=\"\",\"\",VLOOKUP($J41, Resurssiluettelo!$D$21:$X$40,Ohjeistus!W$98-1,FALSE))","v":""},{"$f":"IF($J41=\"\",\"\",VLOOKUP($J41, Resurssiluettelo!$D$21:$X$40,Ohjeistus!X$98-1,FALSE))","v":""},{"$f":"IF(Resurssiluettelo!E88=0,\"\",Resurssiluettelo!E88)","v":""},{"$f":"IF(Resurssiluettelo!F88=0,\"\",YEAR(Resurssiluettelo!F88)&IF(MONTH(Resurssiluettelo!F88)<10,\"0\",\"\")&MONTH(Resurssiluettelo!F88)&IF(DAY(Resurssiluettelo!F88)<10,\"0\",\"\")&DAY(Resurssiluettelo!F88))","v":""},{"$f":"IF(Resurssiluettelo!G88=0,\"\",Resurssiluettelo!G88)","v":""},{"$f":"IF(Resurssiluettelo!H88=0,\"\",Resurssiluettelo!H88)","v":""},{"$f":"IF(Resurssiluettelo!I88=0,\"\",Resurssiluettelo!I88)","v":""},{"$f":"IF(Resurssiluettelo!W88=0,\"\",Resurssiluettelo!W88)","v":""},{"$f":"IF(Resurssiluettelo!X88=0,\"\",Resurssiluettelo!X88)","v":""},{"$f":"IF(Resurssiluettelo!Y88=0,\"\",Resurssiluettelo!Y88)","v":""},{"$f":"IF(Resurssiluettelo!Z88=0,\"\",Resurssiluettelo!Z88)","v":""},{"$f":"IF(Resurssiluettelo!AA88=0,\"\",Resurssiluettelo!AA88)","v":""},{"$f":"IF(Resurssiluettelo!AB88=0,\"\",Resurssiluettelo!AB88)","v":""},{"$f":"IF(Resurssiluettelo!AC88=0,\"\",Resurssiluettelo!AC88)","v":""},{"$f":"IF(Resurssiluettelo!AD88=0,\"\",Resurssiluettelo!AD88)","v":""},{"$f":"IF(Resurssiluettelo!J88=0,\"\",Resurssiluettelo!J88)","v":""},{"$f":"IF(Resurssiluettelo!K88=0,\"\",Resurssiluettelo!K88)","v":""},{"$f":"IF(Resurssiluettelo!L88=0,\"\",Resurssiluettelo!L88)","v":""},{"$f":"IF(Resurssiluettelo!M88=0,\"\",Resurssiluettelo!M88)","v":""},{"$f":"IF(Resurssiluettelo!N88=0,\"\",Resurssiluettelo!N88)","v":""},{"$f":"IF(Resurssiluettelo!O88=0,\"\",Resurssiluettelo!O88)","v":""},{"$f":"IF(Resurssiluettelo!P88=0,\"\",Resurssiluettelo!P88)","v":""},{"$f":"IF(Resurssiluettelo!Q88=0,\"\",Resurssiluettelo!Q88)","v":""},{"$f":"IF(Resurssiluettelo!R88=0,\"\",Resurssiluettelo!R88)","v":""},{"$f":"IF(Resurssiluettelo!S88=0,\"\",Resurssiluettelo!S88)","v":""},{"$f":"IF(Resurssiluettelo!T88=0,\"\",Resurssiluettelo!T88)","v":""},{"$f":"IF(Resurssiluettelo!U88=0,\"\",Resurssiluettelo!U88)","v":""},{"$f":"IF(Resurssiluettelo!V88=0,\"\",Resurssiluettelo!V88)","v":""}]
[39,{"$f":"IF(Y42=\"\",\"\",Resurssiluettelo!$G$1)","v":""},{"$f":"IF(Y42=\"\",\"\",Resurssiluettelo!$H$14)","v":""},{"$f":"IF(Y42=\"\",\"\",Resurssiluettelo!$I$14)","v":""},{"$f":"IF(Y42=\"\",\"\",Resurssiluettelo!$J$14)","v":""},{"$f":"IF(Y42=\"\",\"\",Resurssiluettelo!$N$14)","v":""},{"$f":"IF(Y42=\"\",\"\",Resurssiluettelo!$O$14)","v":""},{"$f":"IF(Resurssiluettelo!B89=0,\"\",Resurssiluettelo!B89)","v":""},{"$f":"IF(Resurssiluettelo!C89=0,\"\",Resurssiluettelo!C89)","v":""},{"$f":"IF(Resurssiluettelo!D89=0,\"\",Resurssiluettelo!D89)","v":""},{"$f":"IF($J42=\"\",\"\",VLOOKUP($J42, Resurssiluettelo!$D$21:$X$40,Ohjeistus!K$98-1,FALSE))","v":""},{"$f":"IF($J42=\"\",\"\",VLOOKUP($J42, Resurssiluettelo!$D$21:$X$40,Ohjeistus!L$98-1,FALSE))","v":""},{"$f":"IF($J42=\"\",\"\",VLOOKUP($J42, Resurssiluettelo!$D$21:$X$40,Ohjeistus!M$98-1,FALSE))","v":""},{"$f":"IF($J42=\"\",\"\",VLOOKUP($J42, Resurssiluettelo!$D$21:$X$40,Ohjeistus!N$98-1,FALSE))","v":""},{"$f":"IF($J42=\"\",\"\",VLOOKUP($J42, Resurssiluettelo!$D$21:$X$40,Ohjeistus!O$98-1,FALSE))","v":""},{"$f":"IF($J42=\"\",\"\",VLOOKUP($J42, Resurssiluettelo!$D$21:$X$40,Ohjeistus!P$98-1,FALSE))","v":""},{"$f":"IF($J42=\"\",IF($I42=\"\",\"\",VLOOKUP($I42, Resurssiluettelo!$C$21:$X$40,Ohjeistus!Q$98,FALSE)),VLOOKUP($J42, Resurssiluettelo!$D$21:$X$40,Ohjeistus!Q$98-1,FALSE))","v":""},{"$f":"IF($J42=\"\",IF($I42=\"\",\"\",VLOOKUP($I42, Resurssiluettelo!$C$21:$X$40,Ohjeistus!R$98,FALSE)),VLOOKUP($J42, Resurssiluettelo!$D$21:$X$40,Ohjeistus!R$98-1,FALSE))","v":""},{"$f":"IF($J42=\"\",IF($I42=\"\",\"\",VLOOKUP($I42, Resurssiluettelo!$C$21:$X$40,Ohjeistus!S$98,FALSE)),VLOOKUP($J42, Resurssiluettelo!$D$21:$X$40,Ohjeistus!S$98-1,FALSE))","v":""},{"$f":"IF($J42=\"\",IF($I42=\"\",\"\",VLOOKUP($I42, Resurssiluettelo!$C$21:$X$40,Ohjeistus!T$98,FALSE)),VLOOKUP($J42, Resurssiluettelo!$D$21:$X$40,Ohjeistus!T$98-1,FALSE))","v":""},{"$f":"IF($J42=\"\",\"\",VLOOKUP($J42, Resurssiluettelo!$D$21:$X$40,Ohjeistus!U$98-1,FALSE))","v":""},{"$f":"IF($J42=\"\",\"\",VLOOKUP($J42, Resurssiluettelo!$D$21:$X$40,Ohjeistus!V$98-1,FALSE))","v":""},{"$f":"IF($J42=\"\",\"\",VLOOKUP($J42, Resurssiluettelo!$D$21:$X$40,Ohjeistus!W$98-1,FALSE))","v":""},{"$f":"IF($J42=\"\",\"\",VLOOKUP($J42, Resurssiluettelo!$D$21:$X$40,Ohjeistus!X$98-1,FALSE))","v":""},{"$f":"IF(Resurssiluettelo!E89=0,\"\",Resurssiluettelo!E89)","v":""},{"$f":"IF(Resurssiluettelo!F89=0,\"\",YEAR(Resurssiluettelo!F89)&IF(MONTH(Resurssiluettelo!F89)<10,\"0\",\"\")&MONTH(Resurssiluettelo!F89)&IF(DAY(Resurssiluettelo!F89)<10,\"0\",\"\")&DAY(Resurssiluettelo!F89))","v":""},{"$f":"IF(Resurssiluettelo!G89=0,\"\",Resurssiluettelo!G89)","v":""},{"$f":"IF(Resurssiluettelo!H89=0,\"\",Resurssiluettelo!H89)","v":""},{"$f":"IF(Resurssiluettelo!I89=0,\"\",Resurssiluettelo!I89)","v":""},{"$f":"IF(Resurssiluettelo!W89=0,\"\",Resurssiluettelo!W89)","v":""},{"$f":"IF(Resurssiluettelo!X89=0,\"\",Resurssiluettelo!X89)","v":""},{"$f":"IF(Resurssiluettelo!Y89=0,\"\",Resurssiluettelo!Y89)","v":""},{"$f":"IF(Resurssiluettelo!Z89=0,\"\",Resurssiluettelo!Z89)","v":""},{"$f":"IF(Resurssiluettelo!AA89=0,\"\",Resurssiluettelo!AA89)","v":""},{"$f":"IF(Resurssiluettelo!AB89=0,\"\",Resurssiluettelo!AB89)","v":""},{"$f":"IF(Resurssiluettelo!AC89=0,\"\",Resurssiluettelo!AC89)","v":""},{"$f":"IF(Resurssiluettelo!AD89=0,\"\",Resurssiluettelo!AD89)","v":""},{"$f":"IF(Resurssiluettelo!J89=0,\"\",Resurssiluettelo!J89)","v":""},{"$f":"IF(Resurssiluettelo!K89=0,\"\",Resurssiluettelo!K89)","v":""},{"$f":"IF(Resurssiluettelo!L89=0,\"\",Resurssiluettelo!L89)","v":""},{"$f":"IF(Resurssiluettelo!M89=0,\"\",Resurssiluettelo!M89)","v":""},{"$f":"IF(Resurssiluettelo!N89=0,\"\",Resurssiluettelo!N89)","v":""},{"$f":"IF(Resurssiluettelo!O89=0,\"\",Resurssiluettelo!O89)","v":""},{"$f":"IF(Resurssiluettelo!P89=0,\"\",Resurssiluettelo!P89)","v":""},{"$f":"IF(Resurssiluettelo!Q89=0,\"\",Resurssiluettelo!Q89)","v":""},{"$f":"IF(Resurssiluettelo!R89=0,\"\",Resurssiluettelo!R89)","v":""},{"$f":"IF(Resurssiluettelo!S89=0,\"\",Resurssiluettelo!S89)","v":""},{"$f":"IF(Resurssiluettelo!T89=0,\"\",Resurssiluettelo!T89)","v":""},{"$f":"IF(Resurssiluettelo!U89=0,\"\",Resurssiluettelo!U89)","v":""},{"$f":"IF(Resurssiluettelo!V89=0,\"\",Resurssiluettelo!V89)","v":""}]
[40,{"$f":"IF(Y43=\"\",\"\",Resurssiluettelo!$G$1)","v":""},{"$f":"IF(Y43=\"\",\"\",Resurssiluettelo!$H$14)","v":""},{"$f":"IF(Y43=\"\",\"\",Resurssiluettelo!$I$14)","v":""},{"$f":"IF(Y43=\"\",\"\",Resurssiluettelo!$J$14)","v":""},{"$f":"IF(Y43=\"\",\"\",Resurssiluettelo!$N$14)","v":""},{"$f":"IF(Y43=\"\",\"\",Resurssiluettelo!$O$14)","v":""},{"$f":"IF(Resurssiluettelo!B90=0,\"\",Resurssiluettelo!B90)","v":""},{"$f":"IF(Resurssiluettelo!C90=0,\"\",Resurssiluettelo!C90)","v":""},{"$f":"IF(Resurssiluettelo!D90=0,\"\",Resurssiluettelo!D90)","v":""},{"$f":"IF($J43=\"\",\"\",VLOOKUP($J43, Resurssiluettelo!$D$21:$X$40,Ohjeistus!K$98-1,FALSE))","v":""},{"$f":"IF($J43=\"\",\"\",VLOOKUP($J43, Resurssiluettelo!$D$21:$X$40,Ohjeistus!L$98-1,FALSE))","v":""},{"$f":"IF($J43=\"\",\"\",VLOOKUP($J43, Resurssiluettelo!$D$21:$X$40,Ohjeistus!M$98-1,FALSE))","v":""},{"$f":"IF($J43=\"\",\"\",VLOOKUP($J43, Resurssiluettelo!$D$21:$X$40,Ohjeistus!N$98-1,FALSE))","v":""},{"$f":"IF($J43=\"\",\"\",VLOOKUP($J43, Resurssiluettelo!$D$21:$X$40,Ohjeistus!O$98-1,FALSE))","v":""},{"$f":"IF($J43=\"\",\"\",VLOOKUP($J43, Resurssiluettelo!$D$21:$X$40,Ohjeistus!P$98-1,FALSE))","v":""},{"$f":"IF($J43=\"\",IF($I43=\"\",\"\",VLOOKUP($I43, Resurssiluettelo!$C$21:$X$40,Ohjeistus!Q$98,FALSE)),VLOOKUP($J43, Resurssiluettelo!$D$21:$X$40,Ohjeistus!Q$98-1,FALSE))","v":""},{"$f":"IF($J43=\"\",IF($I43=\"\",\"\",VLOOKUP($I43, Resurssiluettelo!$C$21:$X$40,Ohjeistus!R$98,FALSE)),VLOOKUP($J43, Resurssiluettelo!$D$21:$X$40,Ohjeistus!R$98-1,FALSE))","v":""},{"$f":"IF($J43=\"\",IF($I43=\"\",\"\",VLOOKUP($I43, Resurssiluettelo!$C$21:$X$40,Ohjeistus!S$98,FALSE)),VLOOKUP($J43, Resurssiluettelo!$D$21:$X$40,Ohjeistus!S$98-1,FALSE))","v":""},{"$f":"IF($J43=\"\",IF($I43=\"\",\"\",VLOOKUP($I43, Resurssiluettelo!$C$21:$X$40,Ohjeistus!T$98,FALSE)),VLOOKUP($J43, Resurssiluettelo!$D$21:$X$40,Ohjeistus!T$98-1,FALSE))","v":""},{"$f":"IF($J43=\"\",\"\",VLOOKUP($J43, Resurssiluettelo!$D$21:$X$40,Ohjeistus!U$98-1,FALSE))","v":""},{"$f":"IF($J43=\"\",\"\",VLOOKUP($J43, Resurssiluettelo!$D$21:$X$40,Ohjeistus!V$98-1,FALSE))","v":""},{"$f":"IF($J43=\"\",\"\",VLOOKUP($J43, Resurssiluettelo!$D$21:$X$40,Ohjeistus!W$98-1,FALSE))","v":""},{"$f":"IF($J43=\"\",\"\",VLOOKUP($J43, Resurssiluettelo!$D$21:$X$40,Ohjeistus!X$98-1,FALSE))","v":""},{"$f":"IF(Resurssiluettelo!E90=0,\"\",Resurssiluettelo!E90)","v":""},{"$f":"IF(Resurssiluettelo!F90=0,\"\",YEAR(Resurssiluettelo!F90)&IF(MONTH(Resurssiluettelo!F90)<10,\"0\",\"\")&MONTH(Resurssiluettelo!F90)&IF(DAY(Resurssiluettelo!F90)<10,\"0\",\"\")&DAY(Resurssiluettelo!F90))","v":""},{"$f":"IF(Resurssiluettelo!G90=0,\"\",Resurssiluettelo!G90)","v":""},{"$f":"IF(Resurssiluettelo!H90=0,\"\",Resurssiluettelo!H90)","v":""},{"$f":"IF(Resurssiluettelo!I90=0,\"\",Resurssiluettelo!I90)","v":""},{"$f":"IF(Resurssiluettelo!W90=0,\"\",Resurssiluettelo!W90)","v":""},{"$f":"IF(Resurssiluettelo!X90=0,\"\",Resurssiluettelo!X90)","v":""},{"$f":"IF(Resurssiluettelo!Y90=0,\"\",Resurssiluettelo!Y90)","v":""},{"$f":"IF(Resurssiluettelo!Z90=0,\"\",Resurssiluettelo!Z90)","v":""},{"$f":"IF(Resurssiluettelo!AA90=0,\"\",Resurssiluettelo!AA90)","v":""},{"$f":"IF(Resurssiluettelo!AB90=0,\"\",Resurssiluettelo!AB90)","v":""},{"$f":"IF(Resurssiluettelo!AC90=0,\"\",Resurssiluettelo!AC90)","v":""},{"$f":"IF(Resurssiluettelo!AD90=0,\"\",Resurssiluettelo!AD90)","v":""},{"$f":"IF(Resurssiluettelo!J90=0,\"\",Resurssiluettelo!J90)","v":""},{"$f":"IF(Resurssiluettelo!K90=0,\"\",Resurssiluettelo!K90)","v":""},{"$f":"IF(Resurssiluettelo!L90=0,\"\",Resurssiluettelo!L90)","v":""},{"$f":"IF(Resurssiluettelo!M90=0,\"\",Resurssiluettelo!M90)","v":""},{"$f":"IF(Resurssiluettelo!N90=0,\"\",Resurssiluettelo!N90)","v":""},{"$f":"IF(Resurssiluettelo!O90=0,\"\",Resurssiluettelo!O90)","v":""},{"$f":"IF(Resurssiluettelo!P90=0,\"\",Resurssiluettelo!P90)","v":""},{"$f":"IF(Resurssiluettelo!Q90=0,\"\",Resurssiluettelo!Q90)","v":""},{"$f":"IF(Resurssiluettelo!R90=0,\"\",Resurssiluettelo!R90)","v":""},{"$f":"IF(Resurssiluettelo!S90=0,\"\",Resurssiluettelo!S90)","v":""},{"$f":"IF(Resurssiluettelo!T90=0,\"\",Resurssiluettelo!T90)","v":""},{"$f":"IF(Resurssiluettelo!U90=0,\"\",Resurssiluettelo!U90)","v":""},{"$f":"IF(Resurssiluettelo!V90=0,\"\",Resurssiluettelo!V90)","v":""}]
[41,{"$f":"IF(Y44=\"\",\"\",Resurssiluettelo!$G$1)","v":""},{"$f":"IF(Y44=\"\",\"\",Resurssiluettelo!$H$14)","v":""},{"$f":"IF(Y44=\"\",\"\",Resurssiluettelo!$I$14)","v":""},{"$f":"IF(Y44=\"\",\"\",Resurssiluettelo!$J$14)","v":""},{"$f":"IF(Y44=\"\",\"\",Resurssiluettelo!$N$14)","v":""},{"$f":"IF(Y44=\"\",\"\",Resurssiluettelo!$O$14)","v":""},{"$f":"IF(Resurssiluettelo!B91=0,\"\",Resurssiluettelo!B91)","v":""},{"$f":"IF(Resurssiluettelo!C91=0,\"\",Resurssiluettelo!C91)","v":""},{"$f":"IF(Resurssiluettelo!D91=0,\"\",Resurssiluettelo!D91)","v":""},{"$f":"IF($J44=\"\",\"\",VLOOKUP($J44, Resurssiluettelo!$D$21:$X$40,Ohjeistus!K$98-1,FALSE))","v":""},{"$f":"IF($J44=\"\",\"\",VLOOKUP($J44, Resurssiluettelo!$D$21:$X$40,Ohjeistus!L$98-1,FALSE))","v":""},{"$f":"IF($J44=\"\",\"\",VLOOKUP($J44, Resurssiluettelo!$D$21:$X$40,Ohjeistus!M$98-1,FALSE))","v":""},{"$f":"IF($J44=\"\",\"\",VLOOKUP($J44, Resurssiluettelo!$D$21:$X$40,Ohjeistus!N$98-1,FALSE))","v":""},{"$f":"IF($J44=\"\",\"\",VLOOKUP($J44, Resurssiluettelo!$D$21:$X$40,Ohjeistus!O$98-1,FALSE))","v":""},{"$f":"IF($J44=\"\",\"\",VLOOKUP($J44, Resurssiluettelo!$D$21:$X$40,Ohjeistus!P$98-1,FALSE))","v":""},{"$f":"IF($J44=\"\",IF($I44=\"\",\"\",VLOOKUP($I44, Resurssiluettelo!$C$21:$X$40,Ohjeistus!Q$98,FALSE)),VLOOKUP($J44, Resurssiluettelo!$D$21:$X$40,Ohjeistus!Q$98-1,FALSE))","v":""},{"$f":"IF($J44=\"\",IF($I44=\"\",\"\",VLOOKUP($I44, Resurssiluettelo!$C$21:$X$40,Ohjeistus!R$98,FALSE)),VLOOKUP($J44, Resurssiluettelo!$D$21:$X$40,Ohjeistus!R$98-1,FALSE))","v":""},{"$f":"IF($J44=\"\",IF($I44=\"\",\"\",VLOOKUP($I44, Resurssiluettelo!$C$21:$X$40,Ohjeistus!S$98,FALSE)),VLOOKUP($J44, Resurssiluettelo!$D$21:$X$40,Ohjeistus!S$98-1,FALSE))","v":""},{"$f":"IF($J44=\"\",IF($I44=\"\",\"\",VLOOKUP($I44, Resurssiluettelo!$C$21:$X$40,Ohjeistus!T$98,FALSE)),VLOOKUP($J44, Resurssiluettelo!$D$21:$X$40,Ohjeistus!T$98-1,FALSE))","v":""},{"$f":"IF($J44=\"\",\"\",VLOOKUP($J44, Resurssiluettelo!$D$21:$X$40,Ohjeistus!U$98-1,FALSE))","v":""},{"$f":"IF($J44=\"\",\"\",VLOOKUP($J44, Resurssiluettelo!$D$21:$X$40,Ohjeistus!V$98-1,FALSE))","v":""},{"$f":"IF($J44=\"\",\"\",VLOOKUP($J44, Resurssiluettelo!$D$21:$X$40,Ohjeistus!W$98-1,FALSE))","v":""},{"$f":"IF($J44=\"\",\"\",VLOOKUP($J44, Resurssiluettelo!$D$21:$X$40,Ohjeistus!X$98-1,FALSE))","v":""},{"$f":"IF(Resurssiluettelo!E91=0,\"\",Resurssiluettelo!E91)","v":""},{"$f":"IF(Resurssiluettelo!F91=0,\"\",YEAR(Resurssiluettelo!F91)&IF(MONTH(Resurssiluettelo!F91)<10,\"0\",\"\")&MONTH(Resurssiluettelo!F91)&IF(DAY(Resurssiluettelo!F91)<10,\"0\",\"\")&DAY(Resurssiluettelo!F91))","v":""},{"$f":"IF(Resurssiluettelo!G91=0,\"\",Resurssiluettelo!G91)","v":""},{"$f":"IF(Resurssiluettelo!H91=0,\"\",Resurssiluettelo!H91)","v":""},{"$f":"IF(Resurssiluettelo!I91=0,\"\",Resurssiluettelo!I91)","v":""},{"$f":"IF(Resurssiluettelo!W91=0,\"\",Resurssiluettelo!W91)","v":""},{"$f":"IF(Resurssiluettelo!X91=0,\"\",Resurssiluettelo!X91)","v":""},{"$f":"IF(Resurssiluettelo!Y91=0,\"\",Resurssiluettelo!Y91)","v":""},{"$f":"IF(Resurssiluettelo!Z91=0,\"\",Resurssiluettelo!Z91)","v":""},{"$f":"IF(Resurssiluettelo!AA91=0,\"\",Resurssiluettelo!AA91)","v":""},{"$f":"IF(Resurssiluettelo!AB91=0,\"\",Resurssiluettelo!AB91)","v":""},{"$f":"IF(Resurssiluettelo!AC91=0,\"\",Resurssiluettelo!AC91)","v":""},{"$f":"IF(Resurssiluettelo!AD91=0,\"\",Resurssiluettelo!AD91)","v":""},{"$f":"IF(Resurssiluettelo!J91=0,\"\",Resurssiluettelo!J91)","v":""},{"$f":"IF(Resurssiluettelo!K91=0,\"\",Resurssiluettelo!K91)","v":""},{"$f":"IF(Resurssiluettelo!L91=0,\"\",Resurssiluettelo!L91)","v":""},{"$f":"IF(Resurssiluettelo!M91=0,\"\",Resurssiluettelo!M91)","v":""},{"$f":"IF(Resurssiluettelo!N91=0,\"\",Resurssiluettelo!N91)","v":""},{"$f":"IF(Resurssiluettelo!O91=0,\"\",Resurssiluettelo!O91)","v":""},{"$f":"IF(Resurssiluettelo!P91=0,\"\",Resurssiluettelo!P91)","v":""},{"$f":"IF(Resurssiluettelo!Q91=0,\"\",Resurssiluettelo!Q91)","v":""},{"$f":"IF(Resurssiluettelo!R91=0,\"\",Resurssiluettelo!R91)","v":""},{"$f":"IF(Resurssiluettelo!S91=0,\"\",Resurssiluettelo!S91)","v":""},{"$f":"IF(Resurssiluettelo!T91=0,\"\",Resurssiluettelo!T91)","v":""},{"$f":"IF(Resurssiluettelo!U91=0,\"\",Resurssiluettelo!U91)","v":""},{"$f":"IF(Resurssiluettelo!V91=0,\"\",Resurssiluettelo!V91)","v":""}]
[42,{"$f":"IF(Y45=\"\",\"\",Resurssiluettelo!$G$1)","v":""},{"$f":"IF(Y45=\"\",\"\",Resurssiluettelo!$H$14)","v":""},{"$f":"IF(Y45=\"\",\"\",Resurssiluettelo!$I$14)","v":""},{"$f":"IF(Y45=\"\",\"\",Resurssiluettelo!$J$14)","v":""},{"$f":"IF(Y45=\"\",\"\",Resurssiluettelo!$N$14)","v":""},{"$f":"IF(Y45=\"\",\"\",Resurssiluettelo!$O$14)","v":""},{"$f":"IF(Resurssiluettelo!B92=0,\"\",Resurssiluettelo!B92)","v":""},{"$f":"IF(Resurssiluettelo!C92=0,\"\",Resurssiluettelo!C92)","v":""},{"$f":"IF(Resurssiluettelo!D92=0,\"\",Resurssiluettelo!D92)","v":""},{"$f":"IF($J45=\"\",\"\",VLOOKUP($J45, Resurssiluettelo!$D$21:$X$40,Ohjeistus!K$98-1,FALSE))","v":""},{"$f":"IF($J45=\"\",\"\",VLOOKUP($J45, Resurssiluettelo!$D$21:$X$40,Ohjeistus!L$98-1,FALSE))","v":""},{"$f":"IF($J45=\"\",\"\",VLOOKUP($J45, Resurssiluettelo!$D$21:$X$40,Ohjeistus!M$98-1,FALSE))","v":""},{"$f":"IF($J45=\"\",\"\",VLOOKUP($J45, Resurssiluettelo!$D$21:$X$40,Ohjeistus!N$98-1,FALSE))","v":""},{"$f":"IF($J45=\"\",\"\",VLOOKUP($J45, Resurssiluettelo!$D$21:$X$40,Ohjeistus!O$98-1,FALSE))","v":""},{"$f":"IF($J45=\"\",\"\",VLOOKUP($J45, Resurssiluettelo!$D$21:$X$40,Ohjeistus!P$98-1,FALSE))","v":""},{"$f":"IF($J45=\"\",IF($I45=\"\",\"\",VLOOKUP($I45, Resurssiluettelo!$C$21:$X$40,Ohjeistus!Q$98,FALSE)),VLOOKUP($J45, Resurssiluettelo!$D$21:$X$40,Ohjeistus!Q$98-1,FALSE))","v":""},{"$f":"IF($J45=\"\",IF($I45=\"\",\"\",VLOOKUP($I45, Resurssiluettelo!$C$21:$X$40,Ohjeistus!R$98,FALSE)),VLOOKUP($J45, Resurssiluettelo!$D$21:$X$40,Ohjeistus!R$98-1,FALSE))","v":""},{"$f":"IF($J45=\"\",IF($I45=\"\",\"\",VLOOKUP($I45, Resurssiluettelo!$C$21:$X$40,Ohjeistus!S$98,FALSE)),VLOOKUP($J45, Resurssiluettelo!$D$21:$X$40,Ohjeistus!S$98-1,FALSE))","v":""},{"$f":"IF($J45=\"\",IF($I45=\"\",\"\",VLOOKUP($I45, Resurssiluettelo!$C$21:$X$40,Ohjeistus!T$98,FALSE)),VLOOKUP($J45, Resurssiluettelo!$D$21:$X$40,Ohjeistus!T$98-1,FALSE))","v":""},{"$f":"IF($J45=\"\",\"\",VLOOKUP($J45, Resurssiluettelo!$D$21:$X$40,Ohjeistus!U$98-1,FALSE))","v":""},{"$f":"IF($J45=\"\",\"\",VLOOKUP($J45, Resurssiluettelo!$D$21:$X$40,Ohjeistus!V$98-1,FALSE))","v":""},{"$f":"IF($J45=\"\",\"\",VLOOKUP($J45, Resurssiluettelo!$D$21:$X$40,Ohjeistus!W$98-1,FALSE))","v":""},{"$f":"IF($J45=\"\",\"\",VLOOKUP($J45, Resurssiluettelo!$D$21:$X$40,Ohjeistus!X$98-1,FALSE))","v":""},{"$f":"IF(Resurssiluettelo!E92=0,\"\",Resurssiluettelo!E92)","v":""},{"$f":"IF(Resurssiluettelo!F92=0,\"\",YEAR(Resurssiluettelo!F92)&IF(MONTH(Resurssiluettelo!F92)<10,\"0\",\"\")&MONTH(Resurssiluettelo!F92)&IF(DAY(Resurssiluettelo!F92)<10,\"0\",\"\")&DAY(Resurssiluettelo!F92))","v":""},{"$f":"IF(Resurssiluettelo!G92=0,\"\",Resurssiluettelo!G92)","v":""},{"$f":"IF(Resurssiluettelo!H92=0,\"\",Resurssiluettelo!H92)","v":""},{"$f":"IF(Resurssiluettelo!I92=0,\"\",Resurssiluettelo!I92)","v":""},{"$f":"IF(Resurssiluettelo!W92=0,\"\",Resurssiluettelo!W92)","v":""},{"$f":"IF(Resurssiluettelo!X92=0,\"\",Resurssiluettelo!X92)","v":""},{"$f":"IF(Resurssiluettelo!Y92=0,\"\",Resurssiluettelo!Y92)","v":""},{"$f":"IF(Resurssiluettelo!Z92=0,\"\",Resurssiluettelo!Z92)","v":""},{"$f":"IF(Resurssiluettelo!AA92=0,\"\",Resurssiluettelo!AA92)","v":""},{"$f":"IF(Resurssiluettelo!AB92=0,\"\",Resurssiluettelo!AB92)","v":""},{"$f":"IF(Resurssiluettelo!AC92=0,\"\",Resurssiluettelo!AC92)","v":""},{"$f":"IF(Resurssiluettelo!AD92=0,\"\",Resurssiluettelo!AD92)","v":""},{"$f":"IF(Resurssiluettelo!J92=0,\"\",Resurssiluettelo!J92)","v":""},{"$f":"IF(Resurssiluettelo!K92=0,\"\",Resurssiluettelo!K92)","v":""},{"$f":"IF(Resurssiluettelo!L92=0,\"\",Resurssiluettelo!L92)","v":""},{"$f":"IF(Resurssiluettelo!M92=0,\"\",Resurssiluettelo!M92)","v":""},{"$f":"IF(Resurssiluettelo!N92=0,\"\",Resurssiluettelo!N92)","v":""},{"$f":"IF(Resurssiluettelo!O92=0,\"\",Resurssiluettelo!O92)","v":""},{"$f":"IF(Resurssiluettelo!P92=0,\"\",Resurssiluettelo!P92)","v":""},{"$f":"IF(Resurssiluettelo!Q92=0,\"\",Resurssiluettelo!Q92)","v":""},{"$f":"IF(Resurssiluettelo!R92=0,\"\",Resurssiluettelo!R92)","v":""},{"$f":"IF(Resurssiluettelo!S92=0,\"\",Resurssiluettelo!S92)","v":""},{"$f":"IF(Resurssiluettelo!T92=0,\"\",Resurssiluettelo!T92)","v":""},{"$f":"IF(Resurssiluettelo!U92=0,\"\",Resurssiluettelo!U92)","v":""},{"$f":"IF(Resurssiluettelo!V92=0,\"\",Resurssiluettelo!V92)","v":""}]
[43,{"$f":"IF(Y46=\"\",\"\",Resurssiluettelo!$G$1)","v":""},{"$f":"IF(Y46=\"\",\"\",Resurssiluettelo!$H$14)","v":""},{"$f":"IF(Y46=\"\",\"\",Resurssiluettelo!$I$14)","v":""},{"$f":"IF(Y46=\"\",\"\",Resurssiluettelo!$J$14)","v":""},{"$f":"IF(Y46=\"\",\"\",Resurssiluettelo!$N$14)","v":""},{"$f":"IF(Y46=\"\",\"\",Resurssiluettelo!$O$14)","v":""},{"$f":"IF(Resurssiluettelo!B93=0,\"\",Resurssiluettelo!B93)","v":""},{"$f":"IF(Resurssiluettelo!C93=0,\"\",Resurssiluettelo!C93)","v":""},{"$f":"IF(Resurssiluettelo!D93=0,\"\",Resurssiluettelo!D93)","v":""},{"$f":"IF($J46=\"\",\"\",VLOOKUP($J46, Resurssiluettelo!$D$21:$X$40,Ohjeistus!K$98-1,FALSE))","v":""},{"$f":"IF($J46=\"\",\"\",VLOOKUP($J46, Resurssiluettelo!$D$21:$X$40,Ohjeistus!L$98-1,FALSE))","v":""},{"$f":"IF($J46=\"\",\"\",VLOOKUP($J46, Resurssiluettelo!$D$21:$X$40,Ohjeistus!M$98-1,FALSE))","v":""},{"$f":"IF($J46=\"\",\"\",VLOOKUP($J46, Resurssiluettelo!$D$21:$X$40,Ohjeistus!N$98-1,FALSE))","v":""},{"$f":"IF($J46=\"\",\"\",VLOOKUP($J46, Resurssiluettelo!$D$21:$X$40,Ohjeistus!O$98-1,FALSE))","v":""},{"$f":"IF($J46=\"\",\"\",VLOOKUP($J46, Resurssiluettelo!$D$21:$X$40,Ohjeistus!P$98-1,FALSE))","v":""},{"$f":"IF($J46=\"\",IF($I46=\"\",\"\",VLOOKUP($I46, Resurssiluettelo!$C$21:$X$40,Ohjeistus!Q$98,FALSE)),VLOOKUP($J46, Resurssiluettelo!$D$21:$X$40,Ohjeistus!Q$98-1,FALSE))","v":""},{"$f":"IF($J46=\"\",IF($I46=\"\",\"\",VLOOKUP($I46, Resurssiluettelo!$C$21:$X$40,Ohjeistus!R$98,FALSE)),VLOOKUP($J46, Resurssiluettelo!$D$21:$X$40,Ohjeistus!R$98-1,FALSE))","v":""},{"$f":"IF($J46=\"\",IF($I46=\"\",\"\",VLOOKUP($I46, Resurssiluettelo!$C$21:$X$40,Ohjeistus!S$98,FALSE)),VLOOKUP($J46, Resurssiluettelo!$D$21:$X$40,Ohjeistus!S$98-1,FALSE))","v":""},{"$f":"IF($J46=\"\",IF($I46=\"\",\"\",VLOOKUP($I46, Resurssiluettelo!$C$21:$X$40,Ohjeistus!T$98,FALSE)),VLOOKUP($J46, Resurssiluettelo!$D$21:$X$40,Ohjeistus!T$98-1,FALSE))","v":""},{"$f":"IF($J46=\"\",\"\",VLOOKUP($J46, Resurssiluettelo!$D$21:$X$40,Ohjeistus!U$98-1,FALSE))","v":""},{"$f":"IF($J46=\"\",\"\",VLOOKUP($J46, Resurssiluettelo!$D$21:$X$40,Ohjeistus!V$98-1,FALSE))","v":""},{"$f":"IF($J46=\"\",\"\",VLOOKUP($J46, Resurssiluettelo!$D$21:$X$40,Ohjeistus!W$98-1,FALSE))","v":""},{"$f":"IF($J46=\"\",\"\",VLOOKUP($J46, Resurssiluettelo!$D$21:$X$40,Ohjeistus!X$98-1,FALSE))","v":""},{"$f":"IF(Resurssiluettelo!E93=0,\"\",Resurssiluettelo!E93)","v":""},{"$f":"IF(Resurssiluettelo!F93=0,\"\",YEAR(Resurssiluettelo!F93)&IF(MONTH(Resurssiluettelo!F93)<10,\"0\",\"\")&MONTH(Resurssiluettelo!F93)&IF(DAY(Resurssiluettelo!F93)<10,\"0\",\"\")&DAY(Resurssiluettelo!F93))","v":""},{"$f":"IF(Resurssiluettelo!G93=0,\"\",Resurssiluettelo!G93)","v":""},{"$f":"IF(Resurssiluettelo!H93=0,\"\",Resurssiluettelo!H93)","v":""},{"$f":"IF(Resurssiluettelo!I93=0,\"\",Resurssiluettelo!I93)","v":""},{"$f":"IF(Resurssiluettelo!W93=0,\"\",Resurssiluettelo!W93)","v":""},{"$f":"IF(Resurssiluettelo!X93=0,\"\",Resurssiluettelo!X93)","v":""},{"$f":"IF(Resurssiluettelo!Y93=0,\"\",Resurssiluettelo!Y93)","v":""},{"$f":"IF(Resurssiluettelo!Z93=0,\"\",Resurssiluettelo!Z93)","v":""},{"$f":"IF(Resurssiluettelo!AA93=0,\"\",Resurssiluettelo!AA93)","v":""},{"$f":"IF(Resurssiluettelo!AB93=0,\"\",Resurssiluettelo!AB93)","v":""},{"$f":"IF(Resurssiluettelo!AC93=0,\"\",Resurssiluettelo!AC93)","v":""},{"$f":"IF(Resurssiluettelo!AD93=0,\"\",Resurssiluettelo!AD93)","v":""},{"$f":"IF(Resurssiluettelo!J93=0,\"\",Resurssiluettelo!J93)","v":""},{"$f":"IF(Resurssiluettelo!K93=0,\"\",Resurssiluettelo!K93)","v":""},{"$f":"IF(Resurssiluettelo!L93=0,\"\",Resurssiluettelo!L93)","v":""},{"$f":"IF(Resurssiluettelo!M93=0,\"\",Resurssiluettelo!M93)","v":""},{"$f":"IF(Resurssiluettelo!N93=0,\"\",Resurssiluettelo!N93)","v":""},{"$f":"IF(Resurssiluettelo!O93=0,\"\",Resurssiluettelo!O93)","v":""},{"$f":"IF(Resurssiluettelo!P93=0,\"\",Resurssiluettelo!P93)","v":""},{"$f":"IF(Resurssiluettelo!Q93=0,\"\",Resurssiluettelo!Q93)","v":""},{"$f":"IF(Resurssiluettelo!R93=0,\"\",Resurssiluettelo!R93)","v":""},{"$f":"IF(Resurssiluettelo!S93=0,\"\",Resurssiluettelo!S93)","v":""},{"$f":"IF(Resurssiluettelo!T93=0,\"\",Resurssiluettelo!T93)","v":""},{"$f":"IF(Resurssiluettelo!U93=0,\"\",Resurssiluettelo!U93)","v":""},{"$f":"IF(Resurssiluettelo!V93=0,\"\",Resurssiluettelo!V93)","v":""}]
[44,{"$f":"IF(Y47=\"\",\"\",Resurssiluettelo!$G$1)","v":""},{"$f":"IF(Y47=\"\",\"\",Resurssiluettelo!$H$14)","v":""},{"$f":"IF(Y47=\"\",\"\",Resurssiluettelo!$I$14)","v":""},{"$f":"IF(Y47=\"\",\"\",Resurssiluettelo!$J$14)","v":""},{"$f":"IF(Y47=\"\",\"\",Resurssiluettelo!$N$14)","v":""},{"$f":"IF(Y47=\"\",\"\",Resurssiluettelo!$O$14)","v":""},{"$f":"IF(Resurssiluettelo!B94=0,\"\",Resurssiluettelo!B94)","v":""},{"$f":"IF(Resurssiluettelo!C94=0,\"\",Resurssiluettelo!C94)","v":""},{"$f":"IF(Resurssiluettelo!D94=0,\"\",Resurssiluettelo!D94)","v":""},{"$f":"IF($J47=\"\",\"\",VLOOKUP($J47, Resurssiluettelo!$D$21:$X$40,Ohjeistus!K$98-1,FALSE))","v":""},{"$f":"IF($J47=\"\",\"\",VLOOKUP($J47, Resurssiluettelo!$D$21:$X$40,Ohjeistus!L$98-1,FALSE))","v":""},{"$f":"IF($J47=\"\",\"\",VLOOKUP($J47, Resurssiluettelo!$D$21:$X$40,Ohjeistus!M$98-1,FALSE))","v":""},{"$f":"IF($J47=\"\",\"\",VLOOKUP($J47, Resurssiluettelo!$D$21:$X$40,Ohjeistus!N$98-1,FALSE))","v":""},{"$f":"IF($J47=\"\",\"\",VLOOKUP($J47, Resurssiluettelo!$D$21:$X$40,Ohjeistus!O$98-1,FALSE))","v":""},{"$f":"IF($J47=\"\",\"\",VLOOKUP($J47, Resurssiluettelo!$D$21:$X$40,Ohjeistus!P$98-1,FALSE))","v":""},{"$f":"IF($J47=\"\",IF($I47=\"\",\"\",VLOOKUP($I47, Resurssiluettelo!$C$21:$X$40,Ohjeistus!Q$98,FALSE)),VLOOKUP($J47, Resurssiluettelo!$D$21:$X$40,Ohjeistus!Q$98-1,FALSE))","v":""},{"$f":"IF($J47=\"\",IF($I47=\"\",\"\",VLOOKUP($I47, Resurssiluettelo!$C$21:$X$40,Ohjeistus!R$98,FALSE)),VLOOKUP($J47, Resurssiluettelo!$D$21:$X$40,Ohjeistus!R$98-1,FALSE))","v":""},{"$f":"IF($J47=\"\",IF($I47=\"\",\"\",VLOOKUP($I47, Resurssiluettelo!$C$21:$X$40,Ohjeistus!S$98,FALSE)),VLOOKUP($J47, Resurssiluettelo!$D$21:$X$40,Ohjeistus!S$98-1,FALSE))","v":""},{"$f":"IF($J47=\"\",IF($I47=\"\",\"\",VLOOKUP($I47, Resurssiluettelo!$C$21:$X$40,Ohjeistus!T$98,FALSE)),VLOOKUP($J47, Resurssiluettelo!$D$21:$X$40,Ohjeistus!T$98-1,FALSE))","v":""},{"$f":"IF($J47=\"\",\"\",VLOOKUP($J47, Resurssiluettelo!$D$21:$X$40,Ohjeistus!U$98-1,FALSE))","v":""},{"$f":"IF($J47=\"\",\"\",VLOOKUP($J47, Resurssiluettelo!$D$21:$X$40,Ohjeistus!V$98-1,FALSE))","v":""},{"$f":"IF($J47=\"\",\"\",VLOOKUP($J47, Resurssiluettelo!$D$21:$X$40,Ohjeistus!W$98-1,FALSE))","v":""},{"$f":"IF($J47=\"\",\"\",VLOOKUP($J47, Resurssiluettelo!$D$21:$X$40,Ohjeistus!X$98-1,FALSE))","v":""},{"$f":"IF(Resurssiluettelo!E94=0,\"\",Resurssiluettelo!E94)","v":""},{"$f":"IF(Resurssiluettelo!F94=0,\"\",YEAR(Resurssiluettelo!F94)&IF(MONTH(Resurssiluettelo!F94)<10,\"0\",\"\")&MONTH(Resurssiluettelo!F94)&IF(DAY(Resurssiluettelo!F94)<10,\"0\",\"\")&DAY(Resurssiluettelo!F94))","v":""},{"$f":"IF(Resurssiluettelo!G94=0,\"\",Resurssiluettelo!G94)","v":""},{"$f":"IF(Resurssiluettelo!H94=0,\"\",Resurssiluettelo!H94)","v":""},{"$f":"IF(Resurssiluettelo!I94=0,\"\",Resurssiluettelo!I94)","v":""},{"$f":"IF(Resurssiluettelo!W94=0,\"\",Resurssiluettelo!W94)","v":""},{"$f":"IF(Resurssiluettelo!X94=0,\"\",Resurssiluettelo!X94)","v":""},{"$f":"IF(Resurssiluettelo!Y94=0,\"\",Resurssiluettelo!Y94)","v":""},{"$f":"IF(Resurssiluettelo!Z94=0,\"\",Resurssiluettelo!Z94)","v":""},{"$f":"IF(Resurssiluettelo!AA94=0,\"\",Resurssiluettelo!AA94)","v":""},{"$f":"IF(Resurssiluettelo!AB94=0,\"\",Resurssiluettelo!AB94)","v":""},{"$f":"IF(Resurssiluettelo!AC94=0,\"\",Resurssiluettelo!AC94)","v":""},{"$f":"IF(Resurssiluettelo!AD94=0,\"\",Resurssiluettelo!AD94)","v":""},{"$f":"IF(Resurssiluettelo!J94=0,\"\",Resurssiluettelo!J94)","v":""},{"$f":"IF(Resurssiluettelo!K94=0,\"\",Resurssiluettelo!K94)","v":""},{"$f":"IF(Resurssiluettelo!L94=0,\"\",Resurssiluettelo!L94)","v":""},{"$f":"IF(Resurssiluettelo!M94=0,\"\",Resurssiluettelo!M94)","v":""},{"$f":"IF(Resurssiluettelo!N94=0,\"\",Resurssiluettelo!N94)","v":""},{"$f":"IF(Resurssiluettelo!O94=0,\"\",Resurssiluettelo!O94)","v":""},{"$f":"IF(Resurssiluettelo!P94=0,\"\",Resurssiluettelo!P94)","v":""},{"$f":"IF(Resurssiluettelo!Q94=0,\"\",Resurssiluettelo!Q94)","v":""},{"$f":"IF(Resurssiluettelo!R94=0,\"\",Resurssiluettelo!R94)","v":""},{"$f":"IF(Resurssiluettelo!S94=0,\"\",Resurssiluettelo!S94)","v":""},{"$f":"IF(Resurssiluettelo!T94=0,\"\",Resurssiluettelo!T94)","v":""},{"$f":"IF(Resurssiluettelo!U94=0,\"\",Resurssiluettelo!U94)","v":""},{"$f":"IF(Resurssiluettelo!V94=0,\"\",Resurssiluettelo!V94)","v":""}]
[45,{"$f":"IF(Y48=\"\",\"\",Resurssiluettelo!$G$1)","v":""},{"$f":"IF(Y48=\"\",\"\",Resurssiluettelo!$H$14)","v":""},{"$f":"IF(Y48=\"\",\"\",Resurssiluettelo!$I$14)","v":""},{"$f":"IF(Y48=\"\",\"\",Resurssiluettelo!$J$14)","v":""},{"$f":"IF(Y48=\"\",\"\",Resurssiluettelo!$N$14)","v":""},{"$f":"IF(Y48=\"\",\"\",Resurssiluettelo!$O$14)","v":""},{"$f":"IF(Resurssiluettelo!B95=0,\"\",Resurssiluettelo!B95)","v":""},{"$f":"IF(Resurssiluettelo!C95=0,\"\",Resurssiluettelo!C95)","v":""},{"$f":"IF(Resurssiluettelo!D95=0,\"\",Resurssiluettelo!D95)","v":""},{"$f":"IF($J48=\"\",\"\",VLOOKUP($J48, Resurssiluettelo!$D$21:$X$40,Ohjeistus!K$98-1,FALSE))","v":""},{"$f":"IF($J48=\"\",\"\",VLOOKUP($J48, Resurssiluettelo!$D$21:$X$40,Ohjeistus!L$98-1,FALSE))","v":""},{"$f":"IF($J48=\"\",\"\",VLOOKUP($J48, Resurssiluettelo!$D$21:$X$40,Ohjeistus!M$98-1,FALSE))","v":""},{"$f":"IF($J48=\"\",\"\",VLOOKUP($J48, Resurssiluettelo!$D$21:$X$40,Ohjeistus!N$98-1,FALSE))","v":""},{"$f":"IF($J48=\"\",\"\",VLOOKUP($J48, Resurssiluettelo!$D$21:$X$40,Ohjeistus!O$98-1,FALSE))","v":""},{"$f":"IF($J48=\"\",\"\",VLOOKUP($J48, Resurssiluettelo!$D$21:$X$40,Ohjeistus!P$98-1,FALSE))","v":""},{"$f":"IF($J48=\"\",IF($I48=\"\",\"\",VLOOKUP($I48, Resurssiluettelo!$C$21:$X$40,Ohjeistus!Q$98,FALSE)),VLOOKUP($J48, Resurssiluettelo!$D$21:$X$40,Ohjeistus!Q$98-1,FALSE))","v":""},{"$f":"IF($J48=\"\",IF($I48=\"\",\"\",VLOOKUP($I48, Resurssiluettelo!$C$21:$X$40,Ohjeistus!R$98,FALSE)),VLOOKUP($J48, Resurssiluettelo!$D$21:$X$40,Ohjeistus!R$98-1,FALSE))","v":""},{"$f":"IF($J48=\"\",IF($I48=\"\",\"\",VLOOKUP($I48, Resurssiluettelo!$C$21:$X$40,Ohjeistus!S$98,FALSE)),VLOOKUP($J48, Resurssiluettelo!$D$21:$X$40,Ohjeistus!S$98-1,FALSE))","v":""},{"$f":"IF($J48=\"\",IF($I48=\"\",\"\",VLOOKUP($I48, Resurssiluettelo!$C$21:$X$40,Ohjeistus!T$98,FALSE)),VLOOKUP($J48, Resurssiluettelo!$D$21:$X$40,Ohjeistus!T$98-1,FALSE))","v":""},{"$f":"IF($J48=\"\",\"\",VLOOKUP($J48, Resurssiluettelo!$D$21:$X$40,Ohjeistus!U$98-1,FALSE))","v":""},{"$f":"IF($J48=\"\",\"\",VLOOKUP($J48, Resurssiluettelo!$D$21:$X$40,Ohjeistus!V$98-1,FALSE))","v":""},{"$f":"IF($J48=\"\",\"\",VLOOKUP($J48, Resurssiluettelo!$D$21:$X$40,Ohjeistus!W$98-1,FALSE))","v":""},{"$f":"IF($J48=\"\",\"\",VLOOKUP($J48, Resurssiluettelo!$D$21:$X$40,Ohjeistus!X$98-1,FALSE))","v":""},{"$f":"IF(Resurssiluettelo!E95=0,\"\",Resurssiluettelo!E95)","v":""},{"$f":"IF(Resurssiluettelo!F95=0,\"\",YEAR(Resurssiluettelo!F95)&IF(MONTH(Resurssiluettelo!F95)<10,\"0\",\"\")&MONTH(Resurssiluettelo!F95)&IF(DAY(Resurssiluettelo!F95)<10,\"0\",\"\")&DAY(Resurssiluettelo!F95))","v":""},{"$f":"IF(Resurssiluettelo!G95=0,\"\",Resurssiluettelo!G95)","v":""},{"$f":"IF(Resurssiluettelo!H95=0,\"\",Resurssiluettelo!H95)","v":""},{"$f":"IF(Resurssiluettelo!I95=0,\"\",Resurssiluettelo!I95)","v":""},{"$f":"IF(Resurssiluettelo!W95=0,\"\",Resurssiluettelo!W95)","v":""},{"$f":"IF(Resurssiluettelo!X95=0,\"\",Resurssiluettelo!X95)","v":""},{"$f":"IF(Resurssiluettelo!Y95=0,\"\",Resurssiluettelo!Y95)","v":""},{"$f":"IF(Resurssiluettelo!Z95=0,\"\",Resurssiluettelo!Z95)","v":""},{"$f":"IF(Resurssiluettelo!AA95=0,\"\",Resurssiluettelo!AA95)","v":""},{"$f":"IF(Resurssiluettelo!AB95=0,\"\",Resurssiluettelo!AB95)","v":""},{"$f":"IF(Resurssiluettelo!AC95=0,\"\",Resurssiluettelo!AC95)","v":""},{"$f":"IF(Resurssiluettelo!AD95=0,\"\",Resurssiluettelo!AD95)","v":""},{"$f":"IF(Resurssiluettelo!J95=0,\"\",Resurssiluettelo!J95)","v":""},{"$f":"IF(Resurssiluettelo!K95=0,\"\",Resurssiluettelo!K95)","v":""},{"$f":"IF(Resurssiluettelo!L95=0,\"\",Resurssiluettelo!L95)","v":""},{"$f":"IF(Resurssiluettelo!M95=0,\"\",Resurssiluettelo!M95)","v":""},{"$f":"IF(Resurssiluettelo!N95=0,\"\",Resurssiluettelo!N95)","v":""},{"$f":"IF(Resurssiluettelo!O95=0,\"\",Resurssiluettelo!O95)","v":""},{"$f":"IF(Resurssiluettelo!P95=0,\"\",Resurssiluettelo!P95)","v":""},{"$f":"IF(Resurssiluettelo!Q95=0,\"\",Resurssiluettelo!Q95)","v":""},{"$f":"IF(Resurssiluettelo!R95=0,\"\",Resurssiluettelo!R95)","v":""},{"$f":"IF(Resurssiluettelo!S95=0,\"\",Resurssiluettelo!S95)","v":""},{"$f":"IF(Resurssiluettelo!T95=0,\"\",Resurssiluettelo!T95)","v":""},{"$f":"IF(Resurssiluettelo!U95=0,\"\",Resurssiluettelo!U95)","v":""},{"$f":"IF(Resurssiluettelo!V95=0,\"\",Resurssiluettelo!V95)","v":""}]
[46,{"$f":"IF(Y49=\"\",\"\",Resurssiluettelo!$G$1)","v":""},{"$f":"IF(Y49=\"\",\"\",Resurssiluettelo!$H$14)","v":""},{"$f":"IF(Y49=\"\",\"\",Resurssiluettelo!$I$14)","v":""},{"$f":"IF(Y49=\"\",\"\",Resurssiluettelo!$J$14)","v":""},{"$f":"IF(Y49=\"\",\"\",Resurssiluettelo!$N$14)","v":""},{"$f":"IF(Y49=\"\",\"\",Resurssiluettelo!$O$14)","v":""},{"$f":"IF(Resurssiluettelo!B96=0,\"\",Resurssiluettelo!B96)","v":""},{"$f":"IF(Resurssiluettelo!C96=0,\"\",Resurssiluettelo!C96)","v":""},{"$f":"IF(Resurssiluettelo!D96=0,\"\",Resurssiluettelo!D96)","v":""},{"$f":"IF($J49=\"\",\"\",VLOOKUP($J49, Resurssiluettelo!$D$21:$X$40,Ohjeistus!K$98-1,FALSE))","v":""},{"$f":"IF($J49=\"\",\"\",VLOOKUP($J49, Resurssiluettelo!$D$21:$X$40,Ohjeistus!L$98-1,FALSE))","v":""},{"$f":"IF($J49=\"\",\"\",VLOOKUP($J49, Resurssiluettelo!$D$21:$X$40,Ohjeistus!M$98-1,FALSE))","v":""},{"$f":"IF($J49=\"\",\"\",VLOOKUP($J49, Resurssiluettelo!$D$21:$X$40,Ohjeistus!N$98-1,FALSE))","v":""},{"$f":"IF($J49=\"\",\"\",VLOOKUP($J49, Resurssiluettelo!$D$21:$X$40,Ohjeistus!O$98-1,FALSE))","v":""},{"$f":"IF($J49=\"\",\"\",VLOOKUP($J49, Resurssiluettelo!$D$21:$X$40,Ohjeistus!P$98-1,FALSE))","v":""},{"$f":"IF($J49=\"\",IF($I49=\"\",\"\",VLOOKUP($I49, Resurssiluettelo!$C$21:$X$40,Ohjeistus!Q$98,FALSE)),VLOOKUP($J49, Resurssiluettelo!$D$21:$X$40,Ohjeistus!Q$98-1,FALSE))","v":""},{"$f":"IF($J49=\"\",IF($I49=\"\",\"\",VLOOKUP($I49, Resurssiluettelo!$C$21:$X$40,Ohjeistus!R$98,FALSE)),VLOOKUP($J49, Resurssiluettelo!$D$21:$X$40,Ohjeistus!R$98-1,FALSE))","v":""},{"$f":"IF($J49=\"\",IF($I49=\"\",\"\",VLOOKUP($I49, Resurssiluettelo!$C$21:$X$40,Ohjeistus!S$98,FALSE)),VLOOKUP($J49, Resurssiluettelo!$D$21:$X$40,Ohjeistus!S$98-1,FALSE))","v":""},{"$f":"IF($J49=\"\",IF($I49=\"\",\"\",VLOOKUP($I49, Resurssiluettelo!$C$21:$X$40,Ohjeistus!T$98,FALSE)),VLOOKUP($J49, Resurssiluettelo!$D$21:$X$40,Ohjeistus!T$98-1,FALSE))","v":""},{"$f":"IF($J49=\"\",\"\",VLOOKUP($J49, Resurssiluettelo!$D$21:$X$40,Ohjeistus!U$98-1,FALSE))","v":""},{"$f":"IF($J49=\"\",\"\",VLOOKUP($J49, Resurssiluettelo!$D$21:$X$40,Ohjeistus!V$98-1,FALSE))","v":""},{"$f":"IF($J49=\"\",\"\",VLOOKUP($J49, Resurssiluettelo!$D$21:$X$40,Ohjeistus!W$98-1,FALSE))","v":""},{"$f":"IF($J49=\"\",\"\",VLOOKUP($J49, Resurssiluettelo!$D$21:$X$40,Ohjeistus!X$98-1,FALSE))","v":""},{"$f":"IF(Resurssiluettelo!E96=0,\"\",Resurssiluettelo!E96)","v":""},{"$f":"IF(Resurssiluettelo!F96=0,\"\",YEAR(Resurssiluettelo!F96)&IF(MONTH(Resurssiluettelo!F96)<10,\"0\",\"\")&MONTH(Resurssiluettelo!F96)&IF(DAY(Resurssiluettelo!F96)<10,\"0\",\"\")&DAY(Resurssiluettelo!F96))","v":""},{"$f":"IF(Resurssiluettelo!G96=0,\"\",Resurssiluettelo!G96)","v":""},{"$f":"IF(Resurssiluettelo!H96=0,\"\",Resurssiluettelo!H96)","v":""},{"$f":"IF(Resurssiluettelo!I96=0,\"\",Resurssiluettelo!I96)","v":""},{"$f":"IF(Resurssiluettelo!W96=0,\"\",Resurssiluettelo!W96)","v":""},{"$f":"IF(Resurssiluettelo!X96=0,\"\",Resurssiluettelo!X96)","v":""},{"$f":"IF(Resurssiluettelo!Y96=0,\"\",Resurssiluettelo!Y96)","v":""},{"$f":"IF(Resurssiluettelo!Z96=0,\"\",Resurssiluettelo!Z96)","v":""},{"$f":"IF(Resurssiluettelo!AA96=0,\"\",Resurssiluettelo!AA96)","v":""},{"$f":"IF(Resurssiluettelo!AB96=0,\"\",Resurssiluettelo!AB96)","v":""},{"$f":"IF(Resurssiluettelo!AC96=0,\"\",Resurssiluettelo!AC96)","v":""},{"$f":"IF(Resurssiluettelo!AD96=0,\"\",Resurssiluettelo!AD96)","v":""},{"$f":"IF(Resurssiluettelo!J96=0,\"\",Resurssiluettelo!J96)","v":""},{"$f":"IF(Resurssiluettelo!K96=0,\"\",Resurssiluettelo!K96)","v":""},{"$f":"IF(Resurssiluettelo!L96=0,\"\",Resurssiluettelo!L96)","v":""},{"$f":"IF(Resurssiluettelo!M96=0,\"\",Resurssiluettelo!M96)","v":""},{"$f":"IF(Resurssiluettelo!N96=0,\"\",Resurssiluettelo!N96)","v":""},{"$f":"IF(Resurssiluettelo!O96=0,\"\",Resurssiluettelo!O96)","v":""},{"$f":"IF(Resurssiluettelo!P96=0,\"\",Resurssiluettelo!P96)","v":""},{"$f":"IF(Resurssiluettelo!Q96=0,\"\",Resurssiluettelo!Q96)","v":""},{"$f":"IF(Resurssiluettelo!R96=0,\"\",Resurssiluettelo!R96)","v":""},{"$f":"IF(Resurssiluettelo!S96=0,\"\",Resurssiluettelo!S96)","v":""},{"$f":"IF(Resurssiluettelo!T96=0,\"\",Resurssiluettelo!T96)","v":""},{"$f":"IF(Resurssiluettelo!U96=0,\"\",Resurssiluettelo!U96)","v":""},{"$f":"IF(Resurssiluettelo!V96=0,\"\",Resurssiluettelo!V96)","v":""}]
[47,{"$f":"IF(Y50=\"\",\"\",Resurssiluettelo!$G$1)","v":""},{"$f":"IF(Y50=\"\",\"\",Resurssiluettelo!$H$14)","v":""},{"$f":"IF(Y50=\"\",\"\",Resurssiluettelo!$I$14)","v":""},{"$f":"IF(Y50=\"\",\"\",Resurssiluettelo!$J$14)","v":""},{"$f":"IF(Y50=\"\",\"\",Resurssiluettelo!$N$14)","v":""},{"$f":"IF(Y50=\"\",\"\",Resurssiluettelo!$O$14)","v":""},{"$f":"IF(Resurssiluettelo!B97=0,\"\",Resurssiluettelo!B97)","v":""},{"$f":"IF(Resurssiluettelo!C97=0,\"\",Resurssiluettelo!C97)","v":""},{"$f":"IF(Resurssiluettelo!D97=0,\"\",Resurssiluettelo!D97)","v":""},{"$f":"IF($J50=\"\",\"\",VLOOKUP($J50, Resurssiluettelo!$D$21:$X$40,Ohjeistus!K$98-1,FALSE))","v":""},{"$f":"IF($J50=\"\",\"\",VLOOKUP($J50, Resurssiluettelo!$D$21:$X$40,Ohjeistus!L$98-1,FALSE))","v":""},{"$f":"IF($J50=\"\",\"\",VLOOKUP($J50, Resurssiluettelo!$D$21:$X$40,Ohjeistus!M$98-1,FALSE))","v":""},{"$f":"IF($J50=\"\",\"\",VLOOKUP($J50, Resurssiluettelo!$D$21:$X$40,Ohjeistus!N$98-1,FALSE))","v":""},{"$f":"IF($J50=\"\",\"\",VLOOKUP($J50, Resurssiluettelo!$D$21:$X$40,Ohjeistus!O$98-1,FALSE))","v":""},{"$f":"IF($J50=\"\",\"\",VLOOKUP($J50, Resurssiluettelo!$D$21:$X$40,Ohjeistus!P$98-1,FALSE))","v":""},{"$f":"IF($J50=\"\",IF($I50=\"\",\"\",VLOOKUP($I50, Resurssiluettelo!$C$21:$X$40,Ohjeistus!Q$98,FALSE)),VLOOKUP($J50, Resurssiluettelo!$D$21:$X$40,Ohjeistus!Q$98-1,FALSE))","v":""},{"$f":"IF($J50=\"\",IF($I50=\"\",\"\",VLOOKUP($I50, Resurssiluettelo!$C$21:$X$40,Ohjeistus!R$98,FALSE)),VLOOKUP($J50, Resurssiluettelo!$D$21:$X$40,Ohjeistus!R$98-1,FALSE))","v":""},{"$f":"IF($J50=\"\",IF($I50=\"\",\"\",VLOOKUP($I50, Resurssiluettelo!$C$21:$X$40,Ohjeistus!S$98,FALSE)),VLOOKUP($J50, Resurssiluettelo!$D$21:$X$40,Ohjeistus!S$98-1,FALSE))","v":""},{"$f":"IF($J50=\"\",IF($I50=\"\",\"\",VLOOKUP($I50, Resurssiluettelo!$C$21:$X$40,Ohjeistus!T$98,FALSE)),VLOOKUP($J50, Resurssiluettelo!$D$21:$X$40,Ohjeistus!T$98-1,FALSE))","v":""},{"$f":"IF($J50=\"\",\"\",VLOOKUP($J50, Resurssiluettelo!$D$21:$X$40,Ohjeistus!U$98-1,FALSE))","v":""},{"$f":"IF($J50=\"\",\"\",VLOOKUP($J50, Resurssiluettelo!$D$21:$X$40,Ohjeistus!V$98-1,FALSE))","v":""},{"$f":"IF($J50=\"\",\"\",VLOOKUP($J50, Resurssiluettelo!$D$21:$X$40,Ohjeistus!W$98-1,FALSE))","v":""},{"$f":"IF($J50=\"\",\"\",VLOOKUP($J50, Resurssiluettelo!$D$21:$X$40,Ohjeistus!X$98-1,FALSE))","v":""},{"$f":"IF(Resurssiluettelo!E97=0,\"\",Resurssiluettelo!E97)","v":""},{"$f":"IF(Resurssiluettelo!F97=0,\"\",YEAR(Resurssiluettelo!F97)&IF(MONTH(Resurssiluettelo!F97)<10,\"0\",\"\")&MONTH(Resurssiluettelo!F97)&IF(DAY(Resurssiluettelo!F97)<10,\"0\",\"\")&DAY(Resurssiluettelo!F97))","v":""},{"$f":"IF(Resurssiluettelo!G97=0,\"\",Resurssiluettelo!G97)","v":""},{"$f":"IF(Resurssiluettelo!H97=0,\"\",Resurssiluettelo!H97)","v":""},{"$f":"IF(Resurssiluettelo!I97=0,\"\",Resurssiluettelo!I97)","v":""},{"$f":"IF(Resurssiluettelo!W97=0,\"\",Resurssiluettelo!W97)","v":""},{"$f":"IF(Resurssiluettelo!X97=0,\"\",Resurssiluettelo!X97)","v":""},{"$f":"IF(Resurssiluettelo!Y97=0,\"\",Resurssiluettelo!Y97)","v":""},{"$f":"IF(Resurssiluettelo!Z97=0,\"\",Resurssiluettelo!Z97)","v":""},{"$f":"IF(Resurssiluettelo!AA97=0,\"\",Resurssiluettelo!AA97)","v":""},{"$f":"IF(Resurssiluettelo!AB97=0,\"\",Resurssiluettelo!AB97)","v":""},{"$f":"IF(Resurssiluettelo!AC97=0,\"\",Resurssiluettelo!AC97)","v":""},{"$f":"IF(Resurssiluettelo!AD97=0,\"\",Resurssiluettelo!AD97)","v":""},{"$f":"IF(Resurssiluettelo!J97=0,\"\",Resurssiluettelo!J97)","v":""},{"$f":"IF(Resurssiluettelo!K97=0,\"\",Resurssiluettelo!K97)","v":""},{"$f":"IF(Resurssiluettelo!L97=0,\"\",Resurssiluettelo!L97)","v":""},{"$f":"IF(Resurssiluettelo!M97=0,\"\",Resurssiluettelo!M97)","v":""},{"$f":"IF(Resurssiluettelo!N97=0,\"\",Resurssiluettelo!N97)","v":""},{"$f":"IF(Resurssiluettelo!O97=0,\"\",Resurssiluettelo!O97)","v":""},{"$f":"IF(Resurssiluettelo!P97=0,\"\",Resurssiluettelo!P97)","v":""},{"$f":"IF(Resurssiluettelo!Q97=0,\"\",Resurssiluettelo!Q97)","v":""},{"$f":"IF(Resurssiluettelo!R97=0,\"\",Resurssiluettelo!R97)","v":""},{"$f":"IF(Resurssiluettelo!S97=0,\"\",Resurssiluettelo!S97)","v":""},{"$f":"IF(Resurssiluettelo!T97=0,\"\",Resurssiluettelo!T97)","v":""},{"$f":"IF(Resurssiluettelo!U97=0,\"\",Resurssiluettelo!U97)","v":""},{"$f":"IF(Resurssiluettelo!V97=0,\"\",Resurssiluettelo!V97)","v":""}]
[48,{"$f":"IF(Y51=\"\",\"\",Resurssiluettelo!$G$1)","v":""},{"$f":"IF(Y51=\"\",\"\",Resurssiluettelo!$H$14)","v":""},{"$f":"IF(Y51=\"\",\"\",Resurssiluettelo!$I$14)","v":""},{"$f":"IF(Y51=\"\",\"\",Resurssiluettelo!$J$14)","v":""},{"$f":"IF(Y51=\"\",\"\",Resurssiluettelo!$N$14)","v":""},{"$f":"IF(Y51=\"\",\"\",Resurssiluettelo!$O$14)","v":""},{"$f":"IF(Resurssiluettelo!B98=0,\"\",Resurssiluettelo!B98)","v":""},{"$f":"IF(Resurssiluettelo!C98=0,\"\",Resurssiluettelo!C98)","v":""},{"$f":"IF(Resurssiluettelo!D98=0,\"\",Resurssiluettelo!D98)","v":""},{"$f":"IF($J51=\"\",\"\",VLOOKUP($J51, Resurssiluettelo!$D$21:$X$40,Ohjeistus!K$98-1,FALSE))","v":""},{"$f":"IF($J51=\"\",\"\",VLOOKUP($J51, Resurssiluettelo!$D$21:$X$40,Ohjeistus!L$98-1,FALSE))","v":""},{"$f":"IF($J51=\"\",\"\",VLOOKUP($J51, Resurssiluettelo!$D$21:$X$40,Ohjeistus!M$98-1,FALSE))","v":""},{"$f":"IF($J51=\"\",\"\",VLOOKUP($J51, Resurssiluettelo!$D$21:$X$40,Ohjeistus!N$98-1,FALSE))","v":""},{"$f":"IF($J51=\"\",\"\",VLOOKUP($J51, Resurssiluettelo!$D$21:$X$40,Ohjeistus!O$98-1,FALSE))","v":""},{"$f":"IF($J51=\"\",\"\",VLOOKUP($J51, Resurssiluettelo!$D$21:$X$40,Ohjeistus!P$98-1,FALSE))","v":""},{"$f":"IF($J51=\"\",IF($I51=\"\",\"\",VLOOKUP($I51, Resurssiluettelo!$C$21:$X$40,Ohjeistus!Q$98,FALSE)),VLOOKUP($J51, Resurssiluettelo!$D$21:$X$40,Ohjeistus!Q$98-1,FALSE))","v":""},{"$f":"IF($J51=\"\",IF($I51=\"\",\"\",VLOOKUP($I51, Resurssiluettelo!$C$21:$X$40,Ohjeistus!R$98,FALSE)),VLOOKUP($J51, Resurssiluettelo!$D$21:$X$40,Ohjeistus!R$98-1,FALSE))","v":""},{"$f":"IF($J51=\"\",IF($I51=\"\",\"\",VLOOKUP($I51, Resurssiluettelo!$C$21:$X$40,Ohjeistus!S$98,FALSE)),VLOOKUP($J51, Resurssiluettelo!$D$21:$X$40,Ohjeistus!S$98-1,FALSE))","v":""},{"$f":"IF($J51=\"\",IF($I51=\"\",\"\",VLOOKUP($I51, Resurssiluettelo!$C$21:$X$40,Ohjeistus!T$98,FALSE)),VLOOKUP($J51, Resurssiluettelo!$D$21:$X$40,Ohjeistus!T$98-1,FALSE))","v":""},{"$f":"IF($J51=\"\",\"\",VLOOKUP($J51, Resurssiluettelo!$D$21:$X$40,Ohjeistus!U$98-1,FALSE))","v":""},{"$f":"IF($J51=\"\",\"\",VLOOKUP($J51, Resurssiluettelo!$D$21:$X$40,Ohjeistus!V$98-1,FALSE))","v":""},{"$f":"IF($J51=\"\",\"\",VLOOKUP($J51, Resurssiluettelo!$D$21:$X$40,Ohjeistus!W$98-1,FALSE))","v":""},{"$f":"IF($J51=\"\",\"\",VLOOKUP($J51, Resurssiluettelo!$D$21:$X$40,Ohjeistus!X$98-1,FALSE))","v":""},{"$f":"IF(Resurssiluettelo!E98=0,\"\",Resurssiluettelo!E98)","v":""},{"$f":"IF(Resurssiluettelo!F98=0,\"\",YEAR(Resurssiluettelo!F98)&IF(MONTH(Resurssiluettelo!F98)<10,\"0\",\"\")&MONTH(Resurssiluettelo!F98)&IF(DAY(Resurssiluettelo!F98)<10,\"0\",\"\")&DAY(Resurssiluettelo!F98))","v":""},{"$f":"IF(Resurssiluettelo!G98=0,\"\",Resurssiluettelo!G98)","v":""},{"$f":"IF(Resurssiluettelo!H98=0,\"\",Resurssiluettelo!H98)","v":""},{"$f":"IF(Resurssiluettelo!I98=0,\"\",Resurssiluettelo!I98)","v":""},{"$f":"IF(Resurssiluettelo!W98=0,\"\",Resurssiluettelo!W98)","v":""},{"$f":"IF(Resurssiluettelo!X98=0,\"\",Resurssiluettelo!X98)","v":""},{"$f":"IF(Resurssiluettelo!Y98=0,\"\",Resurssiluettelo!Y98)","v":""},{"$f":"IF(Resurssiluettelo!Z98=0,\"\",Resurssiluettelo!Z98)","v":""},{"$f":"IF(Resurssiluettelo!AA98=0,\"\",Resurssiluettelo!AA98)","v":""},{"$f":"IF(Resurssiluettelo!AB98=0,\"\",Resurssiluettelo!AB98)","v":""},{"$f":"IF(Resurssiluettelo!AC98=0,\"\",Resurssiluettelo!AC98)","v":""},{"$f":"IF(Resurssiluettelo!AD98=0,\"\",Resurssiluettelo!AD98)","v":""},{"$f":"IF(Resurssiluettelo!J98=0,\"\",Resurssiluettelo!J98)","v":""},{"$f":"IF(Resurssiluettelo!K98=0,\"\",Resurssiluettelo!K98)","v":""},{"$f":"IF(Resurssiluettelo!L98=0,\"\",Resurssiluettelo!L98)","v":""},{"$f":"IF(Resurssiluettelo!M98=0,\"\",Resurssiluettelo!M98)","v":""},{"$f":"IF(Resurssiluettelo!N98=0,\"\",Resurssiluettelo!N98)","v":""},{"$f":"IF(Resurssiluettelo!O98=0,\"\",Resurssiluettelo!O98)","v":""},{"$f":"IF(Resurssiluettelo!P98=0,\"\",Resurssiluettelo!P98)","v":""},{"$f":"IF(Resurssiluettelo!Q98=0,\"\",Resurssiluettelo!Q98)","v":""},{"$f":"IF(Resurssiluettelo!R98=0,\"\",Resurssiluettelo!R98)","v":""},{"$f":"IF(Resurssiluettelo!S98=0,\"\",Resurssiluettelo!S98)","v":""},{"$f":"IF(Resurssiluettelo!T98=0,\"\",Resurssiluettelo!T98)","v":""},{"$f":"IF(Resurssiluettelo!U98=0,\"\",Resurssiluettelo!U98)","v":""},{"$f":"IF(Resurssiluettelo!V98=0,\"\",Resurssiluettelo!V98)","v":""}]
[49,{"$f":"IF(Y52=\"\",\"\",Resurssiluettelo!$G$1)","v":""},{"$f":"IF(Y52=\"\",\"\",Resurssiluettelo!$H$14)","v":""},{"$f":"IF(Y52=\"\",\"\",Resurssiluettelo!$I$14)","v":""},{"$f":"IF(Y52=\"\",\"\",Resurssiluettelo!$J$14)","v":""},{"$f":"IF(Y52=\"\",\"\",Resurssiluettelo!$N$14)","v":""},{"$f":"IF(Y52=\"\",\"\",Resurssiluettelo!$O$14)","v":""},{"$f":"IF(Resurssiluettelo!B99=0,\"\",Resurssiluettelo!B99)","v":""},{"$f":"IF(Resurssiluettelo!C99=0,\"\",Resurssiluettelo!C99)","v":""},{"$f":"IF(Resurssiluettelo!D99=0,\"\",Resurssiluettelo!D99)","v":""},{"$f":"IF($J52=\"\",\"\",VLOOKUP($J52, Resurssiluettelo!$D$21:$X$40,Ohjeistus!K$98-1,FALSE))","v":""},{"$f":"IF($J52=\"\",\"\",VLOOKUP($J52, Resurssiluettelo!$D$21:$X$40,Ohjeistus!L$98-1,FALSE))","v":""},{"$f":"IF($J52=\"\",\"\",VLOOKUP($J52, Resurssiluettelo!$D$21:$X$40,Ohjeistus!M$98-1,FALSE))","v":""},{"$f":"IF($J52=\"\",\"\",VLOOKUP($J52, Resurssiluettelo!$D$21:$X$40,Ohjeistus!N$98-1,FALSE))","v":""},{"$f":"IF($J52=\"\",\"\",VLOOKUP($J52, Resurssiluettelo!$D$21:$X$40,Ohjeistus!O$98-1,FALSE))","v":""},{"$f":"IF($J52=\"\",\"\",VLOOKUP($J52, Resurssiluettelo!$D$21:$X$40,Ohjeistus!P$98-1,FALSE))","v":""},{"$f":"IF($J52=\"\",IF($I52=\"\",\"\",VLOOKUP($I52, Resurssiluettelo!$C$21:$X$40,Ohjeistus!Q$98,FALSE)),VLOOKUP($J52, Resurssiluettelo!$D$21:$X$40,Ohjeistus!Q$98-1,FALSE))","v":""},{"$f":"IF($J52=\"\",IF($I52=\"\",\"\",VLOOKUP($I52, Resurssiluettelo!$C$21:$X$40,Ohjeistus!R$98,FALSE)),VLOOKUP($J52, Resurssiluettelo!$D$21:$X$40,Ohjeistus!R$98-1,FALSE))","v":""},{"$f":"IF($J52=\"\",IF($I52=\"\",\"\",VLOOKUP($I52, Resurssiluettelo!$C$21:$X$40,Ohjeistus!S$98,FALSE)),VLOOKUP($J52, Resurssiluettelo!$D$21:$X$40,Ohjeistus!S$98-1,FALSE))","v":""},{"$f":"IF($J52=\"\",IF($I52=\"\",\"\",VLOOKUP($I52, Resurssiluettelo!$C$21:$X$40,Ohjeistus!T$98,FALSE)),VLOOKUP($J52, Resurssiluettelo!$D$21:$X$40,Ohjeistus!T$98-1,FALSE))","v":""},{"$f":"IF($J52=\"\",\"\",VLOOKUP($J52, Resurssiluettelo!$D$21:$X$40,Ohjeistus!U$98-1,FALSE))","v":""},{"$f":"IF($J52=\"\",\"\",VLOOKUP($J52, Resurssiluettelo!$D$21:$X$40,Ohjeistus!V$98-1,FALSE))","v":""},{"$f":"IF($J52=\"\",\"\",VLOOKUP($J52, Resurssiluettelo!$D$21:$X$40,Ohjeistus!W$98-1,FALSE))","v":""},{"$f":"IF($J52=\"\",\"\",VLOOKUP($J52, Resurssiluettelo!$D$21:$X$40,Ohjeistus!X$98-1,FALSE))","v":""},{"$f":"IF(Resurssiluettelo!E99=0,\"\",Resurssiluettelo!E99)","v":""},{"$f":"IF(Resurssiluettelo!F99=0,\"\",YEAR(Resurssiluettelo!F99)&IF(MONTH(Resurssiluettelo!F99)<10,\"0\",\"\")&MONTH(Resurssiluettelo!F99)&IF(DAY(Resurssiluettelo!F99)<10,\"0\",\"\")&DAY(Resurssiluettelo!F99))","v":""},{"$f":"IF(Resurssiluettelo!G99=0,\"\",Resurssiluettelo!G99)","v":""},{"$f":"IF(Resurssiluettelo!H99=0,\"\",Resurssiluettelo!H99)","v":""},{"$f":"IF(Resurssiluettelo!I99=0,\"\",Resurssiluettelo!I99)","v":""},{"$f":"IF(Resurssiluettelo!W99=0,\"\",Resurssiluettelo!W99)","v":""},{"$f":"IF(Resurssiluettelo!X99=0,\"\",Resurssiluettelo!X99)","v":""},{"$f":"IF(Resurssiluettelo!Y99=0,\"\",Resurssiluettelo!Y99)","v":""},{"$f":"IF(Resurssiluettelo!Z99=0,\"\",Resurssiluettelo!Z99)","v":""},{"$f":"IF(Resurssiluettelo!AA99=0,\"\",Resurssiluettelo!AA99)","v":""},{"$f":"IF(Resurssiluettelo!AB99=0,\"\",Resurssiluettelo!AB99)","v":""},{"$f":"IF(Resurssiluettelo!AC99=0,\"\",Resurssiluettelo!AC99)","v":""},{"$f":"IF(Resurssiluettelo!AD99=0,\"\",Resurssiluettelo!AD99)","v":""},{"$f":"IF(Resurssiluettelo!J99=0,\"\",Resurssiluettelo!J99)","v":""},{"$f":"IF(Resurssiluettelo!K99=0,\"\",Resurssiluettelo!K99)","v":""},{"$f":"IF(Resurssiluettelo!L99=0,\"\",Resurssiluettelo!L99)","v":""},{"$f":"IF(Resurssiluettelo!M99=0,\"\",Resurssiluettelo!M99)","v":""},{"$f":"IF(Resurssiluettelo!N99=0,\"\",Resurssiluettelo!N99)","v":""},{"$f":"IF(Resurssiluettelo!O99=0,\"\",Resurssiluettelo!O99)","v":""},{"$f":"IF(Resurssiluettelo!P99=0,\"\",Resurssiluettelo!P99)","v":""},{"$f":"IF(Resurssiluettelo!Q99=0,\"\",Resurssiluettelo!Q99)","v":""},{"$f":"IF(Resurssiluettelo!R99=0,\"\",Resurssiluettelo!R99)","v":""},{"$f":"IF(Resurssiluettelo!S99=0,\"\",Resurssiluettelo!S99)","v":""},{"$f":"IF(Resurssiluettelo!T99=0,\"\",Resurssiluettelo!T99)","v":""},{"$f":"IF(Resurssiluettelo!U99=0,\"\",Resurssiluettelo!U99)","v":""},{"$f":"IF(Resurssiluettelo!V99=0,\"\",Resurssiluettelo!V99)","v":""}]
[50,{"$f":"IF(Y53=\"\",\"\",Resurssiluettelo!$G$1)","v":""},{"$f":"IF(Y53=\"\",\"\",Resurssiluettelo!$H$14)","v":""},{"$f":"IF(Y53=\"\",\"\",Resurssiluettelo!$I$14)","v":""},{"$f":"IF(Y53=\"\",\"\",Resurssiluettelo!$J$14)","v":""},{"$f":"IF(Y53=\"\",\"\",Resurssiluettelo!$N$14)","v":""},{"$f":"IF(Y53=\"\",\"\",Resurssiluettelo!$O$14)","v":""},{"$f":"IF(Resurssiluettelo!B100=0,\"\",Resurssiluettelo!B100)","v":""},{"$f":"IF(Resurssiluettelo!C100=0,\"\",Resurssiluettelo!C100)","v":""},{"$f":"IF(Resurssiluettelo!D100=0,\"\",Resurssiluettelo!D100)","v":""},{"$f":"IF($J53=\"\",\"\",VLOOKUP($J53, Resurssiluettelo!$D$21:$X$40,Ohjeistus!K$98-1,FALSE))","v":""},{"$f":"IF($J53=\"\",\"\",VLOOKUP($J53, Resurssiluettelo!$D$21:$X$40,Ohjeistus!L$98-1,FALSE))","v":""},{"$f":"IF($J53=\"\",\"\",VLOOKUP($J53, Resurssiluettelo!$D$21:$X$40,Ohjeistus!M$98-1,FALSE))","v":""},{"$f":"IF($J53=\"\",\"\",VLOOKUP($J53, Resurssiluettelo!$D$21:$X$40,Ohjeistus!N$98-1,FALSE))","v":""},{"$f":"IF($J53=\"\",\"\",VLOOKUP($J53, Resurssiluettelo!$D$21:$X$40,Ohjeistus!O$98-1,FALSE))","v":""},{"$f":"IF($J53=\"\",\"\",VLOOKUP($J53, Resurssiluettelo!$D$21:$X$40,Ohjeistus!P$98-1,FALSE))","v":""},{"$f":"IF($J53=\"\",IF($I53=\"\",\"\",VLOOKUP($I53, Resurssiluettelo!$C$21:$X$40,Ohjeistus!Q$98,FALSE)),VLOOKUP($J53, Resurssiluettelo!$D$21:$X$40,Ohjeistus!Q$98-1,FALSE))","v":""},{"$f":"IF($J53=\"\",IF($I53=\"\",\"\",VLOOKUP($I53, Resurssiluettelo!$C$21:$X$40,Ohjeistus!R$98,FALSE)),VLOOKUP($J53, Resurssiluettelo!$D$21:$X$40,Ohjeistus!R$98-1,FALSE))","v":""},{"$f":"IF($J53=\"\",IF($I53=\"\",\"\",VLOOKUP($I53, Resurssiluettelo!$C$21:$X$40,Ohjeistus!S$98,FALSE)),VLOOKUP($J53, Resurssiluettelo!$D$21:$X$40,Ohjeistus!S$98-1,FALSE))","v":""},{"$f":"IF($J53=\"\",IF($I53=\"\",\"\",VLOOKUP($I53, Resurssiluettelo!$C$21:$X$40,Ohjeistus!T$98,FALSE)),VLOOKUP($J53, Resurssiluettelo!$D$21:$X$40,Ohjeistus!T$98-1,FALSE))","v":""},{"$f":"IF($J53=\"\",\"\",VLOOKUP($J53, Resurssiluettelo!$D$21:$X$40,Ohjeistus!U$98-1,FALSE))","v":""},{"$f":"IF($J53=\"\",\"\",VLOOKUP($J53, Resurssiluettelo!$D$21:$X$40,Ohjeistus!V$98-1,FALSE))","v":""},{"$f":"IF($J53=\"\",\"\",VLOOKUP($J53, Resurssiluettelo!$D$21:$X$40,Ohjeistus!W$98-1,FALSE))","v":""},{"$f":"IF($J53=\"\",\"\",VLOOKUP($J53, Resurssiluettelo!$D$21:$X$40,Ohjeistus!X$98-1,FALSE))","v":""},{"$f":"IF(Resurssiluettelo!E100=0,\"\",Resurssiluettelo!E100)","v":""},{"$f":"IF(Resurssiluettelo!F100=0,\"\",YEAR(Resurssiluettelo!F100)&IF(MONTH(Resurssiluettelo!F100)<10,\"0\",\"\")&MONTH(Resurssiluettelo!F100)&IF(DAY(Resurssiluettelo!F100)<10,\"0\",\"\")&DAY(Resurssiluettelo!F100))","v":""},{"$f":"IF(Resurssiluettelo!G100=0,\"\",Resurssiluettelo!G100)","v":""},{"$f":"IF(Resurssiluettelo!H100=0,\"\",Resurssiluettelo!H100)","v":""},{"$f":"IF(Resurssiluettelo!I100=0,\"\",Resurssiluettelo!I100)","v":""},{"$f":"IF(Resurssiluettelo!W100=0,\"\",Resurssiluettelo!W100)","v":""},{"$f":"IF(Resurssiluettelo!X100=0,\"\",Resurssiluettelo!X100)","v":""},{"$f":"IF(Resurssiluettelo!Y100=0,\"\",Resurssiluettelo!Y100)","v":""},{"$f":"IF(Resurssiluettelo!Z100=0,\"\",Resurssiluettelo!Z100)","v":""},{"$f":"IF(Resurssiluettelo!AA100=0,\"\",Resurssiluettelo!AA100)","v":""},{"$f":"IF(Resurssiluettelo!AB100=0,\"\",Resurssiluettelo!AB100)","v":""},{"$f":"IF(Resurssiluettelo!AC100=0,\"\",Resurssiluettelo!AC100)","v":""},{"$f":"IF(Resurssiluettelo!AD100=0,\"\",Resurssiluettelo!AD100)","v":""},{"$f":"IF(Resurssiluettelo!J100=0,\"\",Resurssiluettelo!J100)","v":""},{"$f":"IF(Resurssiluettelo!K100=0,\"\",Resurssiluettelo!K100)","v":""},{"$f":"IF(Resurssiluettelo!L100=0,\"\",Resurssiluettelo!L100)","v":""},{"$f":"IF(Resurssiluettelo!M100=0,\"\",Resurssiluettelo!M100)","v":""},{"$f":"IF(Resurssiluettelo!N100=0,\"\",Resurssiluettelo!N100)","v":""},{"$f":"IF(Resurssiluettelo!O100=0,\"\",Resurssiluettelo!O100)","v":""},{"$f":"IF(Resurssiluettelo!P100=0,\"\",Resurssiluettelo!P100)","v":""},{"$f":"IF(Resurssiluettelo!Q100=0,\"\",Resurssiluettelo!Q100)","v":""},{"$f":"IF(Resurssiluettelo!R100=0,\"\",Resurssiluettelo!R100)","v":""},{"$f":"IF(Resurssiluettelo!S100=0,\"\",Resurssiluettelo!S100)","v":""},{"$f":"IF(Resurssiluettelo!T100=0,\"\",Resurssiluettelo!T100)","v":""},{"$f":"IF(Resurssiluettelo!U100=0,\"\",Resurssiluettelo!U100)","v":""},{"$f":"IF(Resurssiluettelo!V100=0,\"\",Resurssiluettelo!V100)","v":""}]
[51,{"$f":"IF(Y54=\"\",\"\",Resurssiluettelo!$G$1)","v":""},{"$f":"IF(Y54=\"\",\"\",Resurssiluettelo!$H$14)","v":""},{"$f":"IF(Y54=\"\",\"\",Resurssiluettelo!$I$14)","v":""},{"$f":"IF(Y54=\"\",\"\",Resurssiluettelo!$J$14)","v":""},{"$f":"IF(Y54=\"\",\"\",Resurssiluettelo!$N$14)","v":""},{"$f":"IF(Y54=\"\",\"\",Resurssiluettelo!$O$14)","v":""},{"$f":"IF(Resurssiluettelo!B101=0,\"\",Resurssiluettelo!B101)","v":""},{"$f":"IF(Resurssiluettelo!C101=0,\"\",Resurssiluettelo!C101)","v":""},{"$f":"IF(Resurssiluettelo!D101=0,\"\",Resurssiluettelo!D101)","v":""},{"$f":"IF($J54=\"\",\"\",VLOOKUP($J54, Resurssiluettelo!$D$21:$X$40,Ohjeistus!K$98-1,FALSE))","v":""},{"$f":"IF($J54=\"\",\"\",VLOOKUP($J54, Resurssiluettelo!$D$21:$X$40,Ohjeistus!L$98-1,FALSE))","v":""},{"$f":"IF($J54=\"\",\"\",VLOOKUP($J54, Resurssiluettelo!$D$21:$X$40,Ohjeistus!M$98-1,FALSE))","v":""},{"$f":"IF($J54=\"\",\"\",VLOOKUP($J54, Resurssiluettelo!$D$21:$X$40,Ohjeistus!N$98-1,FALSE))","v":""},{"$f":"IF($J54=\"\",\"\",VLOOKUP($J54, Resurssiluettelo!$D$21:$X$40,Ohjeistus!O$98-1,FALSE))","v":""},{"$f":"IF($J54=\"\",\"\",VLOOKUP($J54, Resurssiluettelo!$D$21:$X$40,Ohjeistus!P$98-1,FALSE))","v":""},{"$f":"IF($J54=\"\",IF($I54=\"\",\"\",VLOOKUP($I54, Resurssiluettelo!$C$21:$X$40,Ohjeistus!Q$98,FALSE)),VLOOKUP($J54, Resurssiluettelo!$D$21:$X$40,Ohjeistus!Q$98-1,FALSE))","v":""},{"$f":"IF($J54=\"\",IF($I54=\"\",\"\",VLOOKUP($I54, Resurssiluettelo!$C$21:$X$40,Ohjeistus!R$98,FALSE)),VLOOKUP($J54, Resurssiluettelo!$D$21:$X$40,Ohjeistus!R$98-1,FALSE))","v":""},{"$f":"IF($J54=\"\",IF($I54=\"\",\"\",VLOOKUP($I54, Resurssiluettelo!$C$21:$X$40,Ohjeistus!S$98,FALSE)),VLOOKUP($J54, Resurssiluettelo!$D$21:$X$40,Ohjeistus!S$98-1,FALSE))","v":""},{"$f":"IF($J54=\"\",IF($I54=\"\",\"\",VLOOKUP($I54, Resurssiluettelo!$C$21:$X$40,Ohjeistus!T$98,FALSE)),VLOOKUP($J54, Resurssiluettelo!$D$21:$X$40,Ohjeistus!T$98-1,FALSE))","v":""},{"$f":"IF($J54=\"\",\"\",VLOOKUP($J54, Resurssiluettelo!$D$21:$X$40,Ohjeistus!U$98-1,FALSE))","v":""},{"$f":"IF($J54=\"\",\"\",VLOOKUP($J54, Resurssiluettelo!$D$21:$X$40,Ohjeistus!V$98-1,FALSE))","v":""},{"$f":"IF($J54=\"\",\"\",VLOOKUP($J54, Resurssiluettelo!$D$21:$X$40,Ohjeistus!W$98-1,FALSE))","v":""},{"$f":"IF($J54=\"\",\"\",VLOOKUP($J54, Resurssiluettelo!$D$21:$X$40,Ohjeistus!X$98-1,FALSE))","v":""},{"$f":"IF(Resurssiluettelo!E101=0,\"\",Resurssiluettelo!E101)","v":""},{"$f":"IF(Resurssiluettelo!F101=0,\"\",YEAR(Resurssiluettelo!F101)&IF(MONTH(Resurssiluettelo!F101)<10,\"0\",\"\")&MONTH(Resurssiluettelo!F101)&IF(DAY(Resurssiluettelo!F101)<10,\"0\",\"\")&DAY(Resurssiluettelo!F101))","v":""},{"$f":"IF(Resurssiluettelo!G101=0,\"\",Resurssiluettelo!G101)","v":""},{"$f":"IF(Resurssiluettelo!H101=0,\"\",Resurssiluettelo!H101)","v":""},{"$f":"IF(Resurssiluettelo!I101=0,\"\",Resurssiluettelo!I101)","v":""},{"$f":"IF(Resurssiluettelo!W101=0,\"\",Resurssiluettelo!W101)","v":""},{"$f":"IF(Resurssiluettelo!X101=0,\"\",Resurssiluettelo!X101)","v":""},{"$f":"IF(Resurssiluettelo!Y101=0,\"\",Resurssiluettelo!Y101)","v":""},{"$f":"IF(Resurssiluettelo!Z101=0,\"\",Resurssiluettelo!Z101)","v":""},{"$f":"IF(Resurssiluettelo!AA101=0,\"\",Resurssiluettelo!AA101)","v":""},{"$f":"IF(Resurssiluettelo!AB101=0,\"\",Resurssiluettelo!AB101)","v":""},{"$f":"IF(Resurssiluettelo!AC101=0,\"\",Resurssiluettelo!AC101)","v":""},{"$f":"IF(Resurssiluettelo!AD101=0,\"\",Resurssiluettelo!AD101)","v":""},{"$f":"IF(Resurssiluettelo!J101=0,\"\",Resurssiluettelo!J101)","v":""},{"$f":"IF(Resurssiluettelo!K101=0,\"\",Resurssiluettelo!K101)","v":""},{"$f":"IF(Resurssiluettelo!L101=0,\"\",Resurssiluettelo!L101)","v":""},{"$f":"IF(Resurssiluettelo!M101=0,\"\",Resurssiluettelo!M101)","v":""},{"$f":"IF(Resurssiluettelo!N101=0,\"\",Resurssiluettelo!N101)","v":""},{"$f":"IF(Resurssiluettelo!O101=0,\"\",Resurssiluettelo!O101)","v":""},{"$f":"IF(Resurssiluettelo!P101=0,\"\",Resurssiluettelo!P101)","v":""},{"$f":"IF(Resurssiluettelo!Q101=0,\"\",Resurssiluettelo!Q101)","v":""},{"$f":"IF(Resurssiluettelo!R101=0,\"\",Resurssiluettelo!R101)","v":""},{"$f":"IF(Resurssiluettelo!S101=0,\"\",Resurssiluettelo!S101)","v":""},{"$f":"IF(Resurssiluettelo!T101=0,\"\",Resurssiluettelo!T101)","v":""},{"$f":"IF(Resurssiluettelo!U101=0,\"\",Resurssiluettelo!U101)","v":""},{"$f":"IF(Resurssiluettelo!V101=0,\"\",Resurssiluettelo!V101)","v":""}]
[52,{"$f":"IF(Y55=\"\",\"\",Resurssiluettelo!$G$1)","v":""},{"$f":"IF(Y55=\"\",\"\",Resurssiluettelo!$H$14)","v":""},{"$f":"IF(Y55=\"\",\"\",Resurssiluettelo!$I$14)","v":""},{"$f":"IF(Y55=\"\",\"\",Resurssiluettelo!$J$14)","v":""},{"$f":"IF(Y55=\"\",\"\",Resurssiluettelo!$N$14)","v":""},{"$f":"IF(Y55=\"\",\"\",Resurssiluettelo!$O$14)","v":""},{"$f":"IF(Resurssiluettelo!B102=0,\"\",Resurssiluettelo!B102)","v":""},{"$f":"IF(Resurssiluettelo!C102=0,\"\",Resurssiluettelo!C102)","v":""},{"$f":"IF(Resurssiluettelo!D102=0,\"\",Resurssiluettelo!D102)","v":""},{"$f":"IF($J55=\"\",\"\",VLOOKUP($J55, Resurssiluettelo!$D$21:$X$40,Ohjeistus!K$98-1,FALSE))","v":""},{"$f":"IF($J55=\"\",\"\",VLOOKUP($J55, Resurssiluettelo!$D$21:$X$40,Ohjeistus!L$98-1,FALSE))","v":""},{"$f":"IF($J55=\"\",\"\",VLOOKUP($J55, Resurssiluettelo!$D$21:$X$40,Ohjeistus!M$98-1,FALSE))","v":""},{"$f":"IF($J55=\"\",\"\",VLOOKUP($J55, Resurssiluettelo!$D$21:$X$40,Ohjeistus!N$98-1,FALSE))","v":""},{"$f":"IF($J55=\"\",\"\",VLOOKUP($J55, Resurssiluettelo!$D$21:$X$40,Ohjeistus!O$98-1,FALSE))","v":""},{"$f":"IF($J55=\"\",\"\",VLOOKUP($J55, Resurssiluettelo!$D$21:$X$40,Ohjeistus!P$98-1,FALSE))","v":""},{"$f":"IF($J55=\"\",IF($I55=\"\",\"\",VLOOKUP($I55, Resurssiluettelo!$C$21:$X$40,Ohjeistus!Q$98,FALSE)),VLOOKUP($J55, Resurssiluettelo!$D$21:$X$40,Ohjeistus!Q$98-1,FALSE))","v":""},{"$f":"IF($J55=\"\",IF($I55=\"\",\"\",VLOOKUP($I55, Resurssiluettelo!$C$21:$X$40,Ohjeistus!R$98,FALSE)),VLOOKUP($J55, Resurssiluettelo!$D$21:$X$40,Ohjeistus!R$98-1,FALSE))","v":""},{"$f":"IF($J55=\"\",IF($I55=\"\",\"\",VLOOKUP($I55, Resurssiluettelo!$C$21:$X$40,Ohjeistus!S$98,FALSE)),VLOOKUP($J55, Resurssiluettelo!$D$21:$X$40,Ohjeistus!S$98-1,FALSE))","v":""},{"$f":"IF($J55=\"\",IF($I55=\"\",\"\",VLOOKUP($I55, Resurssiluettelo!$C$21:$X$40,Ohjeistus!T$98,FALSE)),VLOOKUP($J55, Resurssiluettelo!$D$21:$X$40,Ohjeistus!T$98-1,FALSE))","v":""},{"$f":"IF($J55=\"\",\"\",VLOOKUP($J55, Resurssiluettelo!$D$21:$X$40,Ohjeistus!U$98-1,FALSE))","v":""},{"$f":"IF($J55=\"\",\"\",VLOOKUP($J55, Resurssiluettelo!$D$21:$X$40,Ohjeistus!V$98-1,FALSE))","v":""},{"$f":"IF($J55=\"\",\"\",VLOOKUP($J55, Resurssiluettelo!$D$21:$X$40,Ohjeistus!W$98-1,FALSE))","v":""},{"$f":"IF($J55=\"\",\"\",VLOOKUP($J55, Resurssiluettelo!$D$21:$X$40,Ohjeistus!X$98-1,FALSE))","v":""},{"$f":"IF(Resurssiluettelo!E102=0,\"\",Resurssiluettelo!E102)","v":""},{"$f":"IF(Resurssiluettelo!F102=0,\"\",YEAR(Resurssiluettelo!F102)&IF(MONTH(Resurssiluettelo!F102)<10,\"0\",\"\")&MONTH(Resurssiluettelo!F102)&IF(DAY(Resurssiluettelo!F102)<10,\"0\",\"\")&DAY(Resurssiluettelo!F102))","v":""},{"$f":"IF(Resurssiluettelo!G102=0,\"\",Resurssiluettelo!G102)","v":""},{"$f":"IF(Resurssiluettelo!H102=0,\"\",Resurssiluettelo!H102)","v":""},{"$f":"IF(Resurssiluettelo!I102=0,\"\",Resurssiluettelo!I102)","v":""},{"$f":"IF(Resurssiluettelo!W102=0,\"\",Resurssiluettelo!W102)","v":""},{"$f":"IF(Resurssiluettelo!X102=0,\"\",Resurssiluettelo!X102)","v":""},{"$f":"IF(Resurssiluettelo!Y102=0,\"\",Resurssiluettelo!Y102)","v":""},{"$f":"IF(Resurssiluettelo!Z102=0,\"\",Resurssiluettelo!Z102)","v":""},{"$f":"IF(Resurssiluettelo!AA102=0,\"\",Resurssiluettelo!AA102)","v":""},{"$f":"IF(Resurssiluettelo!AB102=0,\"\",Resurssiluettelo!AB102)","v":""},{"$f":"IF(Resurssiluettelo!AC102=0,\"\",Resurssiluettelo!AC102)","v":""},{"$f":"IF(Resurssiluettelo!AD102=0,\"\",Resurssiluettelo!AD102)","v":""},{"$f":"IF(Resurssiluettelo!J102=0,\"\",Resurssiluettelo!J102)","v":""},{"$f":"IF(Resurssiluettelo!K102=0,\"\",Resurssiluettelo!K102)","v":""},{"$f":"IF(Resurssiluettelo!L102=0,\"\",Resurssiluettelo!L102)","v":""},{"$f":"IF(Resurssiluettelo!M102=0,\"\",Resurssiluettelo!M102)","v":""},{"$f":"IF(Resurssiluettelo!N102=0,\"\",Resurssiluettelo!N102)","v":""},{"$f":"IF(Resurssiluettelo!O102=0,\"\",Resurssiluettelo!O102)","v":""},{"$f":"IF(Resurssiluettelo!P102=0,\"\",Resurssiluettelo!P102)","v":""},{"$f":"IF(Resurssiluettelo!Q102=0,\"\",Resurssiluettelo!Q102)","v":""},{"$f":"IF(Resurssiluettelo!R102=0,\"\",Resurssiluettelo!R102)","v":""},{"$f":"IF(Resurssiluettelo!S102=0,\"\",Resurssiluettelo!S102)","v":""},{"$f":"IF(Resurssiluettelo!T102=0,\"\",Resurssiluettelo!T102)","v":""},{"$f":"IF(Resurssiluettelo!U102=0,\"\",Resurssiluettelo!U102)","v":""},{"$f":"IF(Resurssiluettelo!V102=0,\"\",Resurssiluettelo!V102)","v":""}]
[53,{"$f":"IF(Y56=\"\",\"\",Resurssiluettelo!$G$1)","v":""},{"$f":"IF(Y56=\"\",\"\",Resurssiluettelo!$H$14)","v":""},{"$f":"IF(Y56=\"\",\"\",Resurssiluettelo!$I$14)","v":""},{"$f":"IF(Y56=\"\",\"\",Resurssiluettelo!$J$14)","v":""},{"$f":"IF(Y56=\"\",\"\",Resurssiluettelo!$N$14)","v":""},{"$f":"IF(Y56=\"\",\"\",Resurssiluettelo!$O$14)","v":""},{"$f":"IF(Resurssiluettelo!B103=0,\"\",Resurssiluettelo!B103)","v":""},{"$f":"IF(Resurssiluettelo!C103=0,\"\",Resurssiluettelo!C103)","v":""},{"$f":"IF(Resurssiluettelo!D103=0,\"\",Resurssiluettelo!D103)","v":""},{"$f":"IF($J56=\"\",\"\",VLOOKUP($J56, Resurssiluettelo!$D$21:$X$40,Ohjeistus!K$98-1,FALSE))","v":""},{"$f":"IF($J56=\"\",\"\",VLOOKUP($J56, Resurssiluettelo!$D$21:$X$40,Ohjeistus!L$98-1,FALSE))","v":""},{"$f":"IF($J56=\"\",\"\",VLOOKUP($J56, Resurssiluettelo!$D$21:$X$40,Ohjeistus!M$98-1,FALSE))","v":""},{"$f":"IF($J56=\"\",\"\",VLOOKUP($J56, Resurssiluettelo!$D$21:$X$40,Ohjeistus!N$98-1,FALSE))","v":""},{"$f":"IF($J56=\"\",\"\",VLOOKUP($J56, Resurssiluettelo!$D$21:$X$40,Ohjeistus!O$98-1,FALSE))","v":""},{"$f":"IF($J56=\"\",\"\",VLOOKUP($J56, Resurssiluettelo!$D$21:$X$40,Ohjeistus!P$98-1,FALSE))","v":""},{"$f":"IF($J56=\"\",IF($I56=\"\",\"\",VLOOKUP($I56, Resurssiluettelo!$C$21:$X$40,Ohjeistus!Q$98,FALSE)),VLOOKUP($J56, Resurssiluettelo!$D$21:$X$40,Ohjeistus!Q$98-1,FALSE))","v":""},{"$f":"IF($J56=\"\",IF($I56=\"\",\"\",VLOOKUP($I56, Resurssiluettelo!$C$21:$X$40,Ohjeistus!R$98,FALSE)),VLOOKUP($J56, Resurssiluettelo!$D$21:$X$40,Ohjeistus!R$98-1,FALSE))","v":""},{"$f":"IF($J56=\"\",IF($I56=\"\",\"\",VLOOKUP($I56, Resurssiluettelo!$C$21:$X$40,Ohjeistus!S$98,FALSE)),VLOOKUP($J56, Resurssiluettelo!$D$21:$X$40,Ohjeistus!S$98-1,FALSE))","v":""},{"$f":"IF($J56=\"\",IF($I56=\"\",\"\",VLOOKUP($I56, Resurssiluettelo!$C$21:$X$40,Ohjeistus!T$98,FALSE)),VLOOKUP($J56, Resurssiluettelo!$D$21:$X$40,Ohjeistus!T$98-1,FALSE))","v":""},{"$f":"IF($J56=\"\",\"\",VLOOKUP($J56, Resurssiluettelo!$D$21:$X$40,Ohjeistus!U$98-1,FALSE))","v":""},{"$f":"IF($J56=\"\",\"\",VLOOKUP($J56, Resurssiluettelo!$D$21:$X$40,Ohjeistus!V$98-1,FALSE))","v":""},{"$f":"IF($J56=\"\",\"\",VLOOKUP($J56, Resurssiluettelo!$D$21:$X$40,Ohjeistus!W$98-1,FALSE))","v":""},{"$f":"IF($J56=\"\",\"\",VLOOKUP($J56, Resurssiluettelo!$D$21:$X$40,Ohjeistus!X$98-1,FALSE))","v":""},{"$f":"IF(Resurssiluettelo!E103=0,\"\",Resurssiluettelo!E103)","v":""},{"$f":"IF(Resurssiluettelo!F103=0,\"\",YEAR(Resurssiluettelo!F103)&IF(MONTH(Resurssiluettelo!F103)<10,\"0\",\"\")&MONTH(Resurssiluettelo!F103)&IF(DAY(Resurssiluettelo!F103)<10,\"0\",\"\")&DAY(Resurssiluettelo!F103))","v":""},{"$f":"IF(Resurssiluettelo!G103=0,\"\",Resurssiluettelo!G103)","v":""},{"$f":"IF(Resurssiluettelo!H103=0,\"\",Resurssiluettelo!H103)","v":""},{"$f":"IF(Resurssiluettelo!I103=0,\"\",Resurssiluettelo!I103)","v":""},{"$f":"IF(Resurssiluettelo!W103=0,\"\",Resurssiluettelo!W103)","v":""},{"$f":"IF(Resurssiluettelo!X103=0,\"\",Resurssiluettelo!X103)","v":""},{"$f":"IF(Resurssiluettelo!Y103=0,\"\",Resurssiluettelo!Y103)","v":""},{"$f":"IF(Resurssiluettelo!Z103=0,\"\",Resurssiluettelo!Z103)","v":""},{"$f":"IF(Resurssiluettelo!AA103=0,\"\",Resurssiluettelo!AA103)","v":""},{"$f":"IF(Resurssiluettelo!AB103=0,\"\",Resurssiluettelo!AB103)","v":""},{"$f":"IF(Resurssiluettelo!AC103=0,\"\",Resurssiluettelo!AC103)","v":""},{"$f":"IF(Resurssiluettelo!AD103=0,\"\",Resurssiluettelo!AD103)","v":""},{"$f":"IF(Resurssiluettelo!J103=0,\"\",Resurssiluettelo!J103)","v":""},{"$f":"IF(Resurssiluettelo!K103=0,\"\",Resurssiluettelo!K103)","v":""},{"$f":"IF(Resurssiluettelo!L103=0,\"\",Resurssiluettelo!L103)","v":""},{"$f":"IF(Resurssiluettelo!M103=0,\"\",Resurssiluettelo!M103)","v":""},{"$f":"IF(Resurssiluettelo!N103=0,\"\",Resurssiluettelo!N103)","v":""},{"$f":"IF(Resurssiluettelo!O103=0,\"\",Resurssiluettelo!O103)","v":""},{"$f":"IF(Resurssiluettelo!P103=0,\"\",Resurssiluettelo!P103)","v":""},{"$f":"IF(Resurssiluettelo!Q103=0,\"\",Resurssiluettelo!Q103)","v":""},{"$f":"IF(Resurssiluettelo!R103=0,\"\",Resurssiluettelo!R103)","v":""},{"$f":"IF(Resurssiluettelo!S103=0,\"\",Resurssiluettelo!S103)","v":""},{"$f":"IF(Resurssiluettelo!T103=0,\"\",Resurssiluettelo!T103)","v":""},{"$f":"IF(Resurssiluettelo!U103=0,\"\",Resurssiluettelo!U103)","v":""},{"$f":"IF(Resurssiluettelo!V103=0,\"\",Resurssiluettelo!V103)","v":""}]
[54,{"$f":"IF(Y57=\"\",\"\",Resurssiluettelo!$G$1)","v":""},{"$f":"IF(Y57=\"\",\"\",Resurssiluettelo!$H$14)","v":""},{"$f":"IF(Y57=\"\",\"\",Resurssiluettelo!$I$14)","v":""},{"$f":"IF(Y57=\"\",\"\",Resurssiluettelo!$J$14)","v":""},{"$f":"IF(Y57=\"\",\"\",Resurssiluettelo!$N$14)","v":""},{"$f":"IF(Y57=\"\",\"\",Resurssiluettelo!$O$14)","v":""},{"$f":"IF(Resurssiluettelo!B104=0,\"\",Resurssiluettelo!B104)","v":""},{"$f":"IF(Resurssiluettelo!C104=0,\"\",Resurssiluettelo!C104)","v":""},{"$f":"IF(Resurssiluettelo!D104=0,\"\",Resurssiluettelo!D104)","v":""},{"$f":"IF($J57=\"\",\"\",VLOOKUP($J57, Resurssiluettelo!$D$21:$X$40,Ohjeistus!K$98-1,FALSE))","v":""},{"$f":"IF($J57=\"\",\"\",VLOOKUP($J57, Resurssiluettelo!$D$21:$X$40,Ohjeistus!L$98-1,FALSE))","v":""},{"$f":"IF($J57=\"\",\"\",VLOOKUP($J57, Resurssiluettelo!$D$21:$X$40,Ohjeistus!M$98-1,FALSE))","v":""},{"$f":"IF($J57=\"\",\"\",VLOOKUP($J57, Resurssiluettelo!$D$21:$X$40,Ohjeistus!N$98-1,FALSE))","v":""},{"$f":"IF($J57=\"\",\"\",VLOOKUP($J57, Resurssiluettelo!$D$21:$X$40,Ohjeistus!O$98-1,FALSE))","v":""},{"$f":"IF($J57=\"\",\"\",VLOOKUP($J57, Resurssiluettelo!$D$21:$X$40,Ohjeistus!P$98-1,FALSE))","v":""},{"$f":"IF($J57=\"\",IF($I57=\"\",\"\",VLOOKUP($I57, Resurssiluettelo!$C$21:$X$40,Ohjeistus!Q$98,FALSE)),VLOOKUP($J57, Resurssiluettelo!$D$21:$X$40,Ohjeistus!Q$98-1,FALSE))","v":""},{"$f":"IF($J57=\"\",IF($I57=\"\",\"\",VLOOKUP($I57, Resurssiluettelo!$C$21:$X$40,Ohjeistus!R$98,FALSE)),VLOOKUP($J57, Resurssiluettelo!$D$21:$X$40,Ohjeistus!R$98-1,FALSE))","v":""},{"$f":"IF($J57=\"\",IF($I57=\"\",\"\",VLOOKUP($I57, Resurssiluettelo!$C$21:$X$40,Ohjeistus!S$98,FALSE)),VLOOKUP($J57, Resurssiluettelo!$D$21:$X$40,Ohjeistus!S$98-1,FALSE))","v":""},{"$f":"IF($J57=\"\",IF($I57=\"\",\"\",VLOOKUP($I57, Resurssiluettelo!$C$21:$X$40,Ohjeistus!T$98,FALSE)),VLOOKUP($J57, Resurssiluettelo!$D$21:$X$40,Ohjeistus!T$98-1,FALSE))","v":""},{"$f":"IF($J57=\"\",\"\",VLOOKUP($J57, Resurssiluettelo!$D$21:$X$40,Ohjeistus!U$98-1,FALSE))","v":""},{"$f":"IF($J57=\"\",\"\",VLOOKUP($J57, Resurssiluettelo!$D$21:$X$40,Ohjeistus!V$98-1,FALSE))","v":""},{"$f":"IF($J57=\"\",\"\",VLOOKUP($J57, Resurssiluettelo!$D$21:$X$40,Ohjeistus!W$98-1,FALSE))","v":""},{"$f":"IF($J57=\"\",\"\",VLOOKUP($J57, Resurssiluettelo!$D$21:$X$40,Ohjeistus!X$98-1,FALSE))","v":""},{"$f":"IF(Resurssiluettelo!E104=0,\"\",Resurssiluettelo!E104)","v":""},{"$f":"IF(Resurssiluettelo!F104=0,\"\",YEAR(Resurssiluettelo!F104)&IF(MONTH(Resurssiluettelo!F104)<10,\"0\",\"\")&MONTH(Resurssiluettelo!F104)&IF(DAY(Resurssiluettelo!F104)<10,\"0\",\"\")&DAY(Resurssiluettelo!F104))","v":""},{"$f":"IF(Resurssiluettelo!G104=0,\"\",Resurssiluettelo!G104)","v":""},{"$f":"IF(Resurssiluettelo!H104=0,\"\",Resurssiluettelo!H104)","v":""},{"$f":"IF(Resurssiluettelo!I104=0,\"\",Resurssiluettelo!I104)","v":""},{"$f":"IF(Resurssiluettelo!W104=0,\"\",Resurssiluettelo!W104)","v":""},{"$f":"IF(Resurssiluettelo!X104=0,\"\",Resurssiluettelo!X104)","v":""},{"$f":"IF(Resurssiluettelo!Y104=0,\"\",Resurssiluettelo!Y104)","v":""},{"$f":"IF(Resurssiluettelo!Z104=0,\"\",Resurssiluettelo!Z104)","v":""},{"$f":"IF(Resurssiluettelo!AA104=0,\"\",Resurssiluettelo!AA104)","v":""},{"$f":"IF(Resurssiluettelo!AB104=0,\"\",Resurssiluettelo!AB104)","v":""},{"$f":"IF(Resurssiluettelo!AC104=0,\"\",Resurssiluettelo!AC104)","v":""},{"$f":"IF(Resurssiluettelo!AD104=0,\"\",Resurssiluettelo!AD104)","v":""},{"$f":"IF(Resurssiluettelo!J104=0,\"\",Resurssiluettelo!J104)","v":""},{"$f":"IF(Resurssiluettelo!K104=0,\"\",Resurssiluettelo!K104)","v":""},{"$f":"IF(Resurssiluettelo!L104=0,\"\",Resurssiluettelo!L104)","v":""},{"$f":"IF(Resurssiluettelo!M104=0,\"\",Resurssiluettelo!M104)","v":""},{"$f":"IF(Resurssiluettelo!N104=0,\"\",Resurssiluettelo!N104)","v":""},{"$f":"IF(Resurssiluettelo!O104=0,\"\",Resurssiluettelo!O104)","v":""},{"$f":"IF(Resurssiluettelo!P104=0,\"\",Resurssiluettelo!P104)","v":""},{"$f":"IF(Resurssiluettelo!Q104=0,\"\",Resurssiluettelo!Q104)","v":""},{"$f":"IF(Resurssiluettelo!R104=0,\"\",Resurssiluettelo!R104)","v":""},{"$f":"IF(Resurssiluettelo!S104=0,\"\",Resurssiluettelo!S104)","v":""},{"$f":"IF(Resurssiluettelo!T104=0,\"\",Resurssiluettelo!T104)","v":""},{"$f":"IF(Resurssiluettelo!U104=0,\"\",Resurssiluettelo!U104)","v":""},{"$f":"IF(Resurssiluettelo!V104=0,\"\",Resurssiluettelo!V104)","v":""}]
[55,{"$f":"IF(Y58=\"\",\"\",Resurssiluettelo!$G$1)","v":""},{"$f":"IF(Y58=\"\",\"\",Resurssiluettelo!$H$14)","v":""},{"$f":"IF(Y58=\"\",\"\",Resurssiluettelo!$I$14)","v":""},{"$f":"IF(Y58=\"\",\"\",Resurssiluettelo!$J$14)","v":""},{"$f":"IF(Y58=\"\",\"\",Resurssiluettelo!$N$14)","v":""},{"$f":"IF(Y58=\"\",\"\",Resurssiluettelo!$O$14)","v":""},{"$f":"IF(Resurssiluettelo!B105=0,\"\",Resurssiluettelo!B105)","v":""},{"$f":"IF(Resurssiluettelo!C105=0,\"\",Resurssiluettelo!C105)","v":""},{"$f":"IF(Resurssiluettelo!D105=0,\"\",Resurssiluettelo!D105)","v":""},{"$f":"IF($J58=\"\",\"\",VLOOKUP($J58, Resurssiluettelo!$D$21:$X$40,Ohjeistus!K$98-1,FALSE))","v":""},{"$f":"IF($J58=\"\",\"\",VLOOKUP($J58, Resurssiluettelo!$D$21:$X$40,Ohjeistus!L$98-1,FALSE))","v":""},{"$f":"IF($J58=\"\",\"\",VLOOKUP($J58, Resurssiluettelo!$D$21:$X$40,Ohjeistus!M$98-1,FALSE))","v":""},{"$f":"IF($J58=\"\",\"\",VLOOKUP($J58, Resurssiluettelo!$D$21:$X$40,Ohjeistus!N$98-1,FALSE))","v":""},{"$f":"IF($J58=\"\",\"\",VLOOKUP($J58, Resurssiluettelo!$D$21:$X$40,Ohjeistus!O$98-1,FALSE))","v":""},{"$f":"IF($J58=\"\",\"\",VLOOKUP($J58, Resurssiluettelo!$D$21:$X$40,Ohjeistus!P$98-1,FALSE))","v":""},{"$f":"IF($J58=\"\",IF($I58=\"\",\"\",VLOOKUP($I58, Resurssiluettelo!$C$21:$X$40,Ohjeistus!Q$98,FALSE)),VLOOKUP($J58, Resurssiluettelo!$D$21:$X$40,Ohjeistus!Q$98-1,FALSE))","v":""},{"$f":"IF($J58=\"\",IF($I58=\"\",\"\",VLOOKUP($I58, Resurssiluettelo!$C$21:$X$40,Ohjeistus!R$98,FALSE)),VLOOKUP($J58, Resurssiluettelo!$D$21:$X$40,Ohjeistus!R$98-1,FALSE))","v":""},{"$f":"IF($J58=\"\",IF($I58=\"\",\"\",VLOOKUP($I58, Resurssiluettelo!$C$21:$X$40,Ohjeistus!S$98,FALSE)),VLOOKUP($J58, Resurssiluettelo!$D$21:$X$40,Ohjeistus!S$98-1,FALSE))","v":""},{"$f":"IF($J58=\"\",IF($I58=\"\",\"\",VLOOKUP($I58, Resurssiluettelo!$C$21:$X$40,Ohjeistus!T$98,FALSE)),VLOOKUP($J58, Resurssiluettelo!$D$21:$X$40,Ohjeistus!T$98-1,FALSE))","v":""},{"$f":"IF($J58=\"\",\"\",VLOOKUP($J58, Resurssiluettelo!$D$21:$X$40,Ohjeistus!U$98-1,FALSE))","v":""},{"$f":"IF($J58=\"\",\"\",VLOOKUP($J58, Resurssiluettelo!$D$21:$X$40,Ohjeistus!V$98-1,FALSE))","v":""},{"$f":"IF($J58=\"\",\"\",VLOOKUP($J58, Resurssiluettelo!$D$21:$X$40,Ohjeistus!W$98-1,FALSE))","v":""},{"$f":"IF($J58=\"\",\"\",VLOOKUP($J58, Resurssiluettelo!$D$21:$X$40,Ohjeistus!X$98-1,FALSE))","v":""},{"$f":"IF(Resurssiluettelo!E105=0,\"\",Resurssiluettelo!E105)","v":""},{"$f":"IF(Resurssiluettelo!F105=0,\"\",YEAR(Resurssiluettelo!F105)&IF(MONTH(Resurssiluettelo!F105)<10,\"0\",\"\")&MONTH(Resurssiluettelo!F105)&IF(DAY(Resurssiluettelo!F105)<10,\"0\",\"\")&DAY(Resurssiluettelo!F105))","v":""},{"$f":"IF(Resurssiluettelo!G105=0,\"\",Resurssiluettelo!G105)","v":""},{"$f":"IF(Resurssiluettelo!H105=0,\"\",Resurssiluettelo!H105)","v":""},{"$f":"IF(Resurssiluettelo!I105=0,\"\",Resurssiluettelo!I105)","v":""},{"$f":"IF(Resurssiluettelo!W105=0,\"\",Resurssiluettelo!W105)","v":""},{"$f":"IF(Resurssiluettelo!X105=0,\"\",Resurssiluettelo!X105)","v":""},{"$f":"IF(Resurssiluettelo!Y105=0,\"\",Resurssiluettelo!Y105)","v":""},{"$f":"IF(Resurssiluettelo!Z105=0,\"\",Resurssiluettelo!Z105)","v":""},{"$f":"IF(Resurssiluettelo!AA105=0,\"\",Resurssiluettelo!AA105)","v":""},{"$f":"IF(Resurssiluettelo!AB105=0,\"\",Resurssiluettelo!AB105)","v":""},{"$f":"IF(Resurssiluettelo!AC105=0,\"\",Resurssiluettelo!AC105)","v":""},{"$f":"IF(Resurssiluettelo!AD105=0,\"\",Resurssiluettelo!AD105)","v":""},{"$f":"IF(Resurssiluettelo!J105=0,\"\",Resurssiluettelo!J105)","v":""},{"$f":"IF(Resurssiluettelo!K105=0,\"\",Resurssiluettelo!K105)","v":""},{"$f":"IF(Resurssiluettelo!L105=0,\"\",Resurssiluettelo!L105)","v":""},{"$f":"IF(Resurssiluettelo!M105=0,\"\",Resurssiluettelo!M105)","v":""},{"$f":"IF(Resurssiluettelo!N105=0,\"\",Resurssiluettelo!N105)","v":""},{"$f":"IF(Resurssiluettelo!O105=0,\"\",Resurssiluettelo!O105)","v":""},{"$f":"IF(Resurssiluettelo!P105=0,\"\",Resurssiluettelo!P105)","v":""},{"$f":"IF(Resurssiluettelo!Q105=0,\"\",Resurssiluettelo!Q105)","v":""},{"$f":"IF(Resurssiluettelo!R105=0,\"\",Resurssiluettelo!R105)","v":""},{"$f":"IF(Resurssiluettelo!S105=0,\"\",Resurssiluettelo!S105)","v":""},{"$f":"IF(Resurssiluettelo!T105=0,\"\",Resurssiluettelo!T105)","v":""},{"$f":"IF(Resurssiluettelo!U105=0,\"\",Resurssiluettelo!U105)","v":""},{"$f":"IF(Resurssiluettelo!V105=0,\"\",Resurssiluettelo!V105)","v":""}]
[56,{"$f":"IF(Y59=\"\",\"\",Resurssiluettelo!$G$1)","v":""},{"$f":"IF(Y59=\"\",\"\",Resurssiluettelo!$H$14)","v":""},{"$f":"IF(Y59=\"\",\"\",Resurssiluettelo!$I$14)","v":""},{"$f":"IF(Y59=\"\",\"\",Resurssiluettelo!$J$14)","v":""},{"$f":"IF(Y59=\"\",\"\",Resurssiluettelo!$N$14)","v":""},{"$f":"IF(Y59=\"\",\"\",Resurssiluettelo!$O$14)","v":""},{"$f":"IF(Resurssiluettelo!B106=0,\"\",Resurssiluettelo!B106)","v":""},{"$f":"IF(Resurssiluettelo!C106=0,\"\",Resurssiluettelo!C106)","v":""},{"$f":"IF(Resurssiluettelo!D106=0,\"\",Resurssiluettelo!D106)","v":""},{"$f":"IF($J59=\"\",\"\",VLOOKUP($J59, Resurssiluettelo!$D$21:$X$40,Ohjeistus!K$98-1,FALSE))","v":""},{"$f":"IF($J59=\"\",\"\",VLOOKUP($J59, Resurssiluettelo!$D$21:$X$40,Ohjeistus!L$98-1,FALSE))","v":""},{"$f":"IF($J59=\"\",\"\",VLOOKUP($J59, Resurssiluettelo!$D$21:$X$40,Ohjeistus!M$98-1,FALSE))","v":""},{"$f":"IF($J59=\"\",\"\",VLOOKUP($J59, Resurssiluettelo!$D$21:$X$40,Ohjeistus!N$98-1,FALSE))","v":""},{"$f":"IF($J59=\"\",\"\",VLOOKUP($J59, Resurssiluettelo!$D$21:$X$40,Ohjeistus!O$98-1,FALSE))","v":""},{"$f":"IF($J59=\"\",\"\",VLOOKUP($J59, Resurssiluettelo!$D$21:$X$40,Ohjeistus!P$98-1,FALSE))","v":""},{"$f":"IF($J59=\"\",IF($I59=\"\",\"\",VLOOKUP($I59, Resurssiluettelo!$C$21:$X$40,Ohjeistus!Q$98,FALSE)),VLOOKUP($J59, Resurssiluettelo!$D$21:$X$40,Ohjeistus!Q$98-1,FALSE))","v":""},{"$f":"IF($J59=\"\",IF($I59=\"\",\"\",VLOOKUP($I59, Resurssiluettelo!$C$21:$X$40,Ohjeistus!R$98,FALSE)),VLOOKUP($J59, Resurssiluettelo!$D$21:$X$40,Ohjeistus!R$98-1,FALSE))","v":""},{"$f":"IF($J59=\"\",IF($I59=\"\",\"\",VLOOKUP($I59, Resurssiluettelo!$C$21:$X$40,Ohjeistus!S$98,FALSE)),VLOOKUP($J59, Resurssiluettelo!$D$21:$X$40,Ohjeistus!S$98-1,FALSE))","v":""},{"$f":"IF($J59=\"\",IF($I59=\"\",\"\",VLOOKUP($I59, Resurssiluettelo!$C$21:$X$40,Ohjeistus!T$98,FALSE)),VLOOKUP($J59, Resurssiluettelo!$D$21:$X$40,Ohjeistus!T$98-1,FALSE))","v":""},{"$f":"IF($J59=\"\",\"\",VLOOKUP($J59, Resurssiluettelo!$D$21:$X$40,Ohjeistus!U$98-1,FALSE))","v":""},{"$f":"IF($J59=\"\",\"\",VLOOKUP($J59, Resurssiluettelo!$D$21:$X$40,Ohjeistus!V$98-1,FALSE))","v":""},{"$f":"IF($J59=\"\",\"\",VLOOKUP($J59, Resurssiluettelo!$D$21:$X$40,Ohjeistus!W$98-1,FALSE))","v":""},{"$f":"IF($J59=\"\",\"\",VLOOKUP($J59, Resurssiluettelo!$D$21:$X$40,Ohjeistus!X$98-1,FALSE))","v":""},{"$f":"IF(Resurssiluettelo!E106=0,\"\",Resurssiluettelo!E106)","v":""},{"$f":"IF(Resurssiluettelo!F106=0,\"\",YEAR(Resurssiluettelo!F106)&IF(MONTH(Resurssiluettelo!F106)<10,\"0\",\"\")&MONTH(Resurssiluettelo!F106)&IF(DAY(Resurssiluettelo!F106)<10,\"0\",\"\")&DAY(Resurssiluettelo!F106))","v":""},{"$f":"IF(Resurssiluettelo!G106=0,\"\",Resurssiluettelo!G106)","v":""},{"$f":"IF(Resurssiluettelo!H106=0,\"\",Resurssiluettelo!H106)","v":""},{"$f":"IF(Resurssiluettelo!I106=0,\"\",Resurssiluettelo!I106)","v":""},{"$f":"IF(Resurssiluettelo!W106=0,\"\",Resurssiluettelo!W106)","v":""},{"$f":"IF(Resurssiluettelo!X106=0,\"\",Resurssiluettelo!X106)","v":""},{"$f":"IF(Resurssiluettelo!Y106=0,\"\",Resurssiluettelo!Y106)","v":""},{"$f":"IF(Resurssiluettelo!Z106=0,\"\",Resurssiluettelo!Z106)","v":""},{"$f":"IF(Resurssiluettelo!AA106=0,\"\",Resurssiluettelo!AA106)","v":""},{"$f":"IF(Resurssiluettelo!AB106=0,\"\",Resurssiluettelo!AB106)","v":""},{"$f":"IF(Resurssiluettelo!AC106=0,\"\",Resurssiluettelo!AC106)","v":""},{"$f":"IF(Resurssiluettelo!AD106=0,\"\",Resurssiluettelo!AD106)","v":""},{"$f":"IF(Resurssiluettelo!J106=0,\"\",Resurssiluettelo!J106)","v":""},{"$f":"IF(Resurssiluettelo!K106=0,\"\",Resurssiluettelo!K106)","v":""},{"$f":"IF(Resurssiluettelo!L106=0,\"\",Resurssiluettelo!L106)","v":""},{"$f":"IF(Resurssiluettelo!M106=0,\"\",Resurssiluettelo!M106)","v":""},{"$f":"IF(Resurssiluettelo!N106=0,\"\",Resurssiluettelo!N106)","v":""},{"$f":"IF(Resurssiluettelo!O106=0,\"\",Resurssiluettelo!O106)","v":""},{"$f":"IF(Resurssiluettelo!P106=0,\"\",Resurssiluettelo!P106)","v":""},{"$f":"IF(Resurssiluettelo!Q106=0,\"\",Resurssiluettelo!Q106)","v":""},{"$f":"IF(Resurssiluettelo!R106=0,\"\",Resurssiluettelo!R106)","v":""},{"$f":"IF(Resurssiluettelo!S106=0,\"\",Resurssiluettelo!S106)","v":""},{"$f":"IF(Resurssiluettelo!T106=0,\"\",Resurssiluettelo!T106)","v":""},{"$f":"IF(Resurssiluettelo!U106=0,\"\",Resurssiluettelo!U106)","v":""},{"$f":"IF(Resurssiluettelo!V106=0,\"\",Resurssiluettelo!V106)","v":""}]
[57,{"$f":"IF(Y60=\"\",\"\",Resurssiluettelo!$G$1)","v":""},{"$f":"IF(Y60=\"\",\"\",Resurssiluettelo!$H$14)","v":""},{"$f":"IF(Y60=\"\",\"\",Resurssiluettelo!$I$14)","v":""},{"$f":"IF(Y60=\"\",\"\",Resurssiluettelo!$J$14)","v":""},{"$f":"IF(Y60=\"\",\"\",Resurssiluettelo!$N$14)","v":""},{"$f":"IF(Y60=\"\",\"\",Resurssiluettelo!$O$14)","v":""},{"$f":"IF(Resurssiluettelo!B107=0,\"\",Resurssiluettelo!B107)","v":""},{"$f":"IF(Resurssiluettelo!C107=0,\"\",Resurssiluettelo!C107)","v":""},{"$f":"IF(Resurssiluettelo!D107=0,\"\",Resurssiluettelo!D107)","v":""},{"$f":"IF($J60=\"\",\"\",VLOOKUP($J60, Resurssiluettelo!$D$21:$X$40,Ohjeistus!K$98-1,FALSE))","v":""},{"$f":"IF($J60=\"\",\"\",VLOOKUP($J60, Resurssiluettelo!$D$21:$X$40,Ohjeistus!L$98-1,FALSE))","v":""},{"$f":"IF($J60=\"\",\"\",VLOOKUP($J60, Resurssiluettelo!$D$21:$X$40,Ohjeistus!M$98-1,FALSE))","v":""},{"$f":"IF($J60=\"\",\"\",VLOOKUP($J60, Resurssiluettelo!$D$21:$X$40,Ohjeistus!N$98-1,FALSE))","v":""},{"$f":"IF($J60=\"\",\"\",VLOOKUP($J60, Resurssiluettelo!$D$21:$X$40,Ohjeistus!O$98-1,FALSE))","v":""},{"$f":"IF($J60=\"\",\"\",VLOOKUP($J60, Resurssiluettelo!$D$21:$X$40,Ohjeistus!P$98-1,FALSE))","v":""},{"$f":"IF($J60=\"\",IF($I60=\"\",\"\",VLOOKUP($I60, Resurssiluettelo!$C$21:$X$40,Ohjeistus!Q$98,FALSE)),VLOOKUP($J60, Resurssiluettelo!$D$21:$X$40,Ohjeistus!Q$98-1,FALSE))","v":""},{"$f":"IF($J60=\"\",IF($I60=\"\",\"\",VLOOKUP($I60, Resurssiluettelo!$C$21:$X$40,Ohjeistus!R$98,FALSE)),VLOOKUP($J60, Resurssiluettelo!$D$21:$X$40,Ohjeistus!R$98-1,FALSE))","v":""},{"$f":"IF($J60=\"\",IF($I60=\"\",\"\",VLOOKUP($I60, Resurssiluettelo!$C$21:$X$40,Ohjeistus!S$98,FALSE)),VLOOKUP($J60, Resurssiluettelo!$D$21:$X$40,Ohjeistus!S$98-1,FALSE))","v":""},{"$f":"IF($J60=\"\",IF($I60=\"\",\"\",VLOOKUP($I60, Resurssiluettelo!$C$21:$X$40,Ohjeistus!T$98,FALSE)),VLOOKUP($J60, Resurssiluettelo!$D$21:$X$40,Ohjeistus!T$98-1,FALSE))","v":""},{"$f":"IF($J60=\"\",\"\",VLOOKUP($J60, Resurssiluettelo!$D$21:$X$40,Ohjeistus!U$98-1,FALSE))","v":""},{"$f":"IF($J60=\"\",\"\",VLOOKUP($J60, Resurssiluettelo!$D$21:$X$40,Ohjeistus!V$98-1,FALSE))","v":""},{"$f":"IF($J60=\"\",\"\",VLOOKUP($J60, Resurssiluettelo!$D$21:$X$40,Ohjeistus!W$98-1,FALSE))","v":""},{"$f":"IF($J60=\"\",\"\",VLOOKUP($J60, Resurssiluettelo!$D$21:$X$40,Ohjeistus!X$98-1,FALSE))","v":""},{"$f":"IF(Resurssiluettelo!E107=0,\"\",Resurssiluettelo!E107)","v":""},{"$f":"IF(Resurssiluettelo!F107=0,\"\",YEAR(Resurssiluettelo!F107)&IF(MONTH(Resurssiluettelo!F107)<10,\"0\",\"\")&MONTH(Resurssiluettelo!F107)&IF(DAY(Resurssiluettelo!F107)<10,\"0\",\"\")&DAY(Resurssiluettelo!F107))","v":""},{"$f":"IF(Resurssiluettelo!G107=0,\"\",Resurssiluettelo!G107)","v":""},{"$f":"IF(Resurssiluettelo!H107=0,\"\",Resurssiluettelo!H107)","v":""},{"$f":"IF(Resurssiluettelo!I107=0,\"\",Resurssiluettelo!I107)","v":""},{"$f":"IF(Resurssiluettelo!W107=0,\"\",Resurssiluettelo!W107)","v":""},{"$f":"IF(Resurssiluettelo!X107=0,\"\",Resurssiluettelo!X107)","v":""},{"$f":"IF(Resurssiluettelo!Y107=0,\"\",Resurssiluettelo!Y107)","v":""},{"$f":"IF(Resurssiluettelo!Z107=0,\"\",Resurssiluettelo!Z107)","v":""},{"$f":"IF(Resurssiluettelo!AA107=0,\"\",Resurssiluettelo!AA107)","v":""},{"$f":"IF(Resurssiluettelo!AB107=0,\"\",Resurssiluettelo!AB107)","v":""},{"$f":"IF(Resurssiluettelo!AC107=0,\"\",Resurssiluettelo!AC107)","v":""},{"$f":"IF(Resurssiluettelo!AD107=0,\"\",Resurssiluettelo!AD107)","v":""},{"$f":"IF(Resurssiluettelo!J107=0,\"\",Resurssiluettelo!J107)","v":""},{"$f":"IF(Resurssiluettelo!K107=0,\"\",Resurssiluettelo!K107)","v":""},{"$f":"IF(Resurssiluettelo!L107=0,\"\",Resurssiluettelo!L107)","v":""},{"$f":"IF(Resurssiluettelo!M107=0,\"\",Resurssiluettelo!M107)","v":""},{"$f":"IF(Resurssiluettelo!N107=0,\"\",Resurssiluettelo!N107)","v":""},{"$f":"IF(Resurssiluettelo!O107=0,\"\",Resurssiluettelo!O107)","v":""},{"$f":"IF(Resurssiluettelo!P107=0,\"\",Resurssiluettelo!P107)","v":""},{"$f":"IF(Resurssiluettelo!Q107=0,\"\",Resurssiluettelo!Q107)","v":""},{"$f":"IF(Resurssiluettelo!R107=0,\"\",Resurssiluettelo!R107)","v":""},{"$f":"IF(Resurssiluettelo!S107=0,\"\",Resurssiluettelo!S107)","v":""},{"$f":"IF(Resurssiluettelo!T107=0,\"\",Resurssiluettelo!T107)","v":""},{"$f":"IF(Resurssiluettelo!U107=0,\"\",Resurssiluettelo!U107)","v":""},{"$f":"IF(Resurssiluettelo!V107=0,\"\",Resurssiluettelo!V107)","v":""}]
[58,{"$f":"IF(Y61=\"\",\"\",Resurssiluettelo!$G$1)","v":""},{"$f":"IF(Y61=\"\",\"\",Resurssiluettelo!$H$14)","v":""},{"$f":"IF(Y61=\"\",\"\",Resurssiluettelo!$I$14)","v":""},{"$f":"IF(Y61=\"\",\"\",Resurssiluettelo!$J$14)","v":""},{"$f":"IF(Y61=\"\",\"\",Resurssiluettelo!$N$14)","v":""},{"$f":"IF(Y61=\"\",\"\",Resurssiluettelo!$O$14)","v":""},{"$f":"IF(Resurssiluettelo!B108=0,\"\",Resurssiluettelo!B108)","v":""},{"$f":"IF(Resurssiluettelo!C108=0,\"\",Resurssiluettelo!C108)","v":""},{"$f":"IF(Resurssiluettelo!D108=0,\"\",Resurssiluettelo!D108)","v":""},{"$f":"IF($J61=\"\",\"\",VLOOKUP($J61, Resurssiluettelo!$D$21:$X$40,Ohjeistus!K$98-1,FALSE))","v":""},{"$f":"IF($J61=\"\",\"\",VLOOKUP($J61, Resurssiluettelo!$D$21:$X$40,Ohjeistus!L$98-1,FALSE))","v":""},{"$f":"IF($J61=\"\",\"\",VLOOKUP($J61, Resurssiluettelo!$D$21:$X$40,Ohjeistus!M$98-1,FALSE))","v":""},{"$f":"IF($J61=\"\",\"\",VLOOKUP($J61, Resurssiluettelo!$D$21:$X$40,Ohjeistus!N$98-1,FALSE))","v":""},{"$f":"IF($J61=\"\",\"\",VLOOKUP($J61, Resurssiluettelo!$D$21:$X$40,Ohjeistus!O$98-1,FALSE))","v":""},{"$f":"IF($J61=\"\",\"\",VLOOKUP($J61, Resurssiluettelo!$D$21:$X$40,Ohjeistus!P$98-1,FALSE))","v":""},{"$f":"IF($J61=\"\",IF($I61=\"\",\"\",VLOOKUP($I61, Resurssiluettelo!$C$21:$X$40,Ohjeistus!Q$98,FALSE)),VLOOKUP($J61, Resurssiluettelo!$D$21:$X$40,Ohjeistus!Q$98-1,FALSE))","v":""},{"$f":"IF($J61=\"\",IF($I61=\"\",\"\",VLOOKUP($I61, Resurssiluettelo!$C$21:$X$40,Ohjeistus!R$98,FALSE)),VLOOKUP($J61, Resurssiluettelo!$D$21:$X$40,Ohjeistus!R$98-1,FALSE))","v":""},{"$f":"IF($J61=\"\",IF($I61=\"\",\"\",VLOOKUP($I61, Resurssiluettelo!$C$21:$X$40,Ohjeistus!S$98,FALSE)),VLOOKUP($J61, Resurssiluettelo!$D$21:$X$40,Ohjeistus!S$98-1,FALSE))","v":""},{"$f":"IF($J61=\"\",IF($I61=\"\",\"\",VLOOKUP($I61, Resurssiluettelo!$C$21:$X$40,Ohjeistus!T$98,FALSE)),VLOOKUP($J61, Resurssiluettelo!$D$21:$X$40,Ohjeistus!T$98-1,FALSE))","v":""},{"$f":"IF($J61=\"\",\"\",VLOOKUP($J61, Resurssiluettelo!$D$21:$X$40,Ohjeistus!U$98-1,FALSE))","v":""},{"$f":"IF($J61=\"\",\"\",VLOOKUP($J61, Resurssiluettelo!$D$21:$X$40,Ohjeistus!V$98-1,FALSE))","v":""},{"$f":"IF($J61=\"\",\"\",VLOOKUP($J61, Resurssiluettelo!$D$21:$X$40,Ohjeistus!W$98-1,FALSE))","v":""},{"$f":"IF($J61=\"\",\"\",VLOOKUP($J61, Resurssiluettelo!$D$21:$X$40,Ohjeistus!X$98-1,FALSE))","v":""},{"$f":"IF(Resurssiluettelo!E108=0,\"\",Resurssiluettelo!E108)","v":""},{"$f":"IF(Resurssiluettelo!F108=0,\"\",YEAR(Resurssiluettelo!F108)&IF(MONTH(Resurssiluettelo!F108)<10,\"0\",\"\")&MONTH(Resurssiluettelo!F108)&IF(DAY(Resurssiluettelo!F108)<10,\"0\",\"\")&DAY(Resurssiluettelo!F108))","v":""},{"$f":"IF(Resurssiluettelo!G108=0,\"\",Resurssiluettelo!G108)","v":""},{"$f":"IF(Resurssiluettelo!H108=0,\"\",Resurssiluettelo!H108)","v":""},{"$f":"IF(Resurssiluettelo!I108=0,\"\",Resurssiluettelo!I108)","v":""},{"$f":"IF(Resurssiluettelo!W108=0,\"\",Resurssiluettelo!W108)","v":""},{"$f":"IF(Resurssiluettelo!X108=0,\"\",Resurssiluettelo!X108)","v":""},{"$f":"IF(Resurssiluettelo!Y108=0,\"\",Resurssiluettelo!Y108)","v":""},{"$f":"IF(Resurssiluettelo!Z108=0,\"\",Resurssiluettelo!Z108)","v":""},{"$f":"IF(Resurssiluettelo!AA108=0,\"\",Resurssiluettelo!AA108)","v":""},{"$f":"IF(Resurssiluettelo!AB108=0,\"\",Resurssiluettelo!AB108)","v":""},{"$f":"IF(Resurssiluettelo!AC108=0,\"\",Resurssiluettelo!AC108)","v":""},{"$f":"IF(Resurssiluettelo!AD108=0,\"\",Resurssiluettelo!AD108)","v":""},{"$f":"IF(Resurssiluettelo!J108=0,\"\",Resurssiluettelo!J108)","v":""},{"$f":"IF(Resurssiluettelo!K108=0,\"\",Resurssiluettelo!K108)","v":""},{"$f":"IF(Resurssiluettelo!L108=0,\"\",Resurssiluettelo!L108)","v":""},{"$f":"IF(Resurssiluettelo!M108=0,\"\",Resurssiluettelo!M108)","v":""},{"$f":"IF(Resurssiluettelo!N108=0,\"\",Resurssiluettelo!N108)","v":""},{"$f":"IF(Resurssiluettelo!O108=0,\"\",Resurssiluettelo!O108)","v":""},{"$f":"IF(Resurssiluettelo!P108=0,\"\",Resurssiluettelo!P108)","v":""},{"$f":"IF(Resurssiluettelo!Q108=0,\"\",Resurssiluettelo!Q108)","v":""},{"$f":"IF(Resurssiluettelo!R108=0,\"\",Resurssiluettelo!R108)","v":""},{"$f":"IF(Resurssiluettelo!S108=0,\"\",Resurssiluettelo!S108)","v":""},{"$f":"IF(Resurssiluettelo!T108=0,\"\",Resurssiluettelo!T108)","v":""},{"$f":"IF(Resurssiluettelo!U108=0,\"\",Resurssiluettelo!U108)","v":""},{"$f":"IF(Resurssiluettelo!V108=0,\"\",Resurssiluettelo!V108)","v":""}]
[59,{"$f":"IF(Y62=\"\",\"\",Resurssiluettelo!$G$1)","v":""},{"$f":"IF(Y62=\"\",\"\",Resurssiluettelo!$H$14)","v":""},{"$f":"IF(Y62=\"\",\"\",Resurssiluettelo!$I$14)","v":""},{"$f":"IF(Y62=\"\",\"\",Resurssiluettelo!$J$14)","v":""},{"$f":"IF(Y62=\"\",\"\",Resurssiluettelo!$N$14)","v":""},{"$f":"IF(Y62=\"\",\"\",Resurssiluettelo!$O$14)","v":""},{"$f":"IF(Resurssiluettelo!B109=0,\"\",Resurssiluettelo!B109)","v":""},{"$f":"IF(Resurssiluettelo!C109=0,\"\",Resurssiluettelo!C109)","v":""},{"$f":"IF(Resurssiluettelo!D109=0,\"\",Resurssiluettelo!D109)","v":""},{"$f":"IF($J62=\"\",\"\",VLOOKUP($J62, Resurssiluettelo!$D$21:$X$40,Ohjeistus!K$98-1,FALSE))","v":""},{"$f":"IF($J62=\"\",\"\",VLOOKUP($J62, Resurssiluettelo!$D$21:$X$40,Ohjeistus!L$98-1,FALSE))","v":""},{"$f":"IF($J62=\"\",\"\",VLOOKUP($J62, Resurssiluettelo!$D$21:$X$40,Ohjeistus!M$98-1,FALSE))","v":""},{"$f":"IF($J62=\"\",\"\",VLOOKUP($J62, Resurssiluettelo!$D$21:$X$40,Ohjeistus!N$98-1,FALSE))","v":""},{"$f":"IF($J62=\"\",\"\",VLOOKUP($J62, Resurssiluettelo!$D$21:$X$40,Ohjeistus!O$98-1,FALSE))","v":""},{"$f":"IF($J62=\"\",\"\",VLOOKUP($J62, Resurssiluettelo!$D$21:$X$40,Ohjeistus!P$98-1,FALSE))","v":""},{"$f":"IF($J62=\"\",IF($I62=\"\",\"\",VLOOKUP($I62, Resurssiluettelo!$C$21:$X$40,Ohjeistus!Q$98,FALSE)),VLOOKUP($J62, Resurssiluettelo!$D$21:$X$40,Ohjeistus!Q$98-1,FALSE))","v":""},{"$f":"IF($J62=\"\",IF($I62=\"\",\"\",VLOOKUP($I62, Resurssiluettelo!$C$21:$X$40,Ohjeistus!R$98,FALSE)),VLOOKUP($J62, Resurssiluettelo!$D$21:$X$40,Ohjeistus!R$98-1,FALSE))","v":""},{"$f":"IF($J62=\"\",IF($I62=\"\",\"\",VLOOKUP($I62, Resurssiluettelo!$C$21:$X$40,Ohjeistus!S$98,FALSE)),VLOOKUP($J62, Resurssiluettelo!$D$21:$X$40,Ohjeistus!S$98-1,FALSE))","v":""},{"$f":"IF($J62=\"\",IF($I62=\"\",\"\",VLOOKUP($I62, Resurssiluettelo!$C$21:$X$40,Ohjeistus!T$98,FALSE)),VLOOKUP($J62, Resurssiluettelo!$D$21:$X$40,Ohjeistus!T$98-1,FALSE))","v":""},{"$f":"IF($J62=\"\",\"\",VLOOKUP($J62, Resurssiluettelo!$D$21:$X$40,Ohjeistus!U$98-1,FALSE))","v":""},{"$f":"IF($J62=\"\",\"\",VLOOKUP($J62, Resurssiluettelo!$D$21:$X$40,Ohjeistus!V$98-1,FALSE))","v":""},{"$f":"IF($J62=\"\",\"\",VLOOKUP($J62, Resurssiluettelo!$D$21:$X$40,Ohjeistus!W$98-1,FALSE))","v":""},{"$f":"IF($J62=\"\",\"\",VLOOKUP($J62, Resurssiluettelo!$D$21:$X$40,Ohjeistus!X$98-1,FALSE))","v":""},{"$f":"IF(Resurssiluettelo!E109=0,\"\",Resurssiluettelo!E109)","v":""},{"$f":"IF(Resurssiluettelo!F109=0,\"\",YEAR(Resurssiluettelo!F109)&IF(MONTH(Resurssiluettelo!F109)<10,\"0\",\"\")&MONTH(Resurssiluettelo!F109)&IF(DAY(Resurssiluettelo!F109)<10,\"0\",\"\")&DAY(Resurssiluettelo!F109))","v":""},{"$f":"IF(Resurssiluettelo!G109=0,\"\",Resurssiluettelo!G109)","v":""},{"$f":"IF(Resurssiluettelo!H109=0,\"\",Resurssiluettelo!H109)","v":""},{"$f":"IF(Resurssiluettelo!I109=0,\"\",Resurssiluettelo!I109)","v":""},{"$f":"IF(Resurssiluettelo!W109=0,\"\",Resurssiluettelo!W109)","v":""},{"$f":"IF(Resurssiluettelo!X109=0,\"\",Resurssiluettelo!X109)","v":""},{"$f":"IF(Resurssiluettelo!Y109=0,\"\",Resurssiluettelo!Y109)","v":""},{"$f":"IF(Resurssiluettelo!Z109=0,\"\",Resurssiluettelo!Z109)","v":""},{"$f":"IF(Resurssiluettelo!AA109=0,\"\",Resurssiluettelo!AA109)","v":""},{"$f":"IF(Resurssiluettelo!AB109=0,\"\",Resurssiluettelo!AB109)","v":""},{"$f":"IF(Resurssiluettelo!AC109=0,\"\",Resurssiluettelo!AC109)","v":""},{"$f":"IF(Resurssiluettelo!AD109=0,\"\",Resurssiluettelo!AD109)","v":""},{"$f":"IF(Resurssiluettelo!J109=0,\"\",Resurssiluettelo!J109)","v":""},{"$f":"IF(Resurssiluettelo!K109=0,\"\",Resurssiluettelo!K109)","v":""},{"$f":"IF(Resurssiluettelo!L109=0,\"\",Resurssiluettelo!L109)","v":""},{"$f":"IF(Resurssiluettelo!M109=0,\"\",Resurssiluettelo!M109)","v":""},{"$f":"IF(Resurssiluettelo!N109=0,\"\",Resurssiluettelo!N109)","v":""},{"$f":"IF(Resurssiluettelo!O109=0,\"\",Resurssiluettelo!O109)","v":""},{"$f":"IF(Resurssiluettelo!P109=0,\"\",Resurssiluettelo!P109)","v":""},{"$f":"IF(Resurssiluettelo!Q109=0,\"\",Resurssiluettelo!Q109)","v":""},{"$f":"IF(Resurssiluettelo!R109=0,\"\",Resurssiluettelo!R109)","v":""},{"$f":"IF(Resurssiluettelo!S109=0,\"\",Resurssiluettelo!S109)","v":""},{"$f":"IF(Resurssiluettelo!T109=0,\"\",Resurssiluettelo!T109)","v":""},{"$f":"IF(Resurssiluettelo!U109=0,\"\",Resurssiluettelo!U109)","v":""},{"$f":"IF(Resurssiluettelo!V109=0,\"\",Resurssiluettelo!V109)","v":""}]
[60,{"$f":"IF(Y63=\"\",\"\",Resurssiluettelo!$G$1)","v":""},{"$f":"IF(Y63=\"\",\"\",Resurssiluettelo!$H$14)","v":""},{"$f":"IF(Y63=\"\",\"\",Resurssiluettelo!$I$14)","v":""},{"$f":"IF(Y63=\"\",\"\",Resurssiluettelo!$J$14)","v":""},{"$f":"IF(Y63=\"\",\"\",Resurssiluettelo!$N$14)","v":""},{"$f":"IF(Y63=\"\",\"\",Resurssiluettelo!$O$14)","v":""},{"$f":"IF(Resurssiluettelo!B110=0,\"\",Resurssiluettelo!B110)","v":""},{"$f":"IF(Resurssiluettelo!C110=0,\"\",Resurssiluettelo!C110)","v":""},{"$f":"IF(Resurssiluettelo!D110=0,\"\",Resurssiluettelo!D110)","v":""},{"$f":"IF($J63=\"\",\"\",VLOOKUP($J63, Resurssiluettelo!$D$21:$X$40,Ohjeistus!K$98-1,FALSE))","v":""},{"$f":"IF($J63=\"\",\"\",VLOOKUP($J63, Resurssiluettelo!$D$21:$X$40,Ohjeistus!L$98-1,FALSE))","v":""},{"$f":"IF($J63=\"\",\"\",VLOOKUP($J63, Resurssiluettelo!$D$21:$X$40,Ohjeistus!M$98-1,FALSE))","v":""},{"$f":"IF($J63=\"\",\"\",VLOOKUP($J63, Resurssiluettelo!$D$21:$X$40,Ohjeistus!N$98-1,FALSE))","v":""},{"$f":"IF($J63=\"\",\"\",VLOOKUP($J63, Resurssiluettelo!$D$21:$X$40,Ohjeistus!O$98-1,FALSE))","v":""},{"$f":"IF($J63=\"\",\"\",VLOOKUP($J63, Resurssiluettelo!$D$21:$X$40,Ohjeistus!P$98-1,FALSE))","v":""},{"$f":"IF($J63=\"\",IF($I63=\"\",\"\",VLOOKUP($I63, Resurssiluettelo!$C$21:$X$40,Ohjeistus!Q$98,FALSE)),VLOOKUP($J63, Resurssiluettelo!$D$21:$X$40,Ohjeistus!Q$98-1,FALSE))","v":""},{"$f":"IF($J63=\"\",IF($I63=\"\",\"\",VLOOKUP($I63, Resurssiluettelo!$C$21:$X$40,Ohjeistus!R$98,FALSE)),VLOOKUP($J63, Resurssiluettelo!$D$21:$X$40,Ohjeistus!R$98-1,FALSE))","v":""},{"$f":"IF($J63=\"\",IF($I63=\"\",\"\",VLOOKUP($I63, Resurssiluettelo!$C$21:$X$40,Ohjeistus!S$98,FALSE)),VLOOKUP($J63, Resurssiluettelo!$D$21:$X$40,Ohjeistus!S$98-1,FALSE))","v":""},{"$f":"IF($J63=\"\",IF($I63=\"\",\"\",VLOOKUP($I63, Resurssiluettelo!$C$21:$X$40,Ohjeistus!T$98,FALSE)),VLOOKUP($J63, Resurssiluettelo!$D$21:$X$40,Ohjeistus!T$98-1,FALSE))","v":""},{"$f":"IF($J63=\"\",\"\",VLOOKUP($J63, Resurssiluettelo!$D$21:$X$40,Ohjeistus!U$98-1,FALSE))","v":""},{"$f":"IF($J63=\"\",\"\",VLOOKUP($J63, Resurssiluettelo!$D$21:$X$40,Ohjeistus!V$98-1,FALSE))","v":""},{"$f":"IF($J63=\"\",\"\",VLOOKUP($J63, Resurssiluettelo!$D$21:$X$40,Ohjeistus!W$98-1,FALSE))","v":""},{"$f":"IF($J63=\"\",\"\",VLOOKUP($J63, Resurssiluettelo!$D$21:$X$40,Ohjeistus!X$98-1,FALSE))","v":""},{"$f":"IF(Resurssiluettelo!E110=0,\"\",Resurssiluettelo!E110)","v":""},{"$f":"IF(Resurssiluettelo!F110=0,\"\",YEAR(Resurssiluettelo!F110)&IF(MONTH(Resurssiluettelo!F110)<10,\"0\",\"\")&MONTH(Resurssiluettelo!F110)&IF(DAY(Resurssiluettelo!F110)<10,\"0\",\"\")&DAY(Resurssiluettelo!F110))","v":""},{"$f":"IF(Resurssiluettelo!G110=0,\"\",Resurssiluettelo!G110)","v":""},{"$f":"IF(Resurssiluettelo!H110=0,\"\",Resurssiluettelo!H110)","v":""},{"$f":"IF(Resurssiluettelo!I110=0,\"\",Resurssiluettelo!I110)","v":""},{"$f":"IF(Resurssiluettelo!W110=0,\"\",Resurssiluettelo!W110)","v":""},{"$f":"IF(Resurssiluettelo!X110=0,\"\",Resurssiluettelo!X110)","v":""},{"$f":"IF(Resurssiluettelo!Y110=0,\"\",Resurssiluettelo!Y110)","v":""},{"$f":"IF(Resurssiluettelo!Z110=0,\"\",Resurssiluettelo!Z110)","v":""},{"$f":"IF(Resurssiluettelo!AA110=0,\"\",Resurssiluettelo!AA110)","v":""},{"$f":"IF(Resurssiluettelo!AB110=0,\"\",Resurssiluettelo!AB110)","v":""},{"$f":"IF(Resurssiluettelo!AC110=0,\"\",Resurssiluettelo!AC110)","v":""},{"$f":"IF(Resurssiluettelo!AD110=0,\"\",Resurssiluettelo!AD110)","v":""},{"$f":"IF(Resurssiluettelo!J110=0,\"\",Resurssiluettelo!J110)","v":""},{"$f":"IF(Resurssiluettelo!K110=0,\"\",Resurssiluettelo!K110)","v":""},{"$f":"IF(Resurssiluettelo!L110=0,\"\",Resurssiluettelo!L110)","v":""},{"$f":"IF(Resurssiluettelo!M110=0,\"\",Resurssiluettelo!M110)","v":""},{"$f":"IF(Resurssiluettelo!N110=0,\"\",Resurssiluettelo!N110)","v":""},{"$f":"IF(Resurssiluettelo!O110=0,\"\",Resurssiluettelo!O110)","v":""},{"$f":"IF(Resurssiluettelo!P110=0,\"\",Resurssiluettelo!P110)","v":""},{"$f":"IF(Resurssiluettelo!Q110=0,\"\",Resurssiluettelo!Q110)","v":""},{"$f":"IF(Resurssiluettelo!R110=0,\"\",Resurssiluettelo!R110)","v":""},{"$f":"IF(Resurssiluettelo!S110=0,\"\",Resurssiluettelo!S110)","v":""},{"$f":"IF(Resurssiluettelo!T110=0,\"\",Resurssiluettelo!T110)","v":""},{"$f":"IF(Resurssiluettelo!U110=0,\"\",Resurssiluettelo!U110)","v":""},{"$f":"IF(Resurssiluettelo!V110=0,\"\",Resurssiluettelo!V110)","v":""}]
[61,{"$f":"IF(Y64=\"\",\"\",Resurssiluettelo!$G$1)","v":""},{"$f":"IF(Y64=\"\",\"\",Resurssiluettelo!$H$14)","v":""},{"$f":"IF(Y64=\"\",\"\",Resurssiluettelo!$I$14)","v":""},{"$f":"IF(Y64=\"\",\"\",Resurssiluettelo!$J$14)","v":""},{"$f":"IF(Y64=\"\",\"\",Resurssiluettelo!$N$14)","v":""},{"$f":"IF(Y64=\"\",\"\",Resurssiluettelo!$O$14)","v":""},{"$f":"IF(Resurssiluettelo!B111=0,\"\",Resurssiluettelo!B111)","v":""},{"$f":"IF(Resurssiluettelo!C111=0,\"\",Resurssiluettelo!C111)","v":""},{"$f":"IF(Resurssiluettelo!D111=0,\"\",Resurssiluettelo!D111)","v":""},{"$f":"IF($J64=\"\",\"\",VLOOKUP($J64, Resurssiluettelo!$D$21:$X$40,Ohjeistus!K$98-1,FALSE))","v":""},{"$f":"IF($J64=\"\",\"\",VLOOKUP($J64, Resurssiluettelo!$D$21:$X$40,Ohjeistus!L$98-1,FALSE))","v":""},{"$f":"IF($J64=\"\",\"\",VLOOKUP($J64, Resurssiluettelo!$D$21:$X$40,Ohjeistus!M$98-1,FALSE))","v":""},{"$f":"IF($J64=\"\",\"\",VLOOKUP($J64, Resurssiluettelo!$D$21:$X$40,Ohjeistus!N$98-1,FALSE))","v":""},{"$f":"IF($J64=\"\",\"\",VLOOKUP($J64, Resurssiluettelo!$D$21:$X$40,Ohjeistus!O$98-1,FALSE))","v":""},{"$f":"IF($J64=\"\",\"\",VLOOKUP($J64, Resurssiluettelo!$D$21:$X$40,Ohjeistus!P$98-1,FALSE))","v":""},{"$f":"IF($J64=\"\",IF($I64=\"\",\"\",VLOOKUP($I64, Resurssiluettelo!$C$21:$X$40,Ohjeistus!Q$98,FALSE)),VLOOKUP($J64, Resurssiluettelo!$D$21:$X$40,Ohjeistus!Q$98-1,FALSE))","v":""},{"$f":"IF($J64=\"\",IF($I64=\"\",\"\",VLOOKUP($I64, Resurssiluettelo!$C$21:$X$40,Ohjeistus!R$98,FALSE)),VLOOKUP($J64, Resurssiluettelo!$D$21:$X$40,Ohjeistus!R$98-1,FALSE))","v":""},{"$f":"IF($J64=\"\",IF($I64=\"\",\"\",VLOOKUP($I64, Resurssiluettelo!$C$21:$X$40,Ohjeistus!S$98,FALSE)),VLOOKUP($J64, Resurssiluettelo!$D$21:$X$40,Ohjeistus!S$98-1,FALSE))","v":""},{"$f":"IF($J64=\"\",IF($I64=\"\",\"\",VLOOKUP($I64, Resurssiluettelo!$C$21:$X$40,Ohjeistus!T$98,FALSE)),VLOOKUP($J64, Resurssiluettelo!$D$21:$X$40,Ohjeistus!T$98-1,FALSE))","v":""},{"$f":"IF($J64=\"\",\"\",VLOOKUP($J64, Resurssiluettelo!$D$21:$X$40,Ohjeistus!U$98-1,FALSE))","v":""},{"$f":"IF($J64=\"\",\"\",VLOOKUP($J64, Resurssiluettelo!$D$21:$X$40,Ohjeistus!V$98-1,FALSE))","v":""},{"$f":"IF($J64=\"\",\"\",VLOOKUP($J64, Resurssiluettelo!$D$21:$X$40,Ohjeistus!W$98-1,FALSE))","v":""},{"$f":"IF($J64=\"\",\"\",VLOOKUP($J64, Resurssiluettelo!$D$21:$X$40,Ohjeistus!X$98-1,FALSE))","v":""},{"$f":"IF(Resurssiluettelo!E111=0,\"\",Resurssiluettelo!E111)","v":""},{"$f":"IF(Resurssiluettelo!F111=0,\"\",YEAR(Resurssiluettelo!F111)&IF(MONTH(Resurssiluettelo!F111)<10,\"0\",\"\")&MONTH(Resurssiluettelo!F111)&IF(DAY(Resurssiluettelo!F111)<10,\"0\",\"\")&DAY(Resurssiluettelo!F111))","v":""},{"$f":"IF(Resurssiluettelo!G111=0,\"\",Resurssiluettelo!G111)","v":""},{"$f":"IF(Resurssiluettelo!H111=0,\"\",Resurssiluettelo!H111)","v":""},{"$f":"IF(Resurssiluettelo!I111=0,\"\",Resurssiluettelo!I111)","v":""},{"$f":"IF(Resurssiluettelo!W111=0,\"\",Resurssiluettelo!W111)","v":""},{"$f":"IF(Resurssiluettelo!X111=0,\"\",Resurssiluettelo!X111)","v":""},{"$f":"IF(Resurssiluettelo!Y111=0,\"\",Resurssiluettelo!Y111)","v":""},{"$f":"IF(Resurssiluettelo!Z111=0,\"\",Resurssiluettelo!Z111)","v":""},{"$f":"IF(Resurssiluettelo!AA111=0,\"\",Resurssiluettelo!AA111)","v":""},{"$f":"IF(Resurssiluettelo!AB111=0,\"\",Resurssiluettelo!AB111)","v":""},{"$f":"IF(Resurssiluettelo!AC111=0,\"\",Resurssiluettelo!AC111)","v":""},{"$f":"IF(Resurssiluettelo!AD111=0,\"\",Resurssiluettelo!AD111)","v":""},{"$f":"IF(Resurssiluettelo!J111=0,\"\",Resurssiluettelo!J111)","v":""},{"$f":"IF(Resurssiluettelo!K111=0,\"\",Resurssiluettelo!K111)","v":""},{"$f":"IF(Resurssiluettelo!L111=0,\"\",Resurssiluettelo!L111)","v":""},{"$f":"IF(Resurssiluettelo!M111=0,\"\",Resurssiluettelo!M111)","v":""},{"$f":"IF(Resurssiluettelo!N111=0,\"\",Resurssiluettelo!N111)","v":""},{"$f":"IF(Resurssiluettelo!O111=0,\"\",Resurssiluettelo!O111)","v":""},{"$f":"IF(Resurssiluettelo!P111=0,\"\",Resurssiluettelo!P111)","v":""},{"$f":"IF(Resurssiluettelo!Q111=0,\"\",Resurssiluettelo!Q111)","v":""},{"$f":"IF(Resurssiluettelo!R111=0,\"\",Resurssiluettelo!R111)","v":""},{"$f":"IF(Resurssiluettelo!S111=0,\"\",Resurssiluettelo!S111)","v":""},{"$f":"IF(Resurssiluettelo!T111=0,\"\",Resurssiluettelo!T111)","v":""},{"$f":"IF(Resurssiluettelo!U111=0,\"\",Resurssiluettelo!U111)","v":""},{"$f":"IF(Resurssiluettelo!V111=0,\"\",Resurssiluettelo!V111)","v":""}]
[62,{"$f":"IF(Y65=\"\",\"\",Resurssiluettelo!$G$1)","v":""},{"$f":"IF(Y65=\"\",\"\",Resurssiluettelo!$H$14)","v":""},{"$f":"IF(Y65=\"\",\"\",Resurssiluettelo!$I$14)","v":""},{"$f":"IF(Y65=\"\",\"\",Resurssiluettelo!$J$14)","v":""},{"$f":"IF(Y65=\"\",\"\",Resurssiluettelo!$N$14)","v":""},{"$f":"IF(Y65=\"\",\"\",Resurssiluettelo!$O$14)","v":""},{"$f":"IF(Resurssiluettelo!B112=0,\"\",Resurssiluettelo!B112)","v":""},{"$f":"IF(Resurssiluettelo!C112=0,\"\",Resurssiluettelo!C112)","v":""},{"$f":"IF(Resurssiluettelo!D112=0,\"\",Resurssiluettelo!D112)","v":""},{"$f":"IF($J65=\"\",\"\",VLOOKUP($J65, Resurssiluettelo!$D$21:$X$40,Ohjeistus!K$98-1,FALSE))","v":""},{"$f":"IF($J65=\"\",\"\",VLOOKUP($J65, Resurssiluettelo!$D$21:$X$40,Ohjeistus!L$98-1,FALSE))","v":""},{"$f":"IF($J65=\"\",\"\",VLOOKUP($J65, Resurssiluettelo!$D$21:$X$40,Ohjeistus!M$98-1,FALSE))","v":""},{"$f":"IF($J65=\"\",\"\",VLOOKUP($J65, Resurssiluettelo!$D$21:$X$40,Ohjeistus!N$98-1,FALSE))","v":""},{"$f":"IF($J65=\"\",\"\",VLOOKUP($J65, Resurssiluettelo!$D$21:$X$40,Ohjeistus!O$98-1,FALSE))","v":""},{"$f":"IF($J65=\"\",\"\",VLOOKUP($J65, Resurssiluettelo!$D$21:$X$40,Ohjeistus!P$98-1,FALSE))","v":""},{"$f":"IF($J65=\"\",IF($I65=\"\",\"\",VLOOKUP($I65, Resurssiluettelo!$C$21:$X$40,Ohjeistus!Q$98,FALSE)),VLOOKUP($J65, Resurssiluettelo!$D$21:$X$40,Ohjeistus!Q$98-1,FALSE))","v":""},{"$f":"IF($J65=\"\",IF($I65=\"\",\"\",VLOOKUP($I65, Resurssiluettelo!$C$21:$X$40,Ohjeistus!R$98,FALSE)),VLOOKUP($J65, Resurssiluettelo!$D$21:$X$40,Ohjeistus!R$98-1,FALSE))","v":""},{"$f":"IF($J65=\"\",IF($I65=\"\",\"\",VLOOKUP($I65, Resurssiluettelo!$C$21:$X$40,Ohjeistus!S$98,FALSE)),VLOOKUP($J65, Resurssiluettelo!$D$21:$X$40,Ohjeistus!S$98-1,FALSE))","v":""},{"$f":"IF($J65=\"\",IF($I65=\"\",\"\",VLOOKUP($I65, Resurssiluettelo!$C$21:$X$40,Ohjeistus!T$98,FALSE)),VLOOKUP($J65, Resurssiluettelo!$D$21:$X$40,Ohjeistus!T$98-1,FALSE))","v":""},{"$f":"IF($J65=\"\",\"\",VLOOKUP($J65, Resurssiluettelo!$D$21:$X$40,Ohjeistus!U$98-1,FALSE))","v":""},{"$f":"IF($J65=\"\",\"\",VLOOKUP($J65, Resurssiluettelo!$D$21:$X$40,Ohjeistus!V$98-1,FALSE))","v":""},{"$f":"IF($J65=\"\",\"\",VLOOKUP($J65, Resurssiluettelo!$D$21:$X$40,Ohjeistus!W$98-1,FALSE))","v":""},{"$f":"IF($J65=\"\",\"\",VLOOKUP($J65, Resurssiluettelo!$D$21:$X$40,Ohjeistus!X$98-1,FALSE))","v":""},{"$f":"IF(Resurssiluettelo!E112=0,\"\",Resurssiluettelo!E112)","v":""},{"$f":"IF(Resurssiluettelo!F112=0,\"\",YEAR(Resurssiluettelo!F112)&IF(MONTH(Resurssiluettelo!F112)<10,\"0\",\"\")&MONTH(Resurssiluettelo!F112)&IF(DAY(Resurssiluettelo!F112)<10,\"0\",\"\")&DAY(Resurssiluettelo!F112))","v":""},{"$f":"IF(Resurssiluettelo!G112=0,\"\",Resurssiluettelo!G112)","v":""},{"$f":"IF(Resurssiluettelo!H112=0,\"\",Resurssiluettelo!H112)","v":""},{"$f":"IF(Resurssiluettelo!I112=0,\"\",Resurssiluettelo!I112)","v":""},{"$f":"IF(Resurssiluettelo!W112=0,\"\",Resurssiluettelo!W112)","v":""},{"$f":"IF(Resurssiluettelo!X112=0,\"\",Resurssiluettelo!X112)","v":""},{"$f":"IF(Resurssiluettelo!Y112=0,\"\",Resurssiluettelo!Y112)","v":""},{"$f":"IF(Resurssiluettelo!Z112=0,\"\",Resurssiluettelo!Z112)","v":""},{"$f":"IF(Resurssiluettelo!AA112=0,\"\",Resurssiluettelo!AA112)","v":""},{"$f":"IF(Resurssiluettelo!AB112=0,\"\",Resurssiluettelo!AB112)","v":""},{"$f":"IF(Resurssiluettelo!AC112=0,\"\",Resurssiluettelo!AC112)","v":""},{"$f":"IF(Resurssiluettelo!AD112=0,\"\",Resurssiluettelo!AD112)","v":""},{"$f":"IF(Resurssiluettelo!J112=0,\"\",Resurssiluettelo!J112)","v":""},{"$f":"IF(Resurssiluettelo!K112=0,\"\",Resurssiluettelo!K112)","v":""},{"$f":"IF(Resurssiluettelo!L112=0,\"\",Resurssiluettelo!L112)","v":""},{"$f":"IF(Resurssiluettelo!M112=0,\"\",Resurssiluettelo!M112)","v":""},{"$f":"IF(Resurssiluettelo!N112=0,\"\",Resurssiluettelo!N112)","v":""},{"$f":"IF(Resurssiluettelo!O112=0,\"\",Resurssiluettelo!O112)","v":""},{"$f":"IF(Resurssiluettelo!P112=0,\"\",Resurssiluettelo!P112)","v":""},{"$f":"IF(Resurssiluettelo!Q112=0,\"\",Resurssiluettelo!Q112)","v":""},{"$f":"IF(Resurssiluettelo!R112=0,\"\",Resurssiluettelo!R112)","v":""},{"$f":"IF(Resurssiluettelo!S112=0,\"\",Resurssiluettelo!S112)","v":""},{"$f":"IF(Resurssiluettelo!T112=0,\"\",Resurssiluettelo!T112)","v":""},{"$f":"IF(Resurssiluettelo!U112=0,\"\",Resurssiluettelo!U112)","v":""},{"$f":"IF(Resurssiluettelo!V112=0,\"\",Resurssiluettelo!V112)","v":""}]
[63,{"$f":"IF(Y66=\"\",\"\",Resurssiluettelo!$G$1)","v":""},{"$f":"IF(Y66=\"\",\"\",Resurssiluettelo!$H$14)","v":""},{"$f":"IF(Y66=\"\",\"\",Resurssiluettelo!$I$14)","v":""},{"$f":"IF(Y66=\"\",\"\",Resurssiluettelo!$J$14)","v":""},{"$f":"IF(Y66=\"\",\"\",Resurssiluettelo!$N$14)","v":""},{"$f":"IF(Y66=\"\",\"\",Resurssiluettelo!$O$14)","v":""},{"$f":"IF(Resurssiluettelo!B113=0,\"\",Resurssiluettelo!B113)","v":""},{"$f":"IF(Resurssiluettelo!C113=0,\"\",Resurssiluettelo!C113)","v":""},{"$f":"IF(Resurssiluettelo!D113=0,\"\",Resurssiluettelo!D113)","v":""},{"$f":"IF($J66=\"\",\"\",VLOOKUP($J66, Resurssiluettelo!$D$21:$X$40,Ohjeistus!K$98-1,FALSE))","v":""},{"$f":"IF($J66=\"\",\"\",VLOOKUP($J66, Resurssiluettelo!$D$21:$X$40,Ohjeistus!L$98-1,FALSE))","v":""},{"$f":"IF($J66=\"\",\"\",VLOOKUP($J66, Resurssiluettelo!$D$21:$X$40,Ohjeistus!M$98-1,FALSE))","v":""},{"$f":"IF($J66=\"\",\"\",VLOOKUP($J66, Resurssiluettelo!$D$21:$X$40,Ohjeistus!N$98-1,FALSE))","v":""},{"$f":"IF($J66=\"\",\"\",VLOOKUP($J66, Resurssiluettelo!$D$21:$X$40,Ohjeistus!O$98-1,FALSE))","v":""},{"$f":"IF($J66=\"\",\"\",VLOOKUP($J66, Resurssiluettelo!$D$21:$X$40,Ohjeistus!P$98-1,FALSE))","v":""},{"$f":"IF($J66=\"\",IF($I66=\"\",\"\",VLOOKUP($I66, Resurssiluettelo!$C$21:$X$40,Ohjeistus!Q$98,FALSE)),VLOOKUP($J66, Resurssiluettelo!$D$21:$X$40,Ohjeistus!Q$98-1,FALSE))","v":""},{"$f":"IF($J66=\"\",IF($I66=\"\",\"\",VLOOKUP($I66, Resurssiluettelo!$C$21:$X$40,Ohjeistus!R$98,FALSE)),VLOOKUP($J66, Resurssiluettelo!$D$21:$X$40,Ohjeistus!R$98-1,FALSE))","v":""},{"$f":"IF($J66=\"\",IF($I66=\"\",\"\",VLOOKUP($I66, Resurssiluettelo!$C$21:$X$40,Ohjeistus!S$98,FALSE)),VLOOKUP($J66, Resurssiluettelo!$D$21:$X$40,Ohjeistus!S$98-1,FALSE))","v":""},{"$f":"IF($J66=\"\",IF($I66=\"\",\"\",VLOOKUP($I66, Resurssiluettelo!$C$21:$X$40,Ohjeistus!T$98,FALSE)),VLOOKUP($J66, Resurssiluettelo!$D$21:$X$40,Ohjeistus!T$98-1,FALSE))","v":""},{"$f":"IF($J66=\"\",\"\",VLOOKUP($J66, Resurssiluettelo!$D$21:$X$40,Ohjeistus!U$98-1,FALSE))","v":""},{"$f":"IF($J66=\"\",\"\",VLOOKUP($J66, Resurssiluettelo!$D$21:$X$40,Ohjeistus!V$98-1,FALSE))","v":""},{"$f":"IF($J66=\"\",\"\",VLOOKUP($J66, Resurssiluettelo!$D$21:$X$40,Ohjeistus!W$98-1,FALSE))","v":""},{"$f":"IF($J66=\"\",\"\",VLOOKUP($J66, Resurssiluettelo!$D$21:$X$40,Ohjeistus!X$98-1,FALSE))","v":""},{"$f":"IF(Resurssiluettelo!E113=0,\"\",Resurssiluettelo!E113)","v":""},{"$f":"IF(Resurssiluettelo!F113=0,\"\",YEAR(Resurssiluettelo!F113)&IF(MONTH(Resurssiluettelo!F113)<10,\"0\",\"\")&MONTH(Resurssiluettelo!F113)&IF(DAY(Resurssiluettelo!F113)<10,\"0\",\"\")&DAY(Resurssiluettelo!F113))","v":""},{"$f":"IF(Resurssiluettelo!G113=0,\"\",Resurssiluettelo!G113)","v":""},{"$f":"IF(Resurssiluettelo!H113=0,\"\",Resurssiluettelo!H113)","v":""},{"$f":"IF(Resurssiluettelo!I113=0,\"\",Resurssiluettelo!I113)","v":""},{"$f":"IF(Resurssiluettelo!W113=0,\"\",Resurssiluettelo!W113)","v":""},{"$f":"IF(Resurssiluettelo!X113=0,\"\",Resurssiluettelo!X113)","v":""},{"$f":"IF(Resurssiluettelo!Y113=0,\"\",Resurssiluettelo!Y113)","v":""},{"$f":"IF(Resurssiluettelo!Z113=0,\"\",Resurssiluettelo!Z113)","v":""},{"$f":"IF(Resurssiluettelo!AA113=0,\"\",Resurssiluettelo!AA113)","v":""},{"$f":"IF(Resurssiluettelo!AB113=0,\"\",Resurssiluettelo!AB113)","v":""},{"$f":"IF(Resurssiluettelo!AC113=0,\"\",Resurssiluettelo!AC113)","v":""},{"$f":"IF(Resurssiluettelo!AD113=0,\"\",Resurssiluettelo!AD113)","v":""},{"$f":"IF(Resurssiluettelo!J113=0,\"\",Resurssiluettelo!J113)","v":""},{"$f":"IF(Resurssiluettelo!K113=0,\"\",Resurssiluettelo!K113)","v":""},{"$f":"IF(Resurssiluettelo!L113=0,\"\",Resurssiluettelo!L113)","v":""},{"$f":"IF(Resurssiluettelo!M113=0,\"\",Resurssiluettelo!M113)","v":""},{"$f":"IF(Resurssiluettelo!N113=0,\"\",Resurssiluettelo!N113)","v":""},{"$f":"IF(Resurssiluettelo!O113=0,\"\",Resurssiluettelo!O113)","v":""},{"$f":"IF(Resurssiluettelo!P113=0,\"\",Resurssiluettelo!P113)","v":""},{"$f":"IF(Resurssiluettelo!Q113=0,\"\",Resurssiluettelo!Q113)","v":""},{"$f":"IF(Resurssiluettelo!R113=0,\"\",Resurssiluettelo!R113)","v":""},{"$f":"IF(Resurssiluettelo!S113=0,\"\",Resurssiluettelo!S113)","v":""},{"$f":"IF(Resurssiluettelo!T113=0,\"\",Resurssiluettelo!T113)","v":""},{"$f":"IF(Resurssiluettelo!U113=0,\"\",Resurssiluettelo!U113)","v":""},{"$f":"IF(Resurssiluettelo!V113=0,\"\",Resurssiluettelo!V113)","v":""}]
[64,{"$f":"IF(Y67=\"\",\"\",Resurssiluettelo!$G$1)","v":""},{"$f":"IF(Y67=\"\",\"\",Resurssiluettelo!$H$14)","v":""},{"$f":"IF(Y67=\"\",\"\",Resurssiluettelo!$I$14)","v":""},{"$f":"IF(Y67=\"\",\"\",Resurssiluettelo!$J$14)","v":""},{"$f":"IF(Y67=\"\",\"\",Resurssiluettelo!$N$14)","v":""},{"$f":"IF(Y67=\"\",\"\",Resurssiluettelo!$O$14)","v":""},{"$f":"IF(Resurssiluettelo!B114=0,\"\",Resurssiluettelo!B114)","v":""},{"$f":"IF(Resurssiluettelo!C114=0,\"\",Resurssiluettelo!C114)","v":""},{"$f":"IF(Resurssiluettelo!D114=0,\"\",Resurssiluettelo!D114)","v":""},{"$f":"IF($J67=\"\",\"\",VLOOKUP($J67, Resurssiluettelo!$D$21:$X$40,Ohjeistus!K$98-1,FALSE))","v":""},{"$f":"IF($J67=\"\",\"\",VLOOKUP($J67, Resurssiluettelo!$D$21:$X$40,Ohjeistus!L$98-1,FALSE))","v":""},{"$f":"IF($J67=\"\",\"\",VLOOKUP($J67, Resurssiluettelo!$D$21:$X$40,Ohjeistus!M$98-1,FALSE))","v":""},{"$f":"IF($J67=\"\",\"\",VLOOKUP($J67, Resurssiluettelo!$D$21:$X$40,Ohjeistus!N$98-1,FALSE))","v":""},{"$f":"IF($J67=\"\",\"\",VLOOKUP($J67, Resurssiluettelo!$D$21:$X$40,Ohjeistus!O$98-1,FALSE))","v":""},{"$f":"IF($J67=\"\",\"\",VLOOKUP($J67, Resurssiluettelo!$D$21:$X$40,Ohjeistus!P$98-1,FALSE))","v":""},{"$f":"IF($J67=\"\",IF($I67=\"\",\"\",VLOOKUP($I67, Resurssiluettelo!$C$21:$X$40,Ohjeistus!Q$98,FALSE)),VLOOKUP($J67, Resurssiluettelo!$D$21:$X$40,Ohjeistus!Q$98-1,FALSE))","v":""},{"$f":"IF($J67=\"\",IF($I67=\"\",\"\",VLOOKUP($I67, Resurssiluettelo!$C$21:$X$40,Ohjeistus!R$98,FALSE)),VLOOKUP($J67, Resurssiluettelo!$D$21:$X$40,Ohjeistus!R$98-1,FALSE))","v":""},{"$f":"IF($J67=\"\",IF($I67=\"\",\"\",VLOOKUP($I67, Resurssiluettelo!$C$21:$X$40,Ohjeistus!S$98,FALSE)),VLOOKUP($J67, Resurssiluettelo!$D$21:$X$40,Ohjeistus!S$98-1,FALSE))","v":""},{"$f":"IF($J67=\"\",IF($I67=\"\",\"\",VLOOKUP($I67, Resurssiluettelo!$C$21:$X$40,Ohjeistus!T$98,FALSE)),VLOOKUP($J67, Resurssiluettelo!$D$21:$X$40,Ohjeistus!T$98-1,FALSE))","v":""},{"$f":"IF($J67=\"\",\"\",VLOOKUP($J67, Resurssiluettelo!$D$21:$X$40,Ohjeistus!U$98-1,FALSE))","v":""},{"$f":"IF($J67=\"\",\"\",VLOOKUP($J67, Resurssiluettelo!$D$21:$X$40,Ohjeistus!V$98-1,FALSE))","v":""},{"$f":"IF($J67=\"\",\"\",VLOOKUP($J67, Resurssiluettelo!$D$21:$X$40,Ohjeistus!W$98-1,FALSE))","v":""},{"$f":"IF($J67=\"\",\"\",VLOOKUP($J67, Resurssiluettelo!$D$21:$X$40,Ohjeistus!X$98-1,FALSE))","v":""},{"$f":"IF(Resurssiluettelo!E114=0,\"\",Resurssiluettelo!E114)","v":""},{"$f":"IF(Resurssiluettelo!F114=0,\"\",YEAR(Resurssiluettelo!F114)&IF(MONTH(Resurssiluettelo!F114)<10,\"0\",\"\")&MONTH(Resurssiluettelo!F114)&IF(DAY(Resurssiluettelo!F114)<10,\"0\",\"\")&DAY(Resurssiluettelo!F114))","v":""},{"$f":"IF(Resurssiluettelo!G114=0,\"\",Resurssiluettelo!G114)","v":""},{"$f":"IF(Resurssiluettelo!H114=0,\"\",Resurssiluettelo!H114)","v":""},{"$f":"IF(Resurssiluettelo!I114=0,\"\",Resurssiluettelo!I114)","v":""},{"$f":"IF(Resurssiluettelo!W114=0,\"\",Resurssiluettelo!W114)","v":""},{"$f":"IF(Resurssiluettelo!X114=0,\"\",Resurssiluettelo!X114)","v":""},{"$f":"IF(Resurssiluettelo!Y114=0,\"\",Resurssiluettelo!Y114)","v":""},{"$f":"IF(Resurssiluettelo!Z114=0,\"\",Resurssiluettelo!Z114)","v":""},{"$f":"IF(Resurssiluettelo!AA114=0,\"\",Resurssiluettelo!AA114)","v":""},{"$f":"IF(Resurssiluettelo!AB114=0,\"\",Resurssiluettelo!AB114)","v":""},{"$f":"IF(Resurssiluettelo!AC114=0,\"\",Resurssiluettelo!AC114)","v":""},{"$f":"IF(Resurssiluettelo!AD114=0,\"\",Resurssiluettelo!AD114)","v":""},{"$f":"IF(Resurssiluettelo!J114=0,\"\",Resurssiluettelo!J114)","v":""},{"$f":"IF(Resurssiluettelo!K114=0,\"\",Resurssiluettelo!K114)","v":""},{"$f":"IF(Resurssiluettelo!L114=0,\"\",Resurssiluettelo!L114)","v":""},{"$f":"IF(Resurssiluettelo!M114=0,\"\",Resurssiluettelo!M114)","v":""},{"$f":"IF(Resurssiluettelo!N114=0,\"\",Resurssiluettelo!N114)","v":""},{"$f":"IF(Resurssiluettelo!O114=0,\"\",Resurssiluettelo!O114)","v":""},{"$f":"IF(Resurssiluettelo!P114=0,\"\",Resurssiluettelo!P114)","v":""},{"$f":"IF(Resurssiluettelo!Q114=0,\"\",Resurssiluettelo!Q114)","v":""},{"$f":"IF(Resurssiluettelo!R114=0,\"\",Resurssiluettelo!R114)","v":""},{"$f":"IF(Resurssiluettelo!S114=0,\"\",Resurssiluettelo!S114)","v":""},{"$f":"IF(Resurssiluettelo!T114=0,\"\",Resurssiluettelo!T114)","v":""},{"$f":"IF(Resurssiluettelo!U114=0,\"\",Resurssiluettelo!U114)","v":""},{"$f":"IF(Resurssiluettelo!V114=0,\"\",Resurssiluettelo!V114)","v":""}]
[65,{"$f":"IF(Y68=\"\",\"\",Resurssiluettelo!$G$1)","v":""},{"$f":"IF(Y68=\"\",\"\",Resurssiluettelo!$H$14)","v":""},{"$f":"IF(Y68=\"\",\"\",Resurssiluettelo!$I$14)","v":""},{"$f":"IF(Y68=\"\",\"\",Resurssiluettelo!$J$14)","v":""},{"$f":"IF(Y68=\"\",\"\",Resurssiluettelo!$N$14)","v":""},{"$f":"IF(Y68=\"\",\"\",Resurssiluettelo!$O$14)","v":""},{"$f":"IF(Resurssiluettelo!B115=0,\"\",Resurssiluettelo!B115)","v":""},{"$f":"IF(Resurssiluettelo!C115=0,\"\",Resurssiluettelo!C115)","v":""},{"$f":"IF(Resurssiluettelo!D115=0,\"\",Resurssiluettelo!D115)","v":""},{"$f":"IF($J68=\"\",\"\",VLOOKUP($J68, Resurssiluettelo!$D$21:$X$40,Ohjeistus!K$98-1,FALSE))","v":""},{"$f":"IF($J68=\"\",\"\",VLOOKUP($J68, Resurssiluettelo!$D$21:$X$40,Ohjeistus!L$98-1,FALSE))","v":""},{"$f":"IF($J68=\"\",\"\",VLOOKUP($J68, Resurssiluettelo!$D$21:$X$40,Ohjeistus!M$98-1,FALSE))","v":""},{"$f":"IF($J68=\"\",\"\",VLOOKUP($J68, Resurssiluettelo!$D$21:$X$40,Ohjeistus!N$98-1,FALSE))","v":""},{"$f":"IF($J68=\"\",\"\",VLOOKUP($J68, Resurssiluettelo!$D$21:$X$40,Ohjeistus!O$98-1,FALSE))","v":""},{"$f":"IF($J68=\"\",\"\",VLOOKUP($J68, Resurssiluettelo!$D$21:$X$40,Ohjeistus!P$98-1,FALSE))","v":""},{"$f":"IF($J68=\"\",IF($I68=\"\",\"\",VLOOKUP($I68, Resurssiluettelo!$C$21:$X$40,Ohjeistus!Q$98,FALSE)),VLOOKUP($J68, Resurssiluettelo!$D$21:$X$40,Ohjeistus!Q$98-1,FALSE))","v":""},{"$f":"IF($J68=\"\",IF($I68=\"\",\"\",VLOOKUP($I68, Resurssiluettelo!$C$21:$X$40,Ohjeistus!R$98,FALSE)),VLOOKUP($J68, Resurssiluettelo!$D$21:$X$40,Ohjeistus!R$98-1,FALSE))","v":""},{"$f":"IF($J68=\"\",IF($I68=\"\",\"\",VLOOKUP($I68, Resurssiluettelo!$C$21:$X$40,Ohjeistus!S$98,FALSE)),VLOOKUP($J68, Resurssiluettelo!$D$21:$X$40,Ohjeistus!S$98-1,FALSE))","v":""},{"$f":"IF($J68=\"\",IF($I68=\"\",\"\",VLOOKUP($I68, Resurssiluettelo!$C$21:$X$40,Ohjeistus!T$98,FALSE)),VLOOKUP($J68, Resurssiluettelo!$D$21:$X$40,Ohjeistus!T$98-1,FALSE))","v":""},{"$f":"IF($J68=\"\",\"\",VLOOKUP($J68, Resurssiluettelo!$D$21:$X$40,Ohjeistus!U$98-1,FALSE))","v":""},{"$f":"IF($J68=\"\",\"\",VLOOKUP($J68, Resurssiluettelo!$D$21:$X$40,Ohjeistus!V$98-1,FALSE))","v":""},{"$f":"IF($J68=\"\",\"\",VLOOKUP($J68, Resurssiluettelo!$D$21:$X$40,Ohjeistus!W$98-1,FALSE))","v":""},{"$f":"IF($J68=\"\",\"\",VLOOKUP($J68, Resurssiluettelo!$D$21:$X$40,Ohjeistus!X$98-1,FALSE))","v":""},{"$f":"IF(Resurssiluettelo!E115=0,\"\",Resurssiluettelo!E115)","v":""},{"$f":"IF(Resurssiluettelo!F115=0,\"\",YEAR(Resurssiluettelo!F115)&IF(MONTH(Resurssiluettelo!F115)<10,\"0\",\"\")&MONTH(Resurssiluettelo!F115)&IF(DAY(Resurssiluettelo!F115)<10,\"0\",\"\")&DAY(Resurssiluettelo!F115))","v":""},{"$f":"IF(Resurssiluettelo!G115=0,\"\",Resurssiluettelo!G115)","v":""},{"$f":"IF(Resurssiluettelo!H115=0,\"\",Resurssiluettelo!H115)","v":""},{"$f":"IF(Resurssiluettelo!I115=0,\"\",Resurssiluettelo!I115)","v":""},{"$f":"IF(Resurssiluettelo!W115=0,\"\",Resurssiluettelo!W115)","v":""},{"$f":"IF(Resurssiluettelo!X115=0,\"\",Resurssiluettelo!X115)","v":""},{"$f":"IF(Resurssiluettelo!Y115=0,\"\",Resurssiluettelo!Y115)","v":""},{"$f":"IF(Resurssiluettelo!Z115=0,\"\",Resurssiluettelo!Z115)","v":""},{"$f":"IF(Resurssiluettelo!AA115=0,\"\",Resurssiluettelo!AA115)","v":""},{"$f":"IF(Resurssiluettelo!AB115=0,\"\",Resurssiluettelo!AB115)","v":""},{"$f":"IF(Resurssiluettelo!AC115=0,\"\",Resurssiluettelo!AC115)","v":""},{"$f":"IF(Resurssiluettelo!AD115=0,\"\",Resurssiluettelo!AD115)","v":""},{"$f":"IF(Resurssiluettelo!J115=0,\"\",Resurssiluettelo!J115)","v":""},{"$f":"IF(Resurssiluettelo!K115=0,\"\",Resurssiluettelo!K115)","v":""},{"$f":"IF(Resurssiluettelo!L115=0,\"\",Resurssiluettelo!L115)","v":""},{"$f":"IF(Resurssiluettelo!M115=0,\"\",Resurssiluettelo!M115)","v":""},{"$f":"IF(Resurssiluettelo!N115=0,\"\",Resurssiluettelo!N115)","v":""},{"$f":"IF(Resurssiluettelo!O115=0,\"\",Resurssiluettelo!O115)","v":""},{"$f":"IF(Resurssiluettelo!P115=0,\"\",Resurssiluettelo!P115)","v":""},{"$f":"IF(Resurssiluettelo!Q115=0,\"\",Resurssiluettelo!Q115)","v":""},{"$f":"IF(Resurssiluettelo!R115=0,\"\",Resurssiluettelo!R115)","v":""},{"$f":"IF(Resurssiluettelo!S115=0,\"\",Resurssiluettelo!S115)","v":""},{"$f":"IF(Resurssiluettelo!T115=0,\"\",Resurssiluettelo!T115)","v":""},{"$f":"IF(Resurssiluettelo!U115=0,\"\",Resurssiluettelo!U115)","v":""},{"$f":"IF(Resurssiluettelo!V115=0,\"\",Resurssiluettelo!V115)","v":""}]
[66,{"$f":"IF(Y69=\"\",\"\",Resurssiluettelo!$G$1)","v":""},{"$f":"IF(Y69=\"\",\"\",Resurssiluettelo!$H$14)","v":""},{"$f":"IF(Y69=\"\",\"\",Resurssiluettelo!$I$14)","v":""},{"$f":"IF(Y69=\"\",\"\",Resurssiluettelo!$J$14)","v":""},{"$f":"IF(Y69=\"\",\"\",Resurssiluettelo!$N$14)","v":""},{"$f":"IF(Y69=\"\",\"\",Resurssiluettelo!$O$14)","v":""},{"$f":"IF(Resurssiluettelo!B116=0,\"\",Resurssiluettelo!B116)","v":""},{"$f":"IF(Resurssiluettelo!C116=0,\"\",Resurssiluettelo!C116)","v":""},{"$f":"IF(Resurssiluettelo!D116=0,\"\",Resurssiluettelo!D116)","v":""},{"$f":"IF($J69=\"\",\"\",VLOOKUP($J69, Resurssiluettelo!$D$21:$X$40,Ohjeistus!K$98-1,FALSE))","v":""},{"$f":"IF($J69=\"\",\"\",VLOOKUP($J69, Resurssiluettelo!$D$21:$X$40,Ohjeistus!L$98-1,FALSE))","v":""},{"$f":"IF($J69=\"\",\"\",VLOOKUP($J69, Resurssiluettelo!$D$21:$X$40,Ohjeistus!M$98-1,FALSE))","v":""},{"$f":"IF($J69=\"\",\"\",VLOOKUP($J69, Resurssiluettelo!$D$21:$X$40,Ohjeistus!N$98-1,FALSE))","v":""},{"$f":"IF($J69=\"\",\"\",VLOOKUP($J69, Resurssiluettelo!$D$21:$X$40,Ohjeistus!O$98-1,FALSE))","v":""},{"$f":"IF($J69=\"\",\"\",VLOOKUP($J69, Resurssiluettelo!$D$21:$X$40,Ohjeistus!P$98-1,FALSE))","v":""},{"$f":"IF($J69=\"\",IF($I69=\"\",\"\",VLOOKUP($I69, Resurssiluettelo!$C$21:$X$40,Ohjeistus!Q$98,FALSE)),VLOOKUP($J69, Resurssiluettelo!$D$21:$X$40,Ohjeistus!Q$98-1,FALSE))","v":""},{"$f":"IF($J69=\"\",IF($I69=\"\",\"\",VLOOKUP($I69, Resurssiluettelo!$C$21:$X$40,Ohjeistus!R$98,FALSE)),VLOOKUP($J69, Resurssiluettelo!$D$21:$X$40,Ohjeistus!R$98-1,FALSE))","v":""},{"$f":"IF($J69=\"\",IF($I69=\"\",\"\",VLOOKUP($I69, Resurssiluettelo!$C$21:$X$40,Ohjeistus!S$98,FALSE)),VLOOKUP($J69, Resurssiluettelo!$D$21:$X$40,Ohjeistus!S$98-1,FALSE))","v":""},{"$f":"IF($J69=\"\",IF($I69=\"\",\"\",VLOOKUP($I69, Resurssiluettelo!$C$21:$X$40,Ohjeistus!T$98,FALSE)),VLOOKUP($J69, Resurssiluettelo!$D$21:$X$40,Ohjeistus!T$98-1,FALSE))","v":""},{"$f":"IF($J69=\"\",\"\",VLOOKUP($J69, Resurssiluettelo!$D$21:$X$40,Ohjeistus!U$98-1,FALSE))","v":""},{"$f":"IF($J69=\"\",\"\",VLOOKUP($J69, Resurssiluettelo!$D$21:$X$40,Ohjeistus!V$98-1,FALSE))","v":""},{"$f":"IF($J69=\"\",\"\",VLOOKUP($J69, Resurssiluettelo!$D$21:$X$40,Ohjeistus!W$98-1,FALSE))","v":""},{"$f":"IF($J69=\"\",\"\",VLOOKUP($J69, Resurssiluettelo!$D$21:$X$40,Ohjeistus!X$98-1,FALSE))","v":""},{"$f":"IF(Resurssiluettelo!E116=0,\"\",Resurssiluettelo!E116)","v":""},{"$f":"IF(Resurssiluettelo!F116=0,\"\",YEAR(Resurssiluettelo!F116)&IF(MONTH(Resurssiluettelo!F116)<10,\"0\",\"\")&MONTH(Resurssiluettelo!F116)&IF(DAY(Resurssiluettelo!F116)<10,\"0\",\"\")&DAY(Resurssiluettelo!F116))","v":""},{"$f":"IF(Resurssiluettelo!G116=0,\"\",Resurssiluettelo!G116)","v":""},{"$f":"IF(Resurssiluettelo!H116=0,\"\",Resurssiluettelo!H116)","v":""},{"$f":"IF(Resurssiluettelo!I116=0,\"\",Resurssiluettelo!I116)","v":""},{"$f":"IF(Resurssiluettelo!W116=0,\"\",Resurssiluettelo!W116)","v":""},{"$f":"IF(Resurssiluettelo!X116=0,\"\",Resurssiluettelo!X116)","v":""},{"$f":"IF(Resurssiluettelo!Y116=0,\"\",Resurssiluettelo!Y116)","v":""},{"$f":"IF(Resurssiluettelo!Z116=0,\"\",Resurssiluettelo!Z116)","v":""},{"$f":"IF(Resurssiluettelo!AA116=0,\"\",Resurssiluettelo!AA116)","v":""},{"$f":"IF(Resurssiluettelo!AB116=0,\"\",Resurssiluettelo!AB116)","v":""},{"$f":"IF(Resurssiluettelo!AC116=0,\"\",Resurssiluettelo!AC116)","v":""},{"$f":"IF(Resurssiluettelo!AD116=0,\"\",Resurssiluettelo!AD116)","v":""},{"$f":"IF(Resurssiluettelo!J116=0,\"\",Resurssiluettelo!J116)","v":""},{"$f":"IF(Resurssiluettelo!K116=0,\"\",Resurssiluettelo!K116)","v":""},{"$f":"IF(Resurssiluettelo!L116=0,\"\",Resurssiluettelo!L116)","v":""},{"$f":"IF(Resurssiluettelo!M116=0,\"\",Resurssiluettelo!M116)","v":""},{"$f":"IF(Resurssiluettelo!N116=0,\"\",Resurssiluettelo!N116)","v":""},{"$f":"IF(Resurssiluettelo!O116=0,\"\",Resurssiluettelo!O116)","v":""},{"$f":"IF(Resurssiluettelo!P116=0,\"\",Resurssiluettelo!P116)","v":""},{"$f":"IF(Resurssiluettelo!Q116=0,\"\",Resurssiluettelo!Q116)","v":""},{"$f":"IF(Resurssiluettelo!R116=0,\"\",Resurssiluettelo!R116)","v":""},{"$f":"IF(Resurssiluettelo!S116=0,\"\",Resurssiluettelo!S116)","v":""},{"$f":"IF(Resurssiluettelo!T116=0,\"\",Resurssiluettelo!T116)","v":""},{"$f":"IF(Resurssiluettelo!U116=0,\"\",Resurssiluettelo!U116)","v":""},{"$f":"IF(Resurssiluettelo!V116=0,\"\",Resurssiluettelo!V116)","v":""}]
[67,{"$f":"IF(Y70=\"\",\"\",Resurssiluettelo!$G$1)","v":""},{"$f":"IF(Y70=\"\",\"\",Resurssiluettelo!$H$14)","v":""},{"$f":"IF(Y70=\"\",\"\",Resurssiluettelo!$I$14)","v":""},{"$f":"IF(Y70=\"\",\"\",Resurssiluettelo!$J$14)","v":""},{"$f":"IF(Y70=\"\",\"\",Resurssiluettelo!$N$14)","v":""},{"$f":"IF(Y70=\"\",\"\",Resurssiluettelo!$O$14)","v":""},{"$f":"IF(Resurssiluettelo!B117=0,\"\",Resurssiluettelo!B117)","v":""},{"$f":"IF(Resurssiluettelo!C117=0,\"\",Resurssiluettelo!C117)","v":""},{"$f":"IF(Resurssiluettelo!D117=0,\"\",Resurssiluettelo!D117)","v":""},{"$f":"IF($J70=\"\",\"\",VLOOKUP($J70, Resurssiluettelo!$D$21:$X$40,Ohjeistus!K$98-1,FALSE))","v":""},{"$f":"IF($J70=\"\",\"\",VLOOKUP($J70, Resurssiluettelo!$D$21:$X$40,Ohjeistus!L$98-1,FALSE))","v":""},{"$f":"IF($J70=\"\",\"\",VLOOKUP($J70, Resurssiluettelo!$D$21:$X$40,Ohjeistus!M$98-1,FALSE))","v":""},{"$f":"IF($J70=\"\",\"\",VLOOKUP($J70, Resurssiluettelo!$D$21:$X$40,Ohjeistus!N$98-1,FALSE))","v":""},{"$f":"IF($J70=\"\",\"\",VLOOKUP($J70, Resurssiluettelo!$D$21:$X$40,Ohjeistus!O$98-1,FALSE))","v":""},{"$f":"IF($J70=\"\",\"\",VLOOKUP($J70, Resurssiluettelo!$D$21:$X$40,Ohjeistus!P$98-1,FALSE))","v":""},{"$f":"IF($J70=\"\",IF($I70=\"\",\"\",VLOOKUP($I70, Resurssiluettelo!$C$21:$X$40,Ohjeistus!Q$98,FALSE)),VLOOKUP($J70, Resurssiluettelo!$D$21:$X$40,Ohjeistus!Q$98-1,FALSE))","v":""},{"$f":"IF($J70=\"\",IF($I70=\"\",\"\",VLOOKUP($I70, Resurssiluettelo!$C$21:$X$40,Ohjeistus!R$98,FALSE)),VLOOKUP($J70, Resurssiluettelo!$D$21:$X$40,Ohjeistus!R$98-1,FALSE))","v":""},{"$f":"IF($J70=\"\",IF($I70=\"\",\"\",VLOOKUP($I70, Resurssiluettelo!$C$21:$X$40,Ohjeistus!S$98,FALSE)),VLOOKUP($J70, Resurssiluettelo!$D$21:$X$40,Ohjeistus!S$98-1,FALSE))","v":""},{"$f":"IF($J70=\"\",IF($I70=\"\",\"\",VLOOKUP($I70, Resurssiluettelo!$C$21:$X$40,Ohjeistus!T$98,FALSE)),VLOOKUP($J70, Resurssiluettelo!$D$21:$X$40,Ohjeistus!T$98-1,FALSE))","v":""},{"$f":"IF($J70=\"\",\"\",VLOOKUP($J70, Resurssiluettelo!$D$21:$X$40,Ohjeistus!U$98-1,FALSE))","v":""},{"$f":"IF($J70=\"\",\"\",VLOOKUP($J70, Resurssiluettelo!$D$21:$X$40,Ohjeistus!V$98-1,FALSE))","v":""},{"$f":"IF($J70=\"\",\"\",VLOOKUP($J70, Resurssiluettelo!$D$21:$X$40,Ohjeistus!W$98-1,FALSE))","v":""},{"$f":"IF($J70=\"\",\"\",VLOOKUP($J70, Resurssiluettelo!$D$21:$X$40,Ohjeistus!X$98-1,FALSE))","v":""},{"$f":"IF(Resurssiluettelo!E117=0,\"\",Resurssiluettelo!E117)","v":""},{"$f":"IF(Resurssiluettelo!F117=0,\"\",YEAR(Resurssiluettelo!F117)&IF(MONTH(Resurssiluettelo!F117)<10,\"0\",\"\")&MONTH(Resurssiluettelo!F117)&IF(DAY(Resurssiluettelo!F117)<10,\"0\",\"\")&DAY(Resurssiluettelo!F117))","v":""},{"$f":"IF(Resurssiluettelo!G117=0,\"\",Resurssiluettelo!G117)","v":""},{"$f":"IF(Resurssiluettelo!H117=0,\"\",Resurssiluettelo!H117)","v":""},{"$f":"IF(Resurssiluettelo!I117=0,\"\",Resurssiluettelo!I117)","v":""},{"$f":"IF(Resurssiluettelo!W117=0,\"\",Resurssiluettelo!W117)","v":""},{"$f":"IF(Resurssiluettelo!X117=0,\"\",Resurssiluettelo!X117)","v":""},{"$f":"IF(Resurssiluettelo!Y117=0,\"\",Resurssiluettelo!Y117)","v":""},{"$f":"IF(Resurssiluettelo!Z117=0,\"\",Resurssiluettelo!Z117)","v":""},{"$f":"IF(Resurssiluettelo!AA117=0,\"\",Resurssiluettelo!AA117)","v":""},{"$f":"IF(Resurssiluettelo!AB117=0,\"\",Resurssiluettelo!AB117)","v":""},{"$f":"IF(Resurssiluettelo!AC117=0,\"\",Resurssiluettelo!AC117)","v":""},{"$f":"IF(Resurssiluettelo!AD117=0,\"\",Resurssiluettelo!AD117)","v":""},{"$f":"IF(Resurssiluettelo!J117=0,\"\",Resurssiluettelo!J117)","v":""},{"$f":"IF(Resurssiluettelo!K117=0,\"\",Resurssiluettelo!K117)","v":""},{"$f":"IF(Resurssiluettelo!L117=0,\"\",Resurssiluettelo!L117)","v":""},{"$f":"IF(Resurssiluettelo!M117=0,\"\",Resurssiluettelo!M117)","v":""},{"$f":"IF(Resurssiluettelo!N117=0,\"\",Resurssiluettelo!N117)","v":""},{"$f":"IF(Resurssiluettelo!O117=0,\"\",Resurssiluettelo!O117)","v":""},{"$f":"IF(Resurssiluettelo!P117=0,\"\",Resurssiluettelo!P117)","v":""},{"$f":"IF(Resurssiluettelo!Q117=0,\"\",Resurssiluettelo!Q117)","v":""},{"$f":"IF(Resurssiluettelo!R117=0,\"\",Resurssiluettelo!R117)","v":""},{"$f":"IF(Resurssiluettelo!S117=0,\"\",Resurssiluettelo!S117)","v":""},{"$f":"IF(Resurssiluettelo!T117=0,\"\",Resurssiluettelo!T117)","v":""},{"$f":"IF(Resurssiluettelo!U117=0,\"\",Resurssiluettelo!U117)","v":""},{"$f":"IF(Resurssiluettelo!V117=0,\"\",Resurssiluettelo!V117)","v":""}]
[68,{"$f":"IF(Y71=\"\",\"\",Resurssiluettelo!$G$1)","v":""},{"$f":"IF(Y71=\"\",\"\",Resurssiluettelo!$H$14)","v":""},{"$f":"IF(Y71=\"\",\"\",Resurssiluettelo!$I$14)","v":""},{"$f":"IF(Y71=\"\",\"\",Resurssiluettelo!$J$14)","v":""},{"$f":"IF(Y71=\"\",\"\",Resurssiluettelo!$N$14)","v":""},{"$f":"IF(Y71=\"\",\"\",Resurssiluettelo!$O$14)","v":""},{"$f":"IF(Resurssiluettelo!B118=0,\"\",Resurssiluettelo!B118)","v":""},{"$f":"IF(Resurssiluettelo!C118=0,\"\",Resurssiluettelo!C118)","v":""},{"$f":"IF(Resurssiluettelo!D118=0,\"\",Resurssiluettelo!D118)","v":""},{"$f":"IF($J71=\"\",\"\",VLOOKUP($J71, Resurssiluettelo!$D$21:$X$40,Ohjeistus!K$98-1,FALSE))","v":""},{"$f":"IF($J71=\"\",\"\",VLOOKUP($J71, Resurssiluettelo!$D$21:$X$40,Ohjeistus!L$98-1,FALSE))","v":""},{"$f":"IF($J71=\"\",\"\",VLOOKUP($J71, Resurssiluettelo!$D$21:$X$40,Ohjeistus!M$98-1,FALSE))","v":""},{"$f":"IF($J71=\"\",\"\",VLOOKUP($J71, Resurssiluettelo!$D$21:$X$40,Ohjeistus!N$98-1,FALSE))","v":""},{"$f":"IF($J71=\"\",\"\",VLOOKUP($J71, Resurssiluettelo!$D$21:$X$40,Ohjeistus!O$98-1,FALSE))","v":""},{"$f":"IF($J71=\"\",\"\",VLOOKUP($J71, Resurssiluettelo!$D$21:$X$40,Ohjeistus!P$98-1,FALSE))","v":""},{"$f":"IF($J71=\"\",IF($I71=\"\",\"\",VLOOKUP($I71, Resurssiluettelo!$C$21:$X$40,Ohjeistus!Q$98,FALSE)),VLOOKUP($J71, Resurssiluettelo!$D$21:$X$40,Ohjeistus!Q$98-1,FALSE))","v":""},{"$f":"IF($J71=\"\",IF($I71=\"\",\"\",VLOOKUP($I71, Resurssiluettelo!$C$21:$X$40,Ohjeistus!R$98,FALSE)),VLOOKUP($J71, Resurssiluettelo!$D$21:$X$40,Ohjeistus!R$98-1,FALSE))","v":""},{"$f":"IF($J71=\"\",IF($I71=\"\",\"\",VLOOKUP($I71, Resurssiluettelo!$C$21:$X$40,Ohjeistus!S$98,FALSE)),VLOOKUP($J71, Resurssiluettelo!$D$21:$X$40,Ohjeistus!S$98-1,FALSE))","v":""},{"$f":"IF($J71=\"\",IF($I71=\"\",\"\",VLOOKUP($I71, Resurssiluettelo!$C$21:$X$40,Ohjeistus!T$98,FALSE)),VLOOKUP($J71, Resurssiluettelo!$D$21:$X$40,Ohjeistus!T$98-1,FALSE))","v":""},{"$f":"IF($J71=\"\",\"\",VLOOKUP($J71, Resurssiluettelo!$D$21:$X$40,Ohjeistus!U$98-1,FALSE))","v":""},{"$f":"IF($J71=\"\",\"\",VLOOKUP($J71, Resurssiluettelo!$D$21:$X$40,Ohjeistus!V$98-1,FALSE))","v":""},{"$f":"IF($J71=\"\",\"\",VLOOKUP($J71, Resurssiluettelo!$D$21:$X$40,Ohjeistus!W$98-1,FALSE))","v":""},{"$f":"IF($J71=\"\",\"\",VLOOKUP($J71, Resurssiluettelo!$D$21:$X$40,Ohjeistus!X$98-1,FALSE))","v":""},{"$f":"IF(Resurssiluettelo!E118=0,\"\",Resurssiluettelo!E118)","v":""},{"$f":"IF(Resurssiluettelo!F118=0,\"\",YEAR(Resurssiluettelo!F118)&IF(MONTH(Resurssiluettelo!F118)<10,\"0\",\"\")&MONTH(Resurssiluettelo!F118)&IF(DAY(Resurssiluettelo!F118)<10,\"0\",\"\")&DAY(Resurssiluettelo!F118))","v":""},{"$f":"IF(Resurssiluettelo!G118=0,\"\",Resurssiluettelo!G118)","v":""},{"$f":"IF(Resurssiluettelo!H118=0,\"\",Resurssiluettelo!H118)","v":""},{"$f":"IF(Resurssiluettelo!I118=0,\"\",Resurssiluettelo!I118)","v":""},{"$f":"IF(Resurssiluettelo!W118=0,\"\",Resurssiluettelo!W118)","v":""},{"$f":"IF(Resurssiluettelo!X118=0,\"\",Resurssiluettelo!X118)","v":""},{"$f":"IF(Resurssiluettelo!Y118=0,\"\",Resurssiluettelo!Y118)","v":""},{"$f":"IF(Resurssiluettelo!Z118=0,\"\",Resurssiluettelo!Z118)","v":""},{"$f":"IF(Resurssiluettelo!AA118=0,\"\",Resurssiluettelo!AA118)","v":""},{"$f":"IF(Resurssiluettelo!AB118=0,\"\",Resurssiluettelo!AB118)","v":""},{"$f":"IF(Resurssiluettelo!AC118=0,\"\",Resurssiluettelo!AC118)","v":""},{"$f":"IF(Resurssiluettelo!AD118=0,\"\",Resurssiluettelo!AD118)","v":""},{"$f":"IF(Resurssiluettelo!J118=0,\"\",Resurssiluettelo!J118)","v":""},{"$f":"IF(Resurssiluettelo!K118=0,\"\",Resurssiluettelo!K118)","v":""},{"$f":"IF(Resurssiluettelo!L118=0,\"\",Resurssiluettelo!L118)","v":""},{"$f":"IF(Resurssiluettelo!M118=0,\"\",Resurssiluettelo!M118)","v":""},{"$f":"IF(Resurssiluettelo!N118=0,\"\",Resurssiluettelo!N118)","v":""},{"$f":"IF(Resurssiluettelo!O118=0,\"\",Resurssiluettelo!O118)","v":""},{"$f":"IF(Resurssiluettelo!P118=0,\"\",Resurssiluettelo!P118)","v":""},{"$f":"IF(Resurssiluettelo!Q118=0,\"\",Resurssiluettelo!Q118)","v":""},{"$f":"IF(Resurssiluettelo!R118=0,\"\",Resurssiluettelo!R118)","v":""},{"$f":"IF(Resurssiluettelo!S118=0,\"\",Resurssiluettelo!S118)","v":""},{"$f":"IF(Resurssiluettelo!T118=0,\"\",Resurssiluettelo!T118)","v":""},{"$f":"IF(Resurssiluettelo!U118=0,\"\",Resurssiluettelo!U118)","v":""},{"$f":"IF(Resurssiluettelo!V118=0,\"\",Resurssiluettelo!V118)","v":""}]
[69,{"$f":"IF(Y72=\"\",\"\",Resurssiluettelo!$G$1)","v":""},{"$f":"IF(Y72=\"\",\"\",Resurssiluettelo!$H$14)","v":""},{"$f":"IF(Y72=\"\",\"\",Resurssiluettelo!$I$14)","v":""},{"$f":"IF(Y72=\"\",\"\",Resurssiluettelo!$J$14)","v":""},{"$f":"IF(Y72=\"\",\"\",Resurssiluettelo!$N$14)","v":""},{"$f":"IF(Y72=\"\",\"\",Resurssiluettelo!$O$14)","v":""},{"$f":"IF(Resurssiluettelo!B119=0,\"\",Resurssiluettelo!B119)","v":""},{"$f":"IF(Resurssiluettelo!C119=0,\"\",Resurssiluettelo!C119)","v":""},{"$f":"IF(Resurssiluettelo!D119=0,\"\",Resurssiluettelo!D119)","v":""},{"$f":"IF($J72=\"\",\"\",VLOOKUP($J72, Resurssiluettelo!$D$21:$X$40,Ohjeistus!K$98-1,FALSE))","v":""},{"$f":"IF($J72=\"\",\"\",VLOOKUP($J72, Resurssiluettelo!$D$21:$X$40,Ohjeistus!L$98-1,FALSE))","v":""},{"$f":"IF($J72=\"\",\"\",VLOOKUP($J72, Resurssiluettelo!$D$21:$X$40,Ohjeistus!M$98-1,FALSE))","v":""},{"$f":"IF($J72=\"\",\"\",VLOOKUP($J72, Resurssiluettelo!$D$21:$X$40,Ohjeistus!N$98-1,FALSE))","v":""},{"$f":"IF($J72=\"\",\"\",VLOOKUP($J72, Resurssiluettelo!$D$21:$X$40,Ohjeistus!O$98-1,FALSE))","v":""},{"$f":"IF($J72=\"\",\"\",VLOOKUP($J72, Resurssiluettelo!$D$21:$X$40,Ohjeistus!P$98-1,FALSE))","v":""},{"$f":"IF($J72=\"\",IF($I72=\"\",\"\",VLOOKUP($I72, Resurssiluettelo!$C$21:$X$40,Ohjeistus!Q$98,FALSE)),VLOOKUP($J72, Resurssiluettelo!$D$21:$X$40,Ohjeistus!Q$98-1,FALSE))","v":""},{"$f":"IF($J72=\"\",IF($I72=\"\",\"\",VLOOKUP($I72, Resurssiluettelo!$C$21:$X$40,Ohjeistus!R$98,FALSE)),VLOOKUP($J72, Resurssiluettelo!$D$21:$X$40,Ohjeistus!R$98-1,FALSE))","v":""},{"$f":"IF($J72=\"\",IF($I72=\"\",\"\",VLOOKUP($I72, Resurssiluettelo!$C$21:$X$40,Ohjeistus!S$98,FALSE)),VLOOKUP($J72, Resurssiluettelo!$D$21:$X$40,Ohjeistus!S$98-1,FALSE))","v":""},{"$f":"IF($J72=\"\",IF($I72=\"\",\"\",VLOOKUP($I72, Resurssiluettelo!$C$21:$X$40,Ohjeistus!T$98,FALSE)),VLOOKUP($J72, Resurssiluettelo!$D$21:$X$40,Ohjeistus!T$98-1,FALSE))","v":""},{"$f":"IF($J72=\"\",\"\",VLOOKUP($J72, Resurssiluettelo!$D$21:$X$40,Ohjeistus!U$98-1,FALSE))","v":""},{"$f":"IF($J72=\"\",\"\",VLOOKUP($J72, Resurssiluettelo!$D$21:$X$40,Ohjeistus!V$98-1,FALSE))","v":""},{"$f":"IF($J72=\"\",\"\",VLOOKUP($J72, Resurssiluettelo!$D$21:$X$40,Ohjeistus!W$98-1,FALSE))","v":""},{"$f":"IF($J72=\"\",\"\",VLOOKUP($J72, Resurssiluettelo!$D$21:$X$40,Ohjeistus!X$98-1,FALSE))","v":""},{"$f":"IF(Resurssiluettelo!E119=0,\"\",Resurssiluettelo!E119)","v":""},{"$f":"IF(Resurssiluettelo!F119=0,\"\",YEAR(Resurssiluettelo!F119)&IF(MONTH(Resurssiluettelo!F119)<10,\"0\",\"\")&MONTH(Resurssiluettelo!F119)&IF(DAY(Resurssiluettelo!F119)<10,\"0\",\"\")&DAY(Resurssiluettelo!F119))","v":""},{"$f":"IF(Resurssiluettelo!G119=0,\"\",Resurssiluettelo!G119)","v":""},{"$f":"IF(Resurssiluettelo!H119=0,\"\",Resurssiluettelo!H119)","v":""},{"$f":"IF(Resurssiluettelo!I119=0,\"\",Resurssiluettelo!I119)","v":""},{"$f":"IF(Resurssiluettelo!W119=0,\"\",Resurssiluettelo!W119)","v":""},{"$f":"IF(Resurssiluettelo!X119=0,\"\",Resurssiluettelo!X119)","v":""},{"$f":"IF(Resurssiluettelo!Y119=0,\"\",Resurssiluettelo!Y119)","v":""},{"$f":"IF(Resurssiluettelo!Z119=0,\"\",Resurssiluettelo!Z119)","v":""},{"$f":"IF(Resurssiluettelo!AA119=0,\"\",Resurssiluettelo!AA119)","v":""},{"$f":"IF(Resurssiluettelo!AB119=0,\"\",Resurssiluettelo!AB119)","v":""},{"$f":"IF(Resurssiluettelo!AC119=0,\"\",Resurssiluettelo!AC119)","v":""},{"$f":"IF(Resurssiluettelo!AD119=0,\"\",Resurssiluettelo!AD119)","v":""},{"$f":"IF(Resurssiluettelo!J119=0,\"\",Resurssiluettelo!J119)","v":""},{"$f":"IF(Resurssiluettelo!K119=0,\"\",Resurssiluettelo!K119)","v":""},{"$f":"IF(Resurssiluettelo!L119=0,\"\",Resurssiluettelo!L119)","v":""},{"$f":"IF(Resurssiluettelo!M119=0,\"\",Resurssiluettelo!M119)","v":""},{"$f":"IF(Resurssiluettelo!N119=0,\"\",Resurssiluettelo!N119)","v":""},{"$f":"IF(Resurssiluettelo!O119=0,\"\",Resurssiluettelo!O119)","v":""},{"$f":"IF(Resurssiluettelo!P119=0,\"\",Resurssiluettelo!P119)","v":""},{"$f":"IF(Resurssiluettelo!Q119=0,\"\",Resurssiluettelo!Q119)","v":""},{"$f":"IF(Resurssiluettelo!R119=0,\"\",Resurssiluettelo!R119)","v":""},{"$f":"IF(Resurssiluettelo!S119=0,\"\",Resurssiluettelo!S119)","v":""},{"$f":"IF(Resurssiluettelo!T119=0,\"\",Resurssiluettelo!T119)","v":""},{"$f":"IF(Resurssiluettelo!U119=0,\"\",Resurssiluettelo!U119)","v":""},{"$f":"IF(Resurssiluettelo!V119=0,\"\",Resurssiluettelo!V119)","v":""}]
[70,{"$f":"IF(Y73=\"\",\"\",Resurssiluettelo!$G$1)","v":""},{"$f":"IF(Y73=\"\",\"\",Resurssiluettelo!$H$14)","v":""},{"$f":"IF(Y73=\"\",\"\",Resurssiluettelo!$I$14)","v":""},{"$f":"IF(Y73=\"\",\"\",Resurssiluettelo!$J$14)","v":""},{"$f":"IF(Y73=\"\",\"\",Resurssiluettelo!$N$14)","v":""},{"$f":"IF(Y73=\"\",\"\",Resurssiluettelo!$O$14)","v":""},{"$f":"IF(Resurssiluettelo!B120=0,\"\",Resurssiluettelo!B120)","v":""},{"$f":"IF(Resurssiluettelo!C120=0,\"\",Resurssiluettelo!C120)","v":""},{"$f":"IF(Resurssiluettelo!D120=0,\"\",Resurssiluettelo!D120)","v":""},{"$f":"IF($J73=\"\",\"\",VLOOKUP($J73, Resurssiluettelo!$D$21:$X$40,Ohjeistus!K$98-1,FALSE))","v":""},{"$f":"IF($J73=\"\",\"\",VLOOKUP($J73, Resurssiluettelo!$D$21:$X$40,Ohjeistus!L$98-1,FALSE))","v":""},{"$f":"IF($J73=\"\",\"\",VLOOKUP($J73, Resurssiluettelo!$D$21:$X$40,Ohjeistus!M$98-1,FALSE))","v":""},{"$f":"IF($J73=\"\",\"\",VLOOKUP($J73, Resurssiluettelo!$D$21:$X$40,Ohjeistus!N$98-1,FALSE))","v":""},{"$f":"IF($J73=\"\",\"\",VLOOKUP($J73, Resurssiluettelo!$D$21:$X$40,Ohjeistus!O$98-1,FALSE))","v":""},{"$f":"IF($J73=\"\",\"\",VLOOKUP($J73, Resurssiluettelo!$D$21:$X$40,Ohjeistus!P$98-1,FALSE))","v":""},{"$f":"IF($J73=\"\",IF($I73=\"\",\"\",VLOOKUP($I73, Resurssiluettelo!$C$21:$X$40,Ohjeistus!Q$98,FALSE)),VLOOKUP($J73, Resurssiluettelo!$D$21:$X$40,Ohjeistus!Q$98-1,FALSE))","v":""},{"$f":"IF($J73=\"\",IF($I73=\"\",\"\",VLOOKUP($I73, Resurssiluettelo!$C$21:$X$40,Ohjeistus!R$98,FALSE)),VLOOKUP($J73, Resurssiluettelo!$D$21:$X$40,Ohjeistus!R$98-1,FALSE))","v":""},{"$f":"IF($J73=\"\",IF($I73=\"\",\"\",VLOOKUP($I73, Resurssiluettelo!$C$21:$X$40,Ohjeistus!S$98,FALSE)),VLOOKUP($J73, Resurssiluettelo!$D$21:$X$40,Ohjeistus!S$98-1,FALSE))","v":""},{"$f":"IF($J73=\"\",IF($I73=\"\",\"\",VLOOKUP($I73, Resurssiluettelo!$C$21:$X$40,Ohjeistus!T$98,FALSE)),VLOOKUP($J73, Resurssiluettelo!$D$21:$X$40,Ohjeistus!T$98-1,FALSE))","v":""},{"$f":"IF($J73=\"\",\"\",VLOOKUP($J73, Resurssiluettelo!$D$21:$X$40,Ohjeistus!U$98-1,FALSE))","v":""},{"$f":"IF($J73=\"\",\"\",VLOOKUP($J73, Resurssiluettelo!$D$21:$X$40,Ohjeistus!V$98-1,FALSE))","v":""},{"$f":"IF($J73=\"\",\"\",VLOOKUP($J73, Resurssiluettelo!$D$21:$X$40,Ohjeistus!W$98-1,FALSE))","v":""},{"$f":"IF($J73=\"\",\"\",VLOOKUP($J73, Resurssiluettelo!$D$21:$X$40,Ohjeistus!X$98-1,FALSE))","v":""},{"$f":"IF(Resurssiluettelo!E120=0,\"\",Resurssiluettelo!E120)","v":""},{"$f":"IF(Resurssiluettelo!F120=0,\"\",YEAR(Resurssiluettelo!F120)&IF(MONTH(Resurssiluettelo!F120)<10,\"0\",\"\")&MONTH(Resurssiluettelo!F120)&IF(DAY(Resurssiluettelo!F120)<10,\"0\",\"\")&DAY(Resurssiluettelo!F120))","v":""},{"$f":"IF(Resurssiluettelo!G120=0,\"\",Resurssiluettelo!G120)","v":""},{"$f":"IF(Resurssiluettelo!H120=0,\"\",Resurssiluettelo!H120)","v":""},{"$f":"IF(Resurssiluettelo!I120=0,\"\",Resurssiluettelo!I120)","v":""},{"$f":"IF(Resurssiluettelo!W120=0,\"\",Resurssiluettelo!W120)","v":""},{"$f":"IF(Resurssiluettelo!X120=0,\"\",Resurssiluettelo!X120)","v":""},{"$f":"IF(Resurssiluettelo!Y120=0,\"\",Resurssiluettelo!Y120)","v":""},{"$f":"IF(Resurssiluettelo!Z120=0,\"\",Resurssiluettelo!Z120)","v":""},{"$f":"IF(Resurssiluettelo!AA120=0,\"\",Resurssiluettelo!AA120)","v":""},{"$f":"IF(Resurssiluettelo!AB120=0,\"\",Resurssiluettelo!AB120)","v":""},{"$f":"IF(Resurssiluettelo!AC120=0,\"\",Resurssiluettelo!AC120)","v":""},{"$f":"IF(Resurssiluettelo!AD120=0,\"\",Resurssiluettelo!AD120)","v":""},{"$f":"IF(Resurssiluettelo!J120=0,\"\",Resurssiluettelo!J120)","v":""},{"$f":"IF(Resurssiluettelo!K120=0,\"\",Resurssiluettelo!K120)","v":""},{"$f":"IF(Resurssiluettelo!L120=0,\"\",Resurssiluettelo!L120)","v":""},{"$f":"IF(Resurssiluettelo!M120=0,\"\",Resurssiluettelo!M120)","v":""},{"$f":"IF(Resurssiluettelo!N120=0,\"\",Resurssiluettelo!N120)","v":""},{"$f":"IF(Resurssiluettelo!O120=0,\"\",Resurssiluettelo!O120)","v":""},{"$f":"IF(Resurssiluettelo!P120=0,\"\",Resurssiluettelo!P120)","v":""},{"$f":"IF(Resurssiluettelo!Q120=0,\"\",Resurssiluettelo!Q120)","v":""},{"$f":"IF(Resurssiluettelo!R120=0,\"\",Resurssiluettelo!R120)","v":""},{"$f":"IF(Resurssiluettelo!S120=0,\"\",Resurssiluettelo!S120)","v":""},{"$f":"IF(Resurssiluettelo!T120=0,\"\",Resurssiluettelo!T120)","v":""},{"$f":"IF(Resurssiluettelo!U120=0,\"\",Resurssiluettelo!U120)","v":""},{"$f":"IF(Resurssiluettelo!V120=0,\"\",Resurssiluettelo!V120)","v":""}]
[71,{"$f":"IF(Y74=\"\",\"\",Resurssiluettelo!$G$1)","v":""},{"$f":"IF(Y74=\"\",\"\",Resurssiluettelo!$H$14)","v":""},{"$f":"IF(Y74=\"\",\"\",Resurssiluettelo!$I$14)","v":""},{"$f":"IF(Y74=\"\",\"\",Resurssiluettelo!$J$14)","v":""},{"$f":"IF(Y74=\"\",\"\",Resurssiluettelo!$N$14)","v":""},{"$f":"IF(Y74=\"\",\"\",Resurssiluettelo!$O$14)","v":""},{"$f":"IF(Resurssiluettelo!B121=0,\"\",Resurssiluettelo!B121)","v":""},{"$f":"IF(Resurssiluettelo!C121=0,\"\",Resurssiluettelo!C121)","v":""},{"$f":"IF(Resurssiluettelo!D121=0,\"\",Resurssiluettelo!D121)","v":""},{"$f":"IF($J74=\"\",\"\",VLOOKUP($J74, Resurssiluettelo!$D$21:$X$40,Ohjeistus!K$98-1,FALSE))","v":""},{"$f":"IF($J74=\"\",\"\",VLOOKUP($J74, Resurssiluettelo!$D$21:$X$40,Ohjeistus!L$98-1,FALSE))","v":""},{"$f":"IF($J74=\"\",\"\",VLOOKUP($J74, Resurssiluettelo!$D$21:$X$40,Ohjeistus!M$98-1,FALSE))","v":""},{"$f":"IF($J74=\"\",\"\",VLOOKUP($J74, Resurssiluettelo!$D$21:$X$40,Ohjeistus!N$98-1,FALSE))","v":""},{"$f":"IF($J74=\"\",\"\",VLOOKUP($J74, Resurssiluettelo!$D$21:$X$40,Ohjeistus!O$98-1,FALSE))","v":""},{"$f":"IF($J74=\"\",\"\",VLOOKUP($J74, Resurssiluettelo!$D$21:$X$40,Ohjeistus!P$98-1,FALSE))","v":""},{"$f":"IF($J74=\"\",IF($I74=\"\",\"\",VLOOKUP($I74, Resurssiluettelo!$C$21:$X$40,Ohjeistus!Q$98,FALSE)),VLOOKUP($J74, Resurssiluettelo!$D$21:$X$40,Ohjeistus!Q$98-1,FALSE))","v":""},{"$f":"IF($J74=\"\",IF($I74=\"\",\"\",VLOOKUP($I74, Resurssiluettelo!$C$21:$X$40,Ohjeistus!R$98,FALSE)),VLOOKUP($J74, Resurssiluettelo!$D$21:$X$40,Ohjeistus!R$98-1,FALSE))","v":""},{"$f":"IF($J74=\"\",IF($I74=\"\",\"\",VLOOKUP($I74, Resurssiluettelo!$C$21:$X$40,Ohjeistus!S$98,FALSE)),VLOOKUP($J74, Resurssiluettelo!$D$21:$X$40,Ohjeistus!S$98-1,FALSE))","v":""},{"$f":"IF($J74=\"\",IF($I74=\"\",\"\",VLOOKUP($I74, Resurssiluettelo!$C$21:$X$40,Ohjeistus!T$98,FALSE)),VLOOKUP($J74, Resurssiluettelo!$D$21:$X$40,Ohjeistus!T$98-1,FALSE))","v":""},{"$f":"IF($J74=\"\",\"\",VLOOKUP($J74, Resurssiluettelo!$D$21:$X$40,Ohjeistus!U$98-1,FALSE))","v":""},{"$f":"IF($J74=\"\",\"\",VLOOKUP($J74, Resurssiluettelo!$D$21:$X$40,Ohjeistus!V$98-1,FALSE))","v":""},{"$f":"IF($J74=\"\",\"\",VLOOKUP($J74, Resurssiluettelo!$D$21:$X$40,Ohjeistus!W$98-1,FALSE))","v":""},{"$f":"IF($J74=\"\",\"\",VLOOKUP($J74, Resurssiluettelo!$D$21:$X$40,Ohjeistus!X$98-1,FALSE))","v":""},{"$f":"IF(Resurssiluettelo!E121=0,\"\",Resurssiluettelo!E121)","v":""},{"$f":"IF(Resurssiluettelo!F121=0,\"\",YEAR(Resurssiluettelo!F121)&IF(MONTH(Resurssiluettelo!F121)<10,\"0\",\"\")&MONTH(Resurssiluettelo!F121)&IF(DAY(Resurssiluettelo!F121)<10,\"0\",\"\")&DAY(Resurssiluettelo!F121))","v":""},{"$f":"IF(Resurssiluettelo!G121=0,\"\",Resurssiluettelo!G121)","v":""},{"$f":"IF(Resurssiluettelo!H121=0,\"\",Resurssiluettelo!H121)","v":""},{"$f":"IF(Resurssiluettelo!I121=0,\"\",Resurssiluettelo!I121)","v":""},{"$f":"IF(Resurssiluettelo!W121=0,\"\",Resurssiluettelo!W121)","v":""},{"$f":"IF(Resurssiluettelo!X121=0,\"\",Resurssiluettelo!X121)","v":""},{"$f":"IF(Resurssiluettelo!Y121=0,\"\",Resurssiluettelo!Y121)","v":""},{"$f":"IF(Resurssiluettelo!Z121=0,\"\",Resurssiluettelo!Z121)","v":""},{"$f":"IF(Resurssiluettelo!AA121=0,\"\",Resurssiluettelo!AA121)","v":""},{"$f":"IF(Resurssiluettelo!AB121=0,\"\",Resurssiluettelo!AB121)","v":""},{"$f":"IF(Resurssiluettelo!AC121=0,\"\",Resurssiluettelo!AC121)","v":""},{"$f":"IF(Resurssiluettelo!AD121=0,\"\",Resurssiluettelo!AD121)","v":""},{"$f":"IF(Resurssiluettelo!J121=0,\"\",Resurssiluettelo!J121)","v":""},{"$f":"IF(Resurssiluettelo!K121=0,\"\",Resurssiluettelo!K121)","v":""},{"$f":"IF(Resurssiluettelo!L121=0,\"\",Resurssiluettelo!L121)","v":""},{"$f":"IF(Resurssiluettelo!M121=0,\"\",Resurssiluettelo!M121)","v":""},{"$f":"IF(Resurssiluettelo!N121=0,\"\",Resurssiluettelo!N121)","v":""},{"$f":"IF(Resurssiluettelo!O121=0,\"\",Resurssiluettelo!O121)","v":""},{"$f":"IF(Resurssiluettelo!P121=0,\"\",Resurssiluettelo!P121)","v":""},{"$f":"IF(Resurssiluettelo!Q121=0,\"\",Resurssiluettelo!Q121)","v":""},{"$f":"IF(Resurssiluettelo!R121=0,\"\",Resurssiluettelo!R121)","v":""},{"$f":"IF(Resurssiluettelo!S121=0,\"\",Resurssiluettelo!S121)","v":""},{"$f":"IF(Resurssiluettelo!T121=0,\"\",Resurssiluettelo!T121)","v":""},{"$f":"IF(Resurssiluettelo!U121=0,\"\",Resurssiluettelo!U121)","v":""},{"$f":"IF(Resurssiluettelo!V121=0,\"\",Resurssiluettelo!V121)","v":""}]
[72,{"$f":"IF(Y75=\"\",\"\",Resurssiluettelo!$G$1)","v":""},{"$f":"IF(Y75=\"\",\"\",Resurssiluettelo!$H$14)","v":""},{"$f":"IF(Y75=\"\",\"\",Resurssiluettelo!$I$14)","v":""},{"$f":"IF(Y75=\"\",\"\",Resurssiluettelo!$J$14)","v":""},{"$f":"IF(Y75=\"\",\"\",Resurssiluettelo!$N$14)","v":""},{"$f":"IF(Y75=\"\",\"\",Resurssiluettelo!$O$14)","v":""},{"$f":"IF(Resurssiluettelo!B122=0,\"\",Resurssiluettelo!B122)","v":""},{"$f":"IF(Resurssiluettelo!C122=0,\"\",Resurssiluettelo!C122)","v":""},{"$f":"IF(Resurssiluettelo!D122=0,\"\",Resurssiluettelo!D122)","v":""},{"$f":"IF($J75=\"\",\"\",VLOOKUP($J75, Resurssiluettelo!$D$21:$X$40,Ohjeistus!K$98-1,FALSE))","v":""},{"$f":"IF($J75=\"\",\"\",VLOOKUP($J75, Resurssiluettelo!$D$21:$X$40,Ohjeistus!L$98-1,FALSE))","v":""},{"$f":"IF($J75=\"\",\"\",VLOOKUP($J75, Resurssiluettelo!$D$21:$X$40,Ohjeistus!M$98-1,FALSE))","v":""},{"$f":"IF($J75=\"\",\"\",VLOOKUP($J75, Resurssiluettelo!$D$21:$X$40,Ohjeistus!N$98-1,FALSE))","v":""},{"$f":"IF($J75=\"\",\"\",VLOOKUP($J75, Resurssiluettelo!$D$21:$X$40,Ohjeistus!O$98-1,FALSE))","v":""},{"$f":"IF($J75=\"\",\"\",VLOOKUP($J75, Resurssiluettelo!$D$21:$X$40,Ohjeistus!P$98-1,FALSE))","v":""},{"$f":"IF($J75=\"\",IF($I75=\"\",\"\",VLOOKUP($I75, Resurssiluettelo!$C$21:$X$40,Ohjeistus!Q$98,FALSE)),VLOOKUP($J75, Resurssiluettelo!$D$21:$X$40,Ohjeistus!Q$98-1,FALSE))","v":""},{"$f":"IF($J75=\"\",IF($I75=\"\",\"\",VLOOKUP($I75, Resurssiluettelo!$C$21:$X$40,Ohjeistus!R$98,FALSE)),VLOOKUP($J75, Resurssiluettelo!$D$21:$X$40,Ohjeistus!R$98-1,FALSE))","v":""},{"$f":"IF($J75=\"\",IF($I75=\"\",\"\",VLOOKUP($I75, Resurssiluettelo!$C$21:$X$40,Ohjeistus!S$98,FALSE)),VLOOKUP($J75, Resurssiluettelo!$D$21:$X$40,Ohjeistus!S$98-1,FALSE))","v":""},{"$f":"IF($J75=\"\",IF($I75=\"\",\"\",VLOOKUP($I75, Resurssiluettelo!$C$21:$X$40,Ohjeistus!T$98,FALSE)),VLOOKUP($J75, Resurssiluettelo!$D$21:$X$40,Ohjeistus!T$98-1,FALSE))","v":""},{"$f":"IF($J75=\"\",\"\",VLOOKUP($J75, Resurssiluettelo!$D$21:$X$40,Ohjeistus!U$98-1,FALSE))","v":""},{"$f":"IF($J75=\"\",\"\",VLOOKUP($J75, Resurssiluettelo!$D$21:$X$40,Ohjeistus!V$98-1,FALSE))","v":""},{"$f":"IF($J75=\"\",\"\",VLOOKUP($J75, Resurssiluettelo!$D$21:$X$40,Ohjeistus!W$98-1,FALSE))","v":""},{"$f":"IF($J75=\"\",\"\",VLOOKUP($J75, Resurssiluettelo!$D$21:$X$40,Ohjeistus!X$98-1,FALSE))","v":""},{"$f":"IF(Resurssiluettelo!E122=0,\"\",Resurssiluettelo!E122)","v":""},{"$f":"IF(Resurssiluettelo!F122=0,\"\",YEAR(Resurssiluettelo!F122)&IF(MONTH(Resurssiluettelo!F122)<10,\"0\",\"\")&MONTH(Resurssiluettelo!F122)&IF(DAY(Resurssiluettelo!F122)<10,\"0\",\"\")&DAY(Resurssiluettelo!F122))","v":""},{"$f":"IF(Resurssiluettelo!G122=0,\"\",Resurssiluettelo!G122)","v":""},{"$f":"IF(Resurssiluettelo!H122=0,\"\",Resurssiluettelo!H122)","v":""},{"$f":"IF(Resurssiluettelo!I122=0,\"\",Resurssiluettelo!I122)","v":""},{"$f":"IF(Resurssiluettelo!W122=0,\"\",Resurssiluettelo!W122)","v":""},{"$f":"IF(Resurssiluettelo!X122=0,\"\",Resurssiluettelo!X122)","v":""},{"$f":"IF(Resurssiluettelo!Y122=0,\"\",Resurssiluettelo!Y122)","v":""},{"$f":"IF(Resurssiluettelo!Z122=0,\"\",Resurssiluettelo!Z122)","v":""},{"$f":"IF(Resurssiluettelo!AA122=0,\"\",Resurssiluettelo!AA122)","v":""},{"$f":"IF(Resurssiluettelo!AB122=0,\"\",Resurssiluettelo!AB122)","v":""},{"$f":"IF(Resurssiluettelo!AC122=0,\"\",Resurssiluettelo!AC122)","v":""},{"$f":"IF(Resurssiluettelo!AD122=0,\"\",Resurssiluettelo!AD122)","v":""},{"$f":"IF(Resurssiluettelo!J122=0,\"\",Resurssiluettelo!J122)","v":""},{"$f":"IF(Resurssiluettelo!K122=0,\"\",Resurssiluettelo!K122)","v":""},{"$f":"IF(Resurssiluettelo!L122=0,\"\",Resurssiluettelo!L122)","v":""},{"$f":"IF(Resurssiluettelo!M122=0,\"\",Resurssiluettelo!M122)","v":""},{"$f":"IF(Resurssiluettelo!N122=0,\"\",Resurssiluettelo!N122)","v":""},{"$f":"IF(Resurssiluettelo!O122=0,\"\",Resurssiluettelo!O122)","v":""},{"$f":"IF(Resurssiluettelo!P122=0,\"\",Resurssiluettelo!P122)","v":""},{"$f":"IF(Resurssiluettelo!Q122=0,\"\",Resurssiluettelo!Q122)","v":""},{"$f":"IF(Resurssiluettelo!R122=0,\"\",Resurssiluettelo!R122)","v":""},{"$f":"IF(Resurssiluettelo!S122=0,\"\",Resurssiluettelo!S122)","v":""},{"$f":"IF(Resurssiluettelo!T122=0,\"\",Resurssiluettelo!T122)","v":""},{"$f":"IF(Resurssiluettelo!U122=0,\"\",Resurssiluettelo!U122)","v":""},{"$f":"IF(Resurssiluettelo!V122=0,\"\",Resurssiluettelo!V122)","v":""}]
[73,{"$f":"IF(Y76=\"\",\"\",Resurssiluettelo!$G$1)","v":""},{"$f":"IF(Y76=\"\",\"\",Resurssiluettelo!$H$14)","v":""},{"$f":"IF(Y76=\"\",\"\",Resurssiluettelo!$I$14)","v":""},{"$f":"IF(Y76=\"\",\"\",Resurssiluettelo!$J$14)","v":""},{"$f":"IF(Y76=\"\",\"\",Resurssiluettelo!$N$14)","v":""},{"$f":"IF(Y76=\"\",\"\",Resurssiluettelo!$O$14)","v":""},{"$f":"IF(Resurssiluettelo!B123=0,\"\",Resurssiluettelo!B123)","v":""},{"$f":"IF(Resurssiluettelo!C123=0,\"\",Resurssiluettelo!C123)","v":""},{"$f":"IF(Resurssiluettelo!D123=0,\"\",Resurssiluettelo!D123)","v":""},{"$f":"IF($J76=\"\",\"\",VLOOKUP($J76, Resurssiluettelo!$D$21:$X$40,Ohjeistus!K$98-1,FALSE))","v":""},{"$f":"IF($J76=\"\",\"\",VLOOKUP($J76, Resurssiluettelo!$D$21:$X$40,Ohjeistus!L$98-1,FALSE))","v":""},{"$f":"IF($J76=\"\",\"\",VLOOKUP($J76, Resurssiluettelo!$D$21:$X$40,Ohjeistus!M$98-1,FALSE))","v":""},{"$f":"IF($J76=\"\",\"\",VLOOKUP($J76, Resurssiluettelo!$D$21:$X$40,Ohjeistus!N$98-1,FALSE))","v":""},{"$f":"IF($J76=\"\",\"\",VLOOKUP($J76, Resurssiluettelo!$D$21:$X$40,Ohjeistus!O$98-1,FALSE))","v":""},{"$f":"IF($J76=\"\",\"\",VLOOKUP($J76, Resurssiluettelo!$D$21:$X$40,Ohjeistus!P$98-1,FALSE))","v":""},{"$f":"IF($J76=\"\",IF($I76=\"\",\"\",VLOOKUP($I76, Resurssiluettelo!$C$21:$X$40,Ohjeistus!Q$98,FALSE)),VLOOKUP($J76, Resurssiluettelo!$D$21:$X$40,Ohjeistus!Q$98-1,FALSE))","v":""},{"$f":"IF($J76=\"\",IF($I76=\"\",\"\",VLOOKUP($I76, Resurssiluettelo!$C$21:$X$40,Ohjeistus!R$98,FALSE)),VLOOKUP($J76, Resurssiluettelo!$D$21:$X$40,Ohjeistus!R$98-1,FALSE))","v":""},{"$f":"IF($J76=\"\",IF($I76=\"\",\"\",VLOOKUP($I76, Resurssiluettelo!$C$21:$X$40,Ohjeistus!S$98,FALSE)),VLOOKUP($J76, Resurssiluettelo!$D$21:$X$40,Ohjeistus!S$98-1,FALSE))","v":""},{"$f":"IF($J76=\"\",IF($I76=\"\",\"\",VLOOKUP($I76, Resurssiluettelo!$C$21:$X$40,Ohjeistus!T$98,FALSE)),VLOOKUP($J76, Resurssiluettelo!$D$21:$X$40,Ohjeistus!T$98-1,FALSE))","v":""},{"$f":"IF($J76=\"\",\"\",VLOOKUP($J76, Resurssiluettelo!$D$21:$X$40,Ohjeistus!U$98-1,FALSE))","v":""},{"$f":"IF($J76=\"\",\"\",VLOOKUP($J76, Resurssiluettelo!$D$21:$X$40,Ohjeistus!V$98-1,FALSE))","v":""},{"$f":"IF($J76=\"\",\"\",VLOOKUP($J76, Resurssiluettelo!$D$21:$X$40,Ohjeistus!W$98-1,FALSE))","v":""},{"$f":"IF($J76=\"\",\"\",VLOOKUP($J76, Resurssiluettelo!$D$21:$X$40,Ohjeistus!X$98-1,FALSE))","v":""},{"$f":"IF(Resurssiluettelo!E123=0,\"\",Resurssiluettelo!E123)","v":""},{"$f":"IF(Resurssiluettelo!F123=0,\"\",YEAR(Resurssiluettelo!F123)&IF(MONTH(Resurssiluettelo!F123)<10,\"0\",\"\")&MONTH(Resurssiluettelo!F123)&IF(DAY(Resurssiluettelo!F123)<10,\"0\",\"\")&DAY(Resurssiluettelo!F123))","v":""},{"$f":"IF(Resurssiluettelo!G123=0,\"\",Resurssiluettelo!G123)","v":""},{"$f":"IF(Resurssiluettelo!H123=0,\"\",Resurssiluettelo!H123)","v":""},{"$f":"IF(Resurssiluettelo!I123=0,\"\",Resurssiluettelo!I123)","v":""},{"$f":"IF(Resurssiluettelo!W123=0,\"\",Resurssiluettelo!W123)","v":""},{"$f":"IF(Resurssiluettelo!X123=0,\"\",Resurssiluettelo!X123)","v":""},{"$f":"IF(Resurssiluettelo!Y123=0,\"\",Resurssiluettelo!Y123)","v":""},{"$f":"IF(Resurssiluettelo!Z123=0,\"\",Resurssiluettelo!Z123)","v":""},{"$f":"IF(Resurssiluettelo!AA123=0,\"\",Resurssiluettelo!AA123)","v":""},{"$f":"IF(Resurssiluettelo!AB123=0,\"\",Resurssiluettelo!AB123)","v":""},{"$f":"IF(Resurssiluettelo!AC123=0,\"\",Resurssiluettelo!AC123)","v":""},{"$f":"IF(Resurssiluettelo!AD123=0,\"\",Resurssiluettelo!AD123)","v":""},{"$f":"IF(Resurssiluettelo!J123=0,\"\",Resurssiluettelo!J123)","v":""},{"$f":"IF(Resurssiluettelo!K123=0,\"\",Resurssiluettelo!K123)","v":""},{"$f":"IF(Resurssiluettelo!L123=0,\"\",Resurssiluettelo!L123)","v":""},{"$f":"IF(Resurssiluettelo!M123=0,\"\",Resurssiluettelo!M123)","v":""},{"$f":"IF(Resurssiluettelo!N123=0,\"\",Resurssiluettelo!N123)","v":""},{"$f":"IF(Resurssiluettelo!O123=0,\"\",Resurssiluettelo!O123)","v":""},{"$f":"IF(Resurssiluettelo!P123=0,\"\",Resurssiluettelo!P123)","v":""},{"$f":"IF(Resurssiluettelo!Q123=0,\"\",Resurssiluettelo!Q123)","v":""},{"$f":"IF(Resurssiluettelo!R123=0,\"\",Resurssiluettelo!R123)","v":""},{"$f":"IF(Resurssiluettelo!S123=0,\"\",Resurssiluettelo!S123)","v":""},{"$f":"IF(Resurssiluettelo!T123=0,\"\",Resurssiluettelo!T123)","v":""},{"$f":"IF(Resurssiluettelo!U123=0,\"\",Resurssiluettelo!U123)","v":""},{"$f":"IF(Resurssiluettelo!V123=0,\"\",Resurssiluettelo!V123)","v":""}]
[74,{"$f":"IF(Y77=\"\",\"\",Resurssiluettelo!$G$1)","v":""},{"$f":"IF(Y77=\"\",\"\",Resurssiluettelo!$H$14)","v":""},{"$f":"IF(Y77=\"\",\"\",Resurssiluettelo!$I$14)","v":""},{"$f":"IF(Y77=\"\",\"\",Resurssiluettelo!$J$14)","v":""},{"$f":"IF(Y77=\"\",\"\",Resurssiluettelo!$N$14)","v":""},{"$f":"IF(Y77=\"\",\"\",Resurssiluettelo!$O$14)","v":""},{"$f":"IF(Resurssiluettelo!B124=0,\"\",Resurssiluettelo!B124)","v":""},{"$f":"IF(Resurssiluettelo!C124=0,\"\",Resurssiluettelo!C124)","v":""},{"$f":"IF(Resurssiluettelo!D124=0,\"\",Resurssiluettelo!D124)","v":""},{"$f":"IF($J77=\"\",\"\",VLOOKUP($J77, Resurssiluettelo!$D$21:$X$40,Ohjeistus!K$98-1,FALSE))","v":""},{"$f":"IF($J77=\"\",\"\",VLOOKUP($J77, Resurssiluettelo!$D$21:$X$40,Ohjeistus!L$98-1,FALSE))","v":""},{"$f":"IF($J77=\"\",\"\",VLOOKUP($J77, Resurssiluettelo!$D$21:$X$40,Ohjeistus!M$98-1,FALSE))","v":""},{"$f":"IF($J77=\"\",\"\",VLOOKUP($J77, Resurssiluettelo!$D$21:$X$40,Ohjeistus!N$98-1,FALSE))","v":""},{"$f":"IF($J77=\"\",\"\",VLOOKUP($J77, Resurssiluettelo!$D$21:$X$40,Ohjeistus!O$98-1,FALSE))","v":""},{"$f":"IF($J77=\"\",\"\",VLOOKUP($J77, Resurssiluettelo!$D$21:$X$40,Ohjeistus!P$98-1,FALSE))","v":""},{"$f":"IF($J77=\"\",IF($I77=\"\",\"\",VLOOKUP($I77, Resurssiluettelo!$C$21:$X$40,Ohjeistus!Q$98,FALSE)),VLOOKUP($J77, Resurssiluettelo!$D$21:$X$40,Ohjeistus!Q$98-1,FALSE))","v":""},{"$f":"IF($J77=\"\",IF($I77=\"\",\"\",VLOOKUP($I77, Resurssiluettelo!$C$21:$X$40,Ohjeistus!R$98,FALSE)),VLOOKUP($J77, Resurssiluettelo!$D$21:$X$40,Ohjeistus!R$98-1,FALSE))","v":""},{"$f":"IF($J77=\"\",IF($I77=\"\",\"\",VLOOKUP($I77, Resurssiluettelo!$C$21:$X$40,Ohjeistus!S$98,FALSE)),VLOOKUP($J77, Resurssiluettelo!$D$21:$X$40,Ohjeistus!S$98-1,FALSE))","v":""},{"$f":"IF($J77=\"\",IF($I77=\"\",\"\",VLOOKUP($I77, Resurssiluettelo!$C$21:$X$40,Ohjeistus!T$98,FALSE)),VLOOKUP($J77, Resurssiluettelo!$D$21:$X$40,Ohjeistus!T$98-1,FALSE))","v":""},{"$f":"IF($J77=\"\",\"\",VLOOKUP($J77, Resurssiluettelo!$D$21:$X$40,Ohjeistus!U$98-1,FALSE))","v":""},{"$f":"IF($J77=\"\",\"\",VLOOKUP($J77, Resurssiluettelo!$D$21:$X$40,Ohjeistus!V$98-1,FALSE))","v":""},{"$f":"IF($J77=\"\",\"\",VLOOKUP($J77, Resurssiluettelo!$D$21:$X$40,Ohjeistus!W$98-1,FALSE))","v":""},{"$f":"IF($J77=\"\",\"\",VLOOKUP($J77, Resurssiluettelo!$D$21:$X$40,Ohjeistus!X$98-1,FALSE))","v":""},{"$f":"IF(Resurssiluettelo!E124=0,\"\",Resurssiluettelo!E124)","v":""},{"$f":"IF(Resurssiluettelo!F124=0,\"\",YEAR(Resurssiluettelo!F124)&IF(MONTH(Resurssiluettelo!F124)<10,\"0\",\"\")&MONTH(Resurssiluettelo!F124)&IF(DAY(Resurssiluettelo!F124)<10,\"0\",\"\")&DAY(Resurssiluettelo!F124))","v":""},{"$f":"IF(Resurssiluettelo!G124=0,\"\",Resurssiluettelo!G124)","v":""},{"$f":"IF(Resurssiluettelo!H124=0,\"\",Resurssiluettelo!H124)","v":""},{"$f":"IF(Resurssiluettelo!I124=0,\"\",Resurssiluettelo!I124)","v":""},{"$f":"IF(Resurssiluettelo!W124=0,\"\",Resurssiluettelo!W124)","v":""},{"$f":"IF(Resurssiluettelo!X124=0,\"\",Resurssiluettelo!X124)","v":""},{"$f":"IF(Resurssiluettelo!Y124=0,\"\",Resurssiluettelo!Y124)","v":""},{"$f":"IF(Resurssiluettelo!Z124=0,\"\",Resurssiluettelo!Z124)","v":""},{"$f":"IF(Resurssiluettelo!AA124=0,\"\",Resurssiluettelo!AA124)","v":""},{"$f":"IF(Resurssiluettelo!AB124=0,\"\",Resurssiluettelo!AB124)","v":""},{"$f":"IF(Resurssiluettelo!AC124=0,\"\",Resurssiluettelo!AC124)","v":""},{"$f":"IF(Resurssiluettelo!AD124=0,\"\",Resurssiluettelo!AD124)","v":""},{"$f":"IF(Resurssiluettelo!J124=0,\"\",Resurssiluettelo!J124)","v":""},{"$f":"IF(Resurssiluettelo!K124=0,\"\",Resurssiluettelo!K124)","v":""},{"$f":"IF(Resurssiluettelo!L124=0,\"\",Resurssiluettelo!L124)","v":""},{"$f":"IF(Resurssiluettelo!M124=0,\"\",Resurssiluettelo!M124)","v":""},{"$f":"IF(Resurssiluettelo!N124=0,\"\",Resurssiluettelo!N124)","v":""},{"$f":"IF(Resurssiluettelo!O124=0,\"\",Resurssiluettelo!O124)","v":""},{"$f":"IF(Resurssiluettelo!P124=0,\"\",Resurssiluettelo!P124)","v":""},{"$f":"IF(Resurssiluettelo!Q124=0,\"\",Resurssiluettelo!Q124)","v":""},{"$f":"IF(Resurssiluettelo!R124=0,\"\",Resurssiluettelo!R124)","v":""},{"$f":"IF(Resurssiluettelo!S124=0,\"\",Resurssiluettelo!S124)","v":""},{"$f":"IF(Resurssiluettelo!T124=0,\"\",Resurssiluettelo!T124)","v":""},{"$f":"IF(Resurssiluettelo!U124=0,\"\",Resurssiluettelo!U124)","v":""},{"$f":"IF(Resurssiluettelo!V124=0,\"\",Resurssiluettelo!V124)","v":""}]
[75,{"$f":"IF(Y78=\"\",\"\",Resurssiluettelo!$G$1)","v":""},{"$f":"IF(Y78=\"\",\"\",Resurssiluettelo!$H$14)","v":""},{"$f":"IF(Y78=\"\",\"\",Resurssiluettelo!$I$14)","v":""},{"$f":"IF(Y78=\"\",\"\",Resurssiluettelo!$J$14)","v":""},{"$f":"IF(Y78=\"\",\"\",Resurssiluettelo!$N$14)","v":""},{"$f":"IF(Y78=\"\",\"\",Resurssiluettelo!$O$14)","v":""},{"$f":"IF(Resurssiluettelo!B125=0,\"\",Resurssiluettelo!B125)","v":""},{"$f":"IF(Resurssiluettelo!C125=0,\"\",Resurssiluettelo!C125)","v":""},{"$f":"IF(Resurssiluettelo!D125=0,\"\",Resurssiluettelo!D125)","v":""},{"$f":"IF($J78=\"\",\"\",VLOOKUP($J78, Resurssiluettelo!$D$21:$X$40,Ohjeistus!K$98-1,FALSE))","v":""},{"$f":"IF($J78=\"\",\"\",VLOOKUP($J78, Resurssiluettelo!$D$21:$X$40,Ohjeistus!L$98-1,FALSE))","v":""},{"$f":"IF($J78=\"\",\"\",VLOOKUP($J78, Resurssiluettelo!$D$21:$X$40,Ohjeistus!M$98-1,FALSE))","v":""},{"$f":"IF($J78=\"\",\"\",VLOOKUP($J78, Resurssiluettelo!$D$21:$X$40,Ohjeistus!N$98-1,FALSE))","v":""},{"$f":"IF($J78=\"\",\"\",VLOOKUP($J78, Resurssiluettelo!$D$21:$X$40,Ohjeistus!O$98-1,FALSE))","v":""},{"$f":"IF($J78=\"\",\"\",VLOOKUP($J78, Resurssiluettelo!$D$21:$X$40,Ohjeistus!P$98-1,FALSE))","v":""},{"$f":"IF($J78=\"\",IF($I78=\"\",\"\",VLOOKUP($I78, Resurssiluettelo!$C$21:$X$40,Ohjeistus!Q$98,FALSE)),VLOOKUP($J78, Resurssiluettelo!$D$21:$X$40,Ohjeistus!Q$98-1,FALSE))","v":""},{"$f":"IF($J78=\"\",IF($I78=\"\",\"\",VLOOKUP($I78, Resurssiluettelo!$C$21:$X$40,Ohjeistus!R$98,FALSE)),VLOOKUP($J78, Resurssiluettelo!$D$21:$X$40,Ohjeistus!R$98-1,FALSE))","v":""},{"$f":"IF($J78=\"\",IF($I78=\"\",\"\",VLOOKUP($I78, Resurssiluettelo!$C$21:$X$40,Ohjeistus!S$98,FALSE)),VLOOKUP($J78, Resurssiluettelo!$D$21:$X$40,Ohjeistus!S$98-1,FALSE))","v":""},{"$f":"IF($J78=\"\",IF($I78=\"\",\"\",VLOOKUP($I78, Resurssiluettelo!$C$21:$X$40,Ohjeistus!T$98,FALSE)),VLOOKUP($J78, Resurssiluettelo!$D$21:$X$40,Ohjeistus!T$98-1,FALSE))","v":""},{"$f":"IF($J78=\"\",\"\",VLOOKUP($J78, Resurssiluettelo!$D$21:$X$40,Ohjeistus!U$98-1,FALSE))","v":""},{"$f":"IF($J78=\"\",\"\",VLOOKUP($J78, Resurssiluettelo!$D$21:$X$40,Ohjeistus!V$98-1,FALSE))","v":""},{"$f":"IF($J78=\"\",\"\",VLOOKUP($J78, Resurssiluettelo!$D$21:$X$40,Ohjeistus!W$98-1,FALSE))","v":""},{"$f":"IF($J78=\"\",\"\",VLOOKUP($J78, Resurssiluettelo!$D$21:$X$40,Ohjeistus!X$98-1,FALSE))","v":""},{"$f":"IF(Resurssiluettelo!E125=0,\"\",Resurssiluettelo!E125)","v":""},{"$f":"IF(Resurssiluettelo!F125=0,\"\",YEAR(Resurssiluettelo!F125)&IF(MONTH(Resurssiluettelo!F125)<10,\"0\",\"\")&MONTH(Resurssiluettelo!F125)&IF(DAY(Resurssiluettelo!F125)<10,\"0\",\"\")&DAY(Resurssiluettelo!F125))","v":""},{"$f":"IF(Resurssiluettelo!G125=0,\"\",Resurssiluettelo!G125)","v":""},{"$f":"IF(Resurssiluettelo!H125=0,\"\",Resurssiluettelo!H125)","v":""},{"$f":"IF(Resurssiluettelo!I125=0,\"\",Resurssiluettelo!I125)","v":""},{"$f":"IF(Resurssiluettelo!W125=0,\"\",Resurssiluettelo!W125)","v":""},{"$f":"IF(Resurssiluettelo!X125=0,\"\",Resurssiluettelo!X125)","v":""},{"$f":"IF(Resurssiluettelo!Y125=0,\"\",Resurssiluettelo!Y125)","v":""},{"$f":"IF(Resurssiluettelo!Z125=0,\"\",Resurssiluettelo!Z125)","v":""},{"$f":"IF(Resurssiluettelo!AA125=0,\"\",Resurssiluettelo!AA125)","v":""},{"$f":"IF(Resurssiluettelo!AB125=0,\"\",Resurssiluettelo!AB125)","v":""},{"$f":"IF(Resurssiluettelo!AC125=0,\"\",Resurssiluettelo!AC125)","v":""},{"$f":"IF(Resurssiluettelo!AD125=0,\"\",Resurssiluettelo!AD125)","v":""},{"$f":"IF(Resurssiluettelo!J125=0,\"\",Resurssiluettelo!J125)","v":""},{"$f":"IF(Resurssiluettelo!K125=0,\"\",Resurssiluettelo!K125)","v":""},{"$f":"IF(Resurssiluettelo!L125=0,\"\",Resurssiluettelo!L125)","v":""},{"$f":"IF(Resurssiluettelo!M125=0,\"\",Resurssiluettelo!M125)","v":""},{"$f":"IF(Resurssiluettelo!N125=0,\"\",Resurssiluettelo!N125)","v":""},{"$f":"IF(Resurssiluettelo!O125=0,\"\",Resurssiluettelo!O125)","v":""},{"$f":"IF(Resurssiluettelo!P125=0,\"\",Resurssiluettelo!P125)","v":""},{"$f":"IF(Resurssiluettelo!Q125=0,\"\",Resurssiluettelo!Q125)","v":""},{"$f":"IF(Resurssiluettelo!R125=0,\"\",Resurssiluettelo!R125)","v":""},{"$f":"IF(Resurssiluettelo!S125=0,\"\",Resurssiluettelo!S125)","v":""},{"$f":"IF(Resurssiluettelo!T125=0,\"\",Resurssiluettelo!T125)","v":""},{"$f":"IF(Resurssiluettelo!U125=0,\"\",Resurssiluettelo!U125)","v":""},{"$f":"IF(Resurssiluettelo!V125=0,\"\",Resurssiluettelo!V125)","v":""}]
[76,{"$f":"IF(Y79=\"\",\"\",Resurssiluettelo!$G$1)","v":""},{"$f":"IF(Y79=\"\",\"\",Resurssiluettelo!$H$14)","v":""},{"$f":"IF(Y79=\"\",\"\",Resurssiluettelo!$I$14)","v":""},{"$f":"IF(Y79=\"\",\"\",Resurssiluettelo!$J$14)","v":""},{"$f":"IF(Y79=\"\",\"\",Resurssiluettelo!$N$14)","v":""},{"$f":"IF(Y79=\"\",\"\",Resurssiluettelo!$O$14)","v":""},{"$f":"IF(Resurssiluettelo!B126=0,\"\",Resurssiluettelo!B126)","v":""},{"$f":"IF(Resurssiluettelo!C126=0,\"\",Resurssiluettelo!C126)","v":""},{"$f":"IF(Resurssiluettelo!D126=0,\"\",Resurssiluettelo!D126)","v":""},{"$f":"IF($J79=\"\",\"\",VLOOKUP($J79, Resurssiluettelo!$D$21:$X$40,Ohjeistus!K$98-1,FALSE))","v":""},{"$f":"IF($J79=\"\",\"\",VLOOKUP($J79, Resurssiluettelo!$D$21:$X$40,Ohjeistus!L$98-1,FALSE))","v":""},{"$f":"IF($J79=\"\",\"\",VLOOKUP($J79, Resurssiluettelo!$D$21:$X$40,Ohjeistus!M$98-1,FALSE))","v":""},{"$f":"IF($J79=\"\",\"\",VLOOKUP($J79, Resurssiluettelo!$D$21:$X$40,Ohjeistus!N$98-1,FALSE))","v":""},{"$f":"IF($J79=\"\",\"\",VLOOKUP($J79, Resurssiluettelo!$D$21:$X$40,Ohjeistus!O$98-1,FALSE))","v":""},{"$f":"IF($J79=\"\",\"\",VLOOKUP($J79, Resurssiluettelo!$D$21:$X$40,Ohjeistus!P$98-1,FALSE))","v":""},{"$f":"IF($J79=\"\",IF($I79=\"\",\"\",VLOOKUP($I79, Resurssiluettelo!$C$21:$X$40,Ohjeistus!Q$98,FALSE)),VLOOKUP($J79, Resurssiluettelo!$D$21:$X$40,Ohjeistus!Q$98-1,FALSE))","v":""},{"$f":"IF($J79=\"\",IF($I79=\"\",\"\",VLOOKUP($I79, Resurssiluettelo!$C$21:$X$40,Ohjeistus!R$98,FALSE)),VLOOKUP($J79, Resurssiluettelo!$D$21:$X$40,Ohjeistus!R$98-1,FALSE))","v":""},{"$f":"IF($J79=\"\",IF($I79=\"\",\"\",VLOOKUP($I79, Resurssiluettelo!$C$21:$X$40,Ohjeistus!S$98,FALSE)),VLOOKUP($J79, Resurssiluettelo!$D$21:$X$40,Ohjeistus!S$98-1,FALSE))","v":""},{"$f":"IF($J79=\"\",IF($I79=\"\",\"\",VLOOKUP($I79, Resurssiluettelo!$C$21:$X$40,Ohjeistus!T$98,FALSE)),VLOOKUP($J79, Resurssiluettelo!$D$21:$X$40,Ohjeistus!T$98-1,FALSE))","v":""},{"$f":"IF($J79=\"\",\"\",VLOOKUP($J79, Resurssiluettelo!$D$21:$X$40,Ohjeistus!U$98-1,FALSE))","v":""},{"$f":"IF($J79=\"\",\"\",VLOOKUP($J79, Resurssiluettelo!$D$21:$X$40,Ohjeistus!V$98-1,FALSE))","v":""},{"$f":"IF($J79=\"\",\"\",VLOOKUP($J79, Resurssiluettelo!$D$21:$X$40,Ohjeistus!W$98-1,FALSE))","v":""},{"$f":"IF($J79=\"\",\"\",VLOOKUP($J79, Resurssiluettelo!$D$21:$X$40,Ohjeistus!X$98-1,FALSE))","v":""},{"$f":"IF(Resurssiluettelo!E126=0,\"\",Resurssiluettelo!E126)","v":""},{"$f":"IF(Resurssiluettelo!F126=0,\"\",YEAR(Resurssiluettelo!F126)&IF(MONTH(Resurssiluettelo!F126)<10,\"0\",\"\")&MONTH(Resurssiluettelo!F126)&IF(DAY(Resurssiluettelo!F126)<10,\"0\",\"\")&DAY(Resurssiluettelo!F126))","v":""},{"$f":"IF(Resurssiluettelo!G126=0,\"\",Resurssiluettelo!G126)","v":""},{"$f":"IF(Resurssiluettelo!H126=0,\"\",Resurssiluettelo!H126)","v":""},{"$f":"IF(Resurssiluettelo!I126=0,\"\",Resurssiluettelo!I126)","v":""},{"$f":"IF(Resurssiluettelo!W126=0,\"\",Resurssiluettelo!W126)","v":""},{"$f":"IF(Resurssiluettelo!X126=0,\"\",Resurssiluettelo!X126)","v":""},{"$f":"IF(Resurssiluettelo!Y126=0,\"\",Resurssiluettelo!Y126)","v":""},{"$f":"IF(Resurssiluettelo!Z126=0,\"\",Resurssiluettelo!Z126)","v":""},{"$f":"IF(Resurssiluettelo!AA126=0,\"\",Resurssiluettelo!AA126)","v":""},{"$f":"IF(Resurssiluettelo!AB126=0,\"\",Resurssiluettelo!AB126)","v":""},{"$f":"IF(Resurssiluettelo!AC126=0,\"\",Resurssiluettelo!AC126)","v":""},{"$f":"IF(Resurssiluettelo!AD126=0,\"\",Resurssiluettelo!AD126)","v":""},{"$f":"IF(Resurssiluettelo!J126=0,\"\",Resurssiluettelo!J126)","v":""},{"$f":"IF(Resurssiluettelo!K126=0,\"\",Resurssiluettelo!K126)","v":""},{"$f":"IF(Resurssiluettelo!L126=0,\"\",Resurssiluettelo!L126)","v":""},{"$f":"IF(Resurssiluettelo!M126=0,\"\",Resurssiluettelo!M126)","v":""},{"$f":"IF(Resurssiluettelo!N126=0,\"\",Resurssiluettelo!N126)","v":""},{"$f":"IF(Resurssiluettelo!O126=0,\"\",Resurssiluettelo!O126)","v":""},{"$f":"IF(Resurssiluettelo!P126=0,\"\",Resurssiluettelo!P126)","v":""},{"$f":"IF(Resurssiluettelo!Q126=0,\"\",Resurssiluettelo!Q126)","v":""},{"$f":"IF(Resurssiluettelo!R126=0,\"\",Resurssiluettelo!R126)","v":""},{"$f":"IF(Resurssiluettelo!S126=0,\"\",Resurssiluettelo!S126)","v":""},{"$f":"IF(Resurssiluettelo!T126=0,\"\",Resurssiluettelo!T126)","v":""},{"$f":"IF(Resurssiluettelo!U126=0,\"\",Resurssiluettelo!U126)","v":""},{"$f":"IF(Resurssiluettelo!V126=0,\"\",Resurssiluettelo!V126)","v":""}]
[77,{"$f":"IF(Y80=\"\",\"\",Resurssiluettelo!$G$1)","v":""},{"$f":"IF(Y80=\"\",\"\",Resurssiluettelo!$H$14)","v":""},{"$f":"IF(Y80=\"\",\"\",Resurssiluettelo!$I$14)","v":""},{"$f":"IF(Y80=\"\",\"\",Resurssiluettelo!$J$14)","v":""},{"$f":"IF(Y80=\"\",\"\",Resurssiluettelo!$N$14)","v":""},{"$f":"IF(Y80=\"\",\"\",Resurssiluettelo!$O$14)","v":""},{"$f":"IF(Resurssiluettelo!B127=0,\"\",Resurssiluettelo!B127)","v":""},{"$f":"IF(Resurssiluettelo!C127=0,\"\",Resurssiluettelo!C127)","v":""},{"$f":"IF(Resurssiluettelo!D127=0,\"\",Resurssiluettelo!D127)","v":""},{"$f":"IF($J80=\"\",\"\",VLOOKUP($J80, Resurssiluettelo!$D$21:$X$40,Ohjeistus!K$98-1,FALSE))","v":""},{"$f":"IF($J80=\"\",\"\",VLOOKUP($J80, Resurssiluettelo!$D$21:$X$40,Ohjeistus!L$98-1,FALSE))","v":""},{"$f":"IF($J80=\"\",\"\",VLOOKUP($J80, Resurssiluettelo!$D$21:$X$40,Ohjeistus!M$98-1,FALSE))","v":""},{"$f":"IF($J80=\"\",\"\",VLOOKUP($J80, Resurssiluettelo!$D$21:$X$40,Ohjeistus!N$98-1,FALSE))","v":""},{"$f":"IF($J80=\"\",\"\",VLOOKUP($J80, Resurssiluettelo!$D$21:$X$40,Ohjeistus!O$98-1,FALSE))","v":""},{"$f":"IF($J80=\"\",\"\",VLOOKUP($J80, Resurssiluettelo!$D$21:$X$40,Ohjeistus!P$98-1,FALSE))","v":""},{"$f":"IF($J80=\"\",IF($I80=\"\",\"\",VLOOKUP($I80, Resurssiluettelo!$C$21:$X$40,Ohjeistus!Q$98,FALSE)),VLOOKUP($J80, Resurssiluettelo!$D$21:$X$40,Ohjeistus!Q$98-1,FALSE))","v":""},{"$f":"IF($J80=\"\",IF($I80=\"\",\"\",VLOOKUP($I80, Resurssiluettelo!$C$21:$X$40,Ohjeistus!R$98,FALSE)),VLOOKUP($J80, Resurssiluettelo!$D$21:$X$40,Ohjeistus!R$98-1,FALSE))","v":""},{"$f":"IF($J80=\"\",IF($I80=\"\",\"\",VLOOKUP($I80, Resurssiluettelo!$C$21:$X$40,Ohjeistus!S$98,FALSE)),VLOOKUP($J80, Resurssiluettelo!$D$21:$X$40,Ohjeistus!S$98-1,FALSE))","v":""},{"$f":"IF($J80=\"\",IF($I80=\"\",\"\",VLOOKUP($I80, Resurssiluettelo!$C$21:$X$40,Ohjeistus!T$98,FALSE)),VLOOKUP($J80, Resurssiluettelo!$D$21:$X$40,Ohjeistus!T$98-1,FALSE))","v":""},{"$f":"IF($J80=\"\",\"\",VLOOKUP($J80, Resurssiluettelo!$D$21:$X$40,Ohjeistus!U$98-1,FALSE))","v":""},{"$f":"IF($J80=\"\",\"\",VLOOKUP($J80, Resurssiluettelo!$D$21:$X$40,Ohjeistus!V$98-1,FALSE))","v":""},{"$f":"IF($J80=\"\",\"\",VLOOKUP($J80, Resurssiluettelo!$D$21:$X$40,Ohjeistus!W$98-1,FALSE))","v":""},{"$f":"IF($J80=\"\",\"\",VLOOKUP($J80, Resurssiluettelo!$D$21:$X$40,Ohjeistus!X$98-1,FALSE))","v":""},{"$f":"IF(Resurssiluettelo!E127=0,\"\",Resurssiluettelo!E127)","v":""},{"$f":"IF(Resurssiluettelo!F127=0,\"\",YEAR(Resurssiluettelo!F127)&IF(MONTH(Resurssiluettelo!F127)<10,\"0\",\"\")&MONTH(Resurssiluettelo!F127)&IF(DAY(Resurssiluettelo!F127)<10,\"0\",\"\")&DAY(Resurssiluettelo!F127))","v":""},{"$f":"IF(Resurssiluettelo!G127=0,\"\",Resurssiluettelo!G127)","v":""},{"$f":"IF(Resurssiluettelo!H127=0,\"\",Resurssiluettelo!H127)","v":""},{"$f":"IF(Resurssiluettelo!I127=0,\"\",Resurssiluettelo!I127)","v":""},{"$f":"IF(Resurssiluettelo!W127=0,\"\",Resurssiluettelo!W127)","v":""},{"$f":"IF(Resurssiluettelo!X127=0,\"\",Resurssiluettelo!X127)","v":""},{"$f":"IF(Resurssiluettelo!Y127=0,\"\",Resurssiluettelo!Y127)","v":""},{"$f":"IF(Resurssiluettelo!Z127=0,\"\",Resurssiluettelo!Z127)","v":""},{"$f":"IF(Resurssiluettelo!AA127=0,\"\",Resurssiluettelo!AA127)","v":""},{"$f":"IF(Resurssiluettelo!AB127=0,\"\",Resurssiluettelo!AB127)","v":""},{"$f":"IF(Resurssiluettelo!AC127=0,\"\",Resurssiluettelo!AC127)","v":""},{"$f":"IF(Resurssiluettelo!AD127=0,\"\",Resurssiluettelo!AD127)","v":""},{"$f":"IF(Resurssiluettelo!J127=0,\"\",Resurssiluettelo!J127)","v":""},{"$f":"IF(Resurssiluettelo!K127=0,\"\",Resurssiluettelo!K127)","v":""},{"$f":"IF(Resurssiluettelo!L127=0,\"\",Resurssiluettelo!L127)","v":""},{"$f":"IF(Resurssiluettelo!M127=0,\"\",Resurssiluettelo!M127)","v":""},{"$f":"IF(Resurssiluettelo!N127=0,\"\",Resurssiluettelo!N127)","v":""},{"$f":"IF(Resurssiluettelo!O127=0,\"\",Resurssiluettelo!O127)","v":""},{"$f":"IF(Resurssiluettelo!P127=0,\"\",Resurssiluettelo!P127)","v":""},{"$f":"IF(Resurssiluettelo!Q127=0,\"\",Resurssiluettelo!Q127)","v":""},{"$f":"IF(Resurssiluettelo!R127=0,\"\",Resurssiluettelo!R127)","v":""},{"$f":"IF(Resurssiluettelo!S127=0,\"\",Resurssiluettelo!S127)","v":""},{"$f":"IF(Resurssiluettelo!T127=0,\"\",Resurssiluettelo!T127)","v":""},{"$f":"IF(Resurssiluettelo!U127=0,\"\",Resurssiluettelo!U127)","v":""},{"$f":"IF(Resurssiluettelo!V127=0,\"\",Resurssiluettelo!V127)","v":""}]
[78,{"$f":"IF(Y81=\"\",\"\",Resurssiluettelo!$G$1)","v":""},{"$f":"IF(Y81=\"\",\"\",Resurssiluettelo!$H$14)","v":""},{"$f":"IF(Y81=\"\",\"\",Resurssiluettelo!$I$14)","v":""},{"$f":"IF(Y81=\"\",\"\",Resurssiluettelo!$J$14)","v":""},{"$f":"IF(Y81=\"\",\"\",Resurssiluettelo!$N$14)","v":""},{"$f":"IF(Y81=\"\",\"\",Resurssiluettelo!$O$14)","v":""},{"$f":"IF(Resurssiluettelo!B128=0,\"\",Resurssiluettelo!B128)","v":""},{"$f":"IF(Resurssiluettelo!C128=0,\"\",Resurssiluettelo!C128)","v":""},{"$f":"IF(Resurssiluettelo!D128=0,\"\",Resurssiluettelo!D128)","v":""},{"$f":"IF($J81=\"\",\"\",VLOOKUP($J81, Resurssiluettelo!$D$21:$X$40,Ohjeistus!K$98-1,FALSE))","v":""},{"$f":"IF($J81=\"\",\"\",VLOOKUP($J81, Resurssiluettelo!$D$21:$X$40,Ohjeistus!L$98-1,FALSE))","v":""},{"$f":"IF($J81=\"\",\"\",VLOOKUP($J81, Resurssiluettelo!$D$21:$X$40,Ohjeistus!M$98-1,FALSE))","v":""},{"$f":"IF($J81=\"\",\"\",VLOOKUP($J81, Resurssiluettelo!$D$21:$X$40,Ohjeistus!N$98-1,FALSE))","v":""},{"$f":"IF($J81=\"\",\"\",VLOOKUP($J81, Resurssiluettelo!$D$21:$X$40,Ohjeistus!O$98-1,FALSE))","v":""},{"$f":"IF($J81=\"\",\"\",VLOOKUP($J81, Resurssiluettelo!$D$21:$X$40,Ohjeistus!P$98-1,FALSE))","v":""},{"$f":"IF($J81=\"\",IF($I81=\"\",\"\",VLOOKUP($I81, Resurssiluettelo!$C$21:$X$40,Ohjeistus!Q$98,FALSE)),VLOOKUP($J81, Resurssiluettelo!$D$21:$X$40,Ohjeistus!Q$98-1,FALSE))","v":""},{"$f":"IF($J81=\"\",IF($I81=\"\",\"\",VLOOKUP($I81, Resurssiluettelo!$C$21:$X$40,Ohjeistus!R$98,FALSE)),VLOOKUP($J81, Resurssiluettelo!$D$21:$X$40,Ohjeistus!R$98-1,FALSE))","v":""},{"$f":"IF($J81=\"\",IF($I81=\"\",\"\",VLOOKUP($I81, Resurssiluettelo!$C$21:$X$40,Ohjeistus!S$98,FALSE)),VLOOKUP($J81, Resurssiluettelo!$D$21:$X$40,Ohjeistus!S$98-1,FALSE))","v":""},{"$f":"IF($J81=\"\",IF($I81=\"\",\"\",VLOOKUP($I81, Resurssiluettelo!$C$21:$X$40,Ohjeistus!T$98,FALSE)),VLOOKUP($J81, Resurssiluettelo!$D$21:$X$40,Ohjeistus!T$98-1,FALSE))","v":""},{"$f":"IF($J81=\"\",\"\",VLOOKUP($J81, Resurssiluettelo!$D$21:$X$40,Ohjeistus!U$98-1,FALSE))","v":""},{"$f":"IF($J81=\"\",\"\",VLOOKUP($J81, Resurssiluettelo!$D$21:$X$40,Ohjeistus!V$98-1,FALSE))","v":""},{"$f":"IF($J81=\"\",\"\",VLOOKUP($J81, Resurssiluettelo!$D$21:$X$40,Ohjeistus!W$98-1,FALSE))","v":""},{"$f":"IF($J81=\"\",\"\",VLOOKUP($J81, Resurssiluettelo!$D$21:$X$40,Ohjeistus!X$98-1,FALSE))","v":""},{"$f":"IF(Resurssiluettelo!E128=0,\"\",Resurssiluettelo!E128)","v":""},{"$f":"IF(Resurssiluettelo!F128=0,\"\",YEAR(Resurssiluettelo!F128)&IF(MONTH(Resurssiluettelo!F128)<10,\"0\",\"\")&MONTH(Resurssiluettelo!F128)&IF(DAY(Resurssiluettelo!F128)<10,\"0\",\"\")&DAY(Resurssiluettelo!F128))","v":""},{"$f":"IF(Resurssiluettelo!G128=0,\"\",Resurssiluettelo!G128)","v":""},{"$f":"IF(Resurssiluettelo!H128=0,\"\",Resurssiluettelo!H128)","v":""},{"$f":"IF(Resurssiluettelo!I128=0,\"\",Resurssiluettelo!I128)","v":""},{"$f":"IF(Resurssiluettelo!W128=0,\"\",Resurssiluettelo!W128)","v":""},{"$f":"IF(Resurssiluettelo!X128=0,\"\",Resurssiluettelo!X128)","v":""},{"$f":"IF(Resurssiluettelo!Y128=0,\"\",Resurssiluettelo!Y128)","v":""},{"$f":"IF(Resurssiluettelo!Z128=0,\"\",Resurssiluettelo!Z128)","v":""},{"$f":"IF(Resurssiluettelo!AA128=0,\"\",Resurssiluettelo!AA128)","v":""},{"$f":"IF(Resurssiluettelo!AB128=0,\"\",Resurssiluettelo!AB128)","v":""},{"$f":"IF(Resurssiluettelo!AC128=0,\"\",Resurssiluettelo!AC128)","v":""},{"$f":"IF(Resurssiluettelo!AD128=0,\"\",Resurssiluettelo!AD128)","v":""},{"$f":"IF(Resurssiluettelo!J128=0,\"\",Resurssiluettelo!J128)","v":""},{"$f":"IF(Resurssiluettelo!K128=0,\"\",Resurssiluettelo!K128)","v":""},{"$f":"IF(Resurssiluettelo!L128=0,\"\",Resurssiluettelo!L128)","v":""},{"$f":"IF(Resurssiluettelo!M128=0,\"\",Resurssiluettelo!M128)","v":""},{"$f":"IF(Resurssiluettelo!N128=0,\"\",Resurssiluettelo!N128)","v":""},{"$f":"IF(Resurssiluettelo!O128=0,\"\",Resurssiluettelo!O128)","v":""},{"$f":"IF(Resurssiluettelo!P128=0,\"\",Resurssiluettelo!P128)","v":""},{"$f":"IF(Resurssiluettelo!Q128=0,\"\",Resurssiluettelo!Q128)","v":""},{"$f":"IF(Resurssiluettelo!R128=0,\"\",Resurssiluettelo!R128)","v":""},{"$f":"IF(Resurssiluettelo!S128=0,\"\",Resurssiluettelo!S128)","v":""},{"$f":"IF(Resurssiluettelo!T128=0,\"\",Resurssiluettelo!T128)","v":""},{"$f":"IF(Resurssiluettelo!U128=0,\"\",Resurssiluettelo!U128)","v":""},{"$f":"IF(Resurssiluettelo!V128=0,\"\",Resurssiluettelo!V128)","v":""}]
[79,{"$f":"IF(Y82=\"\",\"\",Resurssiluettelo!$G$1)","v":""},{"$f":"IF(Y82=\"\",\"\",Resurssiluettelo!$H$14)","v":""},{"$f":"IF(Y82=\"\",\"\",Resurssiluettelo!$I$14)","v":""},{"$f":"IF(Y82=\"\",\"\",Resurssiluettelo!$J$14)","v":""},{"$f":"IF(Y82=\"\",\"\",Resurssiluettelo!$N$14)","v":""},{"$f":"IF(Y82=\"\",\"\",Resurssiluettelo!$O$14)","v":""},{"$f":"IF(Resurssiluettelo!B129=0,\"\",Resurssiluettelo!B129)","v":""},{"$f":"IF(Resurssiluettelo!C129=0,\"\",Resurssiluettelo!C129)","v":""},{"$f":"IF(Resurssiluettelo!D129=0,\"\",Resurssiluettelo!D129)","v":""},{"$f":"IF($J82=\"\",\"\",VLOOKUP($J82, Resurssiluettelo!$D$21:$X$40,Ohjeistus!K$98-1,FALSE))","v":""},{"$f":"IF($J82=\"\",\"\",VLOOKUP($J82, Resurssiluettelo!$D$21:$X$40,Ohjeistus!L$98-1,FALSE))","v":""},{"$f":"IF($J82=\"\",\"\",VLOOKUP($J82, Resurssiluettelo!$D$21:$X$40,Ohjeistus!M$98-1,FALSE))","v":""},{"$f":"IF($J82=\"\",\"\",VLOOKUP($J82, Resurssiluettelo!$D$21:$X$40,Ohjeistus!N$98-1,FALSE))","v":""},{"$f":"IF($J82=\"\",\"\",VLOOKUP($J82, Resurssiluettelo!$D$21:$X$40,Ohjeistus!O$98-1,FALSE))","v":""},{"$f":"IF($J82=\"\",\"\",VLOOKUP($J82, Resurssiluettelo!$D$21:$X$40,Ohjeistus!P$98-1,FALSE))","v":""},{"$f":"IF($J82=\"\",IF($I82=\"\",\"\",VLOOKUP($I82, Resurssiluettelo!$C$21:$X$40,Ohjeistus!Q$98,FALSE)),VLOOKUP($J82, Resurssiluettelo!$D$21:$X$40,Ohjeistus!Q$98-1,FALSE))","v":""},{"$f":"IF($J82=\"\",IF($I82=\"\",\"\",VLOOKUP($I82, Resurssiluettelo!$C$21:$X$40,Ohjeistus!R$98,FALSE)),VLOOKUP($J82, Resurssiluettelo!$D$21:$X$40,Ohjeistus!R$98-1,FALSE))","v":""},{"$f":"IF($J82=\"\",IF($I82=\"\",\"\",VLOOKUP($I82, Resurssiluettelo!$C$21:$X$40,Ohjeistus!S$98,FALSE)),VLOOKUP($J82, Resurssiluettelo!$D$21:$X$40,Ohjeistus!S$98-1,FALSE))","v":""},{"$f":"IF($J82=\"\",IF($I82=\"\",\"\",VLOOKUP($I82, Resurssiluettelo!$C$21:$X$40,Ohjeistus!T$98,FALSE)),VLOOKUP($J82, Resurssiluettelo!$D$21:$X$40,Ohjeistus!T$98-1,FALSE))","v":""},{"$f":"IF($J82=\"\",\"\",VLOOKUP($J82, Resurssiluettelo!$D$21:$X$40,Ohjeistus!U$98-1,FALSE))","v":""},{"$f":"IF($J82=\"\",\"\",VLOOKUP($J82, Resurssiluettelo!$D$21:$X$40,Ohjeistus!V$98-1,FALSE))","v":""},{"$f":"IF($J82=\"\",\"\",VLOOKUP($J82, Resurssiluettelo!$D$21:$X$40,Ohjeistus!W$98-1,FALSE))","v":""},{"$f":"IF($J82=\"\",\"\",VLOOKUP($J82, Resurssiluettelo!$D$21:$X$40,Ohjeistus!X$98-1,FALSE))","v":""},{"$f":"IF(Resurssiluettelo!E129=0,\"\",Resurssiluettelo!E129)","v":""},{"$f":"IF(Resurssiluettelo!F129=0,\"\",YEAR(Resurssiluettelo!F129)&IF(MONTH(Resurssiluettelo!F129)<10,\"0\",\"\")&MONTH(Resurssiluettelo!F129)&IF(DAY(Resurssiluettelo!F129)<10,\"0\",\"\")&DAY(Resurssiluettelo!F129))","v":""},{"$f":"IF(Resurssiluettelo!G129=0,\"\",Resurssiluettelo!G129)","v":""},{"$f":"IF(Resurssiluettelo!H129=0,\"\",Resurssiluettelo!H129)","v":""},{"$f":"IF(Resurssiluettelo!I129=0,\"\",Resurssiluettelo!I129)","v":""},{"$f":"IF(Resurssiluettelo!W129=0,\"\",Resurssiluettelo!W129)","v":""},{"$f":"IF(Resurssiluettelo!X129=0,\"\",Resurssiluettelo!X129)","v":""},{"$f":"IF(Resurssiluettelo!Y129=0,\"\",Resurssiluettelo!Y129)","v":""},{"$f":"IF(Resurssiluettelo!Z129=0,\"\",Resurssiluettelo!Z129)","v":""},{"$f":"IF(Resurssiluettelo!AA129=0,\"\",Resurssiluettelo!AA129)","v":""},{"$f":"IF(Resurssiluettelo!AB129=0,\"\",Resurssiluettelo!AB129)","v":""},{"$f":"IF(Resurssiluettelo!AC129=0,\"\",Resurssiluettelo!AC129)","v":""},{"$f":"IF(Resurssiluettelo!AD129=0,\"\",Resurssiluettelo!AD129)","v":""},{"$f":"IF(Resurssiluettelo!J129=0,\"\",Resurssiluettelo!J129)","v":""},{"$f":"IF(Resurssiluettelo!K129=0,\"\",Resurssiluettelo!K129)","v":""},{"$f":"IF(Resurssiluettelo!L129=0,\"\",Resurssiluettelo!L129)","v":""},{"$f":"IF(Resurssiluettelo!M129=0,\"\",Resurssiluettelo!M129)","v":""},{"$f":"IF(Resurssiluettelo!N129=0,\"\",Resurssiluettelo!N129)","v":""},{"$f":"IF(Resurssiluettelo!O129=0,\"\",Resurssiluettelo!O129)","v":""},{"$f":"IF(Resurssiluettelo!P129=0,\"\",Resurssiluettelo!P129)","v":""},{"$f":"IF(Resurssiluettelo!Q129=0,\"\",Resurssiluettelo!Q129)","v":""},{"$f":"IF(Resurssiluettelo!R129=0,\"\",Resurssiluettelo!R129)","v":""},{"$f":"IF(Resurssiluettelo!S129=0,\"\",Resurssiluettelo!S129)","v":""},{"$f":"IF(Resurssiluettelo!T129=0,\"\",Resurssiluettelo!T129)","v":""},{"$f":"IF(Resurssiluettelo!U129=0,\"\",Resurssiluettelo!U129)","v":""},{"$f":"IF(Resurssiluettelo!V129=0,\"\",Resurssiluettelo!V129)","v":""}]
[80,{"$f":"IF(Y83=\"\",\"\",Resurssiluettelo!$G$1)","v":""},{"$f":"IF(Y83=\"\",\"\",Resurssiluettelo!$H$14)","v":""},{"$f":"IF(Y83=\"\",\"\",Resurssiluettelo!$I$14)","v":""},{"$f":"IF(Y83=\"\",\"\",Resurssiluettelo!$J$14)","v":""},{"$f":"IF(Y83=\"\",\"\",Resurssiluettelo!$N$14)","v":""},{"$f":"IF(Y83=\"\",\"\",Resurssiluettelo!$O$14)","v":""},{"$f":"IF(Resurssiluettelo!B130=0,\"\",Resurssiluettelo!B130)","v":""},{"$f":"IF(Resurssiluettelo!C130=0,\"\",Resurssiluettelo!C130)","v":""},{"$f":"IF(Resurssiluettelo!D130=0,\"\",Resurssiluettelo!D130)","v":""},{"$f":"IF($J83=\"\",\"\",VLOOKUP($J83, Resurssiluettelo!$D$21:$X$40,Ohjeistus!K$98-1,FALSE))","v":""},{"$f":"IF($J83=\"\",\"\",VLOOKUP($J83, Resurssiluettelo!$D$21:$X$40,Ohjeistus!L$98-1,FALSE))","v":""},{"$f":"IF($J83=\"\",\"\",VLOOKUP($J83, Resurssiluettelo!$D$21:$X$40,Ohjeistus!M$98-1,FALSE))","v":""},{"$f":"IF($J83=\"\",\"\",VLOOKUP($J83, Resurssiluettelo!$D$21:$X$40,Ohjeistus!N$98-1,FALSE))","v":""},{"$f":"IF($J83=\"\",\"\",VLOOKUP($J83, Resurssiluettelo!$D$21:$X$40,Ohjeistus!O$98-1,FALSE))","v":""},{"$f":"IF($J83=\"\",\"\",VLOOKUP($J83, Resurssiluettelo!$D$21:$X$40,Ohjeistus!P$98-1,FALSE))","v":""},{"$f":"IF($J83=\"\",IF($I83=\"\",\"\",VLOOKUP($I83, Resurssiluettelo!$C$21:$X$40,Ohjeistus!Q$98,FALSE)),VLOOKUP($J83, Resurssiluettelo!$D$21:$X$40,Ohjeistus!Q$98-1,FALSE))","v":""},{"$f":"IF($J83=\"\",IF($I83=\"\",\"\",VLOOKUP($I83, Resurssiluettelo!$C$21:$X$40,Ohjeistus!R$98,FALSE)),VLOOKUP($J83, Resurssiluettelo!$D$21:$X$40,Ohjeistus!R$98-1,FALSE))","v":""},{"$f":"IF($J83=\"\",IF($I83=\"\",\"\",VLOOKUP($I83, Resurssiluettelo!$C$21:$X$40,Ohjeistus!S$98,FALSE)),VLOOKUP($J83, Resurssiluettelo!$D$21:$X$40,Ohjeistus!S$98-1,FALSE))","v":""},{"$f":"IF($J83=\"\",IF($I83=\"\",\"\",VLOOKUP($I83, Resurssiluettelo!$C$21:$X$40,Ohjeistus!T$98,FALSE)),VLOOKUP($J83, Resurssiluettelo!$D$21:$X$40,Ohjeistus!T$98-1,FALSE))","v":""},{"$f":"IF($J83=\"\",\"\",VLOOKUP($J83, Resurssiluettelo!$D$21:$X$40,Ohjeistus!U$98-1,FALSE))","v":""},{"$f":"IF($J83=\"\",\"\",VLOOKUP($J83, Resurssiluettelo!$D$21:$X$40,Ohjeistus!V$98-1,FALSE))","v":""},{"$f":"IF($J83=\"\",\"\",VLOOKUP($J83, Resurssiluettelo!$D$21:$X$40,Ohjeistus!W$98-1,FALSE))","v":""},{"$f":"IF($J83=\"\",\"\",VLOOKUP($J83, Resurssiluettelo!$D$21:$X$40,Ohjeistus!X$98-1,FALSE))","v":""},{"$f":"IF(Resurssiluettelo!E130=0,\"\",Resurssiluettelo!E130)","v":""},{"$f":"IF(Resurssiluettelo!F130=0,\"\",YEAR(Resurssiluettelo!F130)&IF(MONTH(Resurssiluettelo!F130)<10,\"0\",\"\")&MONTH(Resurssiluettelo!F130)&IF(DAY(Resurssiluettelo!F130)<10,\"0\",\"\")&DAY(Resurssiluettelo!F130))","v":""},{"$f":"IF(Resurssiluettelo!G130=0,\"\",Resurssiluettelo!G130)","v":""},{"$f":"IF(Resurssiluettelo!H130=0,\"\",Resurssiluettelo!H130)","v":""},{"$f":"IF(Resurssiluettelo!I130=0,\"\",Resurssiluettelo!I130)","v":""},{"$f":"IF(Resurssiluettelo!W130=0,\"\",Resurssiluettelo!W130)","v":""},{"$f":"IF(Resurssiluettelo!X130=0,\"\",Resurssiluettelo!X130)","v":""},{"$f":"IF(Resurssiluettelo!Y130=0,\"\",Resurssiluettelo!Y130)","v":""},{"$f":"IF(Resurssiluettelo!Z130=0,\"\",Resurssiluettelo!Z130)","v":""},{"$f":"IF(Resurssiluettelo!AA130=0,\"\",Resurssiluettelo!AA130)","v":""},{"$f":"IF(Resurssiluettelo!AB130=0,\"\",Resurssiluettelo!AB130)","v":""},{"$f":"IF(Resurssiluettelo!AC130=0,\"\",Resurssiluettelo!AC130)","v":""},{"$f":"IF(Resurssiluettelo!AD130=0,\"\",Resurssiluettelo!AD130)","v":""},{"$f":"IF(Resurssiluettelo!J130=0,\"\",Resurssiluettelo!J130)","v":""},{"$f":"IF(Resurssiluettelo!K130=0,\"\",Resurssiluettelo!K130)","v":""},{"$f":"IF(Resurssiluettelo!L130=0,\"\",Resurssiluettelo!L130)","v":""},{"$f":"IF(Resurssiluettelo!M130=0,\"\",Resurssiluettelo!M130)","v":""},{"$f":"IF(Resurssiluettelo!N130=0,\"\",Resurssiluettelo!N130)","v":""},{"$f":"IF(Resurssiluettelo!O130=0,\"\",Resurssiluettelo!O130)","v":""},{"$f":"IF(Resurssiluettelo!P130=0,\"\",Resurssiluettelo!P130)","v":""},{"$f":"IF(Resurssiluettelo!Q130=0,\"\",Resurssiluettelo!Q130)","v":""},{"$f":"IF(Resurssiluettelo!R130=0,\"\",Resurssiluettelo!R130)","v":""},{"$f":"IF(Resurssiluettelo!S130=0,\"\",Resurssiluettelo!S130)","v":""},{"$f":"IF(Resurssiluettelo!T130=0,\"\",Resurssiluettelo!T130)","v":""},{"$f":"IF(Resurssiluettelo!U130=0,\"\",Resurssiluettelo!U130)","v":""},{"$f":"IF(Resurssiluettelo!V130=0,\"\",Resurssiluettelo!V130)","v":""}]
[81,{"$f":"IF(Y84=\"\",\"\",Resurssiluettelo!$G$1)","v":""},{"$f":"IF(Y84=\"\",\"\",Resurssiluettelo!$H$14)","v":""},{"$f":"IF(Y84=\"\",\"\",Resurssiluettelo!$I$14)","v":""},{"$f":"IF(Y84=\"\",\"\",Resurssiluettelo!$J$14)","v":""},{"$f":"IF(Y84=\"\",\"\",Resurssiluettelo!$N$14)","v":""},{"$f":"IF(Y84=\"\",\"\",Resurssiluettelo!$O$14)","v":""},{"$f":"IF(Resurssiluettelo!B131=0,\"\",Resurssiluettelo!B131)","v":""},{"$f":"IF(Resurssiluettelo!C131=0,\"\",Resurssiluettelo!C131)","v":""},{"$f":"IF(Resurssiluettelo!D131=0,\"\",Resurssiluettelo!D131)","v":""},{"$f":"IF($J84=\"\",\"\",VLOOKUP($J84, Resurssiluettelo!$D$21:$X$40,Ohjeistus!K$98-1,FALSE))","v":""},{"$f":"IF($J84=\"\",\"\",VLOOKUP($J84, Resurssiluettelo!$D$21:$X$40,Ohjeistus!L$98-1,FALSE))","v":""},{"$f":"IF($J84=\"\",\"\",VLOOKUP($J84, Resurssiluettelo!$D$21:$X$40,Ohjeistus!M$98-1,FALSE))","v":""},{"$f":"IF($J84=\"\",\"\",VLOOKUP($J84, Resurssiluettelo!$D$21:$X$40,Ohjeistus!N$98-1,FALSE))","v":""},{"$f":"IF($J84=\"\",\"\",VLOOKUP($J84, Resurssiluettelo!$D$21:$X$40,Ohjeistus!O$98-1,FALSE))","v":""},{"$f":"IF($J84=\"\",\"\",VLOOKUP($J84, Resurssiluettelo!$D$21:$X$40,Ohjeistus!P$98-1,FALSE))","v":""},{"$f":"IF($J84=\"\",IF($I84=\"\",\"\",VLOOKUP($I84, Resurssiluettelo!$C$21:$X$40,Ohjeistus!Q$98,FALSE)),VLOOKUP($J84, Resurssiluettelo!$D$21:$X$40,Ohjeistus!Q$98-1,FALSE))","v":""},{"$f":"IF($J84=\"\",IF($I84=\"\",\"\",VLOOKUP($I84, Resurssiluettelo!$C$21:$X$40,Ohjeistus!R$98,FALSE)),VLOOKUP($J84, Resurssiluettelo!$D$21:$X$40,Ohjeistus!R$98-1,FALSE))","v":""},{"$f":"IF($J84=\"\",IF($I84=\"\",\"\",VLOOKUP($I84, Resurssiluettelo!$C$21:$X$40,Ohjeistus!S$98,FALSE)),VLOOKUP($J84, Resurssiluettelo!$D$21:$X$40,Ohjeistus!S$98-1,FALSE))","v":""},{"$f":"IF($J84=\"\",IF($I84=\"\",\"\",VLOOKUP($I84, Resurssiluettelo!$C$21:$X$40,Ohjeistus!T$98,FALSE)),VLOOKUP($J84, Resurssiluettelo!$D$21:$X$40,Ohjeistus!T$98-1,FALSE))","v":""},{"$f":"IF($J84=\"\",\"\",VLOOKUP($J84, Resurssiluettelo!$D$21:$X$40,Ohjeistus!U$98-1,FALSE))","v":""},{"$f":"IF($J84=\"\",\"\",VLOOKUP($J84, Resurssiluettelo!$D$21:$X$40,Ohjeistus!V$98-1,FALSE))","v":""},{"$f":"IF($J84=\"\",\"\",VLOOKUP($J84, Resurssiluettelo!$D$21:$X$40,Ohjeistus!W$98-1,FALSE))","v":""},{"$f":"IF($J84=\"\",\"\",VLOOKUP($J84, Resurssiluettelo!$D$21:$X$40,Ohjeistus!X$98-1,FALSE))","v":""},{"$f":"IF(Resurssiluettelo!E131=0,\"\",Resurssiluettelo!E131)","v":""},{"$f":"IF(Resurssiluettelo!F131=0,\"\",YEAR(Resurssiluettelo!F131)&IF(MONTH(Resurssiluettelo!F131)<10,\"0\",\"\")&MONTH(Resurssiluettelo!F131)&IF(DAY(Resurssiluettelo!F131)<10,\"0\",\"\")&DAY(Resurssiluettelo!F131))","v":""},{"$f":"IF(Resurssiluettelo!G131=0,\"\",Resurssiluettelo!G131)","v":""},{"$f":"IF(Resurssiluettelo!H131=0,\"\",Resurssiluettelo!H131)","v":""},{"$f":"IF(Resurssiluettelo!I131=0,\"\",Resurssiluettelo!I131)","v":""},{"$f":"IF(Resurssiluettelo!W131=0,\"\",Resurssiluettelo!W131)","v":""},{"$f":"IF(Resurssiluettelo!X131=0,\"\",Resurssiluettelo!X131)","v":""},{"$f":"IF(Resurssiluettelo!Y131=0,\"\",Resurssiluettelo!Y131)","v":""},{"$f":"IF(Resurssiluettelo!Z131=0,\"\",Resurssiluettelo!Z131)","v":""},{"$f":"IF(Resurssiluettelo!AA131=0,\"\",Resurssiluettelo!AA131)","v":""},{"$f":"IF(Resurssiluettelo!AB131=0,\"\",Resurssiluettelo!AB131)","v":""},{"$f":"IF(Resurssiluettelo!AC131=0,\"\",Resurssiluettelo!AC131)","v":""},{"$f":"IF(Resurssiluettelo!AD131=0,\"\",Resurssiluettelo!AD131)","v":""},{"$f":"IF(Resurssiluettelo!J131=0,\"\",Resurssiluettelo!J131)","v":""},{"$f":"IF(Resurssiluettelo!K131=0,\"\",Resurssiluettelo!K131)","v":""},{"$f":"IF(Resurssiluettelo!L131=0,\"\",Resurssiluettelo!L131)","v":""},{"$f":"IF(Resurssiluettelo!M131=0,\"\",Resurssiluettelo!M131)","v":""},{"$f":"IF(Resurssiluettelo!N131=0,\"\",Resurssiluettelo!N131)","v":""},{"$f":"IF(Resurssiluettelo!O131=0,\"\",Resurssiluettelo!O131)","v":""},{"$f":"IF(Resurssiluettelo!P131=0,\"\",Resurssiluettelo!P131)","v":""},{"$f":"IF(Resurssiluettelo!Q131=0,\"\",Resurssiluettelo!Q131)","v":""},{"$f":"IF(Resurssiluettelo!R131=0,\"\",Resurssiluettelo!R131)","v":""},{"$f":"IF(Resurssiluettelo!S131=0,\"\",Resurssiluettelo!S131)","v":""},{"$f":"IF(Resurssiluettelo!T131=0,\"\",Resurssiluettelo!T131)","v":""},{"$f":"IF(Resurssiluettelo!U131=0,\"\",Resurssiluettelo!U131)","v":""},{"$f":"IF(Resurssiluettelo!V131=0,\"\",Resurssiluettelo!V131)","v":""}]
[82,{"$f":"IF(Y85=\"\",\"\",Resurssiluettelo!$G$1)","v":""},{"$f":"IF(Y85=\"\",\"\",Resurssiluettelo!$H$14)","v":""},{"$f":"IF(Y85=\"\",\"\",Resurssiluettelo!$I$14)","v":""},{"$f":"IF(Y85=\"\",\"\",Resurssiluettelo!$J$14)","v":""},{"$f":"IF(Y85=\"\",\"\",Resurssiluettelo!$N$14)","v":""},{"$f":"IF(Y85=\"\",\"\",Resurssiluettelo!$O$14)","v":""},{"$f":"IF(Resurssiluettelo!B132=0,\"\",Resurssiluettelo!B132)","v":""},{"$f":"IF(Resurssiluettelo!C132=0,\"\",Resurssiluettelo!C132)","v":""},{"$f":"IF(Resurssiluettelo!D132=0,\"\",Resurssiluettelo!D132)","v":""},{"$f":"IF($J85=\"\",\"\",VLOOKUP($J85, Resurssiluettelo!$D$21:$X$40,Ohjeistus!K$98-1,FALSE))","v":""},{"$f":"IF($J85=\"\",\"\",VLOOKUP($J85, Resurssiluettelo!$D$21:$X$40,Ohjeistus!L$98-1,FALSE))","v":""},{"$f":"IF($J85=\"\",\"\",VLOOKUP($J85, Resurssiluettelo!$D$21:$X$40,Ohjeistus!M$98-1,FALSE))","v":""},{"$f":"IF($J85=\"\",\"\",VLOOKUP($J85, Resurssiluettelo!$D$21:$X$40,Ohjeistus!N$98-1,FALSE))","v":""},{"$f":"IF($J85=\"\",\"\",VLOOKUP($J85, Resurssiluettelo!$D$21:$X$40,Ohjeistus!O$98-1,FALSE))","v":""},{"$f":"IF($J85=\"\",\"\",VLOOKUP($J85, Resurssiluettelo!$D$21:$X$40,Ohjeistus!P$98-1,FALSE))","v":""},{"$f":"IF($J85=\"\",IF($I85=\"\",\"\",VLOOKUP($I85, Resurssiluettelo!$C$21:$X$40,Ohjeistus!Q$98,FALSE)),VLOOKUP($J85, Resurssiluettelo!$D$21:$X$40,Ohjeistus!Q$98-1,FALSE))","v":""},{"$f":"IF($J85=\"\",IF($I85=\"\",\"\",VLOOKUP($I85, Resurssiluettelo!$C$21:$X$40,Ohjeistus!R$98,FALSE)),VLOOKUP($J85, Resurssiluettelo!$D$21:$X$40,Ohjeistus!R$98-1,FALSE))","v":""},{"$f":"IF($J85=\"\",IF($I85=\"\",\"\",VLOOKUP($I85, Resurssiluettelo!$C$21:$X$40,Ohjeistus!S$98,FALSE)),VLOOKUP($J85, Resurssiluettelo!$D$21:$X$40,Ohjeistus!S$98-1,FALSE))","v":""},{"$f":"IF($J85=\"\",IF($I85=\"\",\"\",VLOOKUP($I85, Resurssiluettelo!$C$21:$X$40,Ohjeistus!T$98,FALSE)),VLOOKUP($J85, Resurssiluettelo!$D$21:$X$40,Ohjeistus!T$98-1,FALSE))","v":""},{"$f":"IF($J85=\"\",\"\",VLOOKUP($J85, Resurssiluettelo!$D$21:$X$40,Ohjeistus!U$98-1,FALSE))","v":""},{"$f":"IF($J85=\"\",\"\",VLOOKUP($J85, Resurssiluettelo!$D$21:$X$40,Ohjeistus!V$98-1,FALSE))","v":""},{"$f":"IF($J85=\"\",\"\",VLOOKUP($J85, Resurssiluettelo!$D$21:$X$40,Ohjeistus!W$98-1,FALSE))","v":""},{"$f":"IF($J85=\"\",\"\",VLOOKUP($J85, Resurssiluettelo!$D$21:$X$40,Ohjeistus!X$98-1,FALSE))","v":""},{"$f":"IF(Resurssiluettelo!E132=0,\"\",Resurssiluettelo!E132)","v":""},{"$f":"IF(Resurssiluettelo!F132=0,\"\",YEAR(Resurssiluettelo!F132)&IF(MONTH(Resurssiluettelo!F132)<10,\"0\",\"\")&MONTH(Resurssiluettelo!F132)&IF(DAY(Resurssiluettelo!F132)<10,\"0\",\"\")&DAY(Resurssiluettelo!F132))","v":""},{"$f":"IF(Resurssiluettelo!G132=0,\"\",Resurssiluettelo!G132)","v":""},{"$f":"IF(Resurssiluettelo!H132=0,\"\",Resurssiluettelo!H132)","v":""},{"$f":"IF(Resurssiluettelo!I132=0,\"\",Resurssiluettelo!I132)","v":""},{"$f":"IF(Resurssiluettelo!W132=0,\"\",Resurssiluettelo!W132)","v":""},{"$f":"IF(Resurssiluettelo!X132=0,\"\",Resurssiluettelo!X132)","v":""},{"$f":"IF(Resurssiluettelo!Y132=0,\"\",Resurssiluettelo!Y132)","v":""},{"$f":"IF(Resurssiluettelo!Z132=0,\"\",Resurssiluettelo!Z132)","v":""},{"$f":"IF(Resurssiluettelo!AA132=0,\"\",Resurssiluettelo!AA132)","v":""},{"$f":"IF(Resurssiluettelo!AB132=0,\"\",Resurssiluettelo!AB132)","v":""},{"$f":"IF(Resurssiluettelo!AC132=0,\"\",Resurssiluettelo!AC132)","v":""},{"$f":"IF(Resurssiluettelo!AD132=0,\"\",Resurssiluettelo!AD132)","v":""},{"$f":"IF(Resurssiluettelo!J132=0,\"\",Resurssiluettelo!J132)","v":""},{"$f":"IF(Resurssiluettelo!K132=0,\"\",Resurssiluettelo!K132)","v":""},{"$f":"IF(Resurssiluettelo!L132=0,\"\",Resurssiluettelo!L132)","v":""},{"$f":"IF(Resurssiluettelo!M132=0,\"\",Resurssiluettelo!M132)","v":""},{"$f":"IF(Resurssiluettelo!N132=0,\"\",Resurssiluettelo!N132)","v":""},{"$f":"IF(Resurssiluettelo!O132=0,\"\",Resurssiluettelo!O132)","v":""},{"$f":"IF(Resurssiluettelo!P132=0,\"\",Resurssiluettelo!P132)","v":""},{"$f":"IF(Resurssiluettelo!Q132=0,\"\",Resurssiluettelo!Q132)","v":""},{"$f":"IF(Resurssiluettelo!R132=0,\"\",Resurssiluettelo!R132)","v":""},{"$f":"IF(Resurssiluettelo!S132=0,\"\",Resurssiluettelo!S132)","v":""},{"$f":"IF(Resurssiluettelo!T132=0,\"\",Resurssiluettelo!T132)","v":""},{"$f":"IF(Resurssiluettelo!U132=0,\"\",Resurssiluettelo!U132)","v":""},{"$f":"IF(Resurssiluettelo!V132=0,\"\",Resurssiluettelo!V132)","v":""}]
[83,{"$f":"IF(Y86=\"\",\"\",Resurssiluettelo!$G$1)","v":""},{"$f":"IF(Y86=\"\",\"\",Resurssiluettelo!$H$14)","v":""},{"$f":"IF(Y86=\"\",\"\",Resurssiluettelo!$I$14)","v":""},{"$f":"IF(Y86=\"\",\"\",Resurssiluettelo!$J$14)","v":""},{"$f":"IF(Y86=\"\",\"\",Resurssiluettelo!$N$14)","v":""},{"$f":"IF(Y86=\"\",\"\",Resurssiluettelo!$O$14)","v":""},{"$f":"IF(Resurssiluettelo!B133=0,\"\",Resurssiluettelo!B133)","v":""},{"$f":"IF(Resurssiluettelo!C133=0,\"\",Resurssiluettelo!C133)","v":""},{"$f":"IF(Resurssiluettelo!D133=0,\"\",Resurssiluettelo!D133)","v":""},{"$f":"IF($J86=\"\",\"\",VLOOKUP($J86, Resurssiluettelo!$D$21:$X$40,Ohjeistus!K$98-1,FALSE))","v":""},{"$f":"IF($J86=\"\",\"\",VLOOKUP($J86, Resurssiluettelo!$D$21:$X$40,Ohjeistus!L$98-1,FALSE))","v":""},{"$f":"IF($J86=\"\",\"\",VLOOKUP($J86, Resurssiluettelo!$D$21:$X$40,Ohjeistus!M$98-1,FALSE))","v":""},{"$f":"IF($J86=\"\",\"\",VLOOKUP($J86, Resurssiluettelo!$D$21:$X$40,Ohjeistus!N$98-1,FALSE))","v":""},{"$f":"IF($J86=\"\",\"\",VLOOKUP($J86, Resurssiluettelo!$D$21:$X$40,Ohjeistus!O$98-1,FALSE))","v":""},{"$f":"IF($J86=\"\",\"\",VLOOKUP($J86, Resurssiluettelo!$D$21:$X$40,Ohjeistus!P$98-1,FALSE))","v":""},{"$f":"IF($J86=\"\",IF($I86=\"\",\"\",VLOOKUP($I86, Resurssiluettelo!$C$21:$X$40,Ohjeistus!Q$98,FALSE)),VLOOKUP($J86, Resurssiluettelo!$D$21:$X$40,Ohjeistus!Q$98-1,FALSE))","v":""},{"$f":"IF($J86=\"\",IF($I86=\"\",\"\",VLOOKUP($I86, Resurssiluettelo!$C$21:$X$40,Ohjeistus!R$98,FALSE)),VLOOKUP($J86, Resurssiluettelo!$D$21:$X$40,Ohjeistus!R$98-1,FALSE))","v":""},{"$f":"IF($J86=\"\",IF($I86=\"\",\"\",VLOOKUP($I86, Resurssiluettelo!$C$21:$X$40,Ohjeistus!S$98,FALSE)),VLOOKUP($J86, Resurssiluettelo!$D$21:$X$40,Ohjeistus!S$98-1,FALSE))","v":""},{"$f":"IF($J86=\"\",IF($I86=\"\",\"\",VLOOKUP($I86, Resurssiluettelo!$C$21:$X$40,Ohjeistus!T$98,FALSE)),VLOOKUP($J86, Resurssiluettelo!$D$21:$X$40,Ohjeistus!T$98-1,FALSE))","v":""},{"$f":"IF($J86=\"\",\"\",VLOOKUP($J86, Resurssiluettelo!$D$21:$X$40,Ohjeistus!U$98-1,FALSE))","v":""},{"$f":"IF($J86=\"\",\"\",VLOOKUP($J86, Resurssiluettelo!$D$21:$X$40,Ohjeistus!V$98-1,FALSE))","v":""},{"$f":"IF($J86=\"\",\"\",VLOOKUP($J86, Resurssiluettelo!$D$21:$X$40,Ohjeistus!W$98-1,FALSE))","v":""},{"$f":"IF($J86=\"\",\"\",VLOOKUP($J86, Resurssiluettelo!$D$21:$X$40,Ohjeistus!X$98-1,FALSE))","v":""},{"$f":"IF(Resurssiluettelo!E133=0,\"\",Resurssiluettelo!E133)","v":""},{"$f":"IF(Resurssiluettelo!F133=0,\"\",YEAR(Resurssiluettelo!F133)&IF(MONTH(Resurssiluettelo!F133)<10,\"0\",\"\")&MONTH(Resurssiluettelo!F133)&IF(DAY(Resurssiluettelo!F133)<10,\"0\",\"\")&DAY(Resurssiluettelo!F133))","v":""},{"$f":"IF(Resurssiluettelo!G133=0,\"\",Resurssiluettelo!G133)","v":""},{"$f":"IF(Resurssiluettelo!H133=0,\"\",Resurssiluettelo!H133)","v":""},{"$f":"IF(Resurssiluettelo!I133=0,\"\",Resurssiluettelo!I133)","v":""},{"$f":"IF(Resurssiluettelo!W133=0,\"\",Resurssiluettelo!W133)","v":""},{"$f":"IF(Resurssiluettelo!X133=0,\"\",Resurssiluettelo!X133)","v":""},{"$f":"IF(Resurssiluettelo!Y133=0,\"\",Resurssiluettelo!Y133)","v":""},{"$f":"IF(Resurssiluettelo!Z133=0,\"\",Resurssiluettelo!Z133)","v":""},{"$f":"IF(Resurssiluettelo!AA133=0,\"\",Resurssiluettelo!AA133)","v":""},{"$f":"IF(Resurssiluettelo!AB133=0,\"\",Resurssiluettelo!AB133)","v":""},{"$f":"IF(Resurssiluettelo!AC133=0,\"\",Resurssiluettelo!AC133)","v":""},{"$f":"IF(Resurssiluettelo!AD133=0,\"\",Resurssiluettelo!AD133)","v":""},{"$f":"IF(Resurssiluettelo!J133=0,\"\",Resurssiluettelo!J133)","v":""},{"$f":"IF(Resurssiluettelo!K133=0,\"\",Resurssiluettelo!K133)","v":""},{"$f":"IF(Resurssiluettelo!L133=0,\"\",Resurssiluettelo!L133)","v":""},{"$f":"IF(Resurssiluettelo!M133=0,\"\",Resurssiluettelo!M133)","v":""},{"$f":"IF(Resurssiluettelo!N133=0,\"\",Resurssiluettelo!N133)","v":""},{"$f":"IF(Resurssiluettelo!O133=0,\"\",Resurssiluettelo!O133)","v":""},{"$f":"IF(Resurssiluettelo!P133=0,\"\",Resurssiluettelo!P133)","v":""},{"$f":"IF(Resurssiluettelo!Q133=0,\"\",Resurssiluettelo!Q133)","v":""},{"$f":"IF(Resurssiluettelo!R133=0,\"\",Resurssiluettelo!R133)","v":""},{"$f":"IF(Resurssiluettelo!S133=0,\"\",Resurssiluettelo!S133)","v":""},{"$f":"IF(Resurssiluettelo!T133=0,\"\",Resurssiluettelo!T133)","v":""},{"$f":"IF(Resurssiluettelo!U133=0,\"\",Resurssiluettelo!U133)","v":""},{"$f":"IF(Resurssiluettelo!V133=0,\"\",Resurssiluettelo!V133)","v":""}]
[84,{"$f":"IF(Y87=\"\",\"\",Resurssiluettelo!$G$1)","v":""},{"$f":"IF(Y87=\"\",\"\",Resurssiluettelo!$H$14)","v":""},{"$f":"IF(Y87=\"\",\"\",Resurssiluettelo!$I$14)","v":""},{"$f":"IF(Y87=\"\",\"\",Resurssiluettelo!$J$14)","v":""},{"$f":"IF(Y87=\"\",\"\",Resurssiluettelo!$N$14)","v":""},{"$f":"IF(Y87=\"\",\"\",Resurssiluettelo!$O$14)","v":""},{"$f":"IF(Resurssiluettelo!B134=0,\"\",Resurssiluettelo!B134)","v":""},{"$f":"IF(Resurssiluettelo!C134=0,\"\",Resurssiluettelo!C134)","v":""},{"$f":"IF(Resurssiluettelo!D134=0,\"\",Resurssiluettelo!D134)","v":""},{"$f":"IF($J87=\"\",\"\",VLOOKUP($J87, Resurssiluettelo!$D$21:$X$40,Ohjeistus!K$98-1,FALSE))","v":""},{"$f":"IF($J87=\"\",\"\",VLOOKUP($J87, Resurssiluettelo!$D$21:$X$40,Ohjeistus!L$98-1,FALSE))","v":""},{"$f":"IF($J87=\"\",\"\",VLOOKUP($J87, Resurssiluettelo!$D$21:$X$40,Ohjeistus!M$98-1,FALSE))","v":""},{"$f":"IF($J87=\"\",\"\",VLOOKUP($J87, Resurssiluettelo!$D$21:$X$40,Ohjeistus!N$98-1,FALSE))","v":""},{"$f":"IF($J87=\"\",\"\",VLOOKUP($J87, Resurssiluettelo!$D$21:$X$40,Ohjeistus!O$98-1,FALSE))","v":""},{"$f":"IF($J87=\"\",\"\",VLOOKUP($J87, Resurssiluettelo!$D$21:$X$40,Ohjeistus!P$98-1,FALSE))","v":""},{"$f":"IF($J87=\"\",IF($I87=\"\",\"\",VLOOKUP($I87, Resurssiluettelo!$C$21:$X$40,Ohjeistus!Q$98,FALSE)),VLOOKUP($J87, Resurssiluettelo!$D$21:$X$40,Ohjeistus!Q$98-1,FALSE))","v":""},{"$f":"IF($J87=\"\",IF($I87=\"\",\"\",VLOOKUP($I87, Resurssiluettelo!$C$21:$X$40,Ohjeistus!R$98,FALSE)),VLOOKUP($J87, Resurssiluettelo!$D$21:$X$40,Ohjeistus!R$98-1,FALSE))","v":""},{"$f":"IF($J87=\"\",IF($I87=\"\",\"\",VLOOKUP($I87, Resurssiluettelo!$C$21:$X$40,Ohjeistus!S$98,FALSE)),VLOOKUP($J87, Resurssiluettelo!$D$21:$X$40,Ohjeistus!S$98-1,FALSE))","v":""},{"$f":"IF($J87=\"\",IF($I87=\"\",\"\",VLOOKUP($I87, Resurssiluettelo!$C$21:$X$40,Ohjeistus!T$98,FALSE)),VLOOKUP($J87, Resurssiluettelo!$D$21:$X$40,Ohjeistus!T$98-1,FALSE))","v":""},{"$f":"IF($J87=\"\",\"\",VLOOKUP($J87, Resurssiluettelo!$D$21:$X$40,Ohjeistus!U$98-1,FALSE))","v":""},{"$f":"IF($J87=\"\",\"\",VLOOKUP($J87, Resurssiluettelo!$D$21:$X$40,Ohjeistus!V$98-1,FALSE))","v":""},{"$f":"IF($J87=\"\",\"\",VLOOKUP($J87, Resurssiluettelo!$D$21:$X$40,Ohjeistus!W$98-1,FALSE))","v":""},{"$f":"IF($J87=\"\",\"\",VLOOKUP($J87, Resurssiluettelo!$D$21:$X$40,Ohjeistus!X$98-1,FALSE))","v":""},{"$f":"IF(Resurssiluettelo!E134=0,\"\",Resurssiluettelo!E134)","v":""},{"$f":"IF(Resurssiluettelo!F134=0,\"\",YEAR(Resurssiluettelo!F134)&IF(MONTH(Resurssiluettelo!F134)<10,\"0\",\"\")&MONTH(Resurssiluettelo!F134)&IF(DAY(Resurssiluettelo!F134)<10,\"0\",\"\")&DAY(Resurssiluettelo!F134))","v":""},{"$f":"IF(Resurssiluettelo!G134=0,\"\",Resurssiluettelo!G134)","v":""},{"$f":"IF(Resurssiluettelo!H134=0,\"\",Resurssiluettelo!H134)","v":""},{"$f":"IF(Resurssiluettelo!I134=0,\"\",Resurssiluettelo!I134)","v":""},{"$f":"IF(Resurssiluettelo!W134=0,\"\",Resurssiluettelo!W134)","v":""},{"$f":"IF(Resurssiluettelo!X134=0,\"\",Resurssiluettelo!X134)","v":""},{"$f":"IF(Resurssiluettelo!Y134=0,\"\",Resurssiluettelo!Y134)","v":""},{"$f":"IF(Resurssiluettelo!Z134=0,\"\",Resurssiluettelo!Z134)","v":""},{"$f":"IF(Resurssiluettelo!AA134=0,\"\",Resurssiluettelo!AA134)","v":""},{"$f":"IF(Resurssiluettelo!AB134=0,\"\",Resurssiluettelo!AB134)","v":""},{"$f":"IF(Resurssiluettelo!AC134=0,\"\",Resurssiluettelo!AC134)","v":""},{"$f":"IF(Resurssiluettelo!AD134=0,\"\",Resurssiluettelo!AD134)","v":""},{"$f":"IF(Resurssiluettelo!J134=0,\"\",Resurssiluettelo!J134)","v":""},{"$f":"IF(Resurssiluettelo!K134=0,\"\",Resurssiluettelo!K134)","v":""},{"$f":"IF(Resurssiluettelo!L134=0,\"\",Resurssiluettelo!L134)","v":""},{"$f":"IF(Resurssiluettelo!M134=0,\"\",Resurssiluettelo!M134)","v":""},{"$f":"IF(Resurssiluettelo!N134=0,\"\",Resurssiluettelo!N134)","v":""},{"$f":"IF(Resurssiluettelo!O134=0,\"\",Resurssiluettelo!O134)","v":""},{"$f":"IF(Resurssiluettelo!P134=0,\"\",Resurssiluettelo!P134)","v":""},{"$f":"IF(Resurssiluettelo!Q134=0,\"\",Resurssiluettelo!Q134)","v":""},{"$f":"IF(Resurssiluettelo!R134=0,\"\",Resurssiluettelo!R134)","v":""},{"$f":"IF(Resurssiluettelo!S134=0,\"\",Resurssiluettelo!S134)","v":""},{"$f":"IF(Resurssiluettelo!T134=0,\"\",Resurssiluettelo!T134)","v":""},{"$f":"IF(Resurssiluettelo!U134=0,\"\",Resurssiluettelo!U134)","v":""},{"$f":"IF(Resurssiluettelo!V134=0,\"\",Resurssiluettelo!V134)","v":""}]
[85,{"$f":"IF(Y88=\"\",\"\",Resurssiluettelo!$G$1)","v":""},{"$f":"IF(Y88=\"\",\"\",Resurssiluettelo!$H$14)","v":""},{"$f":"IF(Y88=\"\",\"\",Resurssiluettelo!$I$14)","v":""},{"$f":"IF(Y88=\"\",\"\",Resurssiluettelo!$J$14)","v":""},{"$f":"IF(Y88=\"\",\"\",Resurssiluettelo!$N$14)","v":""},{"$f":"IF(Y88=\"\",\"\",Resurssiluettelo!$O$14)","v":""},{"$f":"IF(Resurssiluettelo!B135=0,\"\",Resurssiluettelo!B135)","v":""},{"$f":"IF(Resurssiluettelo!C135=0,\"\",Resurssiluettelo!C135)","v":""},{"$f":"IF(Resurssiluettelo!D135=0,\"\",Resurssiluettelo!D135)","v":""},{"$f":"IF($J88=\"\",\"\",VLOOKUP($J88, Resurssiluettelo!$D$21:$X$40,Ohjeistus!K$98-1,FALSE))","v":""},{"$f":"IF($J88=\"\",\"\",VLOOKUP($J88, Resurssiluettelo!$D$21:$X$40,Ohjeistus!L$98-1,FALSE))","v":""},{"$f":"IF($J88=\"\",\"\",VLOOKUP($J88, Resurssiluettelo!$D$21:$X$40,Ohjeistus!M$98-1,FALSE))","v":""},{"$f":"IF($J88=\"\",\"\",VLOOKUP($J88, Resurssiluettelo!$D$21:$X$40,Ohjeistus!N$98-1,FALSE))","v":""},{"$f":"IF($J88=\"\",\"\",VLOOKUP($J88, Resurssiluettelo!$D$21:$X$40,Ohjeistus!O$98-1,FALSE))","v":""},{"$f":"IF($J88=\"\",\"\",VLOOKUP($J88, Resurssiluettelo!$D$21:$X$40,Ohjeistus!P$98-1,FALSE))","v":""},{"$f":"IF($J88=\"\",IF($I88=\"\",\"\",VLOOKUP($I88, Resurssiluettelo!$C$21:$X$40,Ohjeistus!Q$98,FALSE)),VLOOKUP($J88, Resurssiluettelo!$D$21:$X$40,Ohjeistus!Q$98-1,FALSE))","v":""},{"$f":"IF($J88=\"\",IF($I88=\"\",\"\",VLOOKUP($I88, Resurssiluettelo!$C$21:$X$40,Ohjeistus!R$98,FALSE)),VLOOKUP($J88, Resurssiluettelo!$D$21:$X$40,Ohjeistus!R$98-1,FALSE))","v":""},{"$f":"IF($J88=\"\",IF($I88=\"\",\"\",VLOOKUP($I88, Resurssiluettelo!$C$21:$X$40,Ohjeistus!S$98,FALSE)),VLOOKUP($J88, Resurssiluettelo!$D$21:$X$40,Ohjeistus!S$98-1,FALSE))","v":""},{"$f":"IF($J88=\"\",IF($I88=\"\",\"\",VLOOKUP($I88, Resurssiluettelo!$C$21:$X$40,Ohjeistus!T$98,FALSE)),VLOOKUP($J88, Resurssiluettelo!$D$21:$X$40,Ohjeistus!T$98-1,FALSE))","v":""},{"$f":"IF($J88=\"\",\"\",VLOOKUP($J88, Resurssiluettelo!$D$21:$X$40,Ohjeistus!U$98-1,FALSE))","v":""},{"$f":"IF($J88=\"\",\"\",VLOOKUP($J88, Resurssiluettelo!$D$21:$X$40,Ohjeistus!V$98-1,FALSE))","v":""},{"$f":"IF($J88=\"\",\"\",VLOOKUP($J88, Resurssiluettelo!$D$21:$X$40,Ohjeistus!W$98-1,FALSE))","v":""},{"$f":"IF($J88=\"\",\"\",VLOOKUP($J88, Resurssiluettelo!$D$21:$X$40,Ohjeistus!X$98-1,FALSE))","v":""},{"$f":"IF(Resurssiluettelo!E135=0,\"\",Resurssiluettelo!E135)","v":""},{"$f":"IF(Resurssiluettelo!F135=0,\"\",YEAR(Resurssiluettelo!F135)&IF(MONTH(Resurssiluettelo!F135)<10,\"0\",\"\")&MONTH(Resurssiluettelo!F135)&IF(DAY(Resurssiluettelo!F135)<10,\"0\",\"\")&DAY(Resurssiluettelo!F135))","v":""},{"$f":"IF(Resurssiluettelo!G135=0,\"\",Resurssiluettelo!G135)","v":""},{"$f":"IF(Resurssiluettelo!H135=0,\"\",Resurssiluettelo!H135)","v":""},{"$f":"IF(Resurssiluettelo!I135=0,\"\",Resurssiluettelo!I135)","v":""},{"$f":"IF(Resurssiluettelo!W135=0,\"\",Resurssiluettelo!W135)","v":""},{"$f":"IF(Resurssiluettelo!X135=0,\"\",Resurssiluettelo!X135)","v":""},{"$f":"IF(Resurssiluettelo!Y135=0,\"\",Resurssiluettelo!Y135)","v":""},{"$f":"IF(Resurssiluettelo!Z135=0,\"\",Resurssiluettelo!Z135)","v":""},{"$f":"IF(Resurssiluettelo!AA135=0,\"\",Resurssiluettelo!AA135)","v":""},{"$f":"IF(Resurssiluettelo!AB135=0,\"\",Resurssiluettelo!AB135)","v":""},{"$f":"IF(Resurssiluettelo!AC135=0,\"\",Resurssiluettelo!AC135)","v":""},{"$f":"IF(Resurssiluettelo!AD135=0,\"\",Resurssiluettelo!AD135)","v":""},{"$f":"IF(Resurssiluettelo!J135=0,\"\",Resurssiluettelo!J135)","v":""},{"$f":"IF(Resurssiluettelo!K135=0,\"\",Resurssiluettelo!K135)","v":""},{"$f":"IF(Resurssiluettelo!L135=0,\"\",Resurssiluettelo!L135)","v":""},{"$f":"IF(Resurssiluettelo!M135=0,\"\",Resurssiluettelo!M135)","v":""},{"$f":"IF(Resurssiluettelo!N135=0,\"\",Resurssiluettelo!N135)","v":""},{"$f":"IF(Resurssiluettelo!O135=0,\"\",Resurssiluettelo!O135)","v":""},{"$f":"IF(Resurssiluettelo!P135=0,\"\",Resurssiluettelo!P135)","v":""},{"$f":"IF(Resurssiluettelo!Q135=0,\"\",Resurssiluettelo!Q135)","v":""},{"$f":"IF(Resurssiluettelo!R135=0,\"\",Resurssiluettelo!R135)","v":""},{"$f":"IF(Resurssiluettelo!S135=0,\"\",Resurssiluettelo!S135)","v":""},{"$f":"IF(Resurssiluettelo!T135=0,\"\",Resurssiluettelo!T135)","v":""},{"$f":"IF(Resurssiluettelo!U135=0,\"\",Resurssiluettelo!U135)","v":""},{"$f":"IF(Resurssiluettelo!V135=0,\"\",Resurssiluettelo!V135)","v":""}]
[86,{"$f":"IF(Y89=\"\",\"\",Resurssiluettelo!$G$1)","v":""},{"$f":"IF(Y89=\"\",\"\",Resurssiluettelo!$H$14)","v":""},{"$f":"IF(Y89=\"\",\"\",Resurssiluettelo!$I$14)","v":""},{"$f":"IF(Y89=\"\",\"\",Resurssiluettelo!$J$14)","v":""},{"$f":"IF(Y89=\"\",\"\",Resurssiluettelo!$N$14)","v":""},{"$f":"IF(Y89=\"\",\"\",Resurssiluettelo!$O$14)","v":""},{"$f":"IF(Resurssiluettelo!B136=0,\"\",Resurssiluettelo!B136)","v":""},{"$f":"IF(Resurssiluettelo!C136=0,\"\",Resurssiluettelo!C136)","v":""},{"$f":"IF(Resurssiluettelo!D136=0,\"\",Resurssiluettelo!D136)","v":""},{"$f":"IF($J89=\"\",\"\",VLOOKUP($J89, Resurssiluettelo!$D$21:$X$40,Ohjeistus!K$98-1,FALSE))","v":""},{"$f":"IF($J89=\"\",\"\",VLOOKUP($J89, Resurssiluettelo!$D$21:$X$40,Ohjeistus!L$98-1,FALSE))","v":""},{"$f":"IF($J89=\"\",\"\",VLOOKUP($J89, Resurssiluettelo!$D$21:$X$40,Ohjeistus!M$98-1,FALSE))","v":""},{"$f":"IF($J89=\"\",\"\",VLOOKUP($J89, Resurssiluettelo!$D$21:$X$40,Ohjeistus!N$98-1,FALSE))","v":""},{"$f":"IF($J89=\"\",\"\",VLOOKUP($J89, Resurssiluettelo!$D$21:$X$40,Ohjeistus!O$98-1,FALSE))","v":""},{"$f":"IF($J89=\"\",\"\",VLOOKUP($J89, Resurssiluettelo!$D$21:$X$40,Ohjeistus!P$98-1,FALSE))","v":""},{"$f":"IF($J89=\"\",IF($I89=\"\",\"\",VLOOKUP($I89, Resurssiluettelo!$C$21:$X$40,Ohjeistus!Q$98,FALSE)),VLOOKUP($J89, Resurssiluettelo!$D$21:$X$40,Ohjeistus!Q$98-1,FALSE))","v":""},{"$f":"IF($J89=\"\",IF($I89=\"\",\"\",VLOOKUP($I89, Resurssiluettelo!$C$21:$X$40,Ohjeistus!R$98,FALSE)),VLOOKUP($J89, Resurssiluettelo!$D$21:$X$40,Ohjeistus!R$98-1,FALSE))","v":""},{"$f":"IF($J89=\"\",IF($I89=\"\",\"\",VLOOKUP($I89, Resurssiluettelo!$C$21:$X$40,Ohjeistus!S$98,FALSE)),VLOOKUP($J89, Resurssiluettelo!$D$21:$X$40,Ohjeistus!S$98-1,FALSE))","v":""},{"$f":"IF($J89=\"\",IF($I89=\"\",\"\",VLOOKUP($I89, Resurssiluettelo!$C$21:$X$40,Ohjeistus!T$98,FALSE)),VLOOKUP($J89, Resurssiluettelo!$D$21:$X$40,Ohjeistus!T$98-1,FALSE))","v":""},{"$f":"IF($J89=\"\",\"\",VLOOKUP($J89, Resurssiluettelo!$D$21:$X$40,Ohjeistus!U$98-1,FALSE))","v":""},{"$f":"IF($J89=\"\",\"\",VLOOKUP($J89, Resurssiluettelo!$D$21:$X$40,Ohjeistus!V$98-1,FALSE))","v":""},{"$f":"IF($J89=\"\",\"\",VLOOKUP($J89, Resurssiluettelo!$D$21:$X$40,Ohjeistus!W$98-1,FALSE))","v":""},{"$f":"IF($J89=\"\",\"\",VLOOKUP($J89, Resurssiluettelo!$D$21:$X$40,Ohjeistus!X$98-1,FALSE))","v":""},{"$f":"IF(Resurssiluettelo!E136=0,\"\",Resurssiluettelo!E136)","v":""},{"$f":"IF(Resurssiluettelo!F136=0,\"\",YEAR(Resurssiluettelo!F136)&IF(MONTH(Resurssiluettelo!F136)<10,\"0\",\"\")&MONTH(Resurssiluettelo!F136)&IF(DAY(Resurssiluettelo!F136)<10,\"0\",\"\")&DAY(Resurssiluettelo!F136))","v":""},{"$f":"IF(Resurssiluettelo!G136=0,\"\",Resurssiluettelo!G136)","v":""},{"$f":"IF(Resurssiluettelo!H136=0,\"\",Resurssiluettelo!H136)","v":""},{"$f":"IF(Resurssiluettelo!I136=0,\"\",Resurssiluettelo!I136)","v":""},{"$f":"IF(Resurssiluettelo!W136=0,\"\",Resurssiluettelo!W136)","v":""},{"$f":"IF(Resurssiluettelo!X136=0,\"\",Resurssiluettelo!X136)","v":""},{"$f":"IF(Resurssiluettelo!Y136=0,\"\",Resurssiluettelo!Y136)","v":""},{"$f":"IF(Resurssiluettelo!Z136=0,\"\",Resurssiluettelo!Z136)","v":""},{"$f":"IF(Resurssiluettelo!AA136=0,\"\",Resurssiluettelo!AA136)","v":""},{"$f":"IF(Resurssiluettelo!AB136=0,\"\",Resurssiluettelo!AB136)","v":""},{"$f":"IF(Resurssiluettelo!AC136=0,\"\",Resurssiluettelo!AC136)","v":""},{"$f":"IF(Resurssiluettelo!AD136=0,\"\",Resurssiluettelo!AD136)","v":""},{"$f":"IF(Resurssiluettelo!J136=0,\"\",Resurssiluettelo!J136)","v":""},{"$f":"IF(Resurssiluettelo!K136=0,\"\",Resurssiluettelo!K136)","v":""},{"$f":"IF(Resurssiluettelo!L136=0,\"\",Resurssiluettelo!L136)","v":""},{"$f":"IF(Resurssiluettelo!M136=0,\"\",Resurssiluettelo!M136)","v":""},{"$f":"IF(Resurssiluettelo!N136=0,\"\",Resurssiluettelo!N136)","v":""},{"$f":"IF(Resurssiluettelo!O136=0,\"\",Resurssiluettelo!O136)","v":""},{"$f":"IF(Resurssiluettelo!P136=0,\"\",Resurssiluettelo!P136)","v":""},{"$f":"IF(Resurssiluettelo!Q136=0,\"\",Resurssiluettelo!Q136)","v":""},{"$f":"IF(Resurssiluettelo!R136=0,\"\",Resurssiluettelo!R136)","v":""},{"$f":"IF(Resurssiluettelo!S136=0,\"\",Resurssiluettelo!S136)","v":""},{"$f":"IF(Resurssiluettelo!T136=0,\"\",Resurssiluettelo!T136)","v":""},{"$f":"IF(Resurssiluettelo!U136=0,\"\",Resurssiluettelo!U136)","v":""},{"$f":"IF(Resurssiluettelo!V136=0,\"\",Resurssiluettelo!V136)","v":""}]
[87,{"$f":"IF(Y90=\"\",\"\",Resurssiluettelo!$G$1)","v":""},{"$f":"IF(Y90=\"\",\"\",Resurssiluettelo!$H$14)","v":""},{"$f":"IF(Y90=\"\",\"\",Resurssiluettelo!$I$14)","v":""},{"$f":"IF(Y90=\"\",\"\",Resurssiluettelo!$J$14)","v":""},{"$f":"IF(Y90=\"\",\"\",Resurssiluettelo!$N$14)","v":""},{"$f":"IF(Y90=\"\",\"\",Resurssiluettelo!$O$14)","v":""},{"$f":"IF(Resurssiluettelo!B137=0,\"\",Resurssiluettelo!B137)","v":""},{"$f":"IF(Resurssiluettelo!C137=0,\"\",Resurssiluettelo!C137)","v":""},{"$f":"IF(Resurssiluettelo!D137=0,\"\",Resurssiluettelo!D137)","v":""},{"$f":"IF($J90=\"\",\"\",VLOOKUP($J90, Resurssiluettelo!$D$21:$X$40,Ohjeistus!K$98-1,FALSE))","v":""},{"$f":"IF($J90=\"\",\"\",VLOOKUP($J90, Resurssiluettelo!$D$21:$X$40,Ohjeistus!L$98-1,FALSE))","v":""},{"$f":"IF($J90=\"\",\"\",VLOOKUP($J90, Resurssiluettelo!$D$21:$X$40,Ohjeistus!M$98-1,FALSE))","v":""},{"$f":"IF($J90=\"\",\"\",VLOOKUP($J90, Resurssiluettelo!$D$21:$X$40,Ohjeistus!N$98-1,FALSE))","v":""},{"$f":"IF($J90=\"\",\"\",VLOOKUP($J90, Resurssiluettelo!$D$21:$X$40,Ohjeistus!O$98-1,FALSE))","v":""},{"$f":"IF($J90=\"\",\"\",VLOOKUP($J90, Resurssiluettelo!$D$21:$X$40,Ohjeistus!P$98-1,FALSE))","v":""},{"$f":"IF($J90=\"\",IF($I90=\"\",\"\",VLOOKUP($I90, Resurssiluettelo!$C$21:$X$40,Ohjeistus!Q$98,FALSE)),VLOOKUP($J90, Resurssiluettelo!$D$21:$X$40,Ohjeistus!Q$98-1,FALSE))","v":""},{"$f":"IF($J90=\"\",IF($I90=\"\",\"\",VLOOKUP($I90, Resurssiluettelo!$C$21:$X$40,Ohjeistus!R$98,FALSE)),VLOOKUP($J90, Resurssiluettelo!$D$21:$X$40,Ohjeistus!R$98-1,FALSE))","v":""},{"$f":"IF($J90=\"\",IF($I90=\"\",\"\",VLOOKUP($I90, Resurssiluettelo!$C$21:$X$40,Ohjeistus!S$98,FALSE)),VLOOKUP($J90, Resurssiluettelo!$D$21:$X$40,Ohjeistus!S$98-1,FALSE))","v":""},{"$f":"IF($J90=\"\",IF($I90=\"\",\"\",VLOOKUP($I90, Resurssiluettelo!$C$21:$X$40,Ohjeistus!T$98,FALSE)),VLOOKUP($J90, Resurssiluettelo!$D$21:$X$40,Ohjeistus!T$98-1,FALSE))","v":""},{"$f":"IF($J90=\"\",\"\",VLOOKUP($J90, Resurssiluettelo!$D$21:$X$40,Ohjeistus!U$98-1,FALSE))","v":""},{"$f":"IF($J90=\"\",\"\",VLOOKUP($J90, Resurssiluettelo!$D$21:$X$40,Ohjeistus!V$98-1,FALSE))","v":""},{"$f":"IF($J90=\"\",\"\",VLOOKUP($J90, Resurssiluettelo!$D$21:$X$40,Ohjeistus!W$98-1,FALSE))","v":""},{"$f":"IF($J90=\"\",\"\",VLOOKUP($J90, Resurssiluettelo!$D$21:$X$40,Ohjeistus!X$98-1,FALSE))","v":""},{"$f":"IF(Resurssiluettelo!E137=0,\"\",Resurssiluettelo!E137)","v":""},{"$f":"IF(Resurssiluettelo!F137=0,\"\",YEAR(Resurssiluettelo!F137)&IF(MONTH(Resurssiluettelo!F137)<10,\"0\",\"\")&MONTH(Resurssiluettelo!F137)&IF(DAY(Resurssiluettelo!F137)<10,\"0\",\"\")&DAY(Resurssiluettelo!F137))","v":""},{"$f":"IF(Resurssiluettelo!G137=0,\"\",Resurssiluettelo!G137)","v":""},{"$f":"IF(Resurssiluettelo!H137=0,\"\",Resurssiluettelo!H137)","v":""},{"$f":"IF(Resurssiluettelo!I137=0,\"\",Resurssiluettelo!I137)","v":""},{"$f":"IF(Resurssiluettelo!W137=0,\"\",Resurssiluettelo!W137)","v":""},{"$f":"IF(Resurssiluettelo!X137=0,\"\",Resurssiluettelo!X137)","v":""},{"$f":"IF(Resurssiluettelo!Y137=0,\"\",Resurssiluettelo!Y137)","v":""},{"$f":"IF(Resurssiluettelo!Z137=0,\"\",Resurssiluettelo!Z137)","v":""},{"$f":"IF(Resurssiluettelo!AA137=0,\"\",Resurssiluettelo!AA137)","v":""},{"$f":"IF(Resurssiluettelo!AB137=0,\"\",Resurssiluettelo!AB137)","v":""},{"$f":"IF(Resurssiluettelo!AC137=0,\"\",Resurssiluettelo!AC137)","v":""},{"$f":"IF(Resurssiluettelo!AD137=0,\"\",Resurssiluettelo!AD137)","v":""},{"$f":"IF(Resurssiluettelo!J137=0,\"\",Resurssiluettelo!J137)","v":""},{"$f":"IF(Resurssiluettelo!K137=0,\"\",Resurssiluettelo!K137)","v":""},{"$f":"IF(Resurssiluettelo!L137=0,\"\",Resurssiluettelo!L137)","v":""},{"$f":"IF(Resurssiluettelo!M137=0,\"\",Resurssiluettelo!M137)","v":""},{"$f":"IF(Resurssiluettelo!N137=0,\"\",Resurssiluettelo!N137)","v":""},{"$f":"IF(Resurssiluettelo!O137=0,\"\",Resurssiluettelo!O137)","v":""},{"$f":"IF(Resurssiluettelo!P137=0,\"\",Resurssiluettelo!P137)","v":""},{"$f":"IF(Resurssiluettelo!Q137=0,\"\",Resurssiluettelo!Q137)","v":""},{"$f":"IF(Resurssiluettelo!R137=0,\"\",Resurssiluettelo!R137)","v":""},{"$f":"IF(Resurssiluettelo!S137=0,\"\",Resurssiluettelo!S137)","v":""},{"$f":"IF(Resurssiluettelo!T137=0,\"\",Resurssiluettelo!T137)","v":""},{"$f":"IF(Resurssiluettelo!U137=0,\"\",Resurssiluettelo!U137)","v":""},{"$f":"IF(Resurssiluettelo!V137=0,\"\",Resurssiluettelo!V137)","v":""}]
[88,{"$f":"IF(Y91=\"\",\"\",Resurssiluettelo!$G$1)","v":""},{"$f":"IF(Y91=\"\",\"\",Resurssiluettelo!$H$14)","v":""},{"$f":"IF(Y91=\"\",\"\",Resurssiluettelo!$I$14)","v":""},{"$f":"IF(Y91=\"\",\"\",Resurssiluettelo!$J$14)","v":""},{"$f":"IF(Y91=\"\",\"\",Resurssiluettelo!$N$14)","v":""},{"$f":"IF(Y91=\"\",\"\",Resurssiluettelo!$O$14)","v":""},{"$f":"IF(Resurssiluettelo!B138=0,\"\",Resurssiluettelo!B138)","v":""},{"$f":"IF(Resurssiluettelo!C138=0,\"\",Resurssiluettelo!C138)","v":""},{"$f":"IF(Resurssiluettelo!D138=0,\"\",Resurssiluettelo!D138)","v":""},{"$f":"IF($J91=\"\",\"\",VLOOKUP($J91, Resurssiluettelo!$D$21:$X$40,Ohjeistus!K$98-1,FALSE))","v":""},{"$f":"IF($J91=\"\",\"\",VLOOKUP($J91, Resurssiluettelo!$D$21:$X$40,Ohjeistus!L$98-1,FALSE))","v":""},{"$f":"IF($J91=\"\",\"\",VLOOKUP($J91, Resurssiluettelo!$D$21:$X$40,Ohjeistus!M$98-1,FALSE))","v":""},{"$f":"IF($J91=\"\",\"\",VLOOKUP($J91, Resurssiluettelo!$D$21:$X$40,Ohjeistus!N$98-1,FALSE))","v":""},{"$f":"IF($J91=\"\",\"\",VLOOKUP($J91, Resurssiluettelo!$D$21:$X$40,Ohjeistus!O$98-1,FALSE))","v":""},{"$f":"IF($J91=\"\",\"\",VLOOKUP($J91, Resurssiluettelo!$D$21:$X$40,Ohjeistus!P$98-1,FALSE))","v":""},{"$f":"IF($J91=\"\",IF($I91=\"\",\"\",VLOOKUP($I91, Resurssiluettelo!$C$21:$X$40,Ohjeistus!Q$98,FALSE)),VLOOKUP($J91, Resurssiluettelo!$D$21:$X$40,Ohjeistus!Q$98-1,FALSE))","v":""},{"$f":"IF($J91=\"\",IF($I91=\"\",\"\",VLOOKUP($I91, Resurssiluettelo!$C$21:$X$40,Ohjeistus!R$98,FALSE)),VLOOKUP($J91, Resurssiluettelo!$D$21:$X$40,Ohjeistus!R$98-1,FALSE))","v":""},{"$f":"IF($J91=\"\",IF($I91=\"\",\"\",VLOOKUP($I91, Resurssiluettelo!$C$21:$X$40,Ohjeistus!S$98,FALSE)),VLOOKUP($J91, Resurssiluettelo!$D$21:$X$40,Ohjeistus!S$98-1,FALSE))","v":""},{"$f":"IF($J91=\"\",IF($I91=\"\",\"\",VLOOKUP($I91, Resurssiluettelo!$C$21:$X$40,Ohjeistus!T$98,FALSE)),VLOOKUP($J91, Resurssiluettelo!$D$21:$X$40,Ohjeistus!T$98-1,FALSE))","v":""},{"$f":"IF($J91=\"\",\"\",VLOOKUP($J91, Resurssiluettelo!$D$21:$X$40,Ohjeistus!U$98-1,FALSE))","v":""},{"$f":"IF($J91=\"\",\"\",VLOOKUP($J91, Resurssiluettelo!$D$21:$X$40,Ohjeistus!V$98-1,FALSE))","v":""},{"$f":"IF($J91=\"\",\"\",VLOOKUP($J91, Resurssiluettelo!$D$21:$X$40,Ohjeistus!W$98-1,FALSE))","v":""},{"$f":"IF($J91=\"\",\"\",VLOOKUP($J91, Resurssiluettelo!$D$21:$X$40,Ohjeistus!X$98-1,FALSE))","v":""},{"$f":"IF(Resurssiluettelo!E138=0,\"\",Resurssiluettelo!E138)","v":""},{"$f":"IF(Resurssiluettelo!F138=0,\"\",YEAR(Resurssiluettelo!F138)&IF(MONTH(Resurssiluettelo!F138)<10,\"0\",\"\")&MONTH(Resurssiluettelo!F138)&IF(DAY(Resurssiluettelo!F138)<10,\"0\",\"\")&DAY(Resurssiluettelo!F138))","v":""},{"$f":"IF(Resurssiluettelo!G138=0,\"\",Resurssiluettelo!G138)","v":""},{"$f":"IF(Resurssiluettelo!H138=0,\"\",Resurssiluettelo!H138)","v":""},{"$f":"IF(Resurssiluettelo!I138=0,\"\",Resurssiluettelo!I138)","v":""},{"$f":"IF(Resurssiluettelo!W138=0,\"\",Resurssiluettelo!W138)","v":""},{"$f":"IF(Resurssiluettelo!X138=0,\"\",Resurssiluettelo!X138)","v":""},{"$f":"IF(Resurssiluettelo!Y138=0,\"\",Resurssiluettelo!Y138)","v":""},{"$f":"IF(Resurssiluettelo!Z138=0,\"\",Resurssiluettelo!Z138)","v":""},{"$f":"IF(Resurssiluettelo!AA138=0,\"\",Resurssiluettelo!AA138)","v":""},{"$f":"IF(Resurssiluettelo!AB138=0,\"\",Resurssiluettelo!AB138)","v":""},{"$f":"IF(Resurssiluettelo!AC138=0,\"\",Resurssiluettelo!AC138)","v":""},{"$f":"IF(Resurssiluettelo!AD138=0,\"\",Resurssiluettelo!AD138)","v":""},{"$f":"IF(Resurssiluettelo!J138=0,\"\",Resurssiluettelo!J138)","v":""},{"$f":"IF(Resurssiluettelo!K138=0,\"\",Resurssiluettelo!K138)","v":""},{"$f":"IF(Resurssiluettelo!L138=0,\"\",Resurssiluettelo!L138)","v":""},{"$f":"IF(Resurssiluettelo!M138=0,\"\",Resurssiluettelo!M138)","v":""},{"$f":"IF(Resurssiluettelo!N138=0,\"\",Resurssiluettelo!N138)","v":""},{"$f":"IF(Resurssiluettelo!O138=0,\"\",Resurssiluettelo!O138)","v":""},{"$f":"IF(Resurssiluettelo!P138=0,\"\",Resurssiluettelo!P138)","v":""},{"$f":"IF(Resurssiluettelo!Q138=0,\"\",Resurssiluettelo!Q138)","v":""},{"$f":"IF(Resurssiluettelo!R138=0,\"\",Resurssiluettelo!R138)","v":""},{"$f":"IF(Resurssiluettelo!S138=0,\"\",Resurssiluettelo!S138)","v":""},{"$f":"IF(Resurssiluettelo!T138=0,\"\",Resurssiluettelo!T138)","v":""},{"$f":"IF(Resurssiluettelo!U138=0,\"\",Resurssiluettelo!U138)","v":""},{"$f":"IF(Resurssiluettelo!V138=0,\"\",Resurssiluettelo!V138)","v":""}]
[89,{"$f":"IF(Y92=\"\",\"\",Resurssiluettelo!$G$1)","v":""},{"$f":"IF(Y92=\"\",\"\",Resurssiluettelo!$H$14)","v":""},{"$f":"IF(Y92=\"\",\"\",Resurssiluettelo!$I$14)","v":""},{"$f":"IF(Y92=\"\",\"\",Resurssiluettelo!$J$14)","v":""},{"$f":"IF(Y92=\"\",\"\",Resurssiluettelo!$N$14)","v":""},{"$f":"IF(Y92=\"\",\"\",Resurssiluettelo!$O$14)","v":""},{"$f":"IF(Resurssiluettelo!B139=0,\"\",Resurssiluettelo!B139)","v":""},{"$f":"IF(Resurssiluettelo!C139=0,\"\",Resurssiluettelo!C139)","v":""},{"$f":"IF(Resurssiluettelo!D139=0,\"\",Resurssiluettelo!D139)","v":""},{"$f":"IF($J92=\"\",\"\",VLOOKUP($J92, Resurssiluettelo!$D$21:$X$40,Ohjeistus!K$98-1,FALSE))","v":""},{"$f":"IF($J92=\"\",\"\",VLOOKUP($J92, Resurssiluettelo!$D$21:$X$40,Ohjeistus!L$98-1,FALSE))","v":""},{"$f":"IF($J92=\"\",\"\",VLOOKUP($J92, Resurssiluettelo!$D$21:$X$40,Ohjeistus!M$98-1,FALSE))","v":""},{"$f":"IF($J92=\"\",\"\",VLOOKUP($J92, Resurssiluettelo!$D$21:$X$40,Ohjeistus!N$98-1,FALSE))","v":""},{"$f":"IF($J92=\"\",\"\",VLOOKUP($J92, Resurssiluettelo!$D$21:$X$40,Ohjeistus!O$98-1,FALSE))","v":""},{"$f":"IF($J92=\"\",\"\",VLOOKUP($J92, Resurssiluettelo!$D$21:$X$40,Ohjeistus!P$98-1,FALSE))","v":""},{"$f":"IF($J92=\"\",IF($I92=\"\",\"\",VLOOKUP($I92, Resurssiluettelo!$C$21:$X$40,Ohjeistus!Q$98,FALSE)),VLOOKUP($J92, Resurssiluettelo!$D$21:$X$40,Ohjeistus!Q$98-1,FALSE))","v":""},{"$f":"IF($J92=\"\",IF($I92=\"\",\"\",VLOOKUP($I92, Resurssiluettelo!$C$21:$X$40,Ohjeistus!R$98,FALSE)),VLOOKUP($J92, Resurssiluettelo!$D$21:$X$40,Ohjeistus!R$98-1,FALSE))","v":""},{"$f":"IF($J92=\"\",IF($I92=\"\",\"\",VLOOKUP($I92, Resurssiluettelo!$C$21:$X$40,Ohjeistus!S$98,FALSE)),VLOOKUP($J92, Resurssiluettelo!$D$21:$X$40,Ohjeistus!S$98-1,FALSE))","v":""},{"$f":"IF($J92=\"\",IF($I92=\"\",\"\",VLOOKUP($I92, Resurssiluettelo!$C$21:$X$40,Ohjeistus!T$98,FALSE)),VLOOKUP($J92, Resurssiluettelo!$D$21:$X$40,Ohjeistus!T$98-1,FALSE))","v":""},{"$f":"IF($J92=\"\",\"\",VLOOKUP($J92, Resurssiluettelo!$D$21:$X$40,Ohjeistus!U$98-1,FALSE))","v":""},{"$f":"IF($J92=\"\",\"\",VLOOKUP($J92, Resurssiluettelo!$D$21:$X$40,Ohjeistus!V$98-1,FALSE))","v":""},{"$f":"IF($J92=\"\",\"\",VLOOKUP($J92, Resurssiluettelo!$D$21:$X$40,Ohjeistus!W$98-1,FALSE))","v":""},{"$f":"IF($J92=\"\",\"\",VLOOKUP($J92, Resurssiluettelo!$D$21:$X$40,Ohjeistus!X$98-1,FALSE))","v":""},{"$f":"IF(Resurssiluettelo!E139=0,\"\",Resurssiluettelo!E139)","v":""},{"$f":"IF(Resurssiluettelo!F139=0,\"\",YEAR(Resurssiluettelo!F139)&IF(MONTH(Resurssiluettelo!F139)<10,\"0\",\"\")&MONTH(Resurssiluettelo!F139)&IF(DAY(Resurssiluettelo!F139)<10,\"0\",\"\")&DAY(Resurssiluettelo!F139))","v":""},{"$f":"IF(Resurssiluettelo!G139=0,\"\",Resurssiluettelo!G139)","v":""},{"$f":"IF(Resurssiluettelo!H139=0,\"\",Resurssiluettelo!H139)","v":""},{"$f":"IF(Resurssiluettelo!I139=0,\"\",Resurssiluettelo!I139)","v":""},{"$f":"IF(Resurssiluettelo!W139=0,\"\",Resurssiluettelo!W139)","v":""},{"$f":"IF(Resurssiluettelo!X139=0,\"\",Resurssiluettelo!X139)","v":""},{"$f":"IF(Resurssiluettelo!Y139=0,\"\",Resurssiluettelo!Y139)","v":""},{"$f":"IF(Resurssiluettelo!Z139=0,\"\",Resurssiluettelo!Z139)","v":""},{"$f":"IF(Resurssiluettelo!AA139=0,\"\",Resurssiluettelo!AA139)","v":""},{"$f":"IF(Resurssiluettelo!AB139=0,\"\",Resurssiluettelo!AB139)","v":""},{"$f":"IF(Resurssiluettelo!AC139=0,\"\",Resurssiluettelo!AC139)","v":""},{"$f":"IF(Resurssiluettelo!AD139=0,\"\",Resurssiluettelo!AD139)","v":""},{"$f":"IF(Resurssiluettelo!J139=0,\"\",Resurssiluettelo!J139)","v":""},{"$f":"IF(Resurssiluettelo!K139=0,\"\",Resurssiluettelo!K139)","v":""},{"$f":"IF(Resurssiluettelo!L139=0,\"\",Resurssiluettelo!L139)","v":""},{"$f":"IF(Resurssiluettelo!M139=0,\"\",Resurssiluettelo!M139)","v":""},{"$f":"IF(Resurssiluettelo!N139=0,\"\",Resurssiluettelo!N139)","v":""},{"$f":"IF(Resurssiluettelo!O139=0,\"\",Resurssiluettelo!O139)","v":""},{"$f":"IF(Resurssiluettelo!P139=0,\"\",Resurssiluettelo!P139)","v":""},{"$f":"IF(Resurssiluettelo!Q139=0,\"\",Resurssiluettelo!Q139)","v":""},{"$f":"IF(Resurssiluettelo!R139=0,\"\",Resurssiluettelo!R139)","v":""},{"$f":"IF(Resurssiluettelo!S139=0,\"\",Resurssiluettelo!S139)","v":""},{"$f":"IF(Resurssiluettelo!T139=0,\"\",Resurssiluettelo!T139)","v":""},{"$f":"IF(Resurssiluettelo!U139=0,\"\",Resurssiluettelo!U139)","v":""},{"$f":"IF(Resurssiluettelo!V139=0,\"\",Resurssiluettelo!V139)","v":""}]
[90,{"$f":"IF(Y93=\"\",\"\",Resurssiluettelo!$G$1)","v":""},{"$f":"IF(Y93=\"\",\"\",Resurssiluettelo!$H$14)","v":""},{"$f":"IF(Y93=\"\",\"\",Resurssiluettelo!$I$14)","v":""},{"$f":"IF(Y93=\"\",\"\",Resurssiluettelo!$J$14)","v":""},{"$f":"IF(Y93=\"\",\"\",Resurssiluettelo!$N$14)","v":""},{"$f":"IF(Y93=\"\",\"\",Resurssiluettelo!$O$14)","v":""},{"$f":"IF(Resurssiluettelo!B140=0,\"\",Resurssiluettelo!B140)","v":""},{"$f":"IF(Resurssiluettelo!C140=0,\"\",Resurssiluettelo!C140)","v":""},{"$f":"IF(Resurssiluettelo!D140=0,\"\",Resurssiluettelo!D140)","v":""},{"$f":"IF($J93=\"\",\"\",VLOOKUP($J93, Resurssiluettelo!$D$21:$X$40,Ohjeistus!K$98-1,FALSE))","v":""},{"$f":"IF($J93=\"\",\"\",VLOOKUP($J93, Resurssiluettelo!$D$21:$X$40,Ohjeistus!L$98-1,FALSE))","v":""},{"$f":"IF($J93=\"\",\"\",VLOOKUP($J93, Resurssiluettelo!$D$21:$X$40,Ohjeistus!M$98-1,FALSE))","v":""},{"$f":"IF($J93=\"\",\"\",VLOOKUP($J93, Resurssiluettelo!$D$21:$X$40,Ohjeistus!N$98-1,FALSE))","v":""},{"$f":"IF($J93=\"\",\"\",VLOOKUP($J93, Resurssiluettelo!$D$21:$X$40,Ohjeistus!O$98-1,FALSE))","v":""},{"$f":"IF($J93=\"\",\"\",VLOOKUP($J93, Resurssiluettelo!$D$21:$X$40,Ohjeistus!P$98-1,FALSE))","v":""},{"$f":"IF($J93=\"\",IF($I93=\"\",\"\",VLOOKUP($I93, Resurssiluettelo!$C$21:$X$40,Ohjeistus!Q$98,FALSE)),VLOOKUP($J93, Resurssiluettelo!$D$21:$X$40,Ohjeistus!Q$98-1,FALSE))","v":""},{"$f":"IF($J93=\"\",IF($I93=\"\",\"\",VLOOKUP($I93, Resurssiluettelo!$C$21:$X$40,Ohjeistus!R$98,FALSE)),VLOOKUP($J93, Resurssiluettelo!$D$21:$X$40,Ohjeistus!R$98-1,FALSE))","v":""},{"$f":"IF($J93=\"\",IF($I93=\"\",\"\",VLOOKUP($I93, Resurssiluettelo!$C$21:$X$40,Ohjeistus!S$98,FALSE)),VLOOKUP($J93, Resurssiluettelo!$D$21:$X$40,Ohjeistus!S$98-1,FALSE))","v":""},{"$f":"IF($J93=\"\",IF($I93=\"\",\"\",VLOOKUP($I93, Resurssiluettelo!$C$21:$X$40,Ohjeistus!T$98,FALSE)),VLOOKUP($J93, Resurssiluettelo!$D$21:$X$40,Ohjeistus!T$98-1,FALSE))","v":""},{"$f":"IF($J93=\"\",\"\",VLOOKUP($J93, Resurssiluettelo!$D$21:$X$40,Ohjeistus!U$98-1,FALSE))","v":""},{"$f":"IF($J93=\"\",\"\",VLOOKUP($J93, Resurssiluettelo!$D$21:$X$40,Ohjeistus!V$98-1,FALSE))","v":""},{"$f":"IF($J93=\"\",\"\",VLOOKUP($J93, Resurssiluettelo!$D$21:$X$40,Ohjeistus!W$98-1,FALSE))","v":""},{"$f":"IF($J93=\"\",\"\",VLOOKUP($J93, Resurssiluettelo!$D$21:$X$40,Ohjeistus!X$98-1,FALSE))","v":""},{"$f":"IF(Resurssiluettelo!E140=0,\"\",Resurssiluettelo!E140)","v":""},{"$f":"IF(Resurssiluettelo!F140=0,\"\",YEAR(Resurssiluettelo!F140)&IF(MONTH(Resurssiluettelo!F140)<10,\"0\",\"\")&MONTH(Resurssiluettelo!F140)&IF(DAY(Resurssiluettelo!F140)<10,\"0\",\"\")&DAY(Resurssiluettelo!F140))","v":""},{"$f":"IF(Resurssiluettelo!G140=0,\"\",Resurssiluettelo!G140)","v":""},{"$f":"IF(Resurssiluettelo!H140=0,\"\",Resurssiluettelo!H140)","v":""},{"$f":"IF(Resurssiluettelo!I140=0,\"\",Resurssiluettelo!I140)","v":""},{"$f":"IF(Resurssiluettelo!W140=0,\"\",Resurssiluettelo!W140)","v":""},{"$f":"IF(Resurssiluettelo!X140=0,\"\",Resurssiluettelo!X140)","v":""},{"$f":"IF(Resurssiluettelo!Y140=0,\"\",Resurssiluettelo!Y140)","v":""},{"$f":"IF(Resurssiluettelo!Z140=0,\"\",Resurssiluettelo!Z140)","v":""},{"$f":"IF(Resurssiluettelo!AA140=0,\"\",Resurssiluettelo!AA140)","v":""},{"$f":"IF(Resurssiluettelo!AB140=0,\"\",Resurssiluettelo!AB140)","v":""},{"$f":"IF(Resurssiluettelo!AC140=0,\"\",Resurssiluettelo!AC140)","v":""},{"$f":"IF(Resurssiluettelo!AD140=0,\"\",Resurssiluettelo!AD140)","v":""},{"$f":"IF(Resurssiluettelo!J140=0,\"\",Resurssiluettelo!J140)","v":""},{"$f":"IF(Resurssiluettelo!K140=0,\"\",Resurssiluettelo!K140)","v":""},{"$f":"IF(Resurssiluettelo!L140=0,\"\",Resurssiluettelo!L140)","v":""},{"$f":"IF(Resurssiluettelo!M140=0,\"\",Resurssiluettelo!M140)","v":""},{"$f":"IF(Resurssiluettelo!N140=0,\"\",Resurssiluettelo!N140)","v":""},{"$f":"IF(Resurssiluettelo!O140=0,\"\",Resurssiluettelo!O140)","v":""},{"$f":"IF(Resurssiluettelo!P140=0,\"\",Resurssiluettelo!P140)","v":""},{"$f":"IF(Resurssiluettelo!Q140=0,\"\",Resurssiluettelo!Q140)","v":""},{"$f":"IF(Resurssiluettelo!R140=0,\"\",Resurssiluettelo!R140)","v":""},{"$f":"IF(Resurssiluettelo!S140=0,\"\",Resurssiluettelo!S140)","v":""},{"$f":"IF(Resurssiluettelo!T140=0,\"\",Resurssiluettelo!T140)","v":""},{"$f":"IF(Resurssiluettelo!U140=0,\"\",Resurssiluettelo!U140)","v":""},{"$f":"IF(Resurssiluettelo!V140=0,\"\",Resurssiluettelo!V140)","v":""}]
[91,{"$f":"IF(Y94=\"\",\"\",Resurssiluettelo!$G$1)","v":""},{"$f":"IF(Y94=\"\",\"\",Resurssiluettelo!$H$14)","v":""},{"$f":"IF(Y94=\"\",\"\",Resurssiluettelo!$I$14)","v":""},{"$f":"IF(Y94=\"\",\"\",Resurssiluettelo!$J$14)","v":""},{"$f":"IF(Y94=\"\",\"\",Resurssiluettelo!$N$14)","v":""},{"$f":"IF(Y94=\"\",\"\",Resurssiluettelo!$O$14)","v":""},{"$f":"IF(Resurssiluettelo!B141=0,\"\",Resurssiluettelo!B141)","v":""},{"$f":"IF(Resurssiluettelo!C141=0,\"\",Resurssiluettelo!C141)","v":""},{"$f":"IF(Resurssiluettelo!D141=0,\"\",Resurssiluettelo!D141)","v":""},{"$f":"IF($J94=\"\",\"\",VLOOKUP($J94, Resurssiluettelo!$D$21:$X$40,Ohjeistus!K$98-1,FALSE))","v":""},{"$f":"IF($J94=\"\",\"\",VLOOKUP($J94, Resurssiluettelo!$D$21:$X$40,Ohjeistus!L$98-1,FALSE))","v":""},{"$f":"IF($J94=\"\",\"\",VLOOKUP($J94, Resurssiluettelo!$D$21:$X$40,Ohjeistus!M$98-1,FALSE))","v":""},{"$f":"IF($J94=\"\",\"\",VLOOKUP($J94, Resurssiluettelo!$D$21:$X$40,Ohjeistus!N$98-1,FALSE))","v":""},{"$f":"IF($J94=\"\",\"\",VLOOKUP($J94, Resurssiluettelo!$D$21:$X$40,Ohjeistus!O$98-1,FALSE))","v":""},{"$f":"IF($J94=\"\",\"\",VLOOKUP($J94, Resurssiluettelo!$D$21:$X$40,Ohjeistus!P$98-1,FALSE))","v":""},{"$f":"IF($J94=\"\",IF($I94=\"\",\"\",VLOOKUP($I94, Resurssiluettelo!$C$21:$X$40,Ohjeistus!Q$98,FALSE)),VLOOKUP($J94, Resurssiluettelo!$D$21:$X$40,Ohjeistus!Q$98-1,FALSE))","v":""},{"$f":"IF($J94=\"\",IF($I94=\"\",\"\",VLOOKUP($I94, Resurssiluettelo!$C$21:$X$40,Ohjeistus!R$98,FALSE)),VLOOKUP($J94, Resurssiluettelo!$D$21:$X$40,Ohjeistus!R$98-1,FALSE))","v":""},{"$f":"IF($J94=\"\",IF($I94=\"\",\"\",VLOOKUP($I94, Resurssiluettelo!$C$21:$X$40,Ohjeistus!S$98,FALSE)),VLOOKUP($J94, Resurssiluettelo!$D$21:$X$40,Ohjeistus!S$98-1,FALSE))","v":""},{"$f":"IF($J94=\"\",IF($I94=\"\",\"\",VLOOKUP($I94, Resurssiluettelo!$C$21:$X$40,Ohjeistus!T$98,FALSE)),VLOOKUP($J94, Resurssiluettelo!$D$21:$X$40,Ohjeistus!T$98-1,FALSE))","v":""},{"$f":"IF($J94=\"\",\"\",VLOOKUP($J94, Resurssiluettelo!$D$21:$X$40,Ohjeistus!U$98-1,FALSE))","v":""},{"$f":"IF($J94=\"\",\"\",VLOOKUP($J94, Resurssiluettelo!$D$21:$X$40,Ohjeistus!V$98-1,FALSE))","v":""},{"$f":"IF($J94=\"\",\"\",VLOOKUP($J94, Resurssiluettelo!$D$21:$X$40,Ohjeistus!W$98-1,FALSE))","v":""},{"$f":"IF($J94=\"\",\"\",VLOOKUP($J94, Resurssiluettelo!$D$21:$X$40,Ohjeistus!X$98-1,FALSE))","v":""},{"$f":"IF(Resurssiluettelo!E141=0,\"\",Resurssiluettelo!E141)","v":""},{"$f":"IF(Resurssiluettelo!F141=0,\"\",YEAR(Resurssiluettelo!F141)&IF(MONTH(Resurssiluettelo!F141)<10,\"0\",\"\")&MONTH(Resurssiluettelo!F141)&IF(DAY(Resurssiluettelo!F141)<10,\"0\",\"\")&DAY(Resurssiluettelo!F141))","v":""},{"$f":"IF(Resurssiluettelo!G141=0,\"\",Resurssiluettelo!G141)","v":""},{"$f":"IF(Resurssiluettelo!H141=0,\"\",Resurssiluettelo!H141)","v":""},{"$f":"IF(Resurssiluettelo!I141=0,\"\",Resurssiluettelo!I141)","v":""},{"$f":"IF(Resurssiluettelo!W141=0,\"\",Resurssiluettelo!W141)","v":""},{"$f":"IF(Resurssiluettelo!X141=0,\"\",Resurssiluettelo!X141)","v":""},{"$f":"IF(Resurssiluettelo!Y141=0,\"\",Resurssiluettelo!Y141)","v":""},{"$f":"IF(Resurssiluettelo!Z141=0,\"\",Resurssiluettelo!Z141)","v":""},{"$f":"IF(Resurssiluettelo!AA141=0,\"\",Resurssiluettelo!AA141)","v":""},{"$f":"IF(Resurssiluettelo!AB141=0,\"\",Resurssiluettelo!AB141)","v":""},{"$f":"IF(Resurssiluettelo!AC141=0,\"\",Resurssiluettelo!AC141)","v":""},{"$f":"IF(Resurssiluettelo!AD141=0,\"\",Resurssiluettelo!AD141)","v":""},{"$f":"IF(Resurssiluettelo!J141=0,\"\",Resurssiluettelo!J141)","v":""},{"$f":"IF(Resurssiluettelo!K141=0,\"\",Resurssiluettelo!K141)","v":""},{"$f":"IF(Resurssiluettelo!L141=0,\"\",Resurssiluettelo!L141)","v":""},{"$f":"IF(Resurssiluettelo!M141=0,\"\",Resurssiluettelo!M141)","v":""},{"$f":"IF(Resurssiluettelo!N141=0,\"\",Resurssiluettelo!N141)","v":""},{"$f":"IF(Resurssiluettelo!O141=0,\"\",Resurssiluettelo!O141)","v":""},{"$f":"IF(Resurssiluettelo!P141=0,\"\",Resurssiluettelo!P141)","v":""},{"$f":"IF(Resurssiluettelo!Q141=0,\"\",Resurssiluettelo!Q141)","v":""},{"$f":"IF(Resurssiluettelo!R141=0,\"\",Resurssiluettelo!R141)","v":""},{"$f":"IF(Resurssiluettelo!S141=0,\"\",Resurssiluettelo!S141)","v":""},{"$f":"IF(Resurssiluettelo!T141=0,\"\",Resurssiluettelo!T141)","v":""},{"$f":"IF(Resurssiluettelo!U141=0,\"\",Resurssiluettelo!U141)","v":""},{"$f":"IF(Resurssiluettelo!V141=0,\"\",Resurssiluettelo!V141)","v":""}]
[92,{"$f":"IF(Y95=\"\",\"\",Resurssiluettelo!$G$1)","v":""},{"$f":"IF(Y95=\"\",\"\",Resurssiluettelo!$H$14)","v":""},{"$f":"IF(Y95=\"\",\"\",Resurssiluettelo!$I$14)","v":""},{"$f":"IF(Y95=\"\",\"\",Resurssiluettelo!$J$14)","v":""},{"$f":"IF(Y95=\"\",\"\",Resurssiluettelo!$N$14)","v":""},{"$f":"IF(Y95=\"\",\"\",Resurssiluettelo!$O$14)","v":""},{"$f":"IF(Resurssiluettelo!B142=0,\"\",Resurssiluettelo!B142)","v":""},{"$f":"IF(Resurssiluettelo!C142=0,\"\",Resurssiluettelo!C142)","v":""},{"$f":"IF(Resurssiluettelo!D142=0,\"\",Resurssiluettelo!D142)","v":""},{"$f":"IF($J95=\"\",\"\",VLOOKUP($J95, Resurssiluettelo!$D$21:$X$40,Ohjeistus!K$98-1,FALSE))","v":""},{"$f":"IF($J95=\"\",\"\",VLOOKUP($J95, Resurssiluettelo!$D$21:$X$40,Ohjeistus!L$98-1,FALSE))","v":""},{"$f":"IF($J95=\"\",\"\",VLOOKUP($J95, Resurssiluettelo!$D$21:$X$40,Ohjeistus!M$98-1,FALSE))","v":""},{"$f":"IF($J95=\"\",\"\",VLOOKUP($J95, Resurssiluettelo!$D$21:$X$40,Ohjeistus!N$98-1,FALSE))","v":""},{"$f":"IF($J95=\"\",\"\",VLOOKUP($J95, Resurssiluettelo!$D$21:$X$40,Ohjeistus!O$98-1,FALSE))","v":""},{"$f":"IF($J95=\"\",\"\",VLOOKUP($J95, Resurssiluettelo!$D$21:$X$40,Ohjeistus!P$98-1,FALSE))","v":""},{"$f":"IF($J95=\"\",IF($I95=\"\",\"\",VLOOKUP($I95, Resurssiluettelo!$C$21:$X$40,Ohjeistus!Q$98,FALSE)),VLOOKUP($J95, Resurssiluettelo!$D$21:$X$40,Ohjeistus!Q$98-1,FALSE))","v":""},{"$f":"IF($J95=\"\",IF($I95=\"\",\"\",VLOOKUP($I95, Resurssiluettelo!$C$21:$X$40,Ohjeistus!R$98,FALSE)),VLOOKUP($J95, Resurssiluettelo!$D$21:$X$40,Ohjeistus!R$98-1,FALSE))","v":""},{"$f":"IF($J95=\"\",IF($I95=\"\",\"\",VLOOKUP($I95, Resurssiluettelo!$C$21:$X$40,Ohjeistus!S$98,FALSE)),VLOOKUP($J95, Resurssiluettelo!$D$21:$X$40,Ohjeistus!S$98-1,FALSE))","v":""},{"$f":"IF($J95=\"\",IF($I95=\"\",\"\",VLOOKUP($I95, Resurssiluettelo!$C$21:$X$40,Ohjeistus!T$98,FALSE)),VLOOKUP($J95, Resurssiluettelo!$D$21:$X$40,Ohjeistus!T$98-1,FALSE))","v":""},{"$f":"IF($J95=\"\",\"\",VLOOKUP($J95, Resurssiluettelo!$D$21:$X$40,Ohjeistus!U$98-1,FALSE))","v":""},{"$f":"IF($J95=\"\",\"\",VLOOKUP($J95, Resurssiluettelo!$D$21:$X$40,Ohjeistus!V$98-1,FALSE))","v":""},{"$f":"IF($J95=\"\",\"\",VLOOKUP($J95, Resurssiluettelo!$D$21:$X$40,Ohjeistus!W$98-1,FALSE))","v":""},{"$f":"IF($J95=\"\",\"\",VLOOKUP($J95, Resurssiluettelo!$D$21:$X$40,Ohjeistus!X$98-1,FALSE))","v":""},{"$f":"IF(Resurssiluettelo!E142=0,\"\",Resurssiluettelo!E142)","v":""},{"$f":"IF(Resurssiluettelo!F142=0,\"\",YEAR(Resurssiluettelo!F142)&IF(MONTH(Resurssiluettelo!F142)<10,\"0\",\"\")&MONTH(Resurssiluettelo!F142)&IF(DAY(Resurssiluettelo!F142)<10,\"0\",\"\")&DAY(Resurssiluettelo!F142))","v":""},{"$f":"IF(Resurssiluettelo!G142=0,\"\",Resurssiluettelo!G142)","v":""},{"$f":"IF(Resurssiluettelo!H142=0,\"\",Resurssiluettelo!H142)","v":""},{"$f":"IF(Resurssiluettelo!I142=0,\"\",Resurssiluettelo!I142)","v":""},{"$f":"IF(Resurssiluettelo!W142=0,\"\",Resurssiluettelo!W142)","v":""},{"$f":"IF(Resurssiluettelo!X142=0,\"\",Resurssiluettelo!X142)","v":""},{"$f":"IF(Resurssiluettelo!Y142=0,\"\",Resurssiluettelo!Y142)","v":""},{"$f":"IF(Resurssiluettelo!Z142=0,\"\",Resurssiluettelo!Z142)","v":""},{"$f":"IF(Resurssiluettelo!AA142=0,\"\",Resurssiluettelo!AA142)","v":""},{"$f":"IF(Resurssiluettelo!AB142=0,\"\",Resurssiluettelo!AB142)","v":""},{"$f":"IF(Resurssiluettelo!AC142=0,\"\",Resurssiluettelo!AC142)","v":""},{"$f":"IF(Resurssiluettelo!AD142=0,\"\",Resurssiluettelo!AD142)","v":""},{"$f":"IF(Resurssiluettelo!J142=0,\"\",Resurssiluettelo!J142)","v":""},{"$f":"IF(Resurssiluettelo!K142=0,\"\",Resurssiluettelo!K142)","v":""},{"$f":"IF(Resurssiluettelo!L142=0,\"\",Resurssiluettelo!L142)","v":""},{"$f":"IF(Resurssiluettelo!M142=0,\"\",Resurssiluettelo!M142)","v":""},{"$f":"IF(Resurssiluettelo!N142=0,\"\",Resurssiluettelo!N142)","v":""},{"$f":"IF(Resurssiluettelo!O142=0,\"\",Resurssiluettelo!O142)","v":""},{"$f":"IF(Resurssiluettelo!P142=0,\"\",Resurssiluettelo!P142)","v":""},{"$f":"IF(Resurssiluettelo!Q142=0,\"\",Resurssiluettelo!Q142)","v":""},{"$f":"IF(Resurssiluettelo!R142=0,\"\",Resurssiluettelo!R142)","v":""},{"$f":"IF(Resurssiluettelo!S142=0,\"\",Resurssiluettelo!S142)","v":""},{"$f":"IF(Resurssiluettelo!T142=0,\"\",Resurssiluettelo!T142)","v":""},{"$f":"IF(Resurssiluettelo!U142=0,\"\",Resurssiluettelo!U142)","v":""},{"$f":"IF(Resurssiluettelo!V142=0,\"\",Resurssiluettelo!V142)","v":""}]
[93,{"$f":"IF(Y96=\"\",\"\",Resurssiluettelo!$G$1)","v":""},{"$f":"IF(Y96=\"\",\"\",Resurssiluettelo!$H$14)","v":""},{"$f":"IF(Y96=\"\",\"\",Resurssiluettelo!$I$14)","v":""},{"$f":"IF(Y96=\"\",\"\",Resurssiluettelo!$J$14)","v":""},{"$f":"IF(Y96=\"\",\"\",Resurssiluettelo!$N$14)","v":""},{"$f":"IF(Y96=\"\",\"\",Resurssiluettelo!$O$14)","v":""},{"$f":"IF(Resurssiluettelo!B143=0,\"\",Resurssiluettelo!B143)","v":""},{"$f":"IF(Resurssiluettelo!C143=0,\"\",Resurssiluettelo!C143)","v":""},{"$f":"IF(Resurssiluettelo!D143=0,\"\",Resurssiluettelo!D143)","v":""},{"$f":"IF($J96=\"\",\"\",VLOOKUP($J96, Resurssiluettelo!$D$21:$X$40,Ohjeistus!K$98-1,FALSE))","v":""},{"$f":"IF($J96=\"\",\"\",VLOOKUP($J96, Resurssiluettelo!$D$21:$X$40,Ohjeistus!L$98-1,FALSE))","v":""},{"$f":"IF($J96=\"\",\"\",VLOOKUP($J96, Resurssiluettelo!$D$21:$X$40,Ohjeistus!M$98-1,FALSE))","v":""},{"$f":"IF($J96=\"\",\"\",VLOOKUP($J96, Resurssiluettelo!$D$21:$X$40,Ohjeistus!N$98-1,FALSE))","v":""},{"$f":"IF($J96=\"\",\"\",VLOOKUP($J96, Resurssiluettelo!$D$21:$X$40,Ohjeistus!O$98-1,FALSE))","v":""},{"$f":"IF($J96=\"\",\"\",VLOOKUP($J96, Resurssiluettelo!$D$21:$X$40,Ohjeistus!P$98-1,FALSE))","v":""},{"$f":"IF($J96=\"\",IF($I96=\"\",\"\",VLOOKUP($I96, Resurssiluettelo!$C$21:$X$40,Ohjeistus!Q$98,FALSE)),VLOOKUP($J96, Resurssiluettelo!$D$21:$X$40,Ohjeistus!Q$98-1,FALSE))","v":""},{"$f":"IF($J96=\"\",IF($I96=\"\",\"\",VLOOKUP($I96, Resurssiluettelo!$C$21:$X$40,Ohjeistus!R$98,FALSE)),VLOOKUP($J96, Resurssiluettelo!$D$21:$X$40,Ohjeistus!R$98-1,FALSE))","v":""},{"$f":"IF($J96=\"\",IF($I96=\"\",\"\",VLOOKUP($I96, Resurssiluettelo!$C$21:$X$40,Ohjeistus!S$98,FALSE)),VLOOKUP($J96, Resurssiluettelo!$D$21:$X$40,Ohjeistus!S$98-1,FALSE))","v":""},{"$f":"IF($J96=\"\",IF($I96=\"\",\"\",VLOOKUP($I96, Resurssiluettelo!$C$21:$X$40,Ohjeistus!T$98,FALSE)),VLOOKUP($J96, Resurssiluettelo!$D$21:$X$40,Ohjeistus!T$98-1,FALSE))","v":""},{"$f":"IF($J96=\"\",\"\",VLOOKUP($J96, Resurssiluettelo!$D$21:$X$40,Ohjeistus!U$98-1,FALSE))","v":""},{"$f":"IF($J96=\"\",\"\",VLOOKUP($J96, Resurssiluettelo!$D$21:$X$40,Ohjeistus!V$98-1,FALSE))","v":""},{"$f":"IF($J96=\"\",\"\",VLOOKUP($J96, Resurssiluettelo!$D$21:$X$40,Ohjeistus!W$98-1,FALSE))","v":""},{"$f":"IF($J96=\"\",\"\",VLOOKUP($J96, Resurssiluettelo!$D$21:$X$40,Ohjeistus!X$98-1,FALSE))","v":""},{"$f":"IF(Resurssiluettelo!E143=0,\"\",Resurssiluettelo!E143)","v":""},{"$f":"IF(Resurssiluettelo!F143=0,\"\",YEAR(Resurssiluettelo!F143)&IF(MONTH(Resurssiluettelo!F143)<10,\"0\",\"\")&MONTH(Resurssiluettelo!F143)&IF(DAY(Resurssiluettelo!F143)<10,\"0\",\"\")&DAY(Resurssiluettelo!F143))","v":""},{"$f":"IF(Resurssiluettelo!G143=0,\"\",Resurssiluettelo!G143)","v":""},{"$f":"IF(Resurssiluettelo!H143=0,\"\",Resurssiluettelo!H143)","v":""},{"$f":"IF(Resurssiluettelo!I143=0,\"\",Resurssiluettelo!I143)","v":""},{"$f":"IF(Resurssiluettelo!W143=0,\"\",Resurssiluettelo!W143)","v":""},{"$f":"IF(Resurssiluettelo!X143=0,\"\",Resurssiluettelo!X143)","v":""},{"$f":"IF(Resurssiluettelo!Y143=0,\"\",Resurssiluettelo!Y143)","v":""},{"$f":"IF(Resurssiluettelo!Z143=0,\"\",Resurssiluettelo!Z143)","v":""},{"$f":"IF(Resurssiluettelo!AA143=0,\"\",Resurssiluettelo!AA143)","v":""},{"$f":"IF(Resurssiluettelo!AB143=0,\"\",Resurssiluettelo!AB143)","v":""},{"$f":"IF(Resurssiluettelo!AC143=0,\"\",Resurssiluettelo!AC143)","v":""},{"$f":"IF(Resurssiluettelo!AD143=0,\"\",Resurssiluettelo!AD143)","v":""},{"$f":"IF(Resurssiluettelo!J143=0,\"\",Resurssiluettelo!J143)","v":""},{"$f":"IF(Resurssiluettelo!K143=0,\"\",Resurssiluettelo!K143)","v":""},{"$f":"IF(Resurssiluettelo!L143=0,\"\",Resurssiluettelo!L143)","v":""},{"$f":"IF(Resurssiluettelo!M143=0,\"\",Resurssiluettelo!M143)","v":""},{"$f":"IF(Resurssiluettelo!N143=0,\"\",Resurssiluettelo!N143)","v":""},{"$f":"IF(Resurssiluettelo!O143=0,\"\",Resurssiluettelo!O143)","v":""},{"$f":"IF(Resurssiluettelo!P143=0,\"\",Resurssiluettelo!P143)","v":""},{"$f":"IF(Resurssiluettelo!Q143=0,\"\",Resurssiluettelo!Q143)","v":""},{"$f":"IF(Resurssiluettelo!R143=0,\"\",Resurssiluettelo!R143)","v":""},{"$f":"IF(Resurssiluettelo!S143=0,\"\",Resurssiluettelo!S143)","v":""},{"$f":"IF(Resurssiluettelo!T143=0,\"\",Resurssiluettelo!T143)","v":""},{"$f":"IF(Resurssiluettelo!U143=0,\"\",Resurssiluettelo!U143)","v":""},{"$f":"IF(Resurssiluettelo!V143=0,\"\",Resurssiluettelo!V143)","v":""}]
[94,{"$f":"IF(Y97=\"\",\"\",Resurssiluettelo!$G$1)","v":""},{"$f":"IF(Y97=\"\",\"\",Resurssiluettelo!$H$14)","v":""},{"$f":"IF(Y97=\"\",\"\",Resurssiluettelo!$I$14)","v":""},{"$f":"IF(Y97=\"\",\"\",Resurssiluettelo!$J$14)","v":""},{"$f":"IF(Y97=\"\",\"\",Resurssiluettelo!$N$14)","v":""},{"$f":"IF(Y97=\"\",\"\",Resurssiluettelo!$O$14)","v":""},{"$f":"IF(Resurssiluettelo!B144=0,\"\",Resurssiluettelo!B144)","v":""},{"$f":"IF(Resurssiluettelo!C144=0,\"\",Resurssiluettelo!C144)","v":""},{"$f":"IF(Resurssiluettelo!D144=0,\"\",Resurssiluettelo!D144)","v":""},{"$f":"IF($J97=\"\",\"\",VLOOKUP($J97, Resurssiluettelo!$D$21:$X$40,Ohjeistus!K$98-1,FALSE))","v":""},{"$f":"IF($J97=\"\",\"\",VLOOKUP($J97, Resurssiluettelo!$D$21:$X$40,Ohjeistus!L$98-1,FALSE))","v":""},{"$f":"IF($J97=\"\",\"\",VLOOKUP($J97, Resurssiluettelo!$D$21:$X$40,Ohjeistus!M$98-1,FALSE))","v":""},{"$f":"IF($J97=\"\",\"\",VLOOKUP($J97, Resurssiluettelo!$D$21:$X$40,Ohjeistus!N$98-1,FALSE))","v":""},{"$f":"IF($J97=\"\",\"\",VLOOKUP($J97, Resurssiluettelo!$D$21:$X$40,Ohjeistus!O$98-1,FALSE))","v":""},{"$f":"IF($J97=\"\",\"\",VLOOKUP($J97, Resurssiluettelo!$D$21:$X$40,Ohjeistus!P$98-1,FALSE))","v":""},{"$f":"IF($J97=\"\",IF($I97=\"\",\"\",VLOOKUP($I97, Resurssiluettelo!$C$21:$X$40,Ohjeistus!Q$98,FALSE)),VLOOKUP($J97, Resurssiluettelo!$D$21:$X$40,Ohjeistus!Q$98-1,FALSE))","v":""},{"$f":"IF($J97=\"\",IF($I97=\"\",\"\",VLOOKUP($I97, Resurssiluettelo!$C$21:$X$40,Ohjeistus!R$98,FALSE)),VLOOKUP($J97, Resurssiluettelo!$D$21:$X$40,Ohjeistus!R$98-1,FALSE))","v":""},{"$f":"IF($J97=\"\",IF($I97=\"\",\"\",VLOOKUP($I97, Resurssiluettelo!$C$21:$X$40,Ohjeistus!S$98,FALSE)),VLOOKUP($J97, Resurssiluettelo!$D$21:$X$40,Ohjeistus!S$98-1,FALSE))","v":""},{"$f":"IF($J97=\"\",IF($I97=\"\",\"\",VLOOKUP($I97, Resurssiluettelo!$C$21:$X$40,Ohjeistus!T$98,FALSE)),VLOOKUP($J97, Resurssiluettelo!$D$21:$X$40,Ohjeistus!T$98-1,FALSE))","v":""},{"$f":"IF($J97=\"\",\"\",VLOOKUP($J97, Resurssiluettelo!$D$21:$X$40,Ohjeistus!U$98-1,FALSE))","v":""},{"$f":"IF($J97=\"\",\"\",VLOOKUP($J97, Resurssiluettelo!$D$21:$X$40,Ohjeistus!V$98-1,FALSE))","v":""},{"$f":"IF($J97=\"\",\"\",VLOOKUP($J97, Resurssiluettelo!$D$21:$X$40,Ohjeistus!W$98-1,FALSE))","v":""},{"$f":"IF($J97=\"\",\"\",VLOOKUP($J97, Resurssiluettelo!$D$21:$X$40,Ohjeistus!X$98-1,FALSE))","v":""},{"$f":"IF(Resurssiluettelo!E144=0,\"\",Resurssiluettelo!E144)","v":""},{"$f":"IF(Resurssiluettelo!F144=0,\"\",YEAR(Resurssiluettelo!F144)&IF(MONTH(Resurssiluettelo!F144)<10,\"0\",\"\")&MONTH(Resurssiluettelo!F144)&IF(DAY(Resurssiluettelo!F144)<10,\"0\",\"\")&DAY(Resurssiluettelo!F144))","v":""},{"$f":"IF(Resurssiluettelo!G144=0,\"\",Resurssiluettelo!G144)","v":""},{"$f":"IF(Resurssiluettelo!H144=0,\"\",Resurssiluettelo!H144)","v":""},{"$f":"IF(Resurssiluettelo!I144=0,\"\",Resurssiluettelo!I144)","v":""},{"$f":"IF(Resurssiluettelo!W144=0,\"\",Resurssiluettelo!W144)","v":""},{"$f":"IF(Resurssiluettelo!X144=0,\"\",Resurssiluettelo!X144)","v":""},{"$f":"IF(Resurssiluettelo!Y144=0,\"\",Resurssiluettelo!Y144)","v":""},{"$f":"IF(Resurssiluettelo!Z144=0,\"\",Resurssiluettelo!Z144)","v":""},{"$f":"IF(Resurssiluettelo!AA144=0,\"\",Resurssiluettelo!AA144)","v":""},{"$f":"IF(Resurssiluettelo!AB144=0,\"\",Resurssiluettelo!AB144)","v":""},{"$f":"IF(Resurssiluettelo!AC144=0,\"\",Resurssiluettelo!AC144)","v":""},{"$f":"IF(Resurssiluettelo!AD144=0,\"\",Resurssiluettelo!AD144)","v":""},{"$f":"IF(Resurssiluettelo!J144=0,\"\",Resurssiluettelo!J144)","v":""},{"$f":"IF(Resurssiluettelo!K144=0,\"\",Resurssiluettelo!K144)","v":""},{"$f":"IF(Resurssiluettelo!L144=0,\"\",Resurssiluettelo!L144)","v":""},{"$f":"IF(Resurssiluettelo!M144=0,\"\",Resurssiluettelo!M144)","v":""},{"$f":"IF(Resurssiluettelo!N144=0,\"\",Resurssiluettelo!N144)","v":""},{"$f":"IF(Resurssiluettelo!O144=0,\"\",Resurssiluettelo!O144)","v":""},{"$f":"IF(Resurssiluettelo!P144=0,\"\",Resurssiluettelo!P144)","v":""},{"$f":"IF(Resurssiluettelo!Q144=0,\"\",Resurssiluettelo!Q144)","v":""},{"$f":"IF(Resurssiluettelo!R144=0,\"\",Resurssiluettelo!R144)","v":""},{"$f":"IF(Resurssiluettelo!S144=0,\"\",Resurssiluettelo!S144)","v":""},{"$f":"IF(Resurssiluettelo!T144=0,\"\",Resurssiluettelo!T144)","v":""},{"$f":"IF(Resurssiluettelo!U144=0,\"\",Resurssiluettelo!U144)","v":""},{"$f":"IF(Resurssiluettelo!V144=0,\"\",Resurssiluettelo!V144)","v":""}]
[95,{"$f":"IF(Y98=\"\",\"\",Resurssiluettelo!$G$1)","v":""},{"$f":"IF(Y98=\"\",\"\",Resurssiluettelo!$H$14)","v":""},{"$f":"IF(Y98=\"\",\"\",Resurssiluettelo!$I$14)","v":""},{"$f":"IF(Y98=\"\",\"\",Resurssiluettelo!$J$14)","v":""},{"$f":"IF(Y98=\"\",\"\",Resurssiluettelo!$N$14)","v":""},{"$f":"IF(Y98=\"\",\"\",Resurssiluettelo!$O$14)","v":""},{"$f":"IF(Resurssiluettelo!B145=0,\"\",Resurssiluettelo!B145)","v":""},{"$f":"IF(Resurssiluettelo!C145=0,\"\",Resurssiluettelo!C145)","v":""},{"$f":"IF(Resurssiluettelo!D145=0,\"\",Resurssiluettelo!D145)","v":""},{"$f":"IF($J98=\"\",\"\",VLOOKUP($J98, Resurssiluettelo!$D$21:$X$40,Ohjeistus!K$98-1,FALSE))","v":""},{"$f":"IF($J98=\"\",\"\",VLOOKUP($J98, Resurssiluettelo!$D$21:$X$40,Ohjeistus!L$98-1,FALSE))","v":""},{"$f":"IF($J98=\"\",\"\",VLOOKUP($J98, Resurssiluettelo!$D$21:$X$40,Ohjeistus!M$98-1,FALSE))","v":""},{"$f":"IF($J98=\"\",\"\",VLOOKUP($J98, Resurssiluettelo!$D$21:$X$40,Ohjeistus!N$98-1,FALSE))","v":""},{"$f":"IF($J98=\"\",\"\",VLOOKUP($J98, Resurssiluettelo!$D$21:$X$40,Ohjeistus!O$98-1,FALSE))","v":""},{"$f":"IF($J98=\"\",\"\",VLOOKUP($J98, Resurssiluettelo!$D$21:$X$40,Ohjeistus!P$98-1,FALSE))","v":""},{"$f":"IF($J98=\"\",IF($I98=\"\",\"\",VLOOKUP($I98, Resurssiluettelo!$C$21:$X$40,Ohjeistus!Q$98,FALSE)),VLOOKUP($J98, Resurssiluettelo!$D$21:$X$40,Ohjeistus!Q$98-1,FALSE))","v":""},{"$f":"IF($J98=\"\",IF($I98=\"\",\"\",VLOOKUP($I98, Resurssiluettelo!$C$21:$X$40,Ohjeistus!R$98,FALSE)),VLOOKUP($J98, Resurssiluettelo!$D$21:$X$40,Ohjeistus!R$98-1,FALSE))","v":""},{"$f":"IF($J98=\"\",IF($I98=\"\",\"\",VLOOKUP($I98, Resurssiluettelo!$C$21:$X$40,Ohjeistus!S$98,FALSE)),VLOOKUP($J98, Resurssiluettelo!$D$21:$X$40,Ohjeistus!S$98-1,FALSE))","v":""},{"$f":"IF($J98=\"\",IF($I98=\"\",\"\",VLOOKUP($I98, Resurssiluettelo!$C$21:$X$40,Ohjeistus!T$98,FALSE)),VLOOKUP($J98, Resurssiluettelo!$D$21:$X$40,Ohjeistus!T$98-1,FALSE))","v":""},{"$f":"IF($J98=\"\",\"\",VLOOKUP($J98, Resurssiluettelo!$D$21:$X$40,Ohjeistus!U$98-1,FALSE))","v":""},{"$f":"IF($J98=\"\",\"\",VLOOKUP($J98, Resurssiluettelo!$D$21:$X$40,Ohjeistus!V$98-1,FALSE))","v":""},{"$f":"IF($J98=\"\",\"\",VLOOKUP($J98, Resurssiluettelo!$D$21:$X$40,Ohjeistus!W$98-1,FALSE))","v":""},{"$f":"IF($J98=\"\",\"\",VLOOKUP($J98, Resurssiluettelo!$D$21:$X$40,Ohjeistus!X$98-1,FALSE))","v":""},{"$f":"IF(Resurssiluettelo!E145=0,\"\",Resurssiluettelo!E145)","v":""},{"$f":"IF(Resurssiluettelo!F145=0,\"\",YEAR(Resurssiluettelo!F145)&IF(MONTH(Resurssiluettelo!F145)<10,\"0\",\"\")&MONTH(Resurssiluettelo!F145)&IF(DAY(Resurssiluettelo!F145)<10,\"0\",\"\")&DAY(Resurssiluettelo!F145))","v":""},{"$f":"IF(Resurssiluettelo!G145=0,\"\",Resurssiluettelo!G145)","v":""},{"$f":"IF(Resurssiluettelo!H145=0,\"\",Resurssiluettelo!H145)","v":""},{"$f":"IF(Resurssiluettelo!I145=0,\"\",Resurssiluettelo!I145)","v":""},{"$f":"IF(Resurssiluettelo!W145=0,\"\",Resurssiluettelo!W145)","v":""},{"$f":"IF(Resurssiluettelo!X145=0,\"\",Resurssiluettelo!X145)","v":""},{"$f":"IF(Resurssiluettelo!Y145=0,\"\",Resurssiluettelo!Y145)","v":""},{"$f":"IF(Resurssiluettelo!Z145=0,\"\",Resurssiluettelo!Z145)","v":""},{"$f":"IF(Resurssiluettelo!AA145=0,\"\",Resurssiluettelo!AA145)","v":""},{"$f":"IF(Resurssiluettelo!AB145=0,\"\",Resurssiluettelo!AB145)","v":""},{"$f":"IF(Resurssiluettelo!AC145=0,\"\",Resurssiluettelo!AC145)","v":""},{"$f":"IF(Resurssiluettelo!AD145=0,\"\",Resurssiluettelo!AD145)","v":""},{"$f":"IF(Resurssiluettelo!J145=0,\"\",Resurssiluettelo!J145)","v":""},{"$f":"IF(Resurssiluettelo!K145=0,\"\",Resurssiluettelo!K145)","v":""},{"$f":"IF(Resurssiluettelo!L145=0,\"\",Resurssiluettelo!L145)","v":""},{"$f":"IF(Resurssiluettelo!M145=0,\"\",Resurssiluettelo!M145)","v":""},{"$f":"IF(Resurssiluettelo!N145=0,\"\",Resurssiluettelo!N145)","v":""},{"$f":"IF(Resurssiluettelo!O145=0,\"\",Resurssiluettelo!O145)","v":""},{"$f":"IF(Resurssiluettelo!P145=0,\"\",Resurssiluettelo!P145)","v":""},{"$f":"IF(Resurssiluettelo!Q145=0,\"\",Resurssiluettelo!Q145)","v":""},{"$f":"IF(Resurssiluettelo!R145=0,\"\",Resurssiluettelo!R145)","v":""},{"$f":"IF(Resurssiluettelo!S145=0,\"\",Resurssiluettelo!S145)","v":""},{"$f":"IF(Resurssiluettelo!T145=0,\"\",Resurssiluettelo!T145)","v":""},{"$f":"IF(Resurssiluettelo!U145=0,\"\",Resurssiluettelo!U145)","v":""},{"$f":"IF(Resurssiluettelo!V145=0,\"\",Resurssiluettelo!V145)","v":""}]
[96,{"$f":"IF(Y99=\"\",\"\",Resurssiluettelo!$G$1)","v":""},{"$f":"IF(Y99=\"\",\"\",Resurssiluettelo!$H$14)","v":""},{"$f":"IF(Y99=\"\",\"\",Resurssiluettelo!$I$14)","v":""},{"$f":"IF(Y99=\"\",\"\",Resurssiluettelo!$J$14)","v":""},{"$f":"IF(Y99=\"\",\"\",Resurssiluettelo!$N$14)","v":""},{"$f":"IF(Y99=\"\",\"\",Resurssiluettelo!$O$14)","v":""},{"$f":"IF(Resurssiluettelo!B146=0,\"\",Resurssiluettelo!B146)","v":""},{"$f":"IF(Resurssiluettelo!C146=0,\"\",Resurssiluettelo!C146)","v":""},{"$f":"IF(Resurssiluettelo!D146=0,\"\",Resurssiluettelo!D146)","v":""},{"$f":"IF($J99=\"\",\"\",VLOOKUP($J99, Resurssiluettelo!$D$21:$X$40,Ohjeistus!K$98-1,FALSE))","v":""},{"$f":"IF($J99=\"\",\"\",VLOOKUP($J99, Resurssiluettelo!$D$21:$X$40,Ohjeistus!L$98-1,FALSE))","v":""},{"$f":"IF($J99=\"\",\"\",VLOOKUP($J99, Resurssiluettelo!$D$21:$X$40,Ohjeistus!M$98-1,FALSE))","v":""},{"$f":"IF($J99=\"\",\"\",VLOOKUP($J99, Resurssiluettelo!$D$21:$X$40,Ohjeistus!N$98-1,FALSE))","v":""},{"$f":"IF($J99=\"\",\"\",VLOOKUP($J99, Resurssiluettelo!$D$21:$X$40,Ohjeistus!O$98-1,FALSE))","v":""},{"$f":"IF($J99=\"\",\"\",VLOOKUP($J99, Resurssiluettelo!$D$21:$X$40,Ohjeistus!P$98-1,FALSE))","v":""},{"$f":"IF($J99=\"\",IF($I99=\"\",\"\",VLOOKUP($I99, Resurssiluettelo!$C$21:$X$40,Ohjeistus!Q$98,FALSE)),VLOOKUP($J99, Resurssiluettelo!$D$21:$X$40,Ohjeistus!Q$98-1,FALSE))","v":""},{"$f":"IF($J99=\"\",IF($I99=\"\",\"\",VLOOKUP($I99, Resurssiluettelo!$C$21:$X$40,Ohjeistus!R$98,FALSE)),VLOOKUP($J99, Resurssiluettelo!$D$21:$X$40,Ohjeistus!R$98-1,FALSE))","v":""},{"$f":"IF($J99=\"\",IF($I99=\"\",\"\",VLOOKUP($I99, Resurssiluettelo!$C$21:$X$40,Ohjeistus!S$98,FALSE)),VLOOKUP($J99, Resurssiluettelo!$D$21:$X$40,Ohjeistus!S$98-1,FALSE))","v":""},{"$f":"IF($J99=\"\",IF($I99=\"\",\"\",VLOOKUP($I99, Resurssiluettelo!$C$21:$X$40,Ohjeistus!T$98,FALSE)),VLOOKUP($J99, Resurssiluettelo!$D$21:$X$40,Ohjeistus!T$98-1,FALSE))","v":""},{"$f":"IF($J99=\"\",\"\",VLOOKUP($J99, Resurssiluettelo!$D$21:$X$40,Ohjeistus!U$98-1,FALSE))","v":""},{"$f":"IF($J99=\"\",\"\",VLOOKUP($J99, Resurssiluettelo!$D$21:$X$40,Ohjeistus!V$98-1,FALSE))","v":""},{"$f":"IF($J99=\"\",\"\",VLOOKUP($J99, Resurssiluettelo!$D$21:$X$40,Ohjeistus!W$98-1,FALSE))","v":""},{"$f":"IF($J99=\"\",\"\",VLOOKUP($J99, Resurssiluettelo!$D$21:$X$40,Ohjeistus!X$98-1,FALSE))","v":""},{"$f":"IF(Resurssiluettelo!E146=0,\"\",Resurssiluettelo!E146)","v":""},{"$f":"IF(Resurssiluettelo!F146=0,\"\",YEAR(Resurssiluettelo!F146)&IF(MONTH(Resurssiluettelo!F146)<10,\"0\",\"\")&MONTH(Resurssiluettelo!F146)&IF(DAY(Resurssiluettelo!F146)<10,\"0\",\"\")&DAY(Resurssiluettelo!F146))","v":""},{"$f":"IF(Resurssiluettelo!G146=0,\"\",Resurssiluettelo!G146)","v":""},{"$f":"IF(Resurssiluettelo!H146=0,\"\",Resurssiluettelo!H146)","v":""},{"$f":"IF(Resurssiluettelo!I146=0,\"\",Resurssiluettelo!I146)","v":""},{"$f":"IF(Resurssiluettelo!W146=0,\"\",Resurssiluettelo!W146)","v":""},{"$f":"IF(Resurssiluettelo!X146=0,\"\",Resurssiluettelo!X146)","v":""},{"$f":"IF(Resurssiluettelo!Y146=0,\"\",Resurssiluettelo!Y146)","v":""},{"$f":"IF(Resurssiluettelo!Z146=0,\"\",Resurssiluettelo!Z146)","v":""},{"$f":"IF(Resurssiluettelo!AA146=0,\"\",Resurssiluettelo!AA146)","v":""},{"$f":"IF(Resurssiluettelo!AB146=0,\"\",Resurssiluettelo!AB146)","v":""},{"$f":"IF(Resurssiluettelo!AC146=0,\"\",Resurssiluettelo!AC146)","v":""},{"$f":"IF(Resurssiluettelo!AD146=0,\"\",Resurssiluettelo!AD146)","v":""},{"$f":"IF(Resurssiluettelo!J146=0,\"\",Resurssiluettelo!J146)","v":""},{"$f":"IF(Resurssiluettelo!K146=0,\"\",Resurssiluettelo!K146)","v":""},{"$f":"IF(Resurssiluettelo!L146=0,\"\",Resurssiluettelo!L146)","v":""},{"$f":"IF(Resurssiluettelo!M146=0,\"\",Resurssiluettelo!M146)","v":""},{"$f":"IF(Resurssiluettelo!N146=0,\"\",Resurssiluettelo!N146)","v":""},{"$f":"IF(Resurssiluettelo!O146=0,\"\",Resurssiluettelo!O146)","v":""},{"$f":"IF(Resurssiluettelo!P146=0,\"\",Resurssiluettelo!P146)","v":""},{"$f":"IF(Resurssiluettelo!Q146=0,\"\",Resurssiluettelo!Q146)","v":""},{"$f":"IF(Resurssiluettelo!R146=0,\"\",Resurssiluettelo!R146)","v":""},{"$f":"IF(Resurssiluettelo!S146=0,\"\",Resurssiluettelo!S146)","v":""},{"$f":"IF(Resurssiluettelo!T146=0,\"\",Resurssiluettelo!T146)","v":""},{"$f":"IF(Resurssiluettelo!U146=0,\"\",Resurssiluettelo!U146)","v":""},{"$f":"IF(Resurssiluettelo!V146=0,\"\",Resurssiluettelo!V146)","v":""}]
[97,{"$f":"IF(Y100=\"\",\"\",Resurssiluettelo!$G$1)","v":""},{"$f":"IF(Y100=\"\",\"\",Resurssiluettelo!$H$14)","v":""},{"$f":"IF(Y100=\"\",\"\",Resurssiluettelo!$I$14)","v":""},{"$f":"IF(Y100=\"\",\"\",Resurssiluettelo!$J$14)","v":""},{"$f":"IF(Y100=\"\",\"\",Resurssiluettelo!$N$14)","v":""},{"$f":"IF(Y100=\"\",\"\",Resurssiluettelo!$O$14)","v":""},{"$f":"IF(Resurssiluettelo!B147=0,\"\",Resurssiluettelo!B147)","v":""},{"$f":"IF(Resurssiluettelo!C147=0,\"\",Resurssiluettelo!C147)","v":""},{"$f":"IF(Resurssiluettelo!D147=0,\"\",Resurssiluettelo!D147)","v":""},{"$f":"IF($J100=\"\",\"\",VLOOKUP($J100, Resurssiluettelo!$D$21:$X$40,Ohjeistus!K$98-1,FALSE))","v":""},{"$f":"IF($J100=\"\",\"\",VLOOKUP($J100, Resurssiluettelo!$D$21:$X$40,Ohjeistus!L$98-1,FALSE))","v":""},{"$f":"IF($J100=\"\",\"\",VLOOKUP($J100, Resurssiluettelo!$D$21:$X$40,Ohjeistus!M$98-1,FALSE))","v":""},{"$f":"IF($J100=\"\",\"\",VLOOKUP($J100, Resurssiluettelo!$D$21:$X$40,Ohjeistus!N$98-1,FALSE))","v":""},{"$f":"IF($J100=\"\",\"\",VLOOKUP($J100, Resurssiluettelo!$D$21:$X$40,Ohjeistus!O$98-1,FALSE))","v":""},{"$f":"IF($J100=\"\",\"\",VLOOKUP($J100, Resurssiluettelo!$D$21:$X$40,Ohjeistus!P$98-1,FALSE))","v":""},{"$f":"IF($J100=\"\",IF($I100=\"\",\"\",VLOOKUP($I100, Resurssiluettelo!$C$21:$X$40,Ohjeistus!Q$98,FALSE)),VLOOKUP($J100, Resurssiluettelo!$D$21:$X$40,Ohjeistus!Q$98-1,FALSE))","v":""},{"$f":"IF($J100=\"\",IF($I100=\"\",\"\",VLOOKUP($I100, Resurssiluettelo!$C$21:$X$40,Ohjeistus!R$98,FALSE)),VLOOKUP($J100, Resurssiluettelo!$D$21:$X$40,Ohjeistus!R$98-1,FALSE))","v":""},{"$f":"IF($J100=\"\",IF($I100=\"\",\"\",VLOOKUP($I100, Resurssiluettelo!$C$21:$X$40,Ohjeistus!S$98,FALSE)),VLOOKUP($J100, Resurssiluettelo!$D$21:$X$40,Ohjeistus!S$98-1,FALSE))","v":""},{"$f":"IF($J100=\"\",IF($I100=\"\",\"\",VLOOKUP($I100, Resurssiluettelo!$C$21:$X$40,Ohjeistus!T$98,FALSE)),VLOOKUP($J100, Resurssiluettelo!$D$21:$X$40,Ohjeistus!T$98-1,FALSE))","v":""},{"$f":"IF($J100=\"\",\"\",VLOOKUP($J100, Resurssiluettelo!$D$21:$X$40,Ohjeistus!U$98-1,FALSE))","v":""},{"$f":"IF($J100=\"\",\"\",VLOOKUP($J100, Resurssiluettelo!$D$21:$X$40,Ohjeistus!V$98-1,FALSE))","v":""},{"$f":"IF($J100=\"\",\"\",VLOOKUP($J100, Resurssiluettelo!$D$21:$X$40,Ohjeistus!W$98-1,FALSE))","v":""},{"$f":"IF($J100=\"\",\"\",VLOOKUP($J100, Resurssiluettelo!$D$21:$X$40,Ohjeistus!X$98-1,FALSE))","v":""},{"$f":"IF(Resurssiluettelo!E147=0,\"\",Resurssiluettelo!E147)","v":""},{"$f":"IF(Resurssiluettelo!F147=0,\"\",YEAR(Resurssiluettelo!F147)&IF(MONTH(Resurssiluettelo!F147)<10,\"0\",\"\")&MONTH(Resurssiluettelo!F147)&IF(DAY(Resurssiluettelo!F147)<10,\"0\",\"\")&DAY(Resurssiluettelo!F147))","v":""},{"$f":"IF(Resurssiluettelo!G147=0,\"\",Resurssiluettelo!G147)","v":""},{"$f":"IF(Resurssiluettelo!H147=0,\"\",Resurssiluettelo!H147)","v":""},{"$f":"IF(Resurssiluettelo!I147=0,\"\",Resurssiluettelo!I147)","v":""},{"$f":"IF(Resurssiluettelo!W147=0,\"\",Resurssiluettelo!W147)","v":""},{"$f":"IF(Resurssiluettelo!X147=0,\"\",Resurssiluettelo!X147)","v":""},{"$f":"IF(Resurssiluettelo!Y147=0,\"\",Resurssiluettelo!Y147)","v":""},{"$f":"IF(Resurssiluettelo!Z147=0,\"\",Resurssiluettelo!Z147)","v":""},{"$f":"IF(Resurssiluettelo!AA147=0,\"\",Resurssiluettelo!AA147)","v":""},{"$f":"IF(Resurssiluettelo!AB147=0,\"\",Resurssiluettelo!AB147)","v":""},{"$f":"IF(Resurssiluettelo!AC147=0,\"\",Resurssiluettelo!AC147)","v":""},{"$f":"IF(Resurssiluettelo!AD147=0,\"\",Resurssiluettelo!AD147)","v":""},{"$f":"IF(Resurssiluettelo!J147=0,\"\",Resurssiluettelo!J147)","v":""},{"$f":"IF(Resurssiluettelo!K147=0,\"\",Resurssiluettelo!K147)","v":""},{"$f":"IF(Resurssiluettelo!L147=0,\"\",Resurssiluettelo!L147)","v":""},{"$f":"IF(Resurssiluettelo!M147=0,\"\",Resurssiluettelo!M147)","v":""},{"$f":"IF(Resurssiluettelo!N147=0,\"\",Resurssiluettelo!N147)","v":""},{"$f":"IF(Resurssiluettelo!O147=0,\"\",Resurssiluettelo!O147)","v":""},{"$f":"IF(Resurssiluettelo!P147=0,\"\",Resurssiluettelo!P147)","v":""},{"$f":"IF(Resurssiluettelo!Q147=0,\"\",Resurssiluettelo!Q147)","v":""},{"$f":"IF(Resurssiluettelo!R147=0,\"\",Resurssiluettelo!R147)","v":""},{"$f":"IF(Resurssiluettelo!S147=0,\"\",Resurssiluettelo!S147)","v":""},{"$f":"IF(Resurssiluettelo!T147=0,\"\",Resurssiluettelo!T147)","v":""},{"$f":"IF(Resurssiluettelo!U147=0,\"\",Resurssiluettelo!U147)","v":""},{"$f":"IF(Resurssiluettelo!V147=0,\"\",Resurssiluettelo!V147)","v":""}]
[98,{"$f":"IF(Y101=\"\",\"\",Resurssiluettelo!$G$1)","v":""},{"$f":"IF(Y101=\"\",\"\",Resurssiluettelo!$H$14)","v":""},{"$f":"IF(Y101=\"\",\"\",Resurssiluettelo!$I$14)","v":""},{"$f":"IF(Y101=\"\",\"\",Resurssiluettelo!$J$14)","v":""},{"$f":"IF(Y101=\"\",\"\",Resurssiluettelo!$N$14)","v":""},{"$f":"IF(Y101=\"\",\"\",Resurssiluettelo!$O$14)","v":""},{"$f":"IF(Resurssiluettelo!B148=0,\"\",Resurssiluettelo!B148)","v":""},{"$f":"IF(Resurssiluettelo!C148=0,\"\",Resurssiluettelo!C148)","v":""},{"$f":"IF(Resurssiluettelo!D148=0,\"\",Resurssiluettelo!D148)","v":""},{"$f":"IF($J101=\"\",\"\",VLOOKUP($J101, Resurssiluettelo!$D$21:$X$40,Ohjeistus!K$98-1,FALSE))","v":""},{"$f":"IF($J101=\"\",\"\",VLOOKUP($J101, Resurssiluettelo!$D$21:$X$40,Ohjeistus!L$98-1,FALSE))","v":""},{"$f":"IF($J101=\"\",\"\",VLOOKUP($J101, Resurssiluettelo!$D$21:$X$40,Ohjeistus!M$98-1,FALSE))","v":""},{"$f":"IF($J101=\"\",\"\",VLOOKUP($J101, Resurssiluettelo!$D$21:$X$40,Ohjeistus!N$98-1,FALSE))","v":""},{"$f":"IF($J101=\"\",\"\",VLOOKUP($J101, Resurssiluettelo!$D$21:$X$40,Ohjeistus!O$98-1,FALSE))","v":""},{"$f":"IF($J101=\"\",\"\",VLOOKUP($J101, Resurssiluettelo!$D$21:$X$40,Ohjeistus!P$98-1,FALSE))","v":""},{"$f":"IF($J101=\"\",IF($I101=\"\",\"\",VLOOKUP($I101, Resurssiluettelo!$C$21:$X$40,Ohjeistus!Q$98,FALSE)),VLOOKUP($J101, Resurssiluettelo!$D$21:$X$40,Ohjeistus!Q$98-1,FALSE))","v":""},{"$f":"IF($J101=\"\",IF($I101=\"\",\"\",VLOOKUP($I101, Resurssiluettelo!$C$21:$X$40,Ohjeistus!R$98,FALSE)),VLOOKUP($J101, Resurssiluettelo!$D$21:$X$40,Ohjeistus!R$98-1,FALSE))","v":""},{"$f":"IF($J101=\"\",IF($I101=\"\",\"\",VLOOKUP($I101, Resurssiluettelo!$C$21:$X$40,Ohjeistus!S$98,FALSE)),VLOOKUP($J101, Resurssiluettelo!$D$21:$X$40,Ohjeistus!S$98-1,FALSE))","v":""},{"$f":"IF($J101=\"\",IF($I101=\"\",\"\",VLOOKUP($I101, Resurssiluettelo!$C$21:$X$40,Ohjeistus!T$98,FALSE)),VLOOKUP($J101, Resurssiluettelo!$D$21:$X$40,Ohjeistus!T$98-1,FALSE))","v":""},{"$f":"IF($J101=\"\",\"\",VLOOKUP($J101, Resurssiluettelo!$D$21:$X$40,Ohjeistus!U$98-1,FALSE))","v":""},{"$f":"IF($J101=\"\",\"\",VLOOKUP($J101, Resurssiluettelo!$D$21:$X$40,Ohjeistus!V$98-1,FALSE))","v":""},{"$f":"IF($J101=\"\",\"\",VLOOKUP($J101, Resurssiluettelo!$D$21:$X$40,Ohjeistus!W$98-1,FALSE))","v":""},{"$f":"IF($J101=\"\",\"\",VLOOKUP($J101, Resurssiluettelo!$D$21:$X$40,Ohjeistus!X$98-1,FALSE))","v":""},{"$f":"IF(Resurssiluettelo!E148=0,\"\",Resurssiluettelo!E148)","v":""},{"$f":"IF(Resurssiluettelo!F148=0,\"\",YEAR(Resurssiluettelo!F148)&IF(MONTH(Resurssiluettelo!F148)<10,\"0\",\"\")&MONTH(Resurssiluettelo!F148)&IF(DAY(Resurssiluettelo!F148)<10,\"0\",\"\")&DAY(Resurssiluettelo!F148))","v":""},{"$f":"IF(Resurssiluettelo!G148=0,\"\",Resurssiluettelo!G148)","v":""},{"$f":"IF(Resurssiluettelo!H148=0,\"\",Resurssiluettelo!H148)","v":""},{"$f":"IF(Resurssiluettelo!I148=0,\"\",Resurssiluettelo!I148)","v":""},{"$f":"IF(Resurssiluettelo!W148=0,\"\",Resurssiluettelo!W148)","v":""},{"$f":"IF(Resurssiluettelo!X148=0,\"\",Resurssiluettelo!X148)","v":""},{"$f":"IF(Resurssiluettelo!Y148=0,\"\",Resurssiluettelo!Y148)","v":""},{"$f":"IF(Resurssiluettelo!Z148=0,\"\",Resurssiluettelo!Z148)","v":""},{"$f":"IF(Resurssiluettelo!AA148=0,\"\",Resurssiluettelo!AA148)","v":""},{"$f":"IF(Resurssiluettelo!AB148=0,\"\",Resurssiluettelo!AB148)","v":""},{"$f":"IF(Resurssiluettelo!AC148=0,\"\",Resurssiluettelo!AC148)","v":""},{"$f":"IF(Resurssiluettelo!AD148=0,\"\",Resurssiluettelo!AD148)","v":""},{"$f":"IF(Resurssiluettelo!J148=0,\"\",Resurssiluettelo!J148)","v":""},{"$f":"IF(Resurssiluettelo!K148=0,\"\",Resurssiluettelo!K148)","v":""},{"$f":"IF(Resurssiluettelo!L148=0,\"\",Resurssiluettelo!L148)","v":""},{"$f":"IF(Resurssiluettelo!M148=0,\"\",Resurssiluettelo!M148)","v":""},{"$f":"IF(Resurssiluettelo!N148=0,\"\",Resurssiluettelo!N148)","v":""},{"$f":"IF(Resurssiluettelo!O148=0,\"\",Resurssiluettelo!O148)","v":""},{"$f":"IF(Resurssiluettelo!P148=0,\"\",Resurssiluettelo!P148)","v":""},{"$f":"IF(Resurssiluettelo!Q148=0,\"\",Resurssiluettelo!Q148)","v":""},{"$f":"IF(Resurssiluettelo!R148=0,\"\",Resurssiluettelo!R148)","v":""},{"$f":"IF(Resurssiluettelo!S148=0,\"\",Resurssiluettelo!S148)","v":""},{"$f":"IF(Resurssiluettelo!T148=0,\"\",Resurssiluettelo!T148)","v":""},{"$f":"IF(Resurssiluettelo!U148=0,\"\",Resurssiluettelo!U148)","v":""},{"$f":"IF(Resurssiluettelo!V148=0,\"\",Resurssiluettelo!V148)","v":""}]
[99,{"$f":"IF(Y102=\"\",\"\",Resurssiluettelo!$G$1)","v":""},{"$f":"IF(Y102=\"\",\"\",Resurssiluettelo!$H$14)","v":""},{"$f":"IF(Y102=\"\",\"\",Resurssiluettelo!$I$14)","v":""},{"$f":"IF(Y102=\"\",\"\",Resurssiluettelo!$J$14)","v":""},{"$f":"IF(Y102=\"\",\"\",Resurssiluettelo!$N$14)","v":""},{"$f":"IF(Y102=\"\",\"\",Resurssiluettelo!$O$14)","v":""},{"$f":"IF(Resurssiluettelo!B149=0,\"\",Resurssiluettelo!B149)","v":""},{"$f":"IF(Resurssiluettelo!C149=0,\"\",Resurssiluettelo!C149)","v":""},{"$f":"IF(Resurssiluettelo!D149=0,\"\",Resurssiluettelo!D149)","v":""},{"$f":"IF($J102=\"\",\"\",VLOOKUP($J102, Resurssiluettelo!$D$21:$X$40,Ohjeistus!K$98-1,FALSE))","v":""},{"$f":"IF($J102=\"\",\"\",VLOOKUP($J102, Resurssiluettelo!$D$21:$X$40,Ohjeistus!L$98-1,FALSE))","v":""},{"$f":"IF($J102=\"\",\"\",VLOOKUP($J102, Resurssiluettelo!$D$21:$X$40,Ohjeistus!M$98-1,FALSE))","v":""},{"$f":"IF($J102=\"\",\"\",VLOOKUP($J102, Resurssiluettelo!$D$21:$X$40,Ohjeistus!N$98-1,FALSE))","v":""},{"$f":"IF($J102=\"\",\"\",VLOOKUP($J102, Resurssiluettelo!$D$21:$X$40,Ohjeistus!O$98-1,FALSE))","v":""},{"$f":"IF($J102=\"\",\"\",VLOOKUP($J102, Resurssiluettelo!$D$21:$X$40,Ohjeistus!P$98-1,FALSE))","v":""},{"$f":"IF($J102=\"\",IF($I102=\"\",\"\",VLOOKUP($I102, Resurssiluettelo!$C$21:$X$40,Ohjeistus!Q$98,FALSE)),VLOOKUP($J102, Resurssiluettelo!$D$21:$X$40,Ohjeistus!Q$98-1,FALSE))","v":""},{"$f":"IF($J102=\"\",IF($I102=\"\",\"\",VLOOKUP($I102, Resurssiluettelo!$C$21:$X$40,Ohjeistus!R$98,FALSE)),VLOOKUP($J102, Resurssiluettelo!$D$21:$X$40,Ohjeistus!R$98-1,FALSE))","v":""},{"$f":"IF($J102=\"\",IF($I102=\"\",\"\",VLOOKUP($I102, Resurssiluettelo!$C$21:$X$40,Ohjeistus!S$98,FALSE)),VLOOKUP($J102, Resurssiluettelo!$D$21:$X$40,Ohjeistus!S$98-1,FALSE))","v":""},{"$f":"IF($J102=\"\",IF($I102=\"\",\"\",VLOOKUP($I102, Resurssiluettelo!$C$21:$X$40,Ohjeistus!T$98,FALSE)),VLOOKUP($J102, Resurssiluettelo!$D$21:$X$40,Ohjeistus!T$98-1,FALSE))","v":""},{"$f":"IF($J102=\"\",\"\",VLOOKUP($J102, Resurssiluettelo!$D$21:$X$40,Ohjeistus!U$98-1,FALSE))","v":""},{"$f":"IF($J102=\"\",\"\",VLOOKUP($J102, Resurssiluettelo!$D$21:$X$40,Ohjeistus!V$98-1,FALSE))","v":""},{"$f":"IF($J102=\"\",\"\",VLOOKUP($J102, Resurssiluettelo!$D$21:$X$40,Ohjeistus!W$98-1,FALSE))","v":""},{"$f":"IF($J102=\"\",\"\",VLOOKUP($J102, Resurssiluettelo!$D$21:$X$40,Ohjeistus!X$98-1,FALSE))","v":""},{"$f":"IF(Resurssiluettelo!E149=0,\"\",Resurssiluettelo!E149)","v":""},{"$f":"IF(Resurssiluettelo!F149=0,\"\",YEAR(Resurssiluettelo!F149)&IF(MONTH(Resurssiluettelo!F149)<10,\"0\",\"\")&MONTH(Resurssiluettelo!F149)&IF(DAY(Resurssiluettelo!F149)<10,\"0\",\"\")&DAY(Resurssiluettelo!F149))","v":""},{"$f":"IF(Resurssiluettelo!G149=0,\"\",Resurssiluettelo!G149)","v":""},{"$f":"IF(Resurssiluettelo!H149=0,\"\",Resurssiluettelo!H149)","v":""},{"$f":"IF(Resurssiluettelo!I149=0,\"\",Resurssiluettelo!I149)","v":""},{"$f":"IF(Resurssiluettelo!W149=0,\"\",Resurssiluettelo!W149)","v":""},{"$f":"IF(Resurssiluettelo!X149=0,\"\",Resurssiluettelo!X149)","v":""},{"$f":"IF(Resurssiluettelo!Y149=0,\"\",Resurssiluettelo!Y149)","v":""},{"$f":"IF(Resurssiluettelo!Z149=0,\"\",Resurssiluettelo!Z149)","v":""},{"$f":"IF(Resurssiluettelo!AA149=0,\"\",Resurssiluettelo!AA149)","v":""},{"$f":"IF(Resurssiluettelo!AB149=0,\"\",Resurssiluettelo!AB149)","v":""},{"$f":"IF(Resurssiluettelo!AC149=0,\"\",Resurssiluettelo!AC149)","v":""},{"$f":"IF(Resurssiluettelo!AD149=0,\"\",Resurssiluettelo!AD149)","v":""},{"$f":"IF(Resurssiluettelo!J149=0,\"\",Resurssiluettelo!J149)","v":""},{"$f":"IF(Resurssiluettelo!K149=0,\"\",Resurssiluettelo!K149)","v":""},{"$f":"IF(Resurssiluettelo!L149=0,\"\",Resurssiluettelo!L149)","v":""},{"$f":"IF(Resurssiluettelo!M149=0,\"\",Resurssiluettelo!M149)","v":""},{"$f":"IF(Resurssiluettelo!N149=0,\"\",Resurssiluettelo!N149)","v":""},{"$f":"IF(Resurssiluettelo!O149=0,\"\",Resurssiluettelo!O149)","v":""},{"$f":"IF(Resurssiluettelo!P149=0,\"\",Resurssiluettelo!P149)","v":""},{"$f":"IF(Resurssiluettelo!Q149=0,\"\",Resurssiluettelo!Q149)","v":""},{"$f":"IF(Resurssiluettelo!R149=0,\"\",Resurssiluettelo!R149)","v":""},{"$f":"IF(Resurssiluettelo!S149=0,\"\",Resurssiluettelo!S149)","v":""},{"$f":"IF(Resurssiluettelo!T149=0,\"\",Resurssiluettelo!T149)","v":""},{"$f":"IF(Resurssiluettelo!U149=0,\"\",Resurssiluettelo!U149)","v":""},{"$f":"IF(Resurssiluettelo!V149=0,\"\",Resurssiluettelo!V149)","v":""}]
[100,{"$f":"IF(Y103=\"\",\"\",Resurssiluettelo!$G$1)","v":""},{"$f":"IF(Y103=\"\",\"\",Resurssiluettelo!$H$14)","v":""},{"$f":"IF(Y103=\"\",\"\",Resurssiluettelo!$I$14)","v":""},{"$f":"IF(Y103=\"\",\"\",Resurssiluettelo!$J$14)","v":""},{"$f":"IF(Y103=\"\",\"\",Resurssiluettelo!$N$14)","v":""},{"$f":"IF(Y103=\"\",\"\",Resurssiluettelo!$O$14)","v":""},{"$f":"IF(Resurssiluettelo!B150=0,\"\",Resurssiluettelo!B150)","v":""},{"$f":"IF(Resurssiluettelo!C150=0,\"\",Resurssiluettelo!C150)","v":""},{"$f":"IF(Resurssiluettelo!D150=0,\"\",Resurssiluettelo!D150)","v":""},{"$f":"IF($J103=\"\",\"\",VLOOKUP($J103, Resurssiluettelo!$D$21:$X$40,Ohjeistus!K$98-1,FALSE))","v":""},{"$f":"IF($J103=\"\",\"\",VLOOKUP($J103, Resurssiluettelo!$D$21:$X$40,Ohjeistus!L$98-1,FALSE))","v":""},{"$f":"IF($J103=\"\",\"\",VLOOKUP($J103, Resurssiluettelo!$D$21:$X$40,Ohjeistus!M$98-1,FALSE))","v":""},{"$f":"IF($J103=\"\",\"\",VLOOKUP($J103, Resurssiluettelo!$D$21:$X$40,Ohjeistus!N$98-1,FALSE))","v":""},{"$f":"IF($J103=\"\",\"\",VLOOKUP($J103, Resurssiluettelo!$D$21:$X$40,Ohjeistus!O$98-1,FALSE))","v":""},{"$f":"IF($J103=\"\",\"\",VLOOKUP($J103, Resurssiluettelo!$D$21:$X$40,Ohjeistus!P$98-1,FALSE))","v":""},{"$f":"IF($J103=\"\",IF($I103=\"\",\"\",VLOOKUP($I103, Resurssiluettelo!$C$21:$X$40,Ohjeistus!Q$98,FALSE)),VLOOKUP($J103, Resurssiluettelo!$D$21:$X$40,Ohjeistus!Q$98-1,FALSE))","v":""},{"$f":"IF($J103=\"\",IF($I103=\"\",\"\",VLOOKUP($I103, Resurssiluettelo!$C$21:$X$40,Ohjeistus!R$98,FALSE)),VLOOKUP($J103, Resurssiluettelo!$D$21:$X$40,Ohjeistus!R$98-1,FALSE))","v":""},{"$f":"IF($J103=\"\",IF($I103=\"\",\"\",VLOOKUP($I103, Resurssiluettelo!$C$21:$X$40,Ohjeistus!S$98,FALSE)),VLOOKUP($J103, Resurssiluettelo!$D$21:$X$40,Ohjeistus!S$98-1,FALSE))","v":""},{"$f":"IF($J103=\"\",IF($I103=\"\",\"\",VLOOKUP($I103, Resurssiluettelo!$C$21:$X$40,Ohjeistus!T$98,FALSE)),VLOOKUP($J103, Resurssiluettelo!$D$21:$X$40,Ohjeistus!T$98-1,FALSE))","v":""},{"$f":"IF($J103=\"\",\"\",VLOOKUP($J103, Resurssiluettelo!$D$21:$X$40,Ohjeistus!U$98-1,FALSE))","v":""},{"$f":"IF($J103=\"\",\"\",VLOOKUP($J103, Resurssiluettelo!$D$21:$X$40,Ohjeistus!V$98-1,FALSE))","v":""},{"$f":"IF($J103=\"\",\"\",VLOOKUP($J103, Resurssiluettelo!$D$21:$X$40,Ohjeistus!W$98-1,FALSE))","v":""},{"$f":"IF($J103=\"\",\"\",VLOOKUP($J103, Resurssiluettelo!$D$21:$X$40,Ohjeistus!X$98-1,FALSE))","v":""},{"$f":"IF(Resurssiluettelo!E150=0,\"\",Resurssiluettelo!E150)","v":""},{"$f":"IF(Resurssiluettelo!F150=0,\"\",YEAR(Resurssiluettelo!F150)&IF(MONTH(Resurssiluettelo!F150)<10,\"0\",\"\")&MONTH(Resurssiluettelo!F150)&IF(DAY(Resurssiluettelo!F150)<10,\"0\",\"\")&DAY(Resurssiluettelo!F150))","v":""},{"$f":"IF(Resurssiluettelo!G150=0,\"\",Resurssiluettelo!G150)","v":""},{"$f":"IF(Resurssiluettelo!H150=0,\"\",Resurssiluettelo!H150)","v":""},{"$f":"IF(Resurssiluettelo!I150=0,\"\",Resurssiluettelo!I150)","v":""},{"$f":"IF(Resurssiluettelo!W150=0,\"\",Resurssiluettelo!W150)","v":""},{"$f":"IF(Resurssiluettelo!X150=0,\"\",Resurssiluettelo!X150)","v":""},{"$f":"IF(Resurssiluettelo!Y150=0,\"\",Resurssiluettelo!Y150)","v":""},{"$f":"IF(Resurssiluettelo!Z150=0,\"\",Resurssiluettelo!Z150)","v":""},{"$f":"IF(Resurssiluettelo!AA150=0,\"\",Resurssiluettelo!AA150)","v":""},{"$f":"IF(Resurssiluettelo!AB150=0,\"\",Resurssiluettelo!AB150)","v":""},{"$f":"IF(Resurssiluettelo!AC150=0,\"\",Resurssiluettelo!AC150)","v":""},{"$f":"IF(Resurssiluettelo!AD150=0,\"\",Resurssiluettelo!AD150)","v":""},{"$f":"IF(Resurssiluettelo!J150=0,\"\",Resurssiluettelo!J150)","v":""},{"$f":"IF(Resurssiluettelo!K150=0,\"\",Resurssiluettelo!K150)","v":""},{"$f":"IF(Resurssiluettelo!L150=0,\"\",Resurssiluettelo!L150)","v":""},{"$f":"IF(Resurssiluettelo!M150=0,\"\",Resurssiluettelo!M150)","v":""},{"$f":"IF(Resurssiluettelo!N150=0,\"\",Resurssiluettelo!N150)","v":""},{"$f":"IF(Resurssiluettelo!O150=0,\"\",Resurssiluettelo!O150)","v":""},{"$f":"IF(Resurssiluettelo!P150=0,\"\",Resurssiluettelo!P150)","v":""},{"$f":"IF(Resurssiluettelo!Q150=0,\"\",Resurssiluettelo!Q150)","v":""},{"$f":"IF(Resurssiluettelo!R150=0,\"\",Resurssiluettelo!R150)","v":""},{"$f":"IF(Resurssiluettelo!S150=0,\"\",Resurssiluettelo!S150)","v":""},{"$f":"IF(Resurssiluettelo!T150=0,\"\",Resurssiluettelo!T150)","v":""},{"$f":"IF(Resurssiluettelo!U150=0,\"\",Resurssiluettelo!U150)","v":""},{"$f":"IF(Resurssiluettelo!V150=0,\"\",Resurssiluettelo!V150)","v":""}]
[101,{"$f":"IF(Y104=\"\",\"\",Resurssiluettelo!$G$1)","v":""},{"$f":"IF(Y104=\"\",\"\",Resurssiluettelo!$H$14)","v":""},{"$f":"IF(Y104=\"\",\"\",Resurssiluettelo!$I$14)","v":""},{"$f":"IF(Y104=\"\",\"\",Resurssiluettelo!$J$14)","v":""},{"$f":"IF(Y104=\"\",\"\",Resurssiluettelo!$N$14)","v":""},{"$f":"IF(Y104=\"\",\"\",Resurssiluettelo!$O$14)","v":""},{"$f":"IF(Resurssiluettelo!B151=0,\"\",Resurssiluettelo!B151)","v":""},{"$f":"IF(Resurssiluettelo!C151=0,\"\",Resurssiluettelo!C151)","v":""},{"$f":"IF(Resurssiluettelo!D151=0,\"\",Resurssiluettelo!D151)","v":""},{"$f":"IF($J104=\"\",\"\",VLOOKUP($J104, Resurssiluettelo!$D$21:$X$40,Ohjeistus!K$98-1,FALSE))","v":""},{"$f":"IF($J104=\"\",\"\",VLOOKUP($J104, Resurssiluettelo!$D$21:$X$40,Ohjeistus!L$98-1,FALSE))","v":""},{"$f":"IF($J104=\"\",\"\",VLOOKUP($J104, Resurssiluettelo!$D$21:$X$40,Ohjeistus!M$98-1,FALSE))","v":""},{"$f":"IF($J104=\"\",\"\",VLOOKUP($J104, Resurssiluettelo!$D$21:$X$40,Ohjeistus!N$98-1,FALSE))","v":""},{"$f":"IF($J104=\"\",\"\",VLOOKUP($J104, Resurssiluettelo!$D$21:$X$40,Ohjeistus!O$98-1,FALSE))","v":""},{"$f":"IF($J104=\"\",\"\",VLOOKUP($J104, Resurssiluettelo!$D$21:$X$40,Ohjeistus!P$98-1,FALSE))","v":""},{"$f":"IF($J104=\"\",IF($I104=\"\",\"\",VLOOKUP($I104, Resurssiluettelo!$C$21:$X$40,Ohjeistus!Q$98,FALSE)),VLOOKUP($J104, Resurssiluettelo!$D$21:$X$40,Ohjeistus!Q$98-1,FALSE))","v":""},{"$f":"IF($J104=\"\",IF($I104=\"\",\"\",VLOOKUP($I104, Resurssiluettelo!$C$21:$X$40,Ohjeistus!R$98,FALSE)),VLOOKUP($J104, Resurssiluettelo!$D$21:$X$40,Ohjeistus!R$98-1,FALSE))","v":""},{"$f":"IF($J104=\"\",IF($I104=\"\",\"\",VLOOKUP($I104, Resurssiluettelo!$C$21:$X$40,Ohjeistus!S$98,FALSE)),VLOOKUP($J104, Resurssiluettelo!$D$21:$X$40,Ohjeistus!S$98-1,FALSE))","v":""},{"$f":"IF($J104=\"\",IF($I104=\"\",\"\",VLOOKUP($I104, Resurssiluettelo!$C$21:$X$40,Ohjeistus!T$98,FALSE)),VLOOKUP($J104, Resurssiluettelo!$D$21:$X$40,Ohjeistus!T$98-1,FALSE))","v":""},{"$f":"IF($J104=\"\",\"\",VLOOKUP($J104, Resurssiluettelo!$D$21:$X$40,Ohjeistus!U$98-1,FALSE))","v":""},{"$f":"IF($J104=\"\",\"\",VLOOKUP($J104, Resurssiluettelo!$D$21:$X$40,Ohjeistus!V$98-1,FALSE))","v":""},{"$f":"IF($J104=\"\",\"\",VLOOKUP($J104, Resurssiluettelo!$D$21:$X$40,Ohjeistus!W$98-1,FALSE))","v":""},{"$f":"IF($J104=\"\",\"\",VLOOKUP($J104, Resurssiluettelo!$D$21:$X$40,Ohjeistus!X$98-1,FALSE))","v":""},{"$f":"IF(Resurssiluettelo!E151=0,\"\",Resurssiluettelo!E151)","v":""},{"$f":"IF(Resurssiluettelo!F151=0,\"\",YEAR(Resurssiluettelo!F151)&IF(MONTH(Resurssiluettelo!F151)<10,\"0\",\"\")&MONTH(Resurssiluettelo!F151)&IF(DAY(Resurssiluettelo!F151)<10,\"0\",\"\")&DAY(Resurssiluettelo!F151))","v":""},{"$f":"IF(Resurssiluettelo!G151=0,\"\",Resurssiluettelo!G151)","v":""},{"$f":"IF(Resurssiluettelo!H151=0,\"\",Resurssiluettelo!H151)","v":""},{"$f":"IF(Resurssiluettelo!I151=0,\"\",Resurssiluettelo!I151)","v":""},{"$f":"IF(Resurssiluettelo!W151=0,\"\",Resurssiluettelo!W151)","v":""},{"$f":"IF(Resurssiluettelo!X151=0,\"\",Resurssiluettelo!X151)","v":""},{"$f":"IF(Resurssiluettelo!Y151=0,\"\",Resurssiluettelo!Y151)","v":""},{"$f":"IF(Resurssiluettelo!Z151=0,\"\",Resurssiluettelo!Z151)","v":""},{"$f":"IF(Resurssiluettelo!AA151=0,\"\",Resurssiluettelo!AA151)","v":""},{"$f":"IF(Resurssiluettelo!AB151=0,\"\",Resurssiluettelo!AB151)","v":""},{"$f":"IF(Resurssiluettelo!AC151=0,\"\",Resurssiluettelo!AC151)","v":""},{"$f":"IF(Resurssiluettelo!AD151=0,\"\",Resurssiluettelo!AD151)","v":""},{"$f":"IF(Resurssiluettelo!J151=0,\"\",Resurssiluettelo!J151)","v":""},{"$f":"IF(Resurssiluettelo!K151=0,\"\",Resurssiluettelo!K151)","v":""},{"$f":"IF(Resurssiluettelo!L151=0,\"\",Resurssiluettelo!L151)","v":""},{"$f":"IF(Resurssiluettelo!M151=0,\"\",Resurssiluettelo!M151)","v":""},{"$f":"IF(Resurssiluettelo!N151=0,\"\",Resurssiluettelo!N151)","v":""},{"$f":"IF(Resurssiluettelo!O151=0,\"\",Resurssiluettelo!O151)","v":""},{"$f":"IF(Resurssiluettelo!P151=0,\"\",Resurssiluettelo!P151)","v":""},{"$f":"IF(Resurssiluettelo!Q151=0,\"\",Resurssiluettelo!Q151)","v":""},{"$f":"IF(Resurssiluettelo!R151=0,\"\",Resurssiluettelo!R151)","v":""},{"$f":"IF(Resurssiluettelo!S151=0,\"\",Resurssiluettelo!S151)","v":""},{"$f":"IF(Resurssiluettelo!T151=0,\"\",Resurssiluettelo!T151)","v":""},{"$f":"IF(Resurssiluettelo!U151=0,\"\",Resurssiluettelo!U151)","v":""},{"$f":"IF(Resurssiluettelo!V151=0,\"\",Resurssiluettelo!V151)","v":""}]
[102,{"$f":"IF(Y105=\"\",\"\",Resurssiluettelo!$G$1)","v":""},{"$f":"IF(Y105=\"\",\"\",Resurssiluettelo!$H$14)","v":""},{"$f":"IF(Y105=\"\",\"\",Resurssiluettelo!$I$14)","v":""},{"$f":"IF(Y105=\"\",\"\",Resurssiluettelo!$J$14)","v":""},{"$f":"IF(Y105=\"\",\"\",Resurssiluettelo!$N$14)","v":""},{"$f":"IF(Y105=\"\",\"\",Resurssiluettelo!$O$14)","v":""},{"$f":"IF(Resurssiluettelo!B152=0,\"\",Resurssiluettelo!B152)","v":""},{"$f":"IF(Resurssiluettelo!C152=0,\"\",Resurssiluettelo!C152)","v":""},{"$f":"IF(Resurssiluettelo!D152=0,\"\",Resurssiluettelo!D152)","v":""},{"$f":"IF($J105=\"\",\"\",VLOOKUP($J105, Resurssiluettelo!$D$21:$X$40,Ohjeistus!K$98-1,FALSE))","v":""},{"$f":"IF($J105=\"\",\"\",VLOOKUP($J105, Resurssiluettelo!$D$21:$X$40,Ohjeistus!L$98-1,FALSE))","v":""},{"$f":"IF($J105=\"\",\"\",VLOOKUP($J105, Resurssiluettelo!$D$21:$X$40,Ohjeistus!M$98-1,FALSE))","v":""},{"$f":"IF($J105=\"\",\"\",VLOOKUP($J105, Resurssiluettelo!$D$21:$X$40,Ohjeistus!N$98-1,FALSE))","v":""},{"$f":"IF($J105=\"\",\"\",VLOOKUP($J105, Resurssiluettelo!$D$21:$X$40,Ohjeistus!O$98-1,FALSE))","v":""},{"$f":"IF($J105=\"\",\"\",VLOOKUP($J105, Resurssiluettelo!$D$21:$X$40,Ohjeistus!P$98-1,FALSE))","v":""},{"$f":"IF($J105=\"\",IF($I105=\"\",\"\",VLOOKUP($I105, Resurssiluettelo!$C$21:$X$40,Ohjeistus!Q$98,FALSE)),VLOOKUP($J105, Resurssiluettelo!$D$21:$X$40,Ohjeistus!Q$98-1,FALSE))","v":""},{"$f":"IF($J105=\"\",IF($I105=\"\",\"\",VLOOKUP($I105, Resurssiluettelo!$C$21:$X$40,Ohjeistus!R$98,FALSE)),VLOOKUP($J105, Resurssiluettelo!$D$21:$X$40,Ohjeistus!R$98-1,FALSE))","v":""},{"$f":"IF($J105=\"\",IF($I105=\"\",\"\",VLOOKUP($I105, Resurssiluettelo!$C$21:$X$40,Ohjeistus!S$98,FALSE)),VLOOKUP($J105, Resurssiluettelo!$D$21:$X$40,Ohjeistus!S$98-1,FALSE))","v":""},{"$f":"IF($J105=\"\",IF($I105=\"\",\"\",VLOOKUP($I105, Resurssiluettelo!$C$21:$X$40,Ohjeistus!T$98,FALSE)),VLOOKUP($J105, Resurssiluettelo!$D$21:$X$40,Ohjeistus!T$98-1,FALSE))","v":""},{"$f":"IF($J105=\"\",\"\",VLOOKUP($J105, Resurssiluettelo!$D$21:$X$40,Ohjeistus!U$98-1,FALSE))","v":""},{"$f":"IF($J105=\"\",\"\",VLOOKUP($J105, Resurssiluettelo!$D$21:$X$40,Ohjeistus!V$98-1,FALSE))","v":""},{"$f":"IF($J105=\"\",\"\",VLOOKUP($J105, Resurssiluettelo!$D$21:$X$40,Ohjeistus!W$98-1,FALSE))","v":""},{"$f":"IF($J105=\"\",\"\",VLOOKUP($J105, Resurssiluettelo!$D$21:$X$40,Ohjeistus!X$98-1,FALSE))","v":""},{"$f":"IF(Resurssiluettelo!E152=0,\"\",Resurssiluettelo!E152)","v":""},{"$f":"IF(Resurssiluettelo!F152=0,\"\",YEAR(Resurssiluettelo!F152)&IF(MONTH(Resurssiluettelo!F152)<10,\"0\",\"\")&MONTH(Resurssiluettelo!F152)&IF(DAY(Resurssiluettelo!F152)<10,\"0\",\"\")&DAY(Resurssiluettelo!F152))","v":""},{"$f":"IF(Resurssiluettelo!G152=0,\"\",Resurssiluettelo!G152)","v":""},{"$f":"IF(Resurssiluettelo!H152=0,\"\",Resurssiluettelo!H152)","v":""},{"$f":"IF(Resurssiluettelo!I152=0,\"\",Resurssiluettelo!I152)","v":""},{"$f":"IF(Resurssiluettelo!W152=0,\"\",Resurssiluettelo!W152)","v":""},{"$f":"IF(Resurssiluettelo!X152=0,\"\",Resurssiluettelo!X152)","v":""},{"$f":"IF(Resurssiluettelo!Y152=0,\"\",Resurssiluettelo!Y152)","v":""},{"$f":"IF(Resurssiluettelo!Z152=0,\"\",Resurssiluettelo!Z152)","v":""},{"$f":"IF(Resurssiluettelo!AA152=0,\"\",Resurssiluettelo!AA152)","v":""},{"$f":"IF(Resurssiluettelo!AB152=0,\"\",Resurssiluettelo!AB152)","v":""},{"$f":"IF(Resurssiluettelo!AC152=0,\"\",Resurssiluettelo!AC152)","v":""},{"$f":"IF(Resurssiluettelo!AD152=0,\"\",Resurssiluettelo!AD152)","v":""},{"$f":"IF(Resurssiluettelo!J152=0,\"\",Resurssiluettelo!J152)","v":""},{"$f":"IF(Resurssiluettelo!K152=0,\"\",Resurssiluettelo!K152)","v":""},{"$f":"IF(Resurssiluettelo!L152=0,\"\",Resurssiluettelo!L152)","v":""},{"$f":"IF(Resurssiluettelo!M152=0,\"\",Resurssiluettelo!M152)","v":""},{"$f":"IF(Resurssiluettelo!N152=0,\"\",Resurssiluettelo!N152)","v":""},{"$f":"IF(Resurssiluettelo!O152=0,\"\",Resurssiluettelo!O152)","v":""},{"$f":"IF(Resurssiluettelo!P152=0,\"\",Resurssiluettelo!P152)","v":""},{"$f":"IF(Resurssiluettelo!Q152=0,\"\",Resurssiluettelo!Q152)","v":""},{"$f":"IF(Resurssiluettelo!R152=0,\"\",Resurssiluettelo!R152)","v":""},{"$f":"IF(Resurssiluettelo!S152=0,\"\",Resurssiluettelo!S152)","v":""},{"$f":"IF(Resurssiluettelo!T152=0,\"\",Resurssiluettelo!T152)","v":""},{"$f":"IF(Resurssiluettelo!U152=0,\"\",Resurssiluettelo!U152)","v":""},{"$f":"IF(Resurssiluettelo!V152=0,\"\",Resurssiluettelo!V152)","v":""}]
[103,{"$f":"IF(Y106=\"\",\"\",Resurssiluettelo!$G$1)","v":""},{"$f":"IF(Y106=\"\",\"\",Resurssiluettelo!$H$14)","v":""},{"$f":"IF(Y106=\"\",\"\",Resurssiluettelo!$I$14)","v":""},{"$f":"IF(Y106=\"\",\"\",Resurssiluettelo!$J$14)","v":""},{"$f":"IF(Y106=\"\",\"\",Resurssiluettelo!$N$14)","v":""},{"$f":"IF(Y106=\"\",\"\",Resurssiluettelo!$O$14)","v":""},{"$f":"IF(Resurssiluettelo!B153=0,\"\",Resurssiluettelo!B153)","v":""},{"$f":"IF(Resurssiluettelo!C153=0,\"\",Resurssiluettelo!C153)","v":""},{"$f":"IF(Resurssiluettelo!D153=0,\"\",Resurssiluettelo!D153)","v":""},{"$f":"IF($J106=\"\",\"\",VLOOKUP($J106, Resurssiluettelo!$D$21:$X$40,Ohjeistus!K$98-1,FALSE))","v":""},{"$f":"IF($J106=\"\",\"\",VLOOKUP($J106, Resurssiluettelo!$D$21:$X$40,Ohjeistus!L$98-1,FALSE))","v":""},{"$f":"IF($J106=\"\",\"\",VLOOKUP($J106, Resurssiluettelo!$D$21:$X$40,Ohjeistus!M$98-1,FALSE))","v":""},{"$f":"IF($J106=\"\",\"\",VLOOKUP($J106, Resurssiluettelo!$D$21:$X$40,Ohjeistus!N$98-1,FALSE))","v":""},{"$f":"IF($J106=\"\",\"\",VLOOKUP($J106, Resurssiluettelo!$D$21:$X$40,Ohjeistus!O$98-1,FALSE))","v":""},{"$f":"IF($J106=\"\",\"\",VLOOKUP($J106, Resurssiluettelo!$D$21:$X$40,Ohjeistus!P$98-1,FALSE))","v":""},{"$f":"IF($J106=\"\",IF($I106=\"\",\"\",VLOOKUP($I106, Resurssiluettelo!$C$21:$X$40,Ohjeistus!Q$98,FALSE)),VLOOKUP($J106, Resurssiluettelo!$D$21:$X$40,Ohjeistus!Q$98-1,FALSE))","v":""},{"$f":"IF($J106=\"\",IF($I106=\"\",\"\",VLOOKUP($I106, Resurssiluettelo!$C$21:$X$40,Ohjeistus!R$98,FALSE)),VLOOKUP($J106, Resurssiluettelo!$D$21:$X$40,Ohjeistus!R$98-1,FALSE))","v":""},{"$f":"IF($J106=\"\",IF($I106=\"\",\"\",VLOOKUP($I106, Resurssiluettelo!$C$21:$X$40,Ohjeistus!S$98,FALSE)),VLOOKUP($J106, Resurssiluettelo!$D$21:$X$40,Ohjeistus!S$98-1,FALSE))","v":""},{"$f":"IF($J106=\"\",IF($I106=\"\",\"\",VLOOKUP($I106, Resurssiluettelo!$C$21:$X$40,Ohjeistus!T$98,FALSE)),VLOOKUP($J106, Resurssiluettelo!$D$21:$X$40,Ohjeistus!T$98-1,FALSE))","v":""},{"$f":"IF($J106=\"\",\"\",VLOOKUP($J106, Resurssiluettelo!$D$21:$X$40,Ohjeistus!U$98-1,FALSE))","v":""},{"$f":"IF($J106=\"\",\"\",VLOOKUP($J106, Resurssiluettelo!$D$21:$X$40,Ohjeistus!V$98-1,FALSE))","v":""},{"$f":"IF($J106=\"\",\"\",VLOOKUP($J106, Resurssiluettelo!$D$21:$X$40,Ohjeistus!W$98-1,FALSE))","v":""},{"$f":"IF($J106=\"\",\"\",VLOOKUP($J106, Resurssiluettelo!$D$21:$X$40,Ohjeistus!X$98-1,FALSE))","v":""},{"$f":"IF(Resurssiluettelo!E153=0,\"\",Resurssiluettelo!E153)","v":""},{"$f":"IF(Resurssiluettelo!F153=0,\"\",YEAR(Resurssiluettelo!F153)&IF(MONTH(Resurssiluettelo!F153)<10,\"0\",\"\")&MONTH(Resurssiluettelo!F153)&IF(DAY(Resurssiluettelo!F153)<10,\"0\",\"\")&DAY(Resurssiluettelo!F153))","v":""},{"$f":"IF(Resurssiluettelo!G153=0,\"\",Resurssiluettelo!G153)","v":""},{"$f":"IF(Resurssiluettelo!H153=0,\"\",Resurssiluettelo!H153)","v":""},{"$f":"IF(Resurssiluettelo!I153=0,\"\",Resurssiluettelo!I153)","v":""},{"$f":"IF(Resurssiluettelo!W153=0,\"\",Resurssiluettelo!W153)","v":""},{"$f":"IF(Resurssiluettelo!X153=0,\"\",Resurssiluettelo!X153)","v":""},{"$f":"IF(Resurssiluettelo!Y153=0,\"\",Resurssiluettelo!Y153)","v":""},{"$f":"IF(Resurssiluettelo!Z153=0,\"\",Resurssiluettelo!Z153)","v":""},{"$f":"IF(Resurssiluettelo!AA153=0,\"\",Resurssiluettelo!AA153)","v":""},{"$f":"IF(Resurssiluettelo!AB153=0,\"\",Resurssiluettelo!AB153)","v":""},{"$f":"IF(Resurssiluettelo!AC153=0,\"\",Resurssiluettelo!AC153)","v":""},{"$f":"IF(Resurssiluettelo!AD153=0,\"\",Resurssiluettelo!AD153)","v":""},{"$f":"IF(Resurssiluettelo!J153=0,\"\",Resurssiluettelo!J153)","v":""},{"$f":"IF(Resurssiluettelo!K153=0,\"\",Resurssiluettelo!K153)","v":""},{"$f":"IF(Resurssiluettelo!L153=0,\"\",Resurssiluettelo!L153)","v":""},{"$f":"IF(Resurssiluettelo!M153=0,\"\",Resurssiluettelo!M153)","v":""},{"$f":"IF(Resurssiluettelo!N153=0,\"\",Resurssiluettelo!N153)","v":""},{"$f":"IF(Resurssiluettelo!O153=0,\"\",Resurssiluettelo!O153)","v":""},{"$f":"IF(Resurssiluettelo!P153=0,\"\",Resurssiluettelo!P153)","v":""},{"$f":"IF(Resurssiluettelo!Q153=0,\"\",Resurssiluettelo!Q153)","v":""},{"$f":"IF(Resurssiluettelo!R153=0,\"\",Resurssiluettelo!R153)","v":""},{"$f":"IF(Resurssiluettelo!S153=0,\"\",Resurssiluettelo!S153)","v":""},{"$f":"IF(Resurssiluettelo!T153=0,\"\",Resurssiluettelo!T153)","v":""},{"$f":"IF(Resurssiluettelo!U153=0,\"\",Resurssiluettelo!U153)","v":""},{"$f":"IF(Resurssiluettelo!V153=0,\"\",Resurssiluettelo!V153)","v":""}]
[104,{"$f":"IF(Y107=\"\",\"\",Resurssiluettelo!$G$1)","v":""},{"$f":"IF(Y107=\"\",\"\",Resurssiluettelo!$H$14)","v":""},{"$f":"IF(Y107=\"\",\"\",Resurssiluettelo!$I$14)","v":""},{"$f":"IF(Y107=\"\",\"\",Resurssiluettelo!$J$14)","v":""},{"$f":"IF(Y107=\"\",\"\",Resurssiluettelo!$N$14)","v":""},{"$f":"IF(Y107=\"\",\"\",Resurssiluettelo!$O$14)","v":""},{"$f":"IF(Resurssiluettelo!B154=0,\"\",Resurssiluettelo!B154)","v":""},{"$f":"IF(Resurssiluettelo!C154=0,\"\",Resurssiluettelo!C154)","v":""},{"$f":"IF(Resurssiluettelo!D154=0,\"\",Resurssiluettelo!D154)","v":""},{"$f":"IF($J107=\"\",\"\",VLOOKUP($J107, Resurssiluettelo!$D$21:$X$40,Ohjeistus!K$98-1,FALSE))","v":""},{"$f":"IF($J107=\"\",\"\",VLOOKUP($J107, Resurssiluettelo!$D$21:$X$40,Ohjeistus!L$98-1,FALSE))","v":""},{"$f":"IF($J107=\"\",\"\",VLOOKUP($J107, Resurssiluettelo!$D$21:$X$40,Ohjeistus!M$98-1,FALSE))","v":""},{"$f":"IF($J107=\"\",\"\",VLOOKUP($J107, Resurssiluettelo!$D$21:$X$40,Ohjeistus!N$98-1,FALSE))","v":""},{"$f":"IF($J107=\"\",\"\",VLOOKUP($J107, Resurssiluettelo!$D$21:$X$40,Ohjeistus!O$98-1,FALSE))","v":""},{"$f":"IF($J107=\"\",\"\",VLOOKUP($J107, Resurssiluettelo!$D$21:$X$40,Ohjeistus!P$98-1,FALSE))","v":""},{"$f":"IF($J107=\"\",IF($I107=\"\",\"\",VLOOKUP($I107, Resurssiluettelo!$C$21:$X$40,Ohjeistus!Q$98,FALSE)),VLOOKUP($J107, Resurssiluettelo!$D$21:$X$40,Ohjeistus!Q$98-1,FALSE))","v":""},{"$f":"IF($J107=\"\",IF($I107=\"\",\"\",VLOOKUP($I107, Resurssiluettelo!$C$21:$X$40,Ohjeistus!R$98,FALSE)),VLOOKUP($J107, Resurssiluettelo!$D$21:$X$40,Ohjeistus!R$98-1,FALSE))","v":""},{"$f":"IF($J107=\"\",IF($I107=\"\",\"\",VLOOKUP($I107, Resurssiluettelo!$C$21:$X$40,Ohjeistus!S$98,FALSE)),VLOOKUP($J107, Resurssiluettelo!$D$21:$X$40,Ohjeistus!S$98-1,FALSE))","v":""},{"$f":"IF($J107=\"\",IF($I107=\"\",\"\",VLOOKUP($I107, Resurssiluettelo!$C$21:$X$40,Ohjeistus!T$98,FALSE)),VLOOKUP($J107, Resurssiluettelo!$D$21:$X$40,Ohjeistus!T$98-1,FALSE))","v":""},{"$f":"IF($J107=\"\",\"\",VLOOKUP($J107, Resurssiluettelo!$D$21:$X$40,Ohjeistus!U$98-1,FALSE))","v":""},{"$f":"IF($J107=\"\",\"\",VLOOKUP($J107, Resurssiluettelo!$D$21:$X$40,Ohjeistus!V$98-1,FALSE))","v":""},{"$f":"IF($J107=\"\",\"\",VLOOKUP($J107, Resurssiluettelo!$D$21:$X$40,Ohjeistus!W$98-1,FALSE))","v":""},{"$f":"IF($J107=\"\",\"\",VLOOKUP($J107, Resurssiluettelo!$D$21:$X$40,Ohjeistus!X$98-1,FALSE))","v":""},{"$f":"IF(Resurssiluettelo!E154=0,\"\",Resurssiluettelo!E154)","v":""},{"$f":"IF(Resurssiluettelo!F154=0,\"\",YEAR(Resurssiluettelo!F154)&IF(MONTH(Resurssiluettelo!F154)<10,\"0\",\"\")&MONTH(Resurssiluettelo!F154)&IF(DAY(Resurssiluettelo!F154)<10,\"0\",\"\")&DAY(Resurssiluettelo!F154))","v":""},{"$f":"IF(Resurssiluettelo!G154=0,\"\",Resurssiluettelo!G154)","v":""},{"$f":"IF(Resurssiluettelo!H154=0,\"\",Resurssiluettelo!H154)","v":""},{"$f":"IF(Resurssiluettelo!I154=0,\"\",Resurssiluettelo!I154)","v":""},{"$f":"IF(Resurssiluettelo!W154=0,\"\",Resurssiluettelo!W154)","v":""},{"$f":"IF(Resurssiluettelo!X154=0,\"\",Resurssiluettelo!X154)","v":""},{"$f":"IF(Resurssiluettelo!Y154=0,\"\",Resurssiluettelo!Y154)","v":""},{"$f":"IF(Resurssiluettelo!Z154=0,\"\",Resurssiluettelo!Z154)","v":""},{"$f":"IF(Resurssiluettelo!AA154=0,\"\",Resurssiluettelo!AA154)","v":""},{"$f":"IF(Resurssiluettelo!AB154=0,\"\",Resurssiluettelo!AB154)","v":""},{"$f":"IF(Resurssiluettelo!AC154=0,\"\",Resurssiluettelo!AC154)","v":""},{"$f":"IF(Resurssiluettelo!AD154=0,\"\",Resurssiluettelo!AD154)","v":""},{"$f":"IF(Resurssiluettelo!J154=0,\"\",Resurssiluettelo!J154)","v":""},{"$f":"IF(Resurssiluettelo!K154=0,\"\",Resurssiluettelo!K154)","v":""},{"$f":"IF(Resurssiluettelo!L154=0,\"\",Resurssiluettelo!L154)","v":""},{"$f":"IF(Resurssiluettelo!M154=0,\"\",Resurssiluettelo!M154)","v":""},{"$f":"IF(Resurssiluettelo!N154=0,\"\",Resurssiluettelo!N154)","v":""},{"$f":"IF(Resurssiluettelo!O154=0,\"\",Resurssiluettelo!O154)","v":""},{"$f":"IF(Resurssiluettelo!P154=0,\"\",Resurssiluettelo!P154)","v":""},{"$f":"IF(Resurssiluettelo!Q154=0,\"\",Resurssiluettelo!Q154)","v":""},{"$f":"IF(Resurssiluettelo!R154=0,\"\",Resurssiluettelo!R154)","v":""},{"$f":"IF(Resurssiluettelo!S154=0,\"\",Resurssiluettelo!S154)","v":""},{"$f":"IF(Resurssiluettelo!T154=0,\"\",Resurssiluettelo!T154)","v":""},{"$f":"IF(Resurssiluettelo!U154=0,\"\",Resurssiluettelo!U154)","v":""},{"$f":"IF(Resurssiluettelo!V154=0,\"\",Resurssiluettelo!V154)","v":""}]
[105,{"$f":"IF(Y108=\"\",\"\",Resurssiluettelo!$G$1)","v":""},{"$f":"IF(Y108=\"\",\"\",Resurssiluettelo!$H$14)","v":""},{"$f":"IF(Y108=\"\",\"\",Resurssiluettelo!$I$14)","v":""},{"$f":"IF(Y108=\"\",\"\",Resurssiluettelo!$J$14)","v":""},{"$f":"IF(Y108=\"\",\"\",Resurssiluettelo!$N$14)","v":""},{"$f":"IF(Y108=\"\",\"\",Resurssiluettelo!$O$14)","v":""},{"$f":"IF(Resurssiluettelo!B155=0,\"\",Resurssiluettelo!B155)","v":""},{"$f":"IF(Resurssiluettelo!C155=0,\"\",Resurssiluettelo!C155)","v":""},{"$f":"IF(Resurssiluettelo!D155=0,\"\",Resurssiluettelo!D155)","v":""},{"$f":"IF($J108=\"\",\"\",VLOOKUP($J108, Resurssiluettelo!$D$21:$X$40,Ohjeistus!K$98-1,FALSE))","v":""},{"$f":"IF($J108=\"\",\"\",VLOOKUP($J108, Resurssiluettelo!$D$21:$X$40,Ohjeistus!L$98-1,FALSE))","v":""},{"$f":"IF($J108=\"\",\"\",VLOOKUP($J108, Resurssiluettelo!$D$21:$X$40,Ohjeistus!M$98-1,FALSE))","v":""},{"$f":"IF($J108=\"\",\"\",VLOOKUP($J108, Resurssiluettelo!$D$21:$X$40,Ohjeistus!N$98-1,FALSE))","v":""},{"$f":"IF($J108=\"\",\"\",VLOOKUP($J108, Resurssiluettelo!$D$21:$X$40,Ohjeistus!O$98-1,FALSE))","v":""},{"$f":"IF($J108=\"\",\"\",VLOOKUP($J108, Resurssiluettelo!$D$21:$X$40,Ohjeistus!P$98-1,FALSE))","v":""},{"$f":"IF($J108=\"\",IF($I108=\"\",\"\",VLOOKUP($I108, Resurssiluettelo!$C$21:$X$40,Ohjeistus!Q$98,FALSE)),VLOOKUP($J108, Resurssiluettelo!$D$21:$X$40,Ohjeistus!Q$98-1,FALSE))","v":""},{"$f":"IF($J108=\"\",IF($I108=\"\",\"\",VLOOKUP($I108, Resurssiluettelo!$C$21:$X$40,Ohjeistus!R$98,FALSE)),VLOOKUP($J108, Resurssiluettelo!$D$21:$X$40,Ohjeistus!R$98-1,FALSE))","v":""},{"$f":"IF($J108=\"\",IF($I108=\"\",\"\",VLOOKUP($I108, Resurssiluettelo!$C$21:$X$40,Ohjeistus!S$98,FALSE)),VLOOKUP($J108, Resurssiluettelo!$D$21:$X$40,Ohjeistus!S$98-1,FALSE))","v":""},{"$f":"IF($J108=\"\",IF($I108=\"\",\"\",VLOOKUP($I108, Resurssiluettelo!$C$21:$X$40,Ohjeistus!T$98,FALSE)),VLOOKUP($J108, Resurssiluettelo!$D$21:$X$40,Ohjeistus!T$98-1,FALSE))","v":""},{"$f":"IF($J108=\"\",\"\",VLOOKUP($J108, Resurssiluettelo!$D$21:$X$40,Ohjeistus!U$98-1,FALSE))","v":""},{"$f":"IF($J108=\"\",\"\",VLOOKUP($J108, Resurssiluettelo!$D$21:$X$40,Ohjeistus!V$98-1,FALSE))","v":""},{"$f":"IF($J108=\"\",\"\",VLOOKUP($J108, Resurssiluettelo!$D$21:$X$40,Ohjeistus!W$98-1,FALSE))","v":""},{"$f":"IF($J108=\"\",\"\",VLOOKUP($J108, Resurssiluettelo!$D$21:$X$40,Ohjeistus!X$98-1,FALSE))","v":""},{"$f":"IF(Resurssiluettelo!E155=0,\"\",Resurssiluettelo!E155)","v":""},{"$f":"IF(Resurssiluettelo!F155=0,\"\",YEAR(Resurssiluettelo!F155)&IF(MONTH(Resurssiluettelo!F155)<10,\"0\",\"\")&MONTH(Resurssiluettelo!F155)&IF(DAY(Resurssiluettelo!F155)<10,\"0\",\"\")&DAY(Resurssiluettelo!F155))","v":""},{"$f":"IF(Resurssiluettelo!G155=0,\"\",Resurssiluettelo!G155)","v":""},{"$f":"IF(Resurssiluettelo!H155=0,\"\",Resurssiluettelo!H155)","v":""},{"$f":"IF(Resurssiluettelo!I155=0,\"\",Resurssiluettelo!I155)","v":""},{"$f":"IF(Resurssiluettelo!W155=0,\"\",Resurssiluettelo!W155)","v":""},{"$f":"IF(Resurssiluettelo!X155=0,\"\",Resurssiluettelo!X155)","v":""},{"$f":"IF(Resurssiluettelo!Y155=0,\"\",Resurssiluettelo!Y155)","v":""},{"$f":"IF(Resurssiluettelo!Z155=0,\"\",Resurssiluettelo!Z155)","v":""},{"$f":"IF(Resurssiluettelo!AA155=0,\"\",Resurssiluettelo!AA155)","v":""},{"$f":"IF(Resurssiluettelo!AB155=0,\"\",Resurssiluettelo!AB155)","v":""},{"$f":"IF(Resurssiluettelo!AC155=0,\"\",Resurssiluettelo!AC155)","v":""},{"$f":"IF(Resurssiluettelo!AD155=0,\"\",Resurssiluettelo!AD155)","v":""},{"$f":"IF(Resurssiluettelo!J155=0,\"\",Resurssiluettelo!J155)","v":""},{"$f":"IF(Resurssiluettelo!K155=0,\"\",Resurssiluettelo!K155)","v":""},{"$f":"IF(Resurssiluettelo!L155=0,\"\",Resurssiluettelo!L155)","v":""},{"$f":"IF(Resurssiluettelo!M155=0,\"\",Resurssiluettelo!M155)","v":""},{"$f":"IF(Resurssiluettelo!N155=0,\"\",Resurssiluettelo!N155)","v":""},{"$f":"IF(Resurssiluettelo!O155=0,\"\",Resurssiluettelo!O155)","v":""},{"$f":"IF(Resurssiluettelo!P155=0,\"\",Resurssiluettelo!P155)","v":""},{"$f":"IF(Resurssiluettelo!Q155=0,\"\",Resurssiluettelo!Q155)","v":""},{"$f":"IF(Resurssiluettelo!R155=0,\"\",Resurssiluettelo!R155)","v":""},{"$f":"IF(Resurssiluettelo!S155=0,\"\",Resurssiluettelo!S155)","v":""},{"$f":"IF(Resurssiluettelo!T155=0,\"\",Resurssiluettelo!T155)","v":""},{"$f":"IF(Resurssiluettelo!U155=0,\"\",Resurssiluettelo!U155)","v":""},{"$f":"IF(Resurssiluettelo!V155=0,\"\",Resurssiluettelo!V155)","v":""}]
[106,{"$f":"IF(Y109=\"\",\"\",Resurssiluettelo!$G$1)","v":""},{"$f":"IF(Y109=\"\",\"\",Resurssiluettelo!$H$14)","v":""},{"$f":"IF(Y109=\"\",\"\",Resurssiluettelo!$I$14)","v":""},{"$f":"IF(Y109=\"\",\"\",Resurssiluettelo!$J$14)","v":""},{"$f":"IF(Y109=\"\",\"\",Resurssiluettelo!$N$14)","v":""},{"$f":"IF(Y109=\"\",\"\",Resurssiluettelo!$O$14)","v":""},{"$f":"IF(Resurssiluettelo!B156=0,\"\",Resurssiluettelo!B156)","v":""},{"$f":"IF(Resurssiluettelo!C156=0,\"\",Resurssiluettelo!C156)","v":""},{"$f":"IF(Resurssiluettelo!D156=0,\"\",Resurssiluettelo!D156)","v":""},{"$f":"IF($J109=\"\",\"\",VLOOKUP($J109, Resurssiluettelo!$D$21:$X$40,Ohjeistus!K$98-1,FALSE))","v":""},{"$f":"IF($J109=\"\",\"\",VLOOKUP($J109, Resurssiluettelo!$D$21:$X$40,Ohjeistus!L$98-1,FALSE))","v":""},{"$f":"IF($J109=\"\",\"\",VLOOKUP($J109, Resurssiluettelo!$D$21:$X$40,Ohjeistus!M$98-1,FALSE))","v":""},{"$f":"IF($J109=\"\",\"\",VLOOKUP($J109, Resurssiluettelo!$D$21:$X$40,Ohjeistus!N$98-1,FALSE))","v":""},{"$f":"IF($J109=\"\",\"\",VLOOKUP($J109, Resurssiluettelo!$D$21:$X$40,Ohjeistus!O$98-1,FALSE))","v":""},{"$f":"IF($J109=\"\",\"\",VLOOKUP($J109, Resurssiluettelo!$D$21:$X$40,Ohjeistus!P$98-1,FALSE))","v":""},{"$f":"IF($J109=\"\",IF($I109=\"\",\"\",VLOOKUP($I109, Resurssiluettelo!$C$21:$X$40,Ohjeistus!Q$98,FALSE)),VLOOKUP($J109, Resurssiluettelo!$D$21:$X$40,Ohjeistus!Q$98-1,FALSE))","v":""},{"$f":"IF($J109=\"\",IF($I109=\"\",\"\",VLOOKUP($I109, Resurssiluettelo!$C$21:$X$40,Ohjeistus!R$98,FALSE)),VLOOKUP($J109, Resurssiluettelo!$D$21:$X$40,Ohjeistus!R$98-1,FALSE))","v":""},{"$f":"IF($J109=\"\",IF($I109=\"\",\"\",VLOOKUP($I109, Resurssiluettelo!$C$21:$X$40,Ohjeistus!S$98,FALSE)),VLOOKUP($J109, Resurssiluettelo!$D$21:$X$40,Ohjeistus!S$98-1,FALSE))","v":""},{"$f":"IF($J109=\"\",IF($I109=\"\",\"\",VLOOKUP($I109, Resurssiluettelo!$C$21:$X$40,Ohjeistus!T$98,FALSE)),VLOOKUP($J109, Resurssiluettelo!$D$21:$X$40,Ohjeistus!T$98-1,FALSE))","v":""},{"$f":"IF($J109=\"\",\"\",VLOOKUP($J109, Resurssiluettelo!$D$21:$X$40,Ohjeistus!U$98-1,FALSE))","v":""},{"$f":"IF($J109=\"\",\"\",VLOOKUP($J109, Resurssiluettelo!$D$21:$X$40,Ohjeistus!V$98-1,FALSE))","v":""},{"$f":"IF($J109=\"\",\"\",VLOOKUP($J109, Resurssiluettelo!$D$21:$X$40,Ohjeistus!W$98-1,FALSE))","v":""},{"$f":"IF($J109=\"\",\"\",VLOOKUP($J109, Resurssiluettelo!$D$21:$X$40,Ohjeistus!X$98-1,FALSE))","v":""},{"$f":"IF(Resurssiluettelo!E156=0,\"\",Resurssiluettelo!E156)","v":""},{"$f":"IF(Resurssiluettelo!F156=0,\"\",YEAR(Resurssiluettelo!F156)&IF(MONTH(Resurssiluettelo!F156)<10,\"0\",\"\")&MONTH(Resurssiluettelo!F156)&IF(DAY(Resurssiluettelo!F156)<10,\"0\",\"\")&DAY(Resurssiluettelo!F156))","v":""},{"$f":"IF(Resurssiluettelo!G156=0,\"\",Resurssiluettelo!G156)","v":""},{"$f":"IF(Resurssiluettelo!H156=0,\"\",Resurssiluettelo!H156)","v":""},{"$f":"IF(Resurssiluettelo!I156=0,\"\",Resurssiluettelo!I156)","v":""},{"$f":"IF(Resurssiluettelo!W156=0,\"\",Resurssiluettelo!W156)","v":""},{"$f":"IF(Resurssiluettelo!X156=0,\"\",Resurssiluettelo!X156)","v":""},{"$f":"IF(Resurssiluettelo!Y156=0,\"\",Resurssiluettelo!Y156)","v":""},{"$f":"IF(Resurssiluettelo!Z156=0,\"\",Resurssiluettelo!Z156)","v":""},{"$f":"IF(Resurssiluettelo!AA156=0,\"\",Resurssiluettelo!AA156)","v":""},{"$f":"IF(Resurssiluettelo!AB156=0,\"\",Resurssiluettelo!AB156)","v":""},{"$f":"IF(Resurssiluettelo!AC156=0,\"\",Resurssiluettelo!AC156)","v":""},{"$f":"IF(Resurssiluettelo!AD156=0,\"\",Resurssiluettelo!AD156)","v":""},{"$f":"IF(Resurssiluettelo!J156=0,\"\",Resurssiluettelo!J156)","v":""},{"$f":"IF(Resurssiluettelo!K156=0,\"\",Resurssiluettelo!K156)","v":""},{"$f":"IF(Resurssiluettelo!L156=0,\"\",Resurssiluettelo!L156)","v":""},{"$f":"IF(Resurssiluettelo!M156=0,\"\",Resurssiluettelo!M156)","v":""},{"$f":"IF(Resurssiluettelo!N156=0,\"\",Resurssiluettelo!N156)","v":""},{"$f":"IF(Resurssiluettelo!O156=0,\"\",Resurssiluettelo!O156)","v":""},{"$f":"IF(Resurssiluettelo!P156=0,\"\",Resurssiluettelo!P156)","v":""},{"$f":"IF(Resurssiluettelo!Q156=0,\"\",Resurssiluettelo!Q156)","v":""},{"$f":"IF(Resurssiluettelo!R156=0,\"\",Resurssiluettelo!R156)","v":""},{"$f":"IF(Resurssiluettelo!S156=0,\"\",Resurssiluettelo!S156)","v":""},{"$f":"IF(Resurssiluettelo!T156=0,\"\",Resurssiluettelo!T156)","v":""},{"$f":"IF(Resurssiluettelo!U156=0,\"\",Resurssiluettelo!U156)","v":""},{"$f":"IF(Resurssiluettelo!V156=0,\"\",Resurssiluettelo!V156)","v":""}]
[107,{"$f":"IF(Y110=\"\",\"\",Resurssiluettelo!$G$1)","v":""},{"$f":"IF(Y110=\"\",\"\",Resurssiluettelo!$H$14)","v":""},{"$f":"IF(Y110=\"\",\"\",Resurssiluettelo!$I$14)","v":""},{"$f":"IF(Y110=\"\",\"\",Resurssiluettelo!$J$14)","v":""},{"$f":"IF(Y110=\"\",\"\",Resurssiluettelo!$N$14)","v":""},{"$f":"IF(Y110=\"\",\"\",Resurssiluettelo!$O$14)","v":""},{"$f":"IF(Resurssiluettelo!B157=0,\"\",Resurssiluettelo!B157)","v":""},{"$f":"IF(Resurssiluettelo!C157=0,\"\",Resurssiluettelo!C157)","v":""},{"$f":"IF(Resurssiluettelo!D157=0,\"\",Resurssiluettelo!D157)","v":""},{"$f":"IF($J110=\"\",\"\",VLOOKUP($J110, Resurssiluettelo!$D$21:$X$40,Ohjeistus!K$98-1,FALSE))","v":""},{"$f":"IF($J110=\"\",\"\",VLOOKUP($J110, Resurssiluettelo!$D$21:$X$40,Ohjeistus!L$98-1,FALSE))","v":""},{"$f":"IF($J110=\"\",\"\",VLOOKUP($J110, Resurssiluettelo!$D$21:$X$40,Ohjeistus!M$98-1,FALSE))","v":""},{"$f":"IF($J110=\"\",\"\",VLOOKUP($J110, Resurssiluettelo!$D$21:$X$40,Ohjeistus!N$98-1,FALSE))","v":""},{"$f":"IF($J110=\"\",\"\",VLOOKUP($J110, Resurssiluettelo!$D$21:$X$40,Ohjeistus!O$98-1,FALSE))","v":""},{"$f":"IF($J110=\"\",\"\",VLOOKUP($J110, Resurssiluettelo!$D$21:$X$40,Ohjeistus!P$98-1,FALSE))","v":""},{"$f":"IF($J110=\"\",IF($I110=\"\",\"\",VLOOKUP($I110, Resurssiluettelo!$C$21:$X$40,Ohjeistus!Q$98,FALSE)),VLOOKUP($J110, Resurssiluettelo!$D$21:$X$40,Ohjeistus!Q$98-1,FALSE))","v":""},{"$f":"IF($J110=\"\",IF($I110=\"\",\"\",VLOOKUP($I110, Resurssiluettelo!$C$21:$X$40,Ohjeistus!R$98,FALSE)),VLOOKUP($J110, Resurssiluettelo!$D$21:$X$40,Ohjeistus!R$98-1,FALSE))","v":""},{"$f":"IF($J110=\"\",IF($I110=\"\",\"\",VLOOKUP($I110, Resurssiluettelo!$C$21:$X$40,Ohjeistus!S$98,FALSE)),VLOOKUP($J110, Resurssiluettelo!$D$21:$X$40,Ohjeistus!S$98-1,FALSE))","v":""},{"$f":"IF($J110=\"\",IF($I110=\"\",\"\",VLOOKUP($I110, Resurssiluettelo!$C$21:$X$40,Ohjeistus!T$98,FALSE)),VLOOKUP($J110, Resurssiluettelo!$D$21:$X$40,Ohjeistus!T$98-1,FALSE))","v":""},{"$f":"IF($J110=\"\",\"\",VLOOKUP($J110, Resurssiluettelo!$D$21:$X$40,Ohjeistus!U$98-1,FALSE))","v":""},{"$f":"IF($J110=\"\",\"\",VLOOKUP($J110, Resurssiluettelo!$D$21:$X$40,Ohjeistus!V$98-1,FALSE))","v":""},{"$f":"IF($J110=\"\",\"\",VLOOKUP($J110, Resurssiluettelo!$D$21:$X$40,Ohjeistus!W$98-1,FALSE))","v":""},{"$f":"IF($J110=\"\",\"\",VLOOKUP($J110, Resurssiluettelo!$D$21:$X$40,Ohjeistus!X$98-1,FALSE))","v":""},{"$f":"IF(Resurssiluettelo!E157=0,\"\",Resurssiluettelo!E157)","v":""},{"$f":"IF(Resurssiluettelo!F157=0,\"\",YEAR(Resurssiluettelo!F157)&IF(MONTH(Resurssiluettelo!F157)<10,\"0\",\"\")&MONTH(Resurssiluettelo!F157)&IF(DAY(Resurssiluettelo!F157)<10,\"0\",\"\")&DAY(Resurssiluettelo!F157))","v":""},{"$f":"IF(Resurssiluettelo!G157=0,\"\",Resurssiluettelo!G157)","v":""},{"$f":"IF(Resurssiluettelo!H157=0,\"\",Resurssiluettelo!H157)","v":""},{"$f":"IF(Resurssiluettelo!I157=0,\"\",Resurssiluettelo!I157)","v":""},{"$f":"IF(Resurssiluettelo!W157=0,\"\",Resurssiluettelo!W157)","v":""},{"$f":"IF(Resurssiluettelo!X157=0,\"\",Resurssiluettelo!X157)","v":""},{"$f":"IF(Resurssiluettelo!Y157=0,\"\",Resurssiluettelo!Y157)","v":""},{"$f":"IF(Resurssiluettelo!Z157=0,\"\",Resurssiluettelo!Z157)","v":""},{"$f":"IF(Resurssiluettelo!AA157=0,\"\",Resurssiluettelo!AA157)","v":""},{"$f":"IF(Resurssiluettelo!AB157=0,\"\",Resurssiluettelo!AB157)","v":""},{"$f":"IF(Resurssiluettelo!AC157=0,\"\",Resurssiluettelo!AC157)","v":""},{"$f":"IF(Resurssiluettelo!AD157=0,\"\",Resurssiluettelo!AD157)","v":""},{"$f":"IF(Resurssiluettelo!J157=0,\"\",Resurssiluettelo!J157)","v":""},{"$f":"IF(Resurssiluettelo!K157=0,\"\",Resurssiluettelo!K157)","v":""},{"$f":"IF(Resurssiluettelo!L157=0,\"\",Resurssiluettelo!L157)","v":""},{"$f":"IF(Resurssiluettelo!M157=0,\"\",Resurssiluettelo!M157)","v":""},{"$f":"IF(Resurssiluettelo!N157=0,\"\",Resurssiluettelo!N157)","v":""},{"$f":"IF(Resurssiluettelo!O157=0,\"\",Resurssiluettelo!O157)","v":""},{"$f":"IF(Resurssiluettelo!P157=0,\"\",Resurssiluettelo!P157)","v":""},{"$f":"IF(Resurssiluettelo!Q157=0,\"\",Resurssiluettelo!Q157)","v":""},{"$f":"IF(Resurssiluettelo!R157=0,\"\",Resurssiluettelo!R157)","v":""},{"$f":"IF(Resurssiluettelo!S157=0,\"\",Resurssiluettelo!S157)","v":""},{"$f":"IF(Resurssiluettelo!T157=0,\"\",Resurssiluettelo!T157)","v":""},{"$f":"IF(Resurssiluettelo!U157=0,\"\",Resurssiluettelo!U157)","v":""},{"$f":"IF(Resurssiluettelo!V157=0,\"\",Resurssiluettelo!V157)","v":""}]
[108,{"$f":"IF(Y111=\"\",\"\",Resurssiluettelo!$G$1)","v":""},{"$f":"IF(Y111=\"\",\"\",Resurssiluettelo!$H$14)","v":""},{"$f":"IF(Y111=\"\",\"\",Resurssiluettelo!$I$14)","v":""},{"$f":"IF(Y111=\"\",\"\",Resurssiluettelo!$J$14)","v":""},{"$f":"IF(Y111=\"\",\"\",Resurssiluettelo!$N$14)","v":""},{"$f":"IF(Y111=\"\",\"\",Resurssiluettelo!$O$14)","v":""},{"$f":"IF(Resurssiluettelo!B158=0,\"\",Resurssiluettelo!B158)","v":""},{"$f":"IF(Resurssiluettelo!C158=0,\"\",Resurssiluettelo!C158)","v":""},{"$f":"IF(Resurssiluettelo!D158=0,\"\",Resurssiluettelo!D158)","v":""},{"$f":"IF($J111=\"\",\"\",VLOOKUP($J111, Resurssiluettelo!$D$21:$X$40,Ohjeistus!K$98-1,FALSE))","v":""},{"$f":"IF($J111=\"\",\"\",VLOOKUP($J111, Resurssiluettelo!$D$21:$X$40,Ohjeistus!L$98-1,FALSE))","v":""},{"$f":"IF($J111=\"\",\"\",VLOOKUP($J111, Resurssiluettelo!$D$21:$X$40,Ohjeistus!M$98-1,FALSE))","v":""},{"$f":"IF($J111=\"\",\"\",VLOOKUP($J111, Resurssiluettelo!$D$21:$X$40,Ohjeistus!N$98-1,FALSE))","v":""},{"$f":"IF($J111=\"\",\"\",VLOOKUP($J111, Resurssiluettelo!$D$21:$X$40,Ohjeistus!O$98-1,FALSE))","v":""},{"$f":"IF($J111=\"\",\"\",VLOOKUP($J111, Resurssiluettelo!$D$21:$X$40,Ohjeistus!P$98-1,FALSE))","v":""},{"$f":"IF($J111=\"\",IF($I111=\"\",\"\",VLOOKUP($I111, Resurssiluettelo!$C$21:$X$40,Ohjeistus!Q$98,FALSE)),VLOOKUP($J111, Resurssiluettelo!$D$21:$X$40,Ohjeistus!Q$98-1,FALSE))","v":""},{"$f":"IF($J111=\"\",IF($I111=\"\",\"\",VLOOKUP($I111, Resurssiluettelo!$C$21:$X$40,Ohjeistus!R$98,FALSE)),VLOOKUP($J111, Resurssiluettelo!$D$21:$X$40,Ohjeistus!R$98-1,FALSE))","v":""},{"$f":"IF($J111=\"\",IF($I111=\"\",\"\",VLOOKUP($I111, Resurssiluettelo!$C$21:$X$40,Ohjeistus!S$98,FALSE)),VLOOKUP($J111, Resurssiluettelo!$D$21:$X$40,Ohjeistus!S$98-1,FALSE))","v":""},{"$f":"IF($J111=\"\",IF($I111=\"\",\"\",VLOOKUP($I111, Resurssiluettelo!$C$21:$X$40,Ohjeistus!T$98,FALSE)),VLOOKUP($J111, Resurssiluettelo!$D$21:$X$40,Ohjeistus!T$98-1,FALSE))","v":""},{"$f":"IF($J111=\"\",\"\",VLOOKUP($J111, Resurssiluettelo!$D$21:$X$40,Ohjeistus!U$98-1,FALSE))","v":""},{"$f":"IF($J111=\"\",\"\",VLOOKUP($J111, Resurssiluettelo!$D$21:$X$40,Ohjeistus!V$98-1,FALSE))","v":""},{"$f":"IF($J111=\"\",\"\",VLOOKUP($J111, Resurssiluettelo!$D$21:$X$40,Ohjeistus!W$98-1,FALSE))","v":""},{"$f":"IF($J111=\"\",\"\",VLOOKUP($J111, Resurssiluettelo!$D$21:$X$40,Ohjeistus!X$98-1,FALSE))","v":""},{"$f":"IF(Resurssiluettelo!E158=0,\"\",Resurssiluettelo!E158)","v":""},{"$f":"IF(Resurssiluettelo!F158=0,\"\",YEAR(Resurssiluettelo!F158)&IF(MONTH(Resurssiluettelo!F158)<10,\"0\",\"\")&MONTH(Resurssiluettelo!F158)&IF(DAY(Resurssiluettelo!F158)<10,\"0\",\"\")&DAY(Resurssiluettelo!F158))","v":""},{"$f":"IF(Resurssiluettelo!G158=0,\"\",Resurssiluettelo!G158)","v":""},{"$f":"IF(Resurssiluettelo!H158=0,\"\",Resurssiluettelo!H158)","v":""},{"$f":"IF(Resurssiluettelo!I158=0,\"\",Resurssiluettelo!I158)","v":""},{"$f":"IF(Resurssiluettelo!W158=0,\"\",Resurssiluettelo!W158)","v":""},{"$f":"IF(Resurssiluettelo!X158=0,\"\",Resurssiluettelo!X158)","v":""},{"$f":"IF(Resurssiluettelo!Y158=0,\"\",Resurssiluettelo!Y158)","v":""},{"$f":"IF(Resurssiluettelo!Z158=0,\"\",Resurssiluettelo!Z158)","v":""},{"$f":"IF(Resurssiluettelo!AA158=0,\"\",Resurssiluettelo!AA158)","v":""},{"$f":"IF(Resurssiluettelo!AB158=0,\"\",Resurssiluettelo!AB158)","v":""},{"$f":"IF(Resurssiluettelo!AC158=0,\"\",Resurssiluettelo!AC158)","v":""},{"$f":"IF(Resurssiluettelo!AD158=0,\"\",Resurssiluettelo!AD158)","v":""},{"$f":"IF(Resurssiluettelo!J158=0,\"\",Resurssiluettelo!J158)","v":""},{"$f":"IF(Resurssiluettelo!K158=0,\"\",Resurssiluettelo!K158)","v":""},{"$f":"IF(Resurssiluettelo!L158=0,\"\",Resurssiluettelo!L158)","v":""},{"$f":"IF(Resurssiluettelo!M158=0,\"\",Resurssiluettelo!M158)","v":""},{"$f":"IF(Resurssiluettelo!N158=0,\"\",Resurssiluettelo!N158)","v":""},{"$f":"IF(Resurssiluettelo!O158=0,\"\",Resurssiluettelo!O158)","v":""},{"$f":"IF(Resurssiluettelo!P158=0,\"\",Resurssiluettelo!P158)","v":""},{"$f":"IF(Resurssiluettelo!Q158=0,\"\",Resurssiluettelo!Q158)","v":""},{"$f":"IF(Resurssiluettelo!R158=0,\"\",Resurssiluettelo!R158)","v":""},{"$f":"IF(Resurssiluettelo!S158=0,\"\",Resurssiluettelo!S158)","v":""},{"$f":"IF(Resurssiluettelo!T158=0,\"\",Resurssiluettelo!T158)","v":""},{"$f":"IF(Resurssiluettelo!U158=0,\"\",Resurssiluettelo!U158)","v":""},{"$f":"IF(Resurssiluettelo!V158=0,\"\",Resurssiluettelo!V158)","v":""}]
[109,{"$f":"IF(Y112=\"\",\"\",Resurssiluettelo!$G$1)","v":""},{"$f":"IF(Y112=\"\",\"\",Resurssiluettelo!$H$14)","v":""},{"$f":"IF(Y112=\"\",\"\",Resurssiluettelo!$I$14)","v":""},{"$f":"IF(Y112=\"\",\"\",Resurssiluettelo!$J$14)","v":""},{"$f":"IF(Y112=\"\",\"\",Resurssiluettelo!$N$14)","v":""},{"$f":"IF(Y112=\"\",\"\",Resurssiluettelo!$O$14)","v":""},{"$f":"IF(Resurssiluettelo!B159=0,\"\",Resurssiluettelo!B159)","v":""},{"$f":"IF(Resurssiluettelo!C159=0,\"\",Resurssiluettelo!C159)","v":""},{"$f":"IF(Resurssiluettelo!D159=0,\"\",Resurssiluettelo!D159)","v":""},{"$f":"IF($J112=\"\",\"\",VLOOKUP($J112, Resurssiluettelo!$D$21:$X$40,Ohjeistus!K$98-1,FALSE))","v":""},{"$f":"IF($J112=\"\",\"\",VLOOKUP($J112, Resurssiluettelo!$D$21:$X$40,Ohjeistus!L$98-1,FALSE))","v":""},{"$f":"IF($J112=\"\",\"\",VLOOKUP($J112, Resurssiluettelo!$D$21:$X$40,Ohjeistus!M$98-1,FALSE))","v":""},{"$f":"IF($J112=\"\",\"\",VLOOKUP($J112, Resurssiluettelo!$D$21:$X$40,Ohjeistus!N$98-1,FALSE))","v":""},{"$f":"IF($J112=\"\",\"\",VLOOKUP($J112, Resurssiluettelo!$D$21:$X$40,Ohjeistus!O$98-1,FALSE))","v":""},{"$f":"IF($J112=\"\",\"\",VLOOKUP($J112, Resurssiluettelo!$D$21:$X$40,Ohjeistus!P$98-1,FALSE))","v":""},{"$f":"IF($J112=\"\",IF($I112=\"\",\"\",VLOOKUP($I112, Resurssiluettelo!$C$21:$X$40,Ohjeistus!Q$98,FALSE)),VLOOKUP($J112, Resurssiluettelo!$D$21:$X$40,Ohjeistus!Q$98-1,FALSE))","v":""},{"$f":"IF($J112=\"\",IF($I112=\"\",\"\",VLOOKUP($I112, Resurssiluettelo!$C$21:$X$40,Ohjeistus!R$98,FALSE)),VLOOKUP($J112, Resurssiluettelo!$D$21:$X$40,Ohjeistus!R$98-1,FALSE))","v":""},{"$f":"IF($J112=\"\",IF($I112=\"\",\"\",VLOOKUP($I112, Resurssiluettelo!$C$21:$X$40,Ohjeistus!S$98,FALSE)),VLOOKUP($J112, Resurssiluettelo!$D$21:$X$40,Ohjeistus!S$98-1,FALSE))","v":""},{"$f":"IF($J112=\"\",IF($I112=\"\",\"\",VLOOKUP($I112, Resurssiluettelo!$C$21:$X$40,Ohjeistus!T$98,FALSE)),VLOOKUP($J112, Resurssiluettelo!$D$21:$X$40,Ohjeistus!T$98-1,FALSE))","v":""},{"$f":"IF($J112=\"\",\"\",VLOOKUP($J112, Resurssiluettelo!$D$21:$X$40,Ohjeistus!U$98-1,FALSE))","v":""},{"$f":"IF($J112=\"\",\"\",VLOOKUP($J112, Resurssiluettelo!$D$21:$X$40,Ohjeistus!V$98-1,FALSE))","v":""},{"$f":"IF($J112=\"\",\"\",VLOOKUP($J112, Resurssiluettelo!$D$21:$X$40,Ohjeistus!W$98-1,FALSE))","v":""},{"$f":"IF($J112=\"\",\"\",VLOOKUP($J112, Resurssiluettelo!$D$21:$X$40,Ohjeistus!X$98-1,FALSE))","v":""},{"$f":"IF(Resurssiluettelo!E159=0,\"\",Resurssiluettelo!E159)","v":""},{"$f":"IF(Resurssiluettelo!F159=0,\"\",YEAR(Resurssiluettelo!F159)&IF(MONTH(Resurssiluettelo!F159)<10,\"0\",\"\")&MONTH(Resurssiluettelo!F159)&IF(DAY(Resurssiluettelo!F159)<10,\"0\",\"\")&DAY(Resurssiluettelo!F159))","v":""},{"$f":"IF(Resurssiluettelo!G159=0,\"\",Resurssiluettelo!G159)","v":""},{"$f":"IF(Resurssiluettelo!H159=0,\"\",Resurssiluettelo!H159)","v":""},{"$f":"IF(Resurssiluettelo!I159=0,\"\",Resurssiluettelo!I159)","v":""},{"$f":"IF(Resurssiluettelo!W159=0,\"\",Resurssiluettelo!W159)","v":""},{"$f":"IF(Resurssiluettelo!X159=0,\"\",Resurssiluettelo!X159)","v":""},{"$f":"IF(Resurssiluettelo!Y159=0,\"\",Resurssiluettelo!Y159)","v":""},{"$f":"IF(Resurssiluettelo!Z159=0,\"\",Resurssiluettelo!Z159)","v":""},{"$f":"IF(Resurssiluettelo!AA159=0,\"\",Resurssiluettelo!AA159)","v":""},{"$f":"IF(Resurssiluettelo!AB159=0,\"\",Resurssiluettelo!AB159)","v":""},{"$f":"IF(Resurssiluettelo!AC159=0,\"\",Resurssiluettelo!AC159)","v":""},{"$f":"IF(Resurssiluettelo!AD159=0,\"\",Resurssiluettelo!AD159)","v":""},{"$f":"IF(Resurssiluettelo!J159=0,\"\",Resurssiluettelo!J159)","v":""},{"$f":"IF(Resurssiluettelo!K159=0,\"\",Resurssiluettelo!K159)","v":""},{"$f":"IF(Resurssiluettelo!L159=0,\"\",Resurssiluettelo!L159)","v":""},{"$f":"IF(Resurssiluettelo!M159=0,\"\",Resurssiluettelo!M159)","v":""},{"$f":"IF(Resurssiluettelo!N159=0,\"\",Resurssiluettelo!N159)","v":""},{"$f":"IF(Resurssiluettelo!O159=0,\"\",Resurssiluettelo!O159)","v":""},{"$f":"IF(Resurssiluettelo!P159=0,\"\",Resurssiluettelo!P159)","v":""},{"$f":"IF(Resurssiluettelo!Q159=0,\"\",Resurssiluettelo!Q159)","v":""},{"$f":"IF(Resurssiluettelo!R159=0,\"\",Resurssiluettelo!R159)","v":""},{"$f":"IF(Resurssiluettelo!S159=0,\"\",Resurssiluettelo!S159)","v":""},{"$f":"IF(Resurssiluettelo!T159=0,\"\",Resurssiluettelo!T159)","v":""},{"$f":"IF(Resurssiluettelo!U159=0,\"\",Resurssiluettelo!U159)","v":""},{"$f":"IF(Resurssiluettelo!V159=0,\"\",Resurssiluettelo!V159)","v":""}]
[110,{"$f":"IF(Y113=\"\",\"\",Resurssiluettelo!$G$1)","v":""},{"$f":"IF(Y113=\"\",\"\",Resurssiluettelo!$H$14)","v":""},{"$f":"IF(Y113=\"\",\"\",Resurssiluettelo!$I$14)","v":""},{"$f":"IF(Y113=\"\",\"\",Resurssiluettelo!$J$14)","v":""},{"$f":"IF(Y113=\"\",\"\",Resurssiluettelo!$N$14)","v":""},{"$f":"IF(Y113=\"\",\"\",Resurssiluettelo!$O$14)","v":""},{"$f":"IF(Resurssiluettelo!B160=0,\"\",Resurssiluettelo!B160)","v":""},{"$f":"IF(Resurssiluettelo!C160=0,\"\",Resurssiluettelo!C160)","v":""},{"$f":"IF(Resurssiluettelo!D160=0,\"\",Resurssiluettelo!D160)","v":""},{"$f":"IF($J113=\"\",\"\",VLOOKUP($J113, Resurssiluettelo!$D$21:$X$40,Ohjeistus!K$98-1,FALSE))","v":""},{"$f":"IF($J113=\"\",\"\",VLOOKUP($J113, Resurssiluettelo!$D$21:$X$40,Ohjeistus!L$98-1,FALSE))","v":""},{"$f":"IF($J113=\"\",\"\",VLOOKUP($J113, Resurssiluettelo!$D$21:$X$40,Ohjeistus!M$98-1,FALSE))","v":""},{"$f":"IF($J113=\"\",\"\",VLOOKUP($J113, Resurssiluettelo!$D$21:$X$40,Ohjeistus!N$98-1,FALSE))","v":""},{"$f":"IF($J113=\"\",\"\",VLOOKUP($J113, Resurssiluettelo!$D$21:$X$40,Ohjeistus!O$98-1,FALSE))","v":""},{"$f":"IF($J113=\"\",\"\",VLOOKUP($J113, Resurssiluettelo!$D$21:$X$40,Ohjeistus!P$98-1,FALSE))","v":""},{"$f":"IF($J113=\"\",IF($I113=\"\",\"\",VLOOKUP($I113, Resurssiluettelo!$C$21:$X$40,Ohjeistus!Q$98,FALSE)),VLOOKUP($J113, Resurssiluettelo!$D$21:$X$40,Ohjeistus!Q$98-1,FALSE))","v":""},{"$f":"IF($J113=\"\",IF($I113=\"\",\"\",VLOOKUP($I113, Resurssiluettelo!$C$21:$X$40,Ohjeistus!R$98,FALSE)),VLOOKUP($J113, Resurssiluettelo!$D$21:$X$40,Ohjeistus!R$98-1,FALSE))","v":""},{"$f":"IF($J113=\"\",IF($I113=\"\",\"\",VLOOKUP($I113, Resurssiluettelo!$C$21:$X$40,Ohjeistus!S$98,FALSE)),VLOOKUP($J113, Resurssiluettelo!$D$21:$X$40,Ohjeistus!S$98-1,FALSE))","v":""},{"$f":"IF($J113=\"\",IF($I113=\"\",\"\",VLOOKUP($I113, Resurssiluettelo!$C$21:$X$40,Ohjeistus!T$98,FALSE)),VLOOKUP($J113, Resurssiluettelo!$D$21:$X$40,Ohjeistus!T$98-1,FALSE))","v":""},{"$f":"IF($J113=\"\",\"\",VLOOKUP($J113, Resurssiluettelo!$D$21:$X$40,Ohjeistus!U$98-1,FALSE))","v":""},{"$f":"IF($J113=\"\",\"\",VLOOKUP($J113, Resurssiluettelo!$D$21:$X$40,Ohjeistus!V$98-1,FALSE))","v":""},{"$f":"IF($J113=\"\",\"\",VLOOKUP($J113, Resurssiluettelo!$D$21:$X$40,Ohjeistus!W$98-1,FALSE))","v":""},{"$f":"IF($J113=\"\",\"\",VLOOKUP($J113, Resurssiluettelo!$D$21:$X$40,Ohjeistus!X$98-1,FALSE))","v":""},{"$f":"IF(Resurssiluettelo!E160=0,\"\",Resurssiluettelo!E160)","v":""},{"$f":"IF(Resurssiluettelo!F160=0,\"\",YEAR(Resurssiluettelo!F160)&IF(MONTH(Resurssiluettelo!F160)<10,\"0\",\"\")&MONTH(Resurssiluettelo!F160)&IF(DAY(Resurssiluettelo!F160)<10,\"0\",\"\")&DAY(Resurssiluettelo!F160))","v":""},{"$f":"IF(Resurssiluettelo!G160=0,\"\",Resurssiluettelo!G160)","v":""},{"$f":"IF(Resurssiluettelo!H160=0,\"\",Resurssiluettelo!H160)","v":""},{"$f":"IF(Resurssiluettelo!I160=0,\"\",Resurssiluettelo!I160)","v":""},{"$f":"IF(Resurssiluettelo!W160=0,\"\",Resurssiluettelo!W160)","v":""},{"$f":"IF(Resurssiluettelo!X160=0,\"\",Resurssiluettelo!X160)","v":""},{"$f":"IF(Resurssiluettelo!Y160=0,\"\",Resurssiluettelo!Y160)","v":""},{"$f":"IF(Resurssiluettelo!Z160=0,\"\",Resurssiluettelo!Z160)","v":""},{"$f":"IF(Resurssiluettelo!AA160=0,\"\",Resurssiluettelo!AA160)","v":""},{"$f":"IF(Resurssiluettelo!AB160=0,\"\",Resurssiluettelo!AB160)","v":""},{"$f":"IF(Resurssiluettelo!AC160=0,\"\",Resurssiluettelo!AC160)","v":""},{"$f":"IF(Resurssiluettelo!AD160=0,\"\",Resurssiluettelo!AD160)","v":""},{"$f":"IF(Resurssiluettelo!J160=0,\"\",Resurssiluettelo!J160)","v":""},{"$f":"IF(Resurssiluettelo!K160=0,\"\",Resurssiluettelo!K160)","v":""},{"$f":"IF(Resurssiluettelo!L160=0,\"\",Resurssiluettelo!L160)","v":""},{"$f":"IF(Resurssiluettelo!M160=0,\"\",Resurssiluettelo!M160)","v":""},{"$f":"IF(Resurssiluettelo!N160=0,\"\",Resurssiluettelo!N160)","v":""},{"$f":"IF(Resurssiluettelo!O160=0,\"\",Resurssiluettelo!O160)","v":""},{"$f":"IF(Resurssiluettelo!P160=0,\"\",Resurssiluettelo!P160)","v":""},{"$f":"IF(Resurssiluettelo!Q160=0,\"\",Resurssiluettelo!Q160)","v":""},{"$f":"IF(Resurssiluettelo!R160=0,\"\",Resurssiluettelo!R160)","v":""},{"$f":"IF(Resurssiluettelo!S160=0,\"\",Resurssiluettelo!S160)","v":""},{"$f":"IF(Resurssiluettelo!T160=0,\"\",Resurssiluettelo!T160)","v":""},{"$f":"IF(Resurssiluettelo!U160=0,\"\",Resurssiluettelo!U160)","v":""},{"$f":"IF(Resurssiluettelo!V160=0,\"\",Resurssiluettelo!V160)","v":""}]
[111,{"$f":"IF(Y114=\"\",\"\",Resurssiluettelo!$G$1)","v":""},{"$f":"IF(Y114=\"\",\"\",Resurssiluettelo!$H$14)","v":""},{"$f":"IF(Y114=\"\",\"\",Resurssiluettelo!$I$14)","v":""},{"$f":"IF(Y114=\"\",\"\",Resurssiluettelo!$J$14)","v":""},{"$f":"IF(Y114=\"\",\"\",Resurssiluettelo!$N$14)","v":""},{"$f":"IF(Y114=\"\",\"\",Resurssiluettelo!$O$14)","v":""},{"$f":"IF(Resurssiluettelo!B161=0,\"\",Resurssiluettelo!B161)","v":""},{"$f":"IF(Resurssiluettelo!C161=0,\"\",Resurssiluettelo!C161)","v":""},{"$f":"IF(Resurssiluettelo!D161=0,\"\",Resurssiluettelo!D161)","v":""},{"$f":"IF($J114=\"\",\"\",VLOOKUP($J114, Resurssiluettelo!$D$21:$X$40,Ohjeistus!K$98-1,FALSE))","v":""},{"$f":"IF($J114=\"\",\"\",VLOOKUP($J114, Resurssiluettelo!$D$21:$X$40,Ohjeistus!L$98-1,FALSE))","v":""},{"$f":"IF($J114=\"\",\"\",VLOOKUP($J114, Resurssiluettelo!$D$21:$X$40,Ohjeistus!M$98-1,FALSE))","v":""},{"$f":"IF($J114=\"\",\"\",VLOOKUP($J114, Resurssiluettelo!$D$21:$X$40,Ohjeistus!N$98-1,FALSE))","v":""},{"$f":"IF($J114=\"\",\"\",VLOOKUP($J114, Resurssiluettelo!$D$21:$X$40,Ohjeistus!O$98-1,FALSE))","v":""},{"$f":"IF($J114=\"\",\"\",VLOOKUP($J114, Resurssiluettelo!$D$21:$X$40,Ohjeistus!P$98-1,FALSE))","v":""},{"$f":"IF($J114=\"\",IF($I114=\"\",\"\",VLOOKUP($I114, Resurssiluettelo!$C$21:$X$40,Ohjeistus!Q$98,FALSE)),VLOOKUP($J114, Resurssiluettelo!$D$21:$X$40,Ohjeistus!Q$98-1,FALSE))","v":""},{"$f":"IF($J114=\"\",IF($I114=\"\",\"\",VLOOKUP($I114, Resurssiluettelo!$C$21:$X$40,Ohjeistus!R$98,FALSE)),VLOOKUP($J114, Resurssiluettelo!$D$21:$X$40,Ohjeistus!R$98-1,FALSE))","v":""},{"$f":"IF($J114=\"\",IF($I114=\"\",\"\",VLOOKUP($I114, Resurssiluettelo!$C$21:$X$40,Ohjeistus!S$98,FALSE)),VLOOKUP($J114, Resurssiluettelo!$D$21:$X$40,Ohjeistus!S$98-1,FALSE))","v":""},{"$f":"IF($J114=\"\",IF($I114=\"\",\"\",VLOOKUP($I114, Resurssiluettelo!$C$21:$X$40,Ohjeistus!T$98,FALSE)),VLOOKUP($J114, Resurssiluettelo!$D$21:$X$40,Ohjeistus!T$98-1,FALSE))","v":""},{"$f":"IF($J114=\"\",\"\",VLOOKUP($J114, Resurssiluettelo!$D$21:$X$40,Ohjeistus!U$98-1,FALSE))","v":""},{"$f":"IF($J114=\"\",\"\",VLOOKUP($J114, Resurssiluettelo!$D$21:$X$40,Ohjeistus!V$98-1,FALSE))","v":""},{"$f":"IF($J114=\"\",\"\",VLOOKUP($J114, Resurssiluettelo!$D$21:$X$40,Ohjeistus!W$98-1,FALSE))","v":""},{"$f":"IF($J114=\"\",\"\",VLOOKUP($J114, Resurssiluettelo!$D$21:$X$40,Ohjeistus!X$98-1,FALSE))","v":""},{"$f":"IF(Resurssiluettelo!E161=0,\"\",Resurssiluettelo!E161)","v":""},{"$f":"IF(Resurssiluettelo!F161=0,\"\",YEAR(Resurssiluettelo!F161)&IF(MONTH(Resurssiluettelo!F161)<10,\"0\",\"\")&MONTH(Resurssiluettelo!F161)&IF(DAY(Resurssiluettelo!F161)<10,\"0\",\"\")&DAY(Resurssiluettelo!F161))","v":""},{"$f":"IF(Resurssiluettelo!G161=0,\"\",Resurssiluettelo!G161)","v":""},{"$f":"IF(Resurssiluettelo!H161=0,\"\",Resurssiluettelo!H161)","v":""},{"$f":"IF(Resurssiluettelo!I161=0,\"\",Resurssiluettelo!I161)","v":""},{"$f":"IF(Resurssiluettelo!W161=0,\"\",Resurssiluettelo!W161)","v":""},{"$f":"IF(Resurssiluettelo!X161=0,\"\",Resurssiluettelo!X161)","v":""},{"$f":"IF(Resurssiluettelo!Y161=0,\"\",Resurssiluettelo!Y161)","v":""},{"$f":"IF(Resurssiluettelo!Z161=0,\"\",Resurssiluettelo!Z161)","v":""},{"$f":"IF(Resurssiluettelo!AA161=0,\"\",Resurssiluettelo!AA161)","v":""},{"$f":"IF(Resurssiluettelo!AB161=0,\"\",Resurssiluettelo!AB161)","v":""},{"$f":"IF(Resurssiluettelo!AC161=0,\"\",Resurssiluettelo!AC161)","v":""},{"$f":"IF(Resurssiluettelo!AD161=0,\"\",Resurssiluettelo!AD161)","v":""},{"$f":"IF(Resurssiluettelo!J161=0,\"\",Resurssiluettelo!J161)","v":""},{"$f":"IF(Resurssiluettelo!K161=0,\"\",Resurssiluettelo!K161)","v":""},{"$f":"IF(Resurssiluettelo!L161=0,\"\",Resurssiluettelo!L161)","v":""},{"$f":"IF(Resurssiluettelo!M161=0,\"\",Resurssiluettelo!M161)","v":""},{"$f":"IF(Resurssiluettelo!N161=0,\"\",Resurssiluettelo!N161)","v":""},{"$f":"IF(Resurssiluettelo!O161=0,\"\",Resurssiluettelo!O161)","v":""},{"$f":"IF(Resurssiluettelo!P161=0,\"\",Resurssiluettelo!P161)","v":""},{"$f":"IF(Resurssiluettelo!Q161=0,\"\",Resurssiluettelo!Q161)","v":""},{"$f":"IF(Resurssiluettelo!R161=0,\"\",Resurssiluettelo!R161)","v":""},{"$f":"IF(Resurssiluettelo!S161=0,\"\",Resurssiluettelo!S161)","v":""},{"$f":"IF(Resurssiluettelo!T161=0,\"\",Resurssiluettelo!T161)","v":""},{"$f":"IF(Resurssiluettelo!U161=0,\"\",Resurssiluettelo!U161)","v":""},{"$f":"IF(Resurssiluettelo!V161=0,\"\",Resurssiluettelo!V161)","v":""}]
[112,{"$f":"IF(Y115=\"\",\"\",Resurssiluettelo!$G$1)","v":""},{"$f":"IF(Y115=\"\",\"\",Resurssiluettelo!$H$14)","v":""},{"$f":"IF(Y115=\"\",\"\",Resurssiluettelo!$I$14)","v":""},{"$f":"IF(Y115=\"\",\"\",Resurssiluettelo!$J$14)","v":""},{"$f":"IF(Y115=\"\",\"\",Resurssiluettelo!$N$14)","v":""},{"$f":"IF(Y115=\"\",\"\",Resurssiluettelo!$O$14)","v":""},{"$f":"IF(Resurssiluettelo!B162=0,\"\",Resurssiluettelo!B162)","v":""},{"$f":"IF(Resurssiluettelo!C162=0,\"\",Resurssiluettelo!C162)","v":""},{"$f":"IF(Resurssiluettelo!D162=0,\"\",Resurssiluettelo!D162)","v":""},{"$f":"IF($J115=\"\",\"\",VLOOKUP($J115, Resurssiluettelo!$D$21:$X$40,Ohjeistus!K$98-1,FALSE))","v":""},{"$f":"IF($J115=\"\",\"\",VLOOKUP($J115, Resurssiluettelo!$D$21:$X$40,Ohjeistus!L$98-1,FALSE))","v":""},{"$f":"IF($J115=\"\",\"\",VLOOKUP($J115, Resurssiluettelo!$D$21:$X$40,Ohjeistus!M$98-1,FALSE))","v":""},{"$f":"IF($J115=\"\",\"\",VLOOKUP($J115, Resurssiluettelo!$D$21:$X$40,Ohjeistus!N$98-1,FALSE))","v":""},{"$f":"IF($J115=\"\",\"\",VLOOKUP($J115, Resurssiluettelo!$D$21:$X$40,Ohjeistus!O$98-1,FALSE))","v":""},{"$f":"IF($J115=\"\",\"\",VLOOKUP($J115, Resurssiluettelo!$D$21:$X$40,Ohjeistus!P$98-1,FALSE))","v":""},{"$f":"IF($J115=\"\",IF($I115=\"\",\"\",VLOOKUP($I115, Resurssiluettelo!$C$21:$X$40,Ohjeistus!Q$98,FALSE)),VLOOKUP($J115, Resurssiluettelo!$D$21:$X$40,Ohjeistus!Q$98-1,FALSE))","v":""},{"$f":"IF($J115=\"\",IF($I115=\"\",\"\",VLOOKUP($I115, Resurssiluettelo!$C$21:$X$40,Ohjeistus!R$98,FALSE)),VLOOKUP($J115, Resurssiluettelo!$D$21:$X$40,Ohjeistus!R$98-1,FALSE))","v":""},{"$f":"IF($J115=\"\",IF($I115=\"\",\"\",VLOOKUP($I115, Resurssiluettelo!$C$21:$X$40,Ohjeistus!S$98,FALSE)),VLOOKUP($J115, Resurssiluettelo!$D$21:$X$40,Ohjeistus!S$98-1,FALSE))","v":""},{"$f":"IF($J115=\"\",IF($I115=\"\",\"\",VLOOKUP($I115, Resurssiluettelo!$C$21:$X$40,Ohjeistus!T$98,FALSE)),VLOOKUP($J115, Resurssiluettelo!$D$21:$X$40,Ohjeistus!T$98-1,FALSE))","v":""},{"$f":"IF($J115=\"\",\"\",VLOOKUP($J115, Resurssiluettelo!$D$21:$X$40,Ohjeistus!U$98-1,FALSE))","v":""},{"$f":"IF($J115=\"\",\"\",VLOOKUP($J115, Resurssiluettelo!$D$21:$X$40,Ohjeistus!V$98-1,FALSE))","v":""},{"$f":"IF($J115=\"\",\"\",VLOOKUP($J115, Resurssiluettelo!$D$21:$X$40,Ohjeistus!W$98-1,FALSE))","v":""},{"$f":"IF($J115=\"\",\"\",VLOOKUP($J115, Resurssiluettelo!$D$21:$X$40,Ohjeistus!X$98-1,FALSE))","v":""},{"$f":"IF(Resurssiluettelo!E162=0,\"\",Resurssiluettelo!E162)","v":""},{"$f":"IF(Resurssiluettelo!F162=0,\"\",YEAR(Resurssiluettelo!F162)&IF(MONTH(Resurssiluettelo!F162)<10,\"0\",\"\")&MONTH(Resurssiluettelo!F162)&IF(DAY(Resurssiluettelo!F162)<10,\"0\",\"\")&DAY(Resurssiluettelo!F162))","v":""},{"$f":"IF(Resurssiluettelo!G162=0,\"\",Resurssiluettelo!G162)","v":""},{"$f":"IF(Resurssiluettelo!H162=0,\"\",Resurssiluettelo!H162)","v":""},{"$f":"IF(Resurssiluettelo!I162=0,\"\",Resurssiluettelo!I162)","v":""},{"$f":"IF(Resurssiluettelo!W162=0,\"\",Resurssiluettelo!W162)","v":""},{"$f":"IF(Resurssiluettelo!X162=0,\"\",Resurssiluettelo!X162)","v":""},{"$f":"IF(Resurssiluettelo!Y162=0,\"\",Resurssiluettelo!Y162)","v":""},{"$f":"IF(Resurssiluettelo!Z162=0,\"\",Resurssiluettelo!Z162)","v":""},{"$f":"IF(Resurssiluettelo!AA162=0,\"\",Resurssiluettelo!AA162)","v":""},{"$f":"IF(Resurssiluettelo!AB162=0,\"\",Resurssiluettelo!AB162)","v":""},{"$f":"IF(Resurssiluettelo!AC162=0,\"\",Resurssiluettelo!AC162)","v":""},{"$f":"IF(Resurssiluettelo!AD162=0,\"\",Resurssiluettelo!AD162)","v":""},{"$f":"IF(Resurssiluettelo!J162=0,\"\",Resurssiluettelo!J162)","v":""},{"$f":"IF(Resurssiluettelo!K162=0,\"\",Resurssiluettelo!K162)","v":""},{"$f":"IF(Resurssiluettelo!L162=0,\"\",Resurssiluettelo!L162)","v":""},{"$f":"IF(Resurssiluettelo!M162=0,\"\",Resurssiluettelo!M162)","v":""},{"$f":"IF(Resurssiluettelo!N162=0,\"\",Resurssiluettelo!N162)","v":""},{"$f":"IF(Resurssiluettelo!O162=0,\"\",Resurssiluettelo!O162)","v":""},{"$f":"IF(Resurssiluettelo!P162=0,\"\",Resurssiluettelo!P162)","v":""},{"$f":"IF(Resurssiluettelo!Q162=0,\"\",Resurssiluettelo!Q162)","v":""},{"$f":"IF(Resurssiluettelo!R162=0,\"\",Resurssiluettelo!R162)","v":""},{"$f":"IF(Resurssiluettelo!S162=0,\"\",Resurssiluettelo!S162)","v":""},{"$f":"IF(Resurssiluettelo!T162=0,\"\",Resurssiluettelo!T162)","v":""},{"$f":"IF(Resurssiluettelo!U162=0,\"\",Resurssiluettelo!U162)","v":""},{"$f":"IF(Resurssiluettelo!V162=0,\"\",Resurssiluettelo!V162)","v":""}]
[113,{"$f":"IF(Y116=\"\",\"\",Resurssiluettelo!$G$1)","v":""},{"$f":"IF(Y116=\"\",\"\",Resurssiluettelo!$H$14)","v":""},{"$f":"IF(Y116=\"\",\"\",Resurssiluettelo!$I$14)","v":""},{"$f":"IF(Y116=\"\",\"\",Resurssiluettelo!$J$14)","v":""},{"$f":"IF(Y116=\"\",\"\",Resurssiluettelo!$N$14)","v":""},{"$f":"IF(Y116=\"\",\"\",Resurssiluettelo!$O$14)","v":""},{"$f":"IF(Resurssiluettelo!B163=0,\"\",Resurssiluettelo!B163)","v":""},{"$f":"IF(Resurssiluettelo!C163=0,\"\",Resurssiluettelo!C163)","v":""},{"$f":"IF(Resurssiluettelo!D163=0,\"\",Resurssiluettelo!D163)","v":""},{"$f":"IF($J116=\"\",\"\",VLOOKUP($J116, Resurssiluettelo!$D$21:$X$40,Ohjeistus!K$98-1,FALSE))","v":""},{"$f":"IF($J116=\"\",\"\",VLOOKUP($J116, Resurssiluettelo!$D$21:$X$40,Ohjeistus!L$98-1,FALSE))","v":""},{"$f":"IF($J116=\"\",\"\",VLOOKUP($J116, Resurssiluettelo!$D$21:$X$40,Ohjeistus!M$98-1,FALSE))","v":""},{"$f":"IF($J116=\"\",\"\",VLOOKUP($J116, Resurssiluettelo!$D$21:$X$40,Ohjeistus!N$98-1,FALSE))","v":""},{"$f":"IF($J116=\"\",\"\",VLOOKUP($J116, Resurssiluettelo!$D$21:$X$40,Ohjeistus!O$98-1,FALSE))","v":""},{"$f":"IF($J116=\"\",\"\",VLOOKUP($J116, Resurssiluettelo!$D$21:$X$40,Ohjeistus!P$98-1,FALSE))","v":""},{"$f":"IF($J116=\"\",IF($I116=\"\",\"\",VLOOKUP($I116, Resurssiluettelo!$C$21:$X$40,Ohjeistus!Q$98,FALSE)),VLOOKUP($J116, Resurssiluettelo!$D$21:$X$40,Ohjeistus!Q$98-1,FALSE))","v":""},{"$f":"IF($J116=\"\",IF($I116=\"\",\"\",VLOOKUP($I116, Resurssiluettelo!$C$21:$X$40,Ohjeistus!R$98,FALSE)),VLOOKUP($J116, Resurssiluettelo!$D$21:$X$40,Ohjeistus!R$98-1,FALSE))","v":""},{"$f":"IF($J116=\"\",IF($I116=\"\",\"\",VLOOKUP($I116, Resurssiluettelo!$C$21:$X$40,Ohjeistus!S$98,FALSE)),VLOOKUP($J116, Resurssiluettelo!$D$21:$X$40,Ohjeistus!S$98-1,FALSE))","v":""},{"$f":"IF($J116=\"\",IF($I116=\"\",\"\",VLOOKUP($I116, Resurssiluettelo!$C$21:$X$40,Ohjeistus!T$98,FALSE)),VLOOKUP($J116, Resurssiluettelo!$D$21:$X$40,Ohjeistus!T$98-1,FALSE))","v":""},{"$f":"IF($J116=\"\",\"\",VLOOKUP($J116, Resurssiluettelo!$D$21:$X$40,Ohjeistus!U$98-1,FALSE))","v":""},{"$f":"IF($J116=\"\",\"\",VLOOKUP($J116, Resurssiluettelo!$D$21:$X$40,Ohjeistus!V$98-1,FALSE))","v":""},{"$f":"IF($J116=\"\",\"\",VLOOKUP($J116, Resurssiluettelo!$D$21:$X$40,Ohjeistus!W$98-1,FALSE))","v":""},{"$f":"IF($J116=\"\",\"\",VLOOKUP($J116, Resurssiluettelo!$D$21:$X$40,Ohjeistus!X$98-1,FALSE))","v":""},{"$f":"IF(Resurssiluettelo!E163=0,\"\",Resurssiluettelo!E163)","v":""},{"$f":"IF(Resurssiluettelo!F163=0,\"\",YEAR(Resurssiluettelo!F163)&IF(MONTH(Resurssiluettelo!F163)<10,\"0\",\"\")&MONTH(Resurssiluettelo!F163)&IF(DAY(Resurssiluettelo!F163)<10,\"0\",\"\")&DAY(Resurssiluettelo!F163))","v":""},{"$f":"IF(Resurssiluettelo!G163=0,\"\",Resurssiluettelo!G163)","v":""},{"$f":"IF(Resurssiluettelo!H163=0,\"\",Resurssiluettelo!H163)","v":""},{"$f":"IF(Resurssiluettelo!I163=0,\"\",Resurssiluettelo!I163)","v":""},{"$f":"IF(Resurssiluettelo!W163=0,\"\",Resurssiluettelo!W163)","v":""},{"$f":"IF(Resurssiluettelo!X163=0,\"\",Resurssiluettelo!X163)","v":""},{"$f":"IF(Resurssiluettelo!Y163=0,\"\",Resurssiluettelo!Y163)","v":""},{"$f":"IF(Resurssiluettelo!Z163=0,\"\",Resurssiluettelo!Z163)","v":""},{"$f":"IF(Resurssiluettelo!AA163=0,\"\",Resurssiluettelo!AA163)","v":""},{"$f":"IF(Resurssiluettelo!AB163=0,\"\",Resurssiluettelo!AB163)","v":""},{"$f":"IF(Resurssiluettelo!AC163=0,\"\",Resurssiluettelo!AC163)","v":""},{"$f":"IF(Resurssiluettelo!AD163=0,\"\",Resurssiluettelo!AD163)","v":""},{"$f":"IF(Resurssiluettelo!J163=0,\"\",Resurssiluettelo!J163)","v":""},{"$f":"IF(Resurssiluettelo!K163=0,\"\",Resurssiluettelo!K163)","v":""},{"$f":"IF(Resurssiluettelo!L163=0,\"\",Resurssiluettelo!L163)","v":""},{"$f":"IF(Resurssiluettelo!M163=0,\"\",Resurssiluettelo!M163)","v":""},{"$f":"IF(Resurssiluettelo!N163=0,\"\",Resurssiluettelo!N163)","v":""},{"$f":"IF(Resurssiluettelo!O163=0,\"\",Resurssiluettelo!O163)","v":""},{"$f":"IF(Resurssiluettelo!P163=0,\"\",Resurssiluettelo!P163)","v":""},{"$f":"IF(Resurssiluettelo!Q163=0,\"\",Resurssiluettelo!Q163)","v":""},{"$f":"IF(Resurssiluettelo!R163=0,\"\",Resurssiluettelo!R163)","v":""},{"$f":"IF(Resurssiluettelo!S163=0,\"\",Resurssiluettelo!S163)","v":""},{"$f":"IF(Resurssiluettelo!T163=0,\"\",Resurssiluettelo!T163)","v":""},{"$f":"IF(Resurssiluettelo!U163=0,\"\",Resurssiluettelo!U163)","v":""},{"$f":"IF(Resurssiluettelo!V163=0,\"\",Resurssiluettelo!V163)","v":""}]
[114,{"$f":"IF(Y117=\"\",\"\",Resurssiluettelo!$G$1)","v":""},{"$f":"IF(Y117=\"\",\"\",Resurssiluettelo!$H$14)","v":""},{"$f":"IF(Y117=\"\",\"\",Resurssiluettelo!$I$14)","v":""},{"$f":"IF(Y117=\"\",\"\",Resurssiluettelo!$J$14)","v":""},{"$f":"IF(Y117=\"\",\"\",Resurssiluettelo!$N$14)","v":""},{"$f":"IF(Y117=\"\",\"\",Resurssiluettelo!$O$14)","v":""},{"$f":"IF(Resurssiluettelo!B164=0,\"\",Resurssiluettelo!B164)","v":""},{"$f":"IF(Resurssiluettelo!C164=0,\"\",Resurssiluettelo!C164)","v":""},{"$f":"IF(Resurssiluettelo!D164=0,\"\",Resurssiluettelo!D164)","v":""},{"$f":"IF($J117=\"\",\"\",VLOOKUP($J117, Resurssiluettelo!$D$21:$X$40,Ohjeistus!K$98-1,FALSE))","v":""},{"$f":"IF($J117=\"\",\"\",VLOOKUP($J117, Resurssiluettelo!$D$21:$X$40,Ohjeistus!L$98-1,FALSE))","v":""},{"$f":"IF($J117=\"\",\"\",VLOOKUP($J117, Resurssiluettelo!$D$21:$X$40,Ohjeistus!M$98-1,FALSE))","v":""},{"$f":"IF($J117=\"\",\"\",VLOOKUP($J117, Resurssiluettelo!$D$21:$X$40,Ohjeistus!N$98-1,FALSE))","v":""},{"$f":"IF($J117=\"\",\"\",VLOOKUP($J117, Resurssiluettelo!$D$21:$X$40,Ohjeistus!O$98-1,FALSE))","v":""},{"$f":"IF($J117=\"\",\"\",VLOOKUP($J117, Resurssiluettelo!$D$21:$X$40,Ohjeistus!P$98-1,FALSE))","v":""},{"$f":"IF($J117=\"\",IF($I117=\"\",\"\",VLOOKUP($I117, Resurssiluettelo!$C$21:$X$40,Ohjeistus!Q$98,FALSE)),VLOOKUP($J117, Resurssiluettelo!$D$21:$X$40,Ohjeistus!Q$98-1,FALSE))","v":""},{"$f":"IF($J117=\"\",IF($I117=\"\",\"\",VLOOKUP($I117, Resurssiluettelo!$C$21:$X$40,Ohjeistus!R$98,FALSE)),VLOOKUP($J117, Resurssiluettelo!$D$21:$X$40,Ohjeistus!R$98-1,FALSE))","v":""},{"$f":"IF($J117=\"\",IF($I117=\"\",\"\",VLOOKUP($I117, Resurssiluettelo!$C$21:$X$40,Ohjeistus!S$98,FALSE)),VLOOKUP($J117, Resurssiluettelo!$D$21:$X$40,Ohjeistus!S$98-1,FALSE))","v":""},{"$f":"IF($J117=\"\",IF($I117=\"\",\"\",VLOOKUP($I117, Resurssiluettelo!$C$21:$X$40,Ohjeistus!T$98,FALSE)),VLOOKUP($J117, Resurssiluettelo!$D$21:$X$40,Ohjeistus!T$98-1,FALSE))","v":""},{"$f":"IF($J117=\"\",\"\",VLOOKUP($J117, Resurssiluettelo!$D$21:$X$40,Ohjeistus!U$98-1,FALSE))","v":""},{"$f":"IF($J117=\"\",\"\",VLOOKUP($J117, Resurssiluettelo!$D$21:$X$40,Ohjeistus!V$98-1,FALSE))","v":""},{"$f":"IF($J117=\"\",\"\",VLOOKUP($J117, Resurssiluettelo!$D$21:$X$40,Ohjeistus!W$98-1,FALSE))","v":""},{"$f":"IF($J117=\"\",\"\",VLOOKUP($J117, Resurssiluettelo!$D$21:$X$40,Ohjeistus!X$98-1,FALSE))","v":""},{"$f":"IF(Resurssiluettelo!E164=0,\"\",Resurssiluettelo!E164)","v":""},{"$f":"IF(Resurssiluettelo!F164=0,\"\",YEAR(Resurssiluettelo!F164)&IF(MONTH(Resurssiluettelo!F164)<10,\"0\",\"\")&MONTH(Resurssiluettelo!F164)&IF(DAY(Resurssiluettelo!F164)<10,\"0\",\"\")&DAY(Resurssiluettelo!F164))","v":""},{"$f":"IF(Resurssiluettelo!G164=0,\"\",Resurssiluettelo!G164)","v":""},{"$f":"IF(Resurssiluettelo!H164=0,\"\",Resurssiluettelo!H164)","v":""},{"$f":"IF(Resurssiluettelo!I164=0,\"\",Resurssiluettelo!I164)","v":""},{"$f":"IF(Resurssiluettelo!W164=0,\"\",Resurssiluettelo!W164)","v":""},{"$f":"IF(Resurssiluettelo!X164=0,\"\",Resurssiluettelo!X164)","v":""},{"$f":"IF(Resurssiluettelo!Y164=0,\"\",Resurssiluettelo!Y164)","v":""},{"$f":"IF(Resurssiluettelo!Z164=0,\"\",Resurssiluettelo!Z164)","v":""},{"$f":"IF(Resurssiluettelo!AA164=0,\"\",Resurssiluettelo!AA164)","v":""},{"$f":"IF(Resurssiluettelo!AB164=0,\"\",Resurssiluettelo!AB164)","v":""},{"$f":"IF(Resurssiluettelo!AC164=0,\"\",Resurssiluettelo!AC164)","v":""},{"$f":"IF(Resurssiluettelo!AD164=0,\"\",Resurssiluettelo!AD164)","v":""},{"$f":"IF(Resurssiluettelo!J164=0,\"\",Resurssiluettelo!J164)","v":""},{"$f":"IF(Resurssiluettelo!K164=0,\"\",Resurssiluettelo!K164)","v":""},{"$f":"IF(Resurssiluettelo!L164=0,\"\",Resurssiluettelo!L164)","v":""},{"$f":"IF(Resurssiluettelo!M164=0,\"\",Resurssiluettelo!M164)","v":""},{"$f":"IF(Resurssiluettelo!N164=0,\"\",Resurssiluettelo!N164)","v":""},{"$f":"IF(Resurssiluettelo!O164=0,\"\",Resurssiluettelo!O164)","v":""},{"$f":"IF(Resurssiluettelo!P164=0,\"\",Resurssiluettelo!P164)","v":""},{"$f":"IF(Resurssiluettelo!Q164=0,\"\",Resurssiluettelo!Q164)","v":""},{"$f":"IF(Resurssiluettelo!R164=0,\"\",Resurssiluettelo!R164)","v":""},{"$f":"IF(Resurssiluettelo!S164=0,\"\",Resurssiluettelo!S164)","v":""},{"$f":"IF(Resurssiluettelo!T164=0,\"\",Resurssiluettelo!T164)","v":""},{"$f":"IF(Resurssiluettelo!U164=0,\"\",Resurssiluettelo!U164)","v":""},{"$f":"IF(Resurssiluettelo!V164=0,\"\",Resurssiluettelo!V164)","v":""}]
[115,{"$f":"IF(Y118=\"\",\"\",Resurssiluettelo!$G$1)","v":""},{"$f":"IF(Y118=\"\",\"\",Resurssiluettelo!$H$14)","v":""},{"$f":"IF(Y118=\"\",\"\",Resurssiluettelo!$I$14)","v":""},{"$f":"IF(Y118=\"\",\"\",Resurssiluettelo!$J$14)","v":""},{"$f":"IF(Y118=\"\",\"\",Resurssiluettelo!$N$14)","v":""},{"$f":"IF(Y118=\"\",\"\",Resurssiluettelo!$O$14)","v":""},{"$f":"IF(Resurssiluettelo!B165=0,\"\",Resurssiluettelo!B165)","v":""},{"$f":"IF(Resurssiluettelo!C165=0,\"\",Resurssiluettelo!C165)","v":""},{"$f":"IF(Resurssiluettelo!D165=0,\"\",Resurssiluettelo!D165)","v":""},{"$f":"IF($J118=\"\",\"\",VLOOKUP($J118, Resurssiluettelo!$D$21:$X$40,Ohjeistus!K$98-1,FALSE))","v":""},{"$f":"IF($J118=\"\",\"\",VLOOKUP($J118, Resurssiluettelo!$D$21:$X$40,Ohjeistus!L$98-1,FALSE))","v":""},{"$f":"IF($J118=\"\",\"\",VLOOKUP($J118, Resurssiluettelo!$D$21:$X$40,Ohjeistus!M$98-1,FALSE))","v":""},{"$f":"IF($J118=\"\",\"\",VLOOKUP($J118, Resurssiluettelo!$D$21:$X$40,Ohjeistus!N$98-1,FALSE))","v":""},{"$f":"IF($J118=\"\",\"\",VLOOKUP($J118, Resurssiluettelo!$D$21:$X$40,Ohjeistus!O$98-1,FALSE))","v":""},{"$f":"IF($J118=\"\",\"\",VLOOKUP($J118, Resurssiluettelo!$D$21:$X$40,Ohjeistus!P$98-1,FALSE))","v":""},{"$f":"IF($J118=\"\",IF($I118=\"\",\"\",VLOOKUP($I118, Resurssiluettelo!$C$21:$X$40,Ohjeistus!Q$98,FALSE)),VLOOKUP($J118, Resurssiluettelo!$D$21:$X$40,Ohjeistus!Q$98-1,FALSE))","v":""},{"$f":"IF($J118=\"\",IF($I118=\"\",\"\",VLOOKUP($I118, Resurssiluettelo!$C$21:$X$40,Ohjeistus!R$98,FALSE)),VLOOKUP($J118, Resurssiluettelo!$D$21:$X$40,Ohjeistus!R$98-1,FALSE))","v":""},{"$f":"IF($J118=\"\",IF($I118=\"\",\"\",VLOOKUP($I118, Resurssiluettelo!$C$21:$X$40,Ohjeistus!S$98,FALSE)),VLOOKUP($J118, Resurssiluettelo!$D$21:$X$40,Ohjeistus!S$98-1,FALSE))","v":""},{"$f":"IF($J118=\"\",IF($I118=\"\",\"\",VLOOKUP($I118, Resurssiluettelo!$C$21:$X$40,Ohjeistus!T$98,FALSE)),VLOOKUP($J118, Resurssiluettelo!$D$21:$X$40,Ohjeistus!T$98-1,FALSE))","v":""},{"$f":"IF($J118=\"\",\"\",VLOOKUP($J118, Resurssiluettelo!$D$21:$X$40,Ohjeistus!U$98-1,FALSE))","v":""},{"$f":"IF($J118=\"\",\"\",VLOOKUP($J118, Resurssiluettelo!$D$21:$X$40,Ohjeistus!V$98-1,FALSE))","v":""},{"$f":"IF($J118=\"\",\"\",VLOOKUP($J118, Resurssiluettelo!$D$21:$X$40,Ohjeistus!W$98-1,FALSE))","v":""},{"$f":"IF($J118=\"\",\"\",VLOOKUP($J118, Resurssiluettelo!$D$21:$X$40,Ohjeistus!X$98-1,FALSE))","v":""},{"$f":"IF(Resurssiluettelo!E165=0,\"\",Resurssiluettelo!E165)","v":""},{"$f":"IF(Resurssiluettelo!F165=0,\"\",YEAR(Resurssiluettelo!F165)&IF(MONTH(Resurssiluettelo!F165)<10,\"0\",\"\")&MONTH(Resurssiluettelo!F165)&IF(DAY(Resurssiluettelo!F165)<10,\"0\",\"\")&DAY(Resurssiluettelo!F165))","v":""},{"$f":"IF(Resurssiluettelo!G165=0,\"\",Resurssiluettelo!G165)","v":""},{"$f":"IF(Resurssiluettelo!H165=0,\"\",Resurssiluettelo!H165)","v":""},{"$f":"IF(Resurssiluettelo!I165=0,\"\",Resurssiluettelo!I165)","v":""},{"$f":"IF(Resurssiluettelo!W165=0,\"\",Resurssiluettelo!W165)","v":""},{"$f":"IF(Resurssiluettelo!X165=0,\"\",Resurssiluettelo!X165)","v":""},{"$f":"IF(Resurssiluettelo!Y165=0,\"\",Resurssiluettelo!Y165)","v":""},{"$f":"IF(Resurssiluettelo!Z165=0,\"\",Resurssiluettelo!Z165)","v":""},{"$f":"IF(Resurssiluettelo!AA165=0,\"\",Resurssiluettelo!AA165)","v":""},{"$f":"IF(Resurssiluettelo!AB165=0,\"\",Resurssiluettelo!AB165)","v":""},{"$f":"IF(Resurssiluettelo!AC165=0,\"\",Resurssiluettelo!AC165)","v":""},{"$f":"IF(Resurssiluettelo!AD165=0,\"\",Resurssiluettelo!AD165)","v":""},{"$f":"IF(Resurssiluettelo!J165=0,\"\",Resurssiluettelo!J165)","v":""},{"$f":"IF(Resurssiluettelo!K165=0,\"\",Resurssiluettelo!K165)","v":""},{"$f":"IF(Resurssiluettelo!L165=0,\"\",Resurssiluettelo!L165)","v":""},{"$f":"IF(Resurssiluettelo!M165=0,\"\",Resurssiluettelo!M165)","v":""},{"$f":"IF(Resurssiluettelo!N165=0,\"\",Resurssiluettelo!N165)","v":""},{"$f":"IF(Resurssiluettelo!O165=0,\"\",Resurssiluettelo!O165)","v":""},{"$f":"IF(Resurssiluettelo!P165=0,\"\",Resurssiluettelo!P165)","v":""},{"$f":"IF(Resurssiluettelo!Q165=0,\"\",Resurssiluettelo!Q165)","v":""},{"$f":"IF(Resurssiluettelo!R165=0,\"\",Resurssiluettelo!R165)","v":""},{"$f":"IF(Resurssiluettelo!S165=0,\"\",Resurssiluettelo!S165)","v":""},{"$f":"IF(Resurssiluettelo!T165=0,\"\",Resurssiluettelo!T165)","v":""},{"$f":"IF(Resurssiluettelo!U165=0,\"\",Resurssiluettelo!U165)","v":""},{"$f":"IF(Resurssiluettelo!V165=0,\"\",Resurssiluettelo!V165)","v":""}]
[116,{"$f":"IF(Y119=\"\",\"\",Resurssiluettelo!$G$1)","v":""},{"$f":"IF(Y119=\"\",\"\",Resurssiluettelo!$H$14)","v":""},{"$f":"IF(Y119=\"\",\"\",Resurssiluettelo!$I$14)","v":""},{"$f":"IF(Y119=\"\",\"\",Resurssiluettelo!$J$14)","v":""},{"$f":"IF(Y119=\"\",\"\",Resurssiluettelo!$N$14)","v":""},{"$f":"IF(Y119=\"\",\"\",Resurssiluettelo!$O$14)","v":""},{"$f":"IF(Resurssiluettelo!B166=0,\"\",Resurssiluettelo!B166)","v":""},{"$f":"IF(Resurssiluettelo!C166=0,\"\",Resurssiluettelo!C166)","v":""},{"$f":"IF(Resurssiluettelo!D166=0,\"\",Resurssiluettelo!D166)","v":""},{"$f":"IF($J119=\"\",\"\",VLOOKUP($J119, Resurssiluettelo!$D$21:$X$40,Ohjeistus!K$98-1,FALSE))","v":""},{"$f":"IF($J119=\"\",\"\",VLOOKUP($J119, Resurssiluettelo!$D$21:$X$40,Ohjeistus!L$98-1,FALSE))","v":""},{"$f":"IF($J119=\"\",\"\",VLOOKUP($J119, Resurssiluettelo!$D$21:$X$40,Ohjeistus!M$98-1,FALSE))","v":""},{"$f":"IF($J119=\"\",\"\",VLOOKUP($J119, Resurssiluettelo!$D$21:$X$40,Ohjeistus!N$98-1,FALSE))","v":""},{"$f":"IF($J119=\"\",\"\",VLOOKUP($J119, Resurssiluettelo!$D$21:$X$40,Ohjeistus!O$98-1,FALSE))","v":""},{"$f":"IF($J119=\"\",\"\",VLOOKUP($J119, Resurssiluettelo!$D$21:$X$40,Ohjeistus!P$98-1,FALSE))","v":""},{"$f":"IF($J119=\"\",IF($I119=\"\",\"\",VLOOKUP($I119, Resurssiluettelo!$C$21:$X$40,Ohjeistus!Q$98,FALSE)),VLOOKUP($J119, Resurssiluettelo!$D$21:$X$40,Ohjeistus!Q$98-1,FALSE))","v":""},{"$f":"IF($J119=\"\",IF($I119=\"\",\"\",VLOOKUP($I119, Resurssiluettelo!$C$21:$X$40,Ohjeistus!R$98,FALSE)),VLOOKUP($J119, Resurssiluettelo!$D$21:$X$40,Ohjeistus!R$98-1,FALSE))","v":""},{"$f":"IF($J119=\"\",IF($I119=\"\",\"\",VLOOKUP($I119, Resurssiluettelo!$C$21:$X$40,Ohjeistus!S$98,FALSE)),VLOOKUP($J119, Resurssiluettelo!$D$21:$X$40,Ohjeistus!S$98-1,FALSE))","v":""},{"$f":"IF($J119=\"\",IF($I119=\"\",\"\",VLOOKUP($I119, Resurssiluettelo!$C$21:$X$40,Ohjeistus!T$98,FALSE)),VLOOKUP($J119, Resurssiluettelo!$D$21:$X$40,Ohjeistus!T$98-1,FALSE))","v":""},{"$f":"IF($J119=\"\",\"\",VLOOKUP($J119, Resurssiluettelo!$D$21:$X$40,Ohjeistus!U$98-1,FALSE))","v":""},{"$f":"IF($J119=\"\",\"\",VLOOKUP($J119, Resurssiluettelo!$D$21:$X$40,Ohjeistus!V$98-1,FALSE))","v":""},{"$f":"IF($J119=\"\",\"\",VLOOKUP($J119, Resurssiluettelo!$D$21:$X$40,Ohjeistus!W$98-1,FALSE))","v":""},{"$f":"IF($J119=\"\",\"\",VLOOKUP($J119, Resurssiluettelo!$D$21:$X$40,Ohjeistus!X$98-1,FALSE))","v":""},{"$f":"IF(Resurssiluettelo!E166=0,\"\",Resurssiluettelo!E166)","v":""},{"$f":"IF(Resurssiluettelo!F166=0,\"\",YEAR(Resurssiluettelo!F166)&IF(MONTH(Resurssiluettelo!F166)<10,\"0\",\"\")&MONTH(Resurssiluettelo!F166)&IF(DAY(Resurssiluettelo!F166)<10,\"0\",\"\")&DAY(Resurssiluettelo!F166))","v":""},{"$f":"IF(Resurssiluettelo!G166=0,\"\",Resurssiluettelo!G166)","v":""},{"$f":"IF(Resurssiluettelo!H166=0,\"\",Resurssiluettelo!H166)","v":""},{"$f":"IF(Resurssiluettelo!I166=0,\"\",Resurssiluettelo!I166)","v":""},{"$f":"IF(Resurssiluettelo!W166=0,\"\",Resurssiluettelo!W166)","v":""},{"$f":"IF(Resurssiluettelo!X166=0,\"\",Resurssiluettelo!X166)","v":""},{"$f":"IF(Resurssiluettelo!Y166=0,\"\",Resurssiluettelo!Y166)","v":""},{"$f":"IF(Resurssiluettelo!Z166=0,\"\",Resurssiluettelo!Z166)","v":""},{"$f":"IF(Resurssiluettelo!AA166=0,\"\",Resurssiluettelo!AA166)","v":""},{"$f":"IF(Resurssiluettelo!AB166=0,\"\",Resurssiluettelo!AB166)","v":""},{"$f":"IF(Resurssiluettelo!AC166=0,\"\",Resurssiluettelo!AC166)","v":""},{"$f":"IF(Resurssiluettelo!AD166=0,\"\",Resurssiluettelo!AD166)","v":""},{"$f":"IF(Resurssiluettelo!J166=0,\"\",Resurssiluettelo!J166)","v":""},{"$f":"IF(Resurssiluettelo!K166=0,\"\",Resurssiluettelo!K166)","v":""},{"$f":"IF(Resurssiluettelo!L166=0,\"\",Resurssiluettelo!L166)","v":""},{"$f":"IF(Resurssiluettelo!M166=0,\"\",Resurssiluettelo!M166)","v":""},{"$f":"IF(Resurssiluettelo!N166=0,\"\",Resurssiluettelo!N166)","v":""},{"$f":"IF(Resurssiluettelo!O166=0,\"\",Resurssiluettelo!O166)","v":""},{"$f":"IF(Resurssiluettelo!P166=0,\"\",Resurssiluettelo!P166)","v":""},{"$f":"IF(Resurssiluettelo!Q166=0,\"\",Resurssiluettelo!Q166)","v":""},{"$f":"IF(Resurssiluettelo!R166=0,\"\",Resurssiluettelo!R166)","v":""},{"$f":"IF(Resurssiluettelo!S166=0,\"\",Resurssiluettelo!S166)","v":""},{"$f":"IF(Resurssiluettelo!T166=0,\"\",Resurssiluettelo!T166)","v":""},{"$f":"IF(Resurssiluettelo!U166=0,\"\",Resurssiluettelo!U166)","v":""},{"$f":"IF(Resurssiluettelo!V166=0,\"\",Resurssiluettelo!V166)","v":""}]
[117,{"$f":"IF(Y120=\"\",\"\",Resurssiluettelo!$G$1)","v":""},{"$f":"IF(Y120=\"\",\"\",Resurssiluettelo!$H$14)","v":""},{"$f":"IF(Y120=\"\",\"\",Resurssiluettelo!$I$14)","v":""},{"$f":"IF(Y120=\"\",\"\",Resurssiluettelo!$J$14)","v":""},{"$f":"IF(Y120=\"\",\"\",Resurssiluettelo!$N$14)","v":""},{"$f":"IF(Y120=\"\",\"\",Resurssiluettelo!$O$14)","v":""},{"$f":"IF(Resurssiluettelo!B167=0,\"\",Resurssiluettelo!B167)","v":""},{"$f":"IF(Resurssiluettelo!C167=0,\"\",Resurssiluettelo!C167)","v":""},{"$f":"IF(Resurssiluettelo!D167=0,\"\",Resurssiluettelo!D167)","v":""},{"$f":"IF($J120=\"\",\"\",VLOOKUP($J120, Resurssiluettelo!$D$21:$X$40,Ohjeistus!K$98-1,FALSE))","v":""},{"$f":"IF($J120=\"\",\"\",VLOOKUP($J120, Resurssiluettelo!$D$21:$X$40,Ohjeistus!L$98-1,FALSE))","v":""},{"$f":"IF($J120=\"\",\"\",VLOOKUP($J120, Resurssiluettelo!$D$21:$X$40,Ohjeistus!M$98-1,FALSE))","v":""},{"$f":"IF($J120=\"\",\"\",VLOOKUP($J120, Resurssiluettelo!$D$21:$X$40,Ohjeistus!N$98-1,FALSE))","v":""},{"$f":"IF($J120=\"\",\"\",VLOOKUP($J120, Resurssiluettelo!$D$21:$X$40,Ohjeistus!O$98-1,FALSE))","v":""},{"$f":"IF($J120=\"\",\"\",VLOOKUP($J120, Resurssiluettelo!$D$21:$X$40,Ohjeistus!P$98-1,FALSE))","v":""},{"$f":"IF($J120=\"\",IF($I120=\"\",\"\",VLOOKUP($I120, Resurssiluettelo!$C$21:$X$40,Ohjeistus!Q$98,FALSE)),VLOOKUP($J120, Resurssiluettelo!$D$21:$X$40,Ohjeistus!Q$98-1,FALSE))","v":""},{"$f":"IF($J120=\"\",IF($I120=\"\",\"\",VLOOKUP($I120, Resurssiluettelo!$C$21:$X$40,Ohjeistus!R$98,FALSE)),VLOOKUP($J120, Resurssiluettelo!$D$21:$X$40,Ohjeistus!R$98-1,FALSE))","v":""},{"$f":"IF($J120=\"\",IF($I120=\"\",\"\",VLOOKUP($I120, Resurssiluettelo!$C$21:$X$40,Ohjeistus!S$98,FALSE)),VLOOKUP($J120, Resurssiluettelo!$D$21:$X$40,Ohjeistus!S$98-1,FALSE))","v":""},{"$f":"IF($J120=\"\",IF($I120=\"\",\"\",VLOOKUP($I120, Resurssiluettelo!$C$21:$X$40,Ohjeistus!T$98,FALSE)),VLOOKUP($J120, Resurssiluettelo!$D$21:$X$40,Ohjeistus!T$98-1,FALSE))","v":""},{"$f":"IF($J120=\"\",\"\",VLOOKUP($J120, Resurssiluettelo!$D$21:$X$40,Ohjeistus!U$98-1,FALSE))","v":""},{"$f":"IF($J120=\"\",\"\",VLOOKUP($J120, Resurssiluettelo!$D$21:$X$40,Ohjeistus!V$98-1,FALSE))","v":""},{"$f":"IF($J120=\"\",\"\",VLOOKUP($J120, Resurssiluettelo!$D$21:$X$40,Ohjeistus!W$98-1,FALSE))","v":""},{"$f":"IF($J120=\"\",\"\",VLOOKUP($J120, Resurssiluettelo!$D$21:$X$40,Ohjeistus!X$98-1,FALSE))","v":""},{"$f":"IF(Resurssiluettelo!E167=0,\"\",Resurssiluettelo!E167)","v":""},{"$f":"IF(Resurssiluettelo!F167=0,\"\",YEAR(Resurssiluettelo!F167)&IF(MONTH(Resurssiluettelo!F167)<10,\"0\",\"\")&MONTH(Resurssiluettelo!F167)&IF(DAY(Resurssiluettelo!F167)<10,\"0\",\"\")&DAY(Resurssiluettelo!F167))","v":""},{"$f":"IF(Resurssiluettelo!G167=0,\"\",Resurssiluettelo!G167)","v":""},{"$f":"IF(Resurssiluettelo!H167=0,\"\",Resurssiluettelo!H167)","v":""},{"$f":"IF(Resurssiluettelo!I167=0,\"\",Resurssiluettelo!I167)","v":""},{"$f":"IF(Resurssiluettelo!W167=0,\"\",Resurssiluettelo!W167)","v":""},{"$f":"IF(Resurssiluettelo!X167=0,\"\",Resurssiluettelo!X167)","v":""},{"$f":"IF(Resurssiluettelo!Y167=0,\"\",Resurssiluettelo!Y167)","v":""},{"$f":"IF(Resurssiluettelo!Z167=0,\"\",Resurssiluettelo!Z167)","v":""},{"$f":"IF(Resurssiluettelo!AA167=0,\"\",Resurssiluettelo!AA167)","v":""},{"$f":"IF(Resurssiluettelo!AB167=0,\"\",Resurssiluettelo!AB167)","v":""},{"$f":"IF(Resurssiluettelo!AC167=0,\"\",Resurssiluettelo!AC167)","v":""},{"$f":"IF(Resurssiluettelo!AD167=0,\"\",Resurssiluettelo!AD167)","v":""},{"$f":"IF(Resurssiluettelo!J167=0,\"\",Resurssiluettelo!J167)","v":""},{"$f":"IF(Resurssiluettelo!K167=0,\"\",Resurssiluettelo!K167)","v":""},{"$f":"IF(Resurssiluettelo!L167=0,\"\",Resurssiluettelo!L167)","v":""},{"$f":"IF(Resurssiluettelo!M167=0,\"\",Resurssiluettelo!M167)","v":""},{"$f":"IF(Resurssiluettelo!N167=0,\"\",Resurssiluettelo!N167)","v":""},{"$f":"IF(Resurssiluettelo!O167=0,\"\",Resurssiluettelo!O167)","v":""},{"$f":"IF(Resurssiluettelo!P167=0,\"\",Resurssiluettelo!P167)","v":""},{"$f":"IF(Resurssiluettelo!Q167=0,\"\",Resurssiluettelo!Q167)","v":""},{"$f":"IF(Resurssiluettelo!R167=0,\"\",Resurssiluettelo!R167)","v":""},{"$f":"IF(Resurssiluettelo!S167=0,\"\",Resurssiluettelo!S167)","v":""},{"$f":"IF(Resurssiluettelo!T167=0,\"\",Resurssiluettelo!T167)","v":""},{"$f":"IF(Resurssiluettelo!U167=0,\"\",Resurssiluettelo!U167)","v":""},{"$f":"IF(Resurssiluettelo!V167=0,\"\",Resurssiluettelo!V167)","v":""}]
[118,{"$f":"IF(Y121=\"\",\"\",Resurssiluettelo!$G$1)","v":""},{"$f":"IF(Y121=\"\",\"\",Resurssiluettelo!$H$14)","v":""},{"$f":"IF(Y121=\"\",\"\",Resurssiluettelo!$I$14)","v":""},{"$f":"IF(Y121=\"\",\"\",Resurssiluettelo!$J$14)","v":""},{"$f":"IF(Y121=\"\",\"\",Resurssiluettelo!$N$14)","v":""},{"$f":"IF(Y121=\"\",\"\",Resurssiluettelo!$O$14)","v":""},{"$f":"IF(Resurssiluettelo!B168=0,\"\",Resurssiluettelo!B168)","v":""},{"$f":"IF(Resurssiluettelo!C168=0,\"\",Resurssiluettelo!C168)","v":""},{"$f":"IF(Resurssiluettelo!D168=0,\"\",Resurssiluettelo!D168)","v":""},{"$f":"IF($J121=\"\",\"\",VLOOKUP($J121, Resurssiluettelo!$D$21:$X$40,Ohjeistus!K$98-1,FALSE))","v":""},{"$f":"IF($J121=\"\",\"\",VLOOKUP($J121, Resurssiluettelo!$D$21:$X$40,Ohjeistus!L$98-1,FALSE))","v":""},{"$f":"IF($J121=\"\",\"\",VLOOKUP($J121, Resurssiluettelo!$D$21:$X$40,Ohjeistus!M$98-1,FALSE))","v":""},{"$f":"IF($J121=\"\",\"\",VLOOKUP($J121, Resurssiluettelo!$D$21:$X$40,Ohjeistus!N$98-1,FALSE))","v":""},{"$f":"IF($J121=\"\",\"\",VLOOKUP($J121, Resurssiluettelo!$D$21:$X$40,Ohjeistus!O$98-1,FALSE))","v":""},{"$f":"IF($J121=\"\",\"\",VLOOKUP($J121, Resurssiluettelo!$D$21:$X$40,Ohjeistus!P$98-1,FALSE))","v":""},{"$f":"IF($J121=\"\",IF($I121=\"\",\"\",VLOOKUP($I121, Resurssiluettelo!$C$21:$X$40,Ohjeistus!Q$98,FALSE)),VLOOKUP($J121, Resurssiluettelo!$D$21:$X$40,Ohjeistus!Q$98-1,FALSE))","v":""},{"$f":"IF($J121=\"\",IF($I121=\"\",\"\",VLOOKUP($I121, Resurssiluettelo!$C$21:$X$40,Ohjeistus!R$98,FALSE)),VLOOKUP($J121, Resurssiluettelo!$D$21:$X$40,Ohjeistus!R$98-1,FALSE))","v":""},{"$f":"IF($J121=\"\",IF($I121=\"\",\"\",VLOOKUP($I121, Resurssiluettelo!$C$21:$X$40,Ohjeistus!S$98,FALSE)),VLOOKUP($J121, Resurssiluettelo!$D$21:$X$40,Ohjeistus!S$98-1,FALSE))","v":""},{"$f":"IF($J121=\"\",IF($I121=\"\",\"\",VLOOKUP($I121, Resurssiluettelo!$C$21:$X$40,Ohjeistus!T$98,FALSE)),VLOOKUP($J121, Resurssiluettelo!$D$21:$X$40,Ohjeistus!T$98-1,FALSE))","v":""},{"$f":"IF($J121=\"\",\"\",VLOOKUP($J121, Resurssiluettelo!$D$21:$X$40,Ohjeistus!U$98-1,FALSE))","v":""},{"$f":"IF($J121=\"\",\"\",VLOOKUP($J121, Resurssiluettelo!$D$21:$X$40,Ohjeistus!V$98-1,FALSE))","v":""},{"$f":"IF($J121=\"\",\"\",VLOOKUP($J121, Resurssiluettelo!$D$21:$X$40,Ohjeistus!W$98-1,FALSE))","v":""},{"$f":"IF($J121=\"\",\"\",VLOOKUP($J121, Resurssiluettelo!$D$21:$X$40,Ohjeistus!X$98-1,FALSE))","v":""},{"$f":"IF(Resurssiluettelo!E168=0,\"\",Resurssiluettelo!E168)","v":""},{"$f":"IF(Resurssiluettelo!F168=0,\"\",YEAR(Resurssiluettelo!F168)&IF(MONTH(Resurssiluettelo!F168)<10,\"0\",\"\")&MONTH(Resurssiluettelo!F168)&IF(DAY(Resurssiluettelo!F168)<10,\"0\",\"\")&DAY(Resurssiluettelo!F168))","v":""},{"$f":"IF(Resurssiluettelo!G168=0,\"\",Resurssiluettelo!G168)","v":""},{"$f":"IF(Resurssiluettelo!H168=0,\"\",Resurssiluettelo!H168)","v":""},{"$f":"IF(Resurssiluettelo!I168=0,\"\",Resurssiluettelo!I168)","v":""},{"$f":"IF(Resurssiluettelo!W168=0,\"\",Resurssiluettelo!W168)","v":""},{"$f":"IF(Resurssiluettelo!X168=0,\"\",Resurssiluettelo!X168)","v":""},{"$f":"IF(Resurssiluettelo!Y168=0,\"\",Resurssiluettelo!Y168)","v":""},{"$f":"IF(Resurssiluettelo!Z168=0,\"\",Resurssiluettelo!Z168)","v":""},{"$f":"IF(Resurssiluettelo!AA168=0,\"\",Resurssiluettelo!AA168)","v":""},{"$f":"IF(Resurssiluettelo!AB168=0,\"\",Resurssiluettelo!AB168)","v":""},{"$f":"IF(Resurssiluettelo!AC168=0,\"\",Resurssiluettelo!AC168)","v":""},{"$f":"IF(Resurssiluettelo!AD168=0,\"\",Resurssiluettelo!AD168)","v":""},{"$f":"IF(Resurssiluettelo!J168=0,\"\",Resurssiluettelo!J168)","v":""},{"$f":"IF(Resurssiluettelo!K168=0,\"\",Resurssiluettelo!K168)","v":""},{"$f":"IF(Resurssiluettelo!L168=0,\"\",Resurssiluettelo!L168)","v":""},{"$f":"IF(Resurssiluettelo!M168=0,\"\",Resurssiluettelo!M168)","v":""},{"$f":"IF(Resurssiluettelo!N168=0,\"\",Resurssiluettelo!N168)","v":""},{"$f":"IF(Resurssiluettelo!O168=0,\"\",Resurssiluettelo!O168)","v":""},{"$f":"IF(Resurssiluettelo!P168=0,\"\",Resurssiluettelo!P168)","v":""},{"$f":"IF(Resurssiluettelo!Q168=0,\"\",Resurssiluettelo!Q168)","v":""},{"$f":"IF(Resurssiluettelo!R168=0,\"\",Resurssiluettelo!R168)","v":""},{"$f":"IF(Resurssiluettelo!S168=0,\"\",Resurssiluettelo!S168)","v":""},{"$f":"IF(Resurssiluettelo!T168=0,\"\",Resurssiluettelo!T168)","v":""},{"$f":"IF(Resurssiluettelo!U168=0,\"\",Resurssiluettelo!U168)","v":""},{"$f":"IF(Resurssiluettelo!V168=0,\"\",Resurssiluettelo!V168)","v":""}]
[119,{"$f":"IF(Y122=\"\",\"\",Resurssiluettelo!$G$1)","v":""},{"$f":"IF(Y122=\"\",\"\",Resurssiluettelo!$H$14)","v":""},{"$f":"IF(Y122=\"\",\"\",Resurssiluettelo!$I$14)","v":""},{"$f":"IF(Y122=\"\",\"\",Resurssiluettelo!$J$14)","v":""},{"$f":"IF(Y122=\"\",\"\",Resurssiluettelo!$N$14)","v":""},{"$f":"IF(Y122=\"\",\"\",Resurssiluettelo!$O$14)","v":""},{"$f":"IF(Resurssiluettelo!B169=0,\"\",Resurssiluettelo!B169)","v":""},{"$f":"IF(Resurssiluettelo!C169=0,\"\",Resurssiluettelo!C169)","v":""},{"$f":"IF(Resurssiluettelo!D169=0,\"\",Resurssiluettelo!D169)","v":""},{"$f":"IF($J122=\"\",\"\",VLOOKUP($J122, Resurssiluettelo!$D$21:$X$40,Ohjeistus!K$98-1,FALSE))","v":""},{"$f":"IF($J122=\"\",\"\",VLOOKUP($J122, Resurssiluettelo!$D$21:$X$40,Ohjeistus!L$98-1,FALSE))","v":""},{"$f":"IF($J122=\"\",\"\",VLOOKUP($J122, Resurssiluettelo!$D$21:$X$40,Ohjeistus!M$98-1,FALSE))","v":""},{"$f":"IF($J122=\"\",\"\",VLOOKUP($J122, Resurssiluettelo!$D$21:$X$40,Ohjeistus!N$98-1,FALSE))","v":""},{"$f":"IF($J122=\"\",\"\",VLOOKUP($J122, Resurssiluettelo!$D$21:$X$40,Ohjeistus!O$98-1,FALSE))","v":""},{"$f":"IF($J122=\"\",\"\",VLOOKUP($J122, Resurssiluettelo!$D$21:$X$40,Ohjeistus!P$98-1,FALSE))","v":""},{"$f":"IF($J122=\"\",IF($I122=\"\",\"\",VLOOKUP($I122, Resurssiluettelo!$C$21:$X$40,Ohjeistus!Q$98,FALSE)),VLOOKUP($J122, Resurssiluettelo!$D$21:$X$40,Ohjeistus!Q$98-1,FALSE))","v":""},{"$f":"IF($J122=\"\",IF($I122=\"\",\"\",VLOOKUP($I122, Resurssiluettelo!$C$21:$X$40,Ohjeistus!R$98,FALSE)),VLOOKUP($J122, Resurssiluettelo!$D$21:$X$40,Ohjeistus!R$98-1,FALSE))","v":""},{"$f":"IF($J122=\"\",IF($I122=\"\",\"\",VLOOKUP($I122, Resurssiluettelo!$C$21:$X$40,Ohjeistus!S$98,FALSE)),VLOOKUP($J122, Resurssiluettelo!$D$21:$X$40,Ohjeistus!S$98-1,FALSE))","v":""},{"$f":"IF($J122=\"\",IF($I122=\"\",\"\",VLOOKUP($I122, Resurssiluettelo!$C$21:$X$40,Ohjeistus!T$98,FALSE)),VLOOKUP($J122, Resurssiluettelo!$D$21:$X$40,Ohjeistus!T$98-1,FALSE))","v":""},{"$f":"IF($J122=\"\",\"\",VLOOKUP($J122, Resurssiluettelo!$D$21:$X$40,Ohjeistus!U$98-1,FALSE))","v":""},{"$f":"IF($J122=\"\",\"\",VLOOKUP($J122, Resurssiluettelo!$D$21:$X$40,Ohjeistus!V$98-1,FALSE))","v":""},{"$f":"IF($J122=\"\",\"\",VLOOKUP($J122, Resurssiluettelo!$D$21:$X$40,Ohjeistus!W$98-1,FALSE))","v":""},{"$f":"IF($J122=\"\",\"\",VLOOKUP($J122, Resurssiluettelo!$D$21:$X$40,Ohjeistus!X$98-1,FALSE))","v":""},{"$f":"IF(Resurssiluettelo!E169=0,\"\",Resurssiluettelo!E169)","v":""},{"$f":"IF(Resurssiluettelo!F169=0,\"\",YEAR(Resurssiluettelo!F169)&IF(MONTH(Resurssiluettelo!F169)<10,\"0\",\"\")&MONTH(Resurssiluettelo!F169)&IF(DAY(Resurssiluettelo!F169)<10,\"0\",\"\")&DAY(Resurssiluettelo!F169))","v":""},{"$f":"IF(Resurssiluettelo!G169=0,\"\",Resurssiluettelo!G169)","v":""},{"$f":"IF(Resurssiluettelo!H169=0,\"\",Resurssiluettelo!H169)","v":""},{"$f":"IF(Resurssiluettelo!I169=0,\"\",Resurssiluettelo!I169)","v":""},{"$f":"IF(Resurssiluettelo!W169=0,\"\",Resurssiluettelo!W169)","v":""},{"$f":"IF(Resurssiluettelo!X169=0,\"\",Resurssiluettelo!X169)","v":""},{"$f":"IF(Resurssiluettelo!Y169=0,\"\",Resurssiluettelo!Y169)","v":""},{"$f":"IF(Resurssiluettelo!Z169=0,\"\",Resurssiluettelo!Z169)","v":""},{"$f":"IF(Resurssiluettelo!AA169=0,\"\",Resurssiluettelo!AA169)","v":""},{"$f":"IF(Resurssiluettelo!AB169=0,\"\",Resurssiluettelo!AB169)","v":""},{"$f":"IF(Resurssiluettelo!AC169=0,\"\",Resurssiluettelo!AC169)","v":""},{"$f":"IF(Resurssiluettelo!AD169=0,\"\",Resurssiluettelo!AD169)","v":""},{"$f":"IF(Resurssiluettelo!J169=0,\"\",Resurssiluettelo!J169)","v":""},{"$f":"IF(Resurssiluettelo!K169=0,\"\",Resurssiluettelo!K169)","v":""},{"$f":"IF(Resurssiluettelo!L169=0,\"\",Resurssiluettelo!L169)","v":""},{"$f":"IF(Resurssiluettelo!M169=0,\"\",Resurssiluettelo!M169)","v":""},{"$f":"IF(Resurssiluettelo!N169=0,\"\",Resurssiluettelo!N169)","v":""},{"$f":"IF(Resurssiluettelo!O169=0,\"\",Resurssiluettelo!O169)","v":""},{"$f":"IF(Resurssiluettelo!P169=0,\"\",Resurssiluettelo!P169)","v":""},{"$f":"IF(Resurssiluettelo!Q169=0,\"\",Resurssiluettelo!Q169)","v":""},{"$f":"IF(Resurssiluettelo!R169=0,\"\",Resurssiluettelo!R169)","v":""},{"$f":"IF(Resurssiluettelo!S169=0,\"\",Resurssiluettelo!S169)","v":""},{"$f":"IF(Resurssiluettelo!T169=0,\"\",Resurssiluettelo!T169)","v":""},{"$f":"IF(Resurssiluettelo!U169=0,\"\",Resurssiluettelo!U169)","v":""},{"$f":"IF(Resurssiluettelo!V169=0,\"\",Resurssiluettelo!V169)","v":""}]
[120,{"$f":"IF(Y123=\"\",\"\",Resurssiluettelo!$G$1)","v":""},{"$f":"IF(Y123=\"\",\"\",Resurssiluettelo!$H$14)","v":""},{"$f":"IF(Y123=\"\",\"\",Resurssiluettelo!$I$14)","v":""},{"$f":"IF(Y123=\"\",\"\",Resurssiluettelo!$J$14)","v":""},{"$f":"IF(Y123=\"\",\"\",Resurssiluettelo!$N$14)","v":""},{"$f":"IF(Y123=\"\",\"\",Resurssiluettelo!$O$14)","v":""},{"$f":"IF(Resurssiluettelo!B170=0,\"\",Resurssiluettelo!B170)","v":""},{"$f":"IF(Resurssiluettelo!C170=0,\"\",Resurssiluettelo!C170)","v":""},{"$f":"IF(Resurssiluettelo!D170=0,\"\",Resurssiluettelo!D170)","v":""},{"$f":"IF($J123=\"\",\"\",VLOOKUP($J123, Resurssiluettelo!$D$21:$X$40,Ohjeistus!K$98-1,FALSE))","v":""},{"$f":"IF($J123=\"\",\"\",VLOOKUP($J123, Resurssiluettelo!$D$21:$X$40,Ohjeistus!L$98-1,FALSE))","v":""},{"$f":"IF($J123=\"\",\"\",VLOOKUP($J123, Resurssiluettelo!$D$21:$X$40,Ohjeistus!M$98-1,FALSE))","v":""},{"$f":"IF($J123=\"\",\"\",VLOOKUP($J123, Resurssiluettelo!$D$21:$X$40,Ohjeistus!N$98-1,FALSE))","v":""},{"$f":"IF($J123=\"\",\"\",VLOOKUP($J123, Resurssiluettelo!$D$21:$X$40,Ohjeistus!O$98-1,FALSE))","v":""},{"$f":"IF($J123=\"\",\"\",VLOOKUP($J123, Resurssiluettelo!$D$21:$X$40,Ohjeistus!P$98-1,FALSE))","v":""},{"$f":"IF($J123=\"\",IF($I123=\"\",\"\",VLOOKUP($I123, Resurssiluettelo!$C$21:$X$40,Ohjeistus!Q$98,FALSE)),VLOOKUP($J123, Resurssiluettelo!$D$21:$X$40,Ohjeistus!Q$98-1,FALSE))","v":""},{"$f":"IF($J123=\"\",IF($I123=\"\",\"\",VLOOKUP($I123, Resurssiluettelo!$C$21:$X$40,Ohjeistus!R$98,FALSE)),VLOOKUP($J123, Resurssiluettelo!$D$21:$X$40,Ohjeistus!R$98-1,FALSE))","v":""},{"$f":"IF($J123=\"\",IF($I123=\"\",\"\",VLOOKUP($I123, Resurssiluettelo!$C$21:$X$40,Ohjeistus!S$98,FALSE)),VLOOKUP($J123, Resurssiluettelo!$D$21:$X$40,Ohjeistus!S$98-1,FALSE))","v":""},{"$f":"IF($J123=\"\",IF($I123=\"\",\"\",VLOOKUP($I123, Resurssiluettelo!$C$21:$X$40,Ohjeistus!T$98,FALSE)),VLOOKUP($J123, Resurssiluettelo!$D$21:$X$40,Ohjeistus!T$98-1,FALSE))","v":""},{"$f":"IF($J123=\"\",\"\",VLOOKUP($J123, Resurssiluettelo!$D$21:$X$40,Ohjeistus!U$98-1,FALSE))","v":""},{"$f":"IF($J123=\"\",\"\",VLOOKUP($J123, Resurssiluettelo!$D$21:$X$40,Ohjeistus!V$98-1,FALSE))","v":""},{"$f":"IF($J123=\"\",\"\",VLOOKUP($J123, Resurssiluettelo!$D$21:$X$40,Ohjeistus!W$98-1,FALSE))","v":""},{"$f":"IF($J123=\"\",\"\",VLOOKUP($J123, Resurssiluettelo!$D$21:$X$40,Ohjeistus!X$98-1,FALSE))","v":""},{"$f":"IF(Resurssiluettelo!E170=0,\"\",Resurssiluettelo!E170)","v":""},{"$f":"IF(Resurssiluettelo!F170=0,\"\",YEAR(Resurssiluettelo!F170)&IF(MONTH(Resurssiluettelo!F170)<10,\"0\",\"\")&MONTH(Resurssiluettelo!F170)&IF(DAY(Resurssiluettelo!F170)<10,\"0\",\"\")&DAY(Resurssiluettelo!F170))","v":""},{"$f":"IF(Resurssiluettelo!G170=0,\"\",Resurssiluettelo!G170)","v":""},{"$f":"IF(Resurssiluettelo!H170=0,\"\",Resurssiluettelo!H170)","v":""},{"$f":"IF(Resurssiluettelo!I170=0,\"\",Resurssiluettelo!I170)","v":""},{"$f":"IF(Resurssiluettelo!W170=0,\"\",Resurssiluettelo!W170)","v":""},{"$f":"IF(Resurssiluettelo!X170=0,\"\",Resurssiluettelo!X170)","v":""},{"$f":"IF(Resurssiluettelo!Y170=0,\"\",Resurssiluettelo!Y170)","v":""},{"$f":"IF(Resurssiluettelo!Z170=0,\"\",Resurssiluettelo!Z170)","v":""},{"$f":"IF(Resurssiluettelo!AA170=0,\"\",Resurssiluettelo!AA170)","v":""},{"$f":"IF(Resurssiluettelo!AB170=0,\"\",Resurssiluettelo!AB170)","v":""},{"$f":"IF(Resurssiluettelo!AC170=0,\"\",Resurssiluettelo!AC170)","v":""},{"$f":"IF(Resurssiluettelo!AD170=0,\"\",Resurssiluettelo!AD170)","v":""},{"$f":"IF(Resurssiluettelo!J170=0,\"\",Resurssiluettelo!J170)","v":""},{"$f":"IF(Resurssiluettelo!K170=0,\"\",Resurssiluettelo!K170)","v":""},{"$f":"IF(Resurssiluettelo!L170=0,\"\",Resurssiluettelo!L170)","v":""},{"$f":"IF(Resurssiluettelo!M170=0,\"\",Resurssiluettelo!M170)","v":""},{"$f":"IF(Resurssiluettelo!N170=0,\"\",Resurssiluettelo!N170)","v":""},{"$f":"IF(Resurssiluettelo!O170=0,\"\",Resurssiluettelo!O170)","v":""},{"$f":"IF(Resurssiluettelo!P170=0,\"\",Resurssiluettelo!P170)","v":""},{"$f":"IF(Resurssiluettelo!Q170=0,\"\",Resurssiluettelo!Q170)","v":""},{"$f":"IF(Resurssiluettelo!R170=0,\"\",Resurssiluettelo!R170)","v":""},{"$f":"IF(Resurssiluettelo!S170=0,\"\",Resurssiluettelo!S170)","v":""},{"$f":"IF(Resurssiluettelo!T170=0,\"\",Resurssiluettelo!T170)","v":""},{"$f":"IF(Resurssiluettelo!U170=0,\"\",Resurssiluettelo!U170)","v":""},{"$f":"IF(Resurssiluettelo!V170=0,\"\",Resurssiluettelo!V170)","v":""}]
[121,{"$f":"IF(Y124=\"\",\"\",Resurssiluettelo!$G$1)","v":""},{"$f":"IF(Y124=\"\",\"\",Resurssiluettelo!$H$14)","v":""},{"$f":"IF(Y124=\"\",\"\",Resurssiluettelo!$I$14)","v":""},{"$f":"IF(Y124=\"\",\"\",Resurssiluettelo!$J$14)","v":""},{"$f":"IF(Y124=\"\",\"\",Resurssiluettelo!$N$14)","v":""},{"$f":"IF(Y124=\"\",\"\",Resurssiluettelo!$O$14)","v":""},{"$f":"IF(Resurssiluettelo!B171=0,\"\",Resurssiluettelo!B171)","v":""},{"$f":"IF(Resurssiluettelo!C171=0,\"\",Resurssiluettelo!C171)","v":""},{"$f":"IF(Resurssiluettelo!D171=0,\"\",Resurssiluettelo!D171)","v":""},{"$f":"IF($J124=\"\",\"\",VLOOKUP($J124, Resurssiluettelo!$D$21:$X$40,Ohjeistus!K$98-1,FALSE))","v":""},{"$f":"IF($J124=\"\",\"\",VLOOKUP($J124, Resurssiluettelo!$D$21:$X$40,Ohjeistus!L$98-1,FALSE))","v":""},{"$f":"IF($J124=\"\",\"\",VLOOKUP($J124, Resurssiluettelo!$D$21:$X$40,Ohjeistus!M$98-1,FALSE))","v":""},{"$f":"IF($J124=\"\",\"\",VLOOKUP($J124, Resurssiluettelo!$D$21:$X$40,Ohjeistus!N$98-1,FALSE))","v":""},{"$f":"IF($J124=\"\",\"\",VLOOKUP($J124, Resurssiluettelo!$D$21:$X$40,Ohjeistus!O$98-1,FALSE))","v":""},{"$f":"IF($J124=\"\",\"\",VLOOKUP($J124, Resurssiluettelo!$D$21:$X$40,Ohjeistus!P$98-1,FALSE))","v":""},{"$f":"IF($J124=\"\",IF($I124=\"\",\"\",VLOOKUP($I124, Resurssiluettelo!$C$21:$X$40,Ohjeistus!Q$98,FALSE)),VLOOKUP($J124, Resurssiluettelo!$D$21:$X$40,Ohjeistus!Q$98-1,FALSE))","v":""},{"$f":"IF($J124=\"\",IF($I124=\"\",\"\",VLOOKUP($I124, Resurssiluettelo!$C$21:$X$40,Ohjeistus!R$98,FALSE)),VLOOKUP($J124, Resurssiluettelo!$D$21:$X$40,Ohjeistus!R$98-1,FALSE))","v":""},{"$f":"IF($J124=\"\",IF($I124=\"\",\"\",VLOOKUP($I124, Resurssiluettelo!$C$21:$X$40,Ohjeistus!S$98,FALSE)),VLOOKUP($J124, Resurssiluettelo!$D$21:$X$40,Ohjeistus!S$98-1,FALSE))","v":""},{"$f":"IF($J124=\"\",IF($I124=\"\",\"\",VLOOKUP($I124, Resurssiluettelo!$C$21:$X$40,Ohjeistus!T$98,FALSE)),VLOOKUP($J124, Resurssiluettelo!$D$21:$X$40,Ohjeistus!T$98-1,FALSE))","v":""},{"$f":"IF($J124=\"\",\"\",VLOOKUP($J124, Resurssiluettelo!$D$21:$X$40,Ohjeistus!U$98-1,FALSE))","v":""},{"$f":"IF($J124=\"\",\"\",VLOOKUP($J124, Resurssiluettelo!$D$21:$X$40,Ohjeistus!V$98-1,FALSE))","v":""},{"$f":"IF($J124=\"\",\"\",VLOOKUP($J124, Resurssiluettelo!$D$21:$X$40,Ohjeistus!W$98-1,FALSE))","v":""},{"$f":"IF($J124=\"\",\"\",VLOOKUP($J124, Resurssiluettelo!$D$21:$X$40,Ohjeistus!X$98-1,FALSE))","v":""},{"$f":"IF(Resurssiluettelo!E171=0,\"\",Resurssiluettelo!E171)","v":""},{"$f":"IF(Resurssiluettelo!F171=0,\"\",YEAR(Resurssiluettelo!F171)&IF(MONTH(Resurssiluettelo!F171)<10,\"0\",\"\")&MONTH(Resurssiluettelo!F171)&IF(DAY(Resurssiluettelo!F171)<10,\"0\",\"\")&DAY(Resurssiluettelo!F171))","v":""},{"$f":"IF(Resurssiluettelo!G171=0,\"\",Resurssiluettelo!G171)","v":""},{"$f":"IF(Resurssiluettelo!H171=0,\"\",Resurssiluettelo!H171)","v":""},{"$f":"IF(Resurssiluettelo!I171=0,\"\",Resurssiluettelo!I171)","v":""},{"$f":"IF(Resurssiluettelo!W171=0,\"\",Resurssiluettelo!W171)","v":""},{"$f":"IF(Resurssiluettelo!X171=0,\"\",Resurssiluettelo!X171)","v":""},{"$f":"IF(Resurssiluettelo!Y171=0,\"\",Resurssiluettelo!Y171)","v":""},{"$f":"IF(Resurssiluettelo!Z171=0,\"\",Resurssiluettelo!Z171)","v":""},{"$f":"IF(Resurssiluettelo!AA171=0,\"\",Resurssiluettelo!AA171)","v":""},{"$f":"IF(Resurssiluettelo!AB171=0,\"\",Resurssiluettelo!AB171)","v":""},{"$f":"IF(Resurssiluettelo!AC171=0,\"\",Resurssiluettelo!AC171)","v":""},{"$f":"IF(Resurssiluettelo!AD171=0,\"\",Resurssiluettelo!AD171)","v":""},{"$f":"IF(Resurssiluettelo!J171=0,\"\",Resurssiluettelo!J171)","v":""},{"$f":"IF(Resurssiluettelo!K171=0,\"\",Resurssiluettelo!K171)","v":""},{"$f":"IF(Resurssiluettelo!L171=0,\"\",Resurssiluettelo!L171)","v":""},{"$f":"IF(Resurssiluettelo!M171=0,\"\",Resurssiluettelo!M171)","v":""},{"$f":"IF(Resurssiluettelo!N171=0,\"\",Resurssiluettelo!N171)","v":""},{"$f":"IF(Resurssiluettelo!O171=0,\"\",Resurssiluettelo!O171)","v":""},{"$f":"IF(Resurssiluettelo!P171=0,\"\",Resurssiluettelo!P171)","v":""},{"$f":"IF(Resurssiluettelo!Q171=0,\"\",Resurssiluettelo!Q171)","v":""},{"$f":"IF(Resurssiluettelo!R171=0,\"\",Resurssiluettelo!R171)","v":""},{"$f":"IF(Resurssiluettelo!S171=0,\"\",Resurssiluettelo!S171)","v":""},{"$f":"IF(Resurssiluettelo!T171=0,\"\",Resurssiluettelo!T171)","v":""},{"$f":"IF(Resurssiluettelo!U171=0,\"\",Resurssiluettelo!U171)","v":""},{"$f":"IF(Resurssiluettelo!V171=0,\"\",Resurssiluettelo!V171)","v":""}]
[122,{"$f":"IF(Y125=\"\",\"\",Resurssiluettelo!$G$1)","v":""},{"$f":"IF(Y125=\"\",\"\",Resurssiluettelo!$H$14)","v":""},{"$f":"IF(Y125=\"\",\"\",Resurssiluettelo!$I$14)","v":""},{"$f":"IF(Y125=\"\",\"\",Resurssiluettelo!$J$14)","v":""},{"$f":"IF(Y125=\"\",\"\",Resurssiluettelo!$N$14)","v":""},{"$f":"IF(Y125=\"\",\"\",Resurssiluettelo!$O$14)","v":""},{"$f":"IF(Resurssiluettelo!B172=0,\"\",Resurssiluettelo!B172)","v":""},{"$f":"IF(Resurssiluettelo!C172=0,\"\",Resurssiluettelo!C172)","v":""},{"$f":"IF(Resurssiluettelo!D172=0,\"\",Resurssiluettelo!D172)","v":""},{"$f":"IF($J125=\"\",\"\",VLOOKUP($J125, Resurssiluettelo!$D$21:$X$40,Ohjeistus!K$98-1,FALSE))","v":""},{"$f":"IF($J125=\"\",\"\",VLOOKUP($J125, Resurssiluettelo!$D$21:$X$40,Ohjeistus!L$98-1,FALSE))","v":""},{"$f":"IF($J125=\"\",\"\",VLOOKUP($J125, Resurssiluettelo!$D$21:$X$40,Ohjeistus!M$98-1,FALSE))","v":""},{"$f":"IF($J125=\"\",\"\",VLOOKUP($J125, Resurssiluettelo!$D$21:$X$40,Ohjeistus!N$98-1,FALSE))","v":""},{"$f":"IF($J125=\"\",\"\",VLOOKUP($J125, Resurssiluettelo!$D$21:$X$40,Ohjeistus!O$98-1,FALSE))","v":""},{"$f":"IF($J125=\"\",\"\",VLOOKUP($J125, Resurssiluettelo!$D$21:$X$40,Ohjeistus!P$98-1,FALSE))","v":""},{"$f":"IF($J125=\"\",IF($I125=\"\",\"\",VLOOKUP($I125, Resurssiluettelo!$C$21:$X$40,Ohjeistus!Q$98,FALSE)),VLOOKUP($J125, Resurssiluettelo!$D$21:$X$40,Ohjeistus!Q$98-1,FALSE))","v":""},{"$f":"IF($J125=\"\",IF($I125=\"\",\"\",VLOOKUP($I125, Resurssiluettelo!$C$21:$X$40,Ohjeistus!R$98,FALSE)),VLOOKUP($J125, Resurssiluettelo!$D$21:$X$40,Ohjeistus!R$98-1,FALSE))","v":""},{"$f":"IF($J125=\"\",IF($I125=\"\",\"\",VLOOKUP($I125, Resurssiluettelo!$C$21:$X$40,Ohjeistus!S$98,FALSE)),VLOOKUP($J125, Resurssiluettelo!$D$21:$X$40,Ohjeistus!S$98-1,FALSE))","v":""},{"$f":"IF($J125=\"\",IF($I125=\"\",\"\",VLOOKUP($I125, Resurssiluettelo!$C$21:$X$40,Ohjeistus!T$98,FALSE)),VLOOKUP($J125, Resurssiluettelo!$D$21:$X$40,Ohjeistus!T$98-1,FALSE))","v":""},{"$f":"IF($J125=\"\",\"\",VLOOKUP($J125, Resurssiluettelo!$D$21:$X$40,Ohjeistus!U$98-1,FALSE))","v":""},{"$f":"IF($J125=\"\",\"\",VLOOKUP($J125, Resurssiluettelo!$D$21:$X$40,Ohjeistus!V$98-1,FALSE))","v":""},{"$f":"IF($J125=\"\",\"\",VLOOKUP($J125, Resurssiluettelo!$D$21:$X$40,Ohjeistus!W$98-1,FALSE))","v":""},{"$f":"IF($J125=\"\",\"\",VLOOKUP($J125, Resurssiluettelo!$D$21:$X$40,Ohjeistus!X$98-1,FALSE))","v":""},{"$f":"IF(Resurssiluettelo!E172=0,\"\",Resurssiluettelo!E172)","v":""},{"$f":"IF(Resurssiluettelo!F172=0,\"\",YEAR(Resurssiluettelo!F172)&IF(MONTH(Resurssiluettelo!F172)<10,\"0\",\"\")&MONTH(Resurssiluettelo!F172)&IF(DAY(Resurssiluettelo!F172)<10,\"0\",\"\")&DAY(Resurssiluettelo!F172))","v":""},{"$f":"IF(Resurssiluettelo!G172=0,\"\",Resurssiluettelo!G172)","v":""},{"$f":"IF(Resurssiluettelo!H172=0,\"\",Resurssiluettelo!H172)","v":""},{"$f":"IF(Resurssiluettelo!I172=0,\"\",Resurssiluettelo!I172)","v":""},{"$f":"IF(Resurssiluettelo!W172=0,\"\",Resurssiluettelo!W172)","v":""},{"$f":"IF(Resurssiluettelo!X172=0,\"\",Resurssiluettelo!X172)","v":""},{"$f":"IF(Resurssiluettelo!Y172=0,\"\",Resurssiluettelo!Y172)","v":""},{"$f":"IF(Resurssiluettelo!Z172=0,\"\",Resurssiluettelo!Z172)","v":""},{"$f":"IF(Resurssiluettelo!AA172=0,\"\",Resurssiluettelo!AA172)","v":""},{"$f":"IF(Resurssiluettelo!AB172=0,\"\",Resurssiluettelo!AB172)","v":""},{"$f":"IF(Resurssiluettelo!AC172=0,\"\",Resurssiluettelo!AC172)","v":""},{"$f":"IF(Resurssiluettelo!AD172=0,\"\",Resurssiluettelo!AD172)","v":""},{"$f":"IF(Resurssiluettelo!J172=0,\"\",Resurssiluettelo!J172)","v":""},{"$f":"IF(Resurssiluettelo!K172=0,\"\",Resurssiluettelo!K172)","v":""},{"$f":"IF(Resurssiluettelo!L172=0,\"\",Resurssiluettelo!L172)","v":""},{"$f":"IF(Resurssiluettelo!M172=0,\"\",Resurssiluettelo!M172)","v":""},{"$f":"IF(Resurssiluettelo!N172=0,\"\",Resurssiluettelo!N172)","v":""},{"$f":"IF(Resurssiluettelo!O172=0,\"\",Resurssiluettelo!O172)","v":""},{"$f":"IF(Resurssiluettelo!P172=0,\"\",Resurssiluettelo!P172)","v":""},{"$f":"IF(Resurssiluettelo!Q172=0,\"\",Resurssiluettelo!Q172)","v":""},{"$f":"IF(Resurssiluettelo!R172=0,\"\",Resurssiluettelo!R172)","v":""},{"$f":"IF(Resurssiluettelo!S172=0,\"\",Resurssiluettelo!S172)","v":""},{"$f":"IF(Resurssiluettelo!T172=0,\"\",Resurssiluettelo!T172)","v":""},{"$f":"IF(Resurssiluettelo!U172=0,\"\",Resurssiluettelo!U172)","v":""},{"$f":"IF(Resurssiluettelo!V172=0,\"\",Resurssiluettelo!V172)","v":""}]
[123,{"$f":"IF(Y126=\"\",\"\",Resurssiluettelo!$G$1)","v":""},{"$f":"IF(Y126=\"\",\"\",Resurssiluettelo!$H$14)","v":""},{"$f":"IF(Y126=\"\",\"\",Resurssiluettelo!$I$14)","v":""},{"$f":"IF(Y126=\"\",\"\",Resurssiluettelo!$J$14)","v":""},{"$f":"IF(Y126=\"\",\"\",Resurssiluettelo!$N$14)","v":""},{"$f":"IF(Y126=\"\",\"\",Resurssiluettelo!$O$14)","v":""},{"$f":"IF(Resurssiluettelo!B173=0,\"\",Resurssiluettelo!B173)","v":""},{"$f":"IF(Resurssiluettelo!C173=0,\"\",Resurssiluettelo!C173)","v":""},{"$f":"IF(Resurssiluettelo!D173=0,\"\",Resurssiluettelo!D173)","v":""},{"$f":"IF($J126=\"\",\"\",VLOOKUP($J126, Resurssiluettelo!$D$21:$X$40,Ohjeistus!K$98-1,FALSE))","v":""},{"$f":"IF($J126=\"\",\"\",VLOOKUP($J126, Resurssiluettelo!$D$21:$X$40,Ohjeistus!L$98-1,FALSE))","v":""},{"$f":"IF($J126=\"\",\"\",VLOOKUP($J126, Resurssiluettelo!$D$21:$X$40,Ohjeistus!M$98-1,FALSE))","v":""},{"$f":"IF($J126=\"\",\"\",VLOOKUP($J126, Resurssiluettelo!$D$21:$X$40,Ohjeistus!N$98-1,FALSE))","v":""},{"$f":"IF($J126=\"\",\"\",VLOOKUP($J126, Resurssiluettelo!$D$21:$X$40,Ohjeistus!O$98-1,FALSE))","v":""},{"$f":"IF($J126=\"\",\"\",VLOOKUP($J126, Resurssiluettelo!$D$21:$X$40,Ohjeistus!P$98-1,FALSE))","v":""},{"$f":"IF($J126=\"\",IF($I126=\"\",\"\",VLOOKUP($I126, Resurssiluettelo!$C$21:$X$40,Ohjeistus!Q$98,FALSE)),VLOOKUP($J126, Resurssiluettelo!$D$21:$X$40,Ohjeistus!Q$98-1,FALSE))","v":""},{"$f":"IF($J126=\"\",IF($I126=\"\",\"\",VLOOKUP($I126, Resurssiluettelo!$C$21:$X$40,Ohjeistus!R$98,FALSE)),VLOOKUP($J126, Resurssiluettelo!$D$21:$X$40,Ohjeistus!R$98-1,FALSE))","v":""},{"$f":"IF($J126=\"\",IF($I126=\"\",\"\",VLOOKUP($I126, Resurssiluettelo!$C$21:$X$40,Ohjeistus!S$98,FALSE)),VLOOKUP($J126, Resurssiluettelo!$D$21:$X$40,Ohjeistus!S$98-1,FALSE))","v":""},{"$f":"IF($J126=\"\",IF($I126=\"\",\"\",VLOOKUP($I126, Resurssiluettelo!$C$21:$X$40,Ohjeistus!T$98,FALSE)),VLOOKUP($J126, Resurssiluettelo!$D$21:$X$40,Ohjeistus!T$98-1,FALSE))","v":""},{"$f":"IF($J126=\"\",\"\",VLOOKUP($J126, Resurssiluettelo!$D$21:$X$40,Ohjeistus!U$98-1,FALSE))","v":""},{"$f":"IF($J126=\"\",\"\",VLOOKUP($J126, Resurssiluettelo!$D$21:$X$40,Ohjeistus!V$98-1,FALSE))","v":""},{"$f":"IF($J126=\"\",\"\",VLOOKUP($J126, Resurssiluettelo!$D$21:$X$40,Ohjeistus!W$98-1,FALSE))","v":""},{"$f":"IF($J126=\"\",\"\",VLOOKUP($J126, Resurssiluettelo!$D$21:$X$40,Ohjeistus!X$98-1,FALSE))","v":""},{"$f":"IF(Resurssiluettelo!E173=0,\"\",Resurssiluettelo!E173)","v":""},{"$f":"IF(Resurssiluettelo!F173=0,\"\",YEAR(Resurssiluettelo!F173)&IF(MONTH(Resurssiluettelo!F173)<10,\"0\",\"\")&MONTH(Resurssiluettelo!F173)&IF(DAY(Resurssiluettelo!F173)<10,\"0\",\"\")&DAY(Resurssiluettelo!F173))","v":""},{"$f":"IF(Resurssiluettelo!G173=0,\"\",Resurssiluettelo!G173)","v":""},{"$f":"IF(Resurssiluettelo!H173=0,\"\",Resurssiluettelo!H173)","v":""},{"$f":"IF(Resurssiluettelo!I173=0,\"\",Resurssiluettelo!I173)","v":""},{"$f":"IF(Resurssiluettelo!W173=0,\"\",Resurssiluettelo!W173)","v":""},{"$f":"IF(Resurssiluettelo!X173=0,\"\",Resurssiluettelo!X173)","v":""},{"$f":"IF(Resurssiluettelo!Y173=0,\"\",Resurssiluettelo!Y173)","v":""},{"$f":"IF(Resurssiluettelo!Z173=0,\"\",Resurssiluettelo!Z173)","v":""},{"$f":"IF(Resurssiluettelo!AA173=0,\"\",Resurssiluettelo!AA173)","v":""},{"$f":"IF(Resurssiluettelo!AB173=0,\"\",Resurssiluettelo!AB173)","v":""},{"$f":"IF(Resurssiluettelo!AC173=0,\"\",Resurssiluettelo!AC173)","v":""},{"$f":"IF(Resurssiluettelo!AD173=0,\"\",Resurssiluettelo!AD173)","v":""},{"$f":"IF(Resurssiluettelo!J173=0,\"\",Resurssiluettelo!J173)","v":""},{"$f":"IF(Resurssiluettelo!K173=0,\"\",Resurssiluettelo!K173)","v":""},{"$f":"IF(Resurssiluettelo!L173=0,\"\",Resurssiluettelo!L173)","v":""},{"$f":"IF(Resurssiluettelo!M173=0,\"\",Resurssiluettelo!M173)","v":""},{"$f":"IF(Resurssiluettelo!N173=0,\"\",Resurssiluettelo!N173)","v":""},{"$f":"IF(Resurssiluettelo!O173=0,\"\",Resurssiluettelo!O173)","v":""},{"$f":"IF(Resurssiluettelo!P173=0,\"\",Resurssiluettelo!P173)","v":""},{"$f":"IF(Resurssiluettelo!Q173=0,\"\",Resurssiluettelo!Q173)","v":""},{"$f":"IF(Resurssiluettelo!R173=0,\"\",Resurssiluettelo!R173)","v":""},{"$f":"IF(Resurssiluettelo!S173=0,\"\",Resurssiluettelo!S173)","v":""},{"$f":"IF(Resurssiluettelo!T173=0,\"\",Resurssiluettelo!T173)","v":""},{"$f":"IF(Resurssiluettelo!U173=0,\"\",Resurssiluettelo!U173)","v":""},{"$f":"IF(Resurssiluettelo!V173=0,\"\",Resurssiluettelo!V173)","v":""}]
[124,{"$f":"IF(Y127=\"\",\"\",Resurssiluettelo!$G$1)","v":""},{"$f":"IF(Y127=\"\",\"\",Resurssiluettelo!$H$14)","v":""},{"$f":"IF(Y127=\"\",\"\",Resurssiluettelo!$I$14)","v":""},{"$f":"IF(Y127=\"\",\"\",Resurssiluettelo!$J$14)","v":""},{"$f":"IF(Y127=\"\",\"\",Resurssiluettelo!$N$14)","v":""},{"$f":"IF(Y127=\"\",\"\",Resurssiluettelo!$O$14)","v":""},{"$f":"IF(Resurssiluettelo!B174=0,\"\",Resurssiluettelo!B174)","v":""},{"$f":"IF(Resurssiluettelo!C174=0,\"\",Resurssiluettelo!C174)","v":""},{"$f":"IF(Resurssiluettelo!D174=0,\"\",Resurssiluettelo!D174)","v":""},{"$f":"IF($J127=\"\",\"\",VLOOKUP($J127, Resurssiluettelo!$D$21:$X$40,Ohjeistus!K$98-1,FALSE))","v":""},{"$f":"IF($J127=\"\",\"\",VLOOKUP($J127, Resurssiluettelo!$D$21:$X$40,Ohjeistus!L$98-1,FALSE))","v":""},{"$f":"IF($J127=\"\",\"\",VLOOKUP($J127, Resurssiluettelo!$D$21:$X$40,Ohjeistus!M$98-1,FALSE))","v":""},{"$f":"IF($J127=\"\",\"\",VLOOKUP($J127, Resurssiluettelo!$D$21:$X$40,Ohjeistus!N$98-1,FALSE))","v":""},{"$f":"IF($J127=\"\",\"\",VLOOKUP($J127, Resurssiluettelo!$D$21:$X$40,Ohjeistus!O$98-1,FALSE))","v":""},{"$f":"IF($J127=\"\",\"\",VLOOKUP($J127, Resurssiluettelo!$D$21:$X$40,Ohjeistus!P$98-1,FALSE))","v":""},{"$f":"IF($J127=\"\",IF($I127=\"\",\"\",VLOOKUP($I127, Resurssiluettelo!$C$21:$X$40,Ohjeistus!Q$98,FALSE)),VLOOKUP($J127, Resurssiluettelo!$D$21:$X$40,Ohjeistus!Q$98-1,FALSE))","v":""},{"$f":"IF($J127=\"\",IF($I127=\"\",\"\",VLOOKUP($I127, Resurssiluettelo!$C$21:$X$40,Ohjeistus!R$98,FALSE)),VLOOKUP($J127, Resurssiluettelo!$D$21:$X$40,Ohjeistus!R$98-1,FALSE))","v":""},{"$f":"IF($J127=\"\",IF($I127=\"\",\"\",VLOOKUP($I127, Resurssiluettelo!$C$21:$X$40,Ohjeistus!S$98,FALSE)),VLOOKUP($J127, Resurssiluettelo!$D$21:$X$40,Ohjeistus!S$98-1,FALSE))","v":""},{"$f":"IF($J127=\"\",IF($I127=\"\",\"\",VLOOKUP($I127, Resurssiluettelo!$C$21:$X$40,Ohjeistus!T$98,FALSE)),VLOOKUP($J127, Resurssiluettelo!$D$21:$X$40,Ohjeistus!T$98-1,FALSE))","v":""},{"$f":"IF($J127=\"\",\"\",VLOOKUP($J127, Resurssiluettelo!$D$21:$X$40,Ohjeistus!U$98-1,FALSE))","v":""},{"$f":"IF($J127=\"\",\"\",VLOOKUP($J127, Resurssiluettelo!$D$21:$X$40,Ohjeistus!V$98-1,FALSE))","v":""},{"$f":"IF($J127=\"\",\"\",VLOOKUP($J127, Resurssiluettelo!$D$21:$X$40,Ohjeistus!W$98-1,FALSE))","v":""},{"$f":"IF($J127=\"\",\"\",VLOOKUP($J127, Resurssiluettelo!$D$21:$X$40,Ohjeistus!X$98-1,FALSE))","v":""},{"$f":"IF(Resurssiluettelo!E174=0,\"\",Resurssiluettelo!E174)","v":""},{"$f":"IF(Resurssiluettelo!F174=0,\"\",YEAR(Resurssiluettelo!F174)&IF(MONTH(Resurssiluettelo!F174)<10,\"0\",\"\")&MONTH(Resurssiluettelo!F174)&IF(DAY(Resurssiluettelo!F174)<10,\"0\",\"\")&DAY(Resurssiluettelo!F174))","v":""},{"$f":"IF(Resurssiluettelo!G174=0,\"\",Resurssiluettelo!G174)","v":""},{"$f":"IF(Resurssiluettelo!H174=0,\"\",Resurssiluettelo!H174)","v":""},{"$f":"IF(Resurssiluettelo!I174=0,\"\",Resurssiluettelo!I174)","v":""},{"$f":"IF(Resurssiluettelo!W174=0,\"\",Resurssiluettelo!W174)","v":""},{"$f":"IF(Resurssiluettelo!X174=0,\"\",Resurssiluettelo!X174)","v":""},{"$f":"IF(Resurssiluettelo!Y174=0,\"\",Resurssiluettelo!Y174)","v":""},{"$f":"IF(Resurssiluettelo!Z174=0,\"\",Resurssiluettelo!Z174)","v":""},{"$f":"IF(Resurssiluettelo!AA174=0,\"\",Resurssiluettelo!AA174)","v":""},{"$f":"IF(Resurssiluettelo!AB174=0,\"\",Resurssiluettelo!AB174)","v":""},{"$f":"IF(Resurssiluettelo!AC174=0,\"\",Resurssiluettelo!AC174)","v":""},{"$f":"IF(Resurssiluettelo!AD174=0,\"\",Resurssiluettelo!AD174)","v":""},{"$f":"IF(Resurssiluettelo!J174=0,\"\",Resurssiluettelo!J174)","v":""},{"$f":"IF(Resurssiluettelo!K174=0,\"\",Resurssiluettelo!K174)","v":""},{"$f":"IF(Resurssiluettelo!L174=0,\"\",Resurssiluettelo!L174)","v":""},{"$f":"IF(Resurssiluettelo!M174=0,\"\",Resurssiluettelo!M174)","v":""},{"$f":"IF(Resurssiluettelo!N174=0,\"\",Resurssiluettelo!N174)","v":""},{"$f":"IF(Resurssiluettelo!O174=0,\"\",Resurssiluettelo!O174)","v":""},{"$f":"IF(Resurssiluettelo!P174=0,\"\",Resurssiluettelo!P174)","v":""},{"$f":"IF(Resurssiluettelo!Q174=0,\"\",Resurssiluettelo!Q174)","v":""},{"$f":"IF(Resurssiluettelo!R174=0,\"\",Resurssiluettelo!R174)","v":""},{"$f":"IF(Resurssiluettelo!S174=0,\"\",Resurssiluettelo!S174)","v":""},{"$f":"IF(Resurssiluettelo!T174=0,\"\",Resurssiluettelo!T174)","v":""},{"$f":"IF(Resurssiluettelo!U174=0,\"\",Resurssiluettelo!U174)","v":""},{"$f":"IF(Resurssiluettelo!V174=0,\"\",Resurssiluettelo!V174)","v":""}]
[125,{"$f":"IF(Y128=\"\",\"\",Resurssiluettelo!$G$1)","v":""},{"$f":"IF(Y128=\"\",\"\",Resurssiluettelo!$H$14)","v":""},{"$f":"IF(Y128=\"\",\"\",Resurssiluettelo!$I$14)","v":""},{"$f":"IF(Y128=\"\",\"\",Resurssiluettelo!$J$14)","v":""},{"$f":"IF(Y128=\"\",\"\",Resurssiluettelo!$N$14)","v":""},{"$f":"IF(Y128=\"\",\"\",Resurssiluettelo!$O$14)","v":""},{"$f":"IF(Resurssiluettelo!B175=0,\"\",Resurssiluettelo!B175)","v":""},{"$f":"IF(Resurssiluettelo!C175=0,\"\",Resurssiluettelo!C175)","v":""},{"$f":"IF(Resurssiluettelo!D175=0,\"\",Resurssiluettelo!D175)","v":""},{"$f":"IF($J128=\"\",\"\",VLOOKUP($J128, Resurssiluettelo!$D$21:$X$40,Ohjeistus!K$98-1,FALSE))","v":""},{"$f":"IF($J128=\"\",\"\",VLOOKUP($J128, Resurssiluettelo!$D$21:$X$40,Ohjeistus!L$98-1,FALSE))","v":""},{"$f":"IF($J128=\"\",\"\",VLOOKUP($J128, Resurssiluettelo!$D$21:$X$40,Ohjeistus!M$98-1,FALSE))","v":""},{"$f":"IF($J128=\"\",\"\",VLOOKUP($J128, Resurssiluettelo!$D$21:$X$40,Ohjeistus!N$98-1,FALSE))","v":""},{"$f":"IF($J128=\"\",\"\",VLOOKUP($J128, Resurssiluettelo!$D$21:$X$40,Ohjeistus!O$98-1,FALSE))","v":""},{"$f":"IF($J128=\"\",\"\",VLOOKUP($J128, Resurssiluettelo!$D$21:$X$40,Ohjeistus!P$98-1,FALSE))","v":""},{"$f":"IF($J128=\"\",IF($I128=\"\",\"\",VLOOKUP($I128, Resurssiluettelo!$C$21:$X$40,Ohjeistus!Q$98,FALSE)),VLOOKUP($J128, Resurssiluettelo!$D$21:$X$40,Ohjeistus!Q$98-1,FALSE))","v":""},{"$f":"IF($J128=\"\",IF($I128=\"\",\"\",VLOOKUP($I128, Resurssiluettelo!$C$21:$X$40,Ohjeistus!R$98,FALSE)),VLOOKUP($J128, Resurssiluettelo!$D$21:$X$40,Ohjeistus!R$98-1,FALSE))","v":""},{"$f":"IF($J128=\"\",IF($I128=\"\",\"\",VLOOKUP($I128, Resurssiluettelo!$C$21:$X$40,Ohjeistus!S$98,FALSE)),VLOOKUP($J128, Resurssiluettelo!$D$21:$X$40,Ohjeistus!S$98-1,FALSE))","v":""},{"$f":"IF($J128=\"\",IF($I128=\"\",\"\",VLOOKUP($I128, Resurssiluettelo!$C$21:$X$40,Ohjeistus!T$98,FALSE)),VLOOKUP($J128, Resurssiluettelo!$D$21:$X$40,Ohjeistus!T$98-1,FALSE))","v":""},{"$f":"IF($J128=\"\",\"\",VLOOKUP($J128, Resurssiluettelo!$D$21:$X$40,Ohjeistus!U$98-1,FALSE))","v":""},{"$f":"IF($J128=\"\",\"\",VLOOKUP($J128, Resurssiluettelo!$D$21:$X$40,Ohjeistus!V$98-1,FALSE))","v":""},{"$f":"IF($J128=\"\",\"\",VLOOKUP($J128, Resurssiluettelo!$D$21:$X$40,Ohjeistus!W$98-1,FALSE))","v":""},{"$f":"IF($J128=\"\",\"\",VLOOKUP($J128, Resurssiluettelo!$D$21:$X$40,Ohjeistus!X$98-1,FALSE))","v":""},{"$f":"IF(Resurssiluettelo!E175=0,\"\",Resurssiluettelo!E175)","v":""},{"$f":"IF(Resurssiluettelo!F175=0,\"\",YEAR(Resurssiluettelo!F175)&IF(MONTH(Resurssiluettelo!F175)<10,\"0\",\"\")&MONTH(Resurssiluettelo!F175)&IF(DAY(Resurssiluettelo!F175)<10,\"0\",\"\")&DAY(Resurssiluettelo!F175))","v":""},{"$f":"IF(Resurssiluettelo!G175=0,\"\",Resurssiluettelo!G175)","v":""},{"$f":"IF(Resurssiluettelo!H175=0,\"\",Resurssiluettelo!H175)","v":""},{"$f":"IF(Resurssiluettelo!I175=0,\"\",Resurssiluettelo!I175)","v":""},{"$f":"IF(Resurssiluettelo!W175=0,\"\",Resurssiluettelo!W175)","v":""},{"$f":"IF(Resurssiluettelo!X175=0,\"\",Resurssiluettelo!X175)","v":""},{"$f":"IF(Resurssiluettelo!Y175=0,\"\",Resurssiluettelo!Y175)","v":""},{"$f":"IF(Resurssiluettelo!Z175=0,\"\",Resurssiluettelo!Z175)","v":""},{"$f":"IF(Resurssiluettelo!AA175=0,\"\",Resurssiluettelo!AA175)","v":""},{"$f":"IF(Resurssiluettelo!AB175=0,\"\",Resurssiluettelo!AB175)","v":""},{"$f":"IF(Resurssiluettelo!AC175=0,\"\",Resurssiluettelo!AC175)","v":""},{"$f":"IF(Resurssiluettelo!AD175=0,\"\",Resurssiluettelo!AD175)","v":""},{"$f":"IF(Resurssiluettelo!J175=0,\"\",Resurssiluettelo!J175)","v":""},{"$f":"IF(Resurssiluettelo!K175=0,\"\",Resurssiluettelo!K175)","v":""},{"$f":"IF(Resurssiluettelo!L175=0,\"\",Resurssiluettelo!L175)","v":""},{"$f":"IF(Resurssiluettelo!M175=0,\"\",Resurssiluettelo!M175)","v":""},{"$f":"IF(Resurssiluettelo!N175=0,\"\",Resurssiluettelo!N175)","v":""},{"$f":"IF(Resurssiluettelo!O175=0,\"\",Resurssiluettelo!O175)","v":""},{"$f":"IF(Resurssiluettelo!P175=0,\"\",Resurssiluettelo!P175)","v":""},{"$f":"IF(Resurssiluettelo!Q175=0,\"\",Resurssiluettelo!Q175)","v":""},{"$f":"IF(Resurssiluettelo!R175=0,\"\",Resurssiluettelo!R175)","v":""},{"$f":"IF(Resurssiluettelo!S175=0,\"\",Resurssiluettelo!S175)","v":""},{"$f":"IF(Resurssiluettelo!T175=0,\"\",Resurssiluettelo!T175)","v":""},{"$f":"IF(Resurssiluettelo!U175=0,\"\",Resurssiluettelo!U175)","v":""},{"$f":"IF(Resurssiluettelo!V175=0,\"\",Resurssiluettelo!V175)","v":""}]
[126,{"$f":"IF(Y129=\"\",\"\",Resurssiluettelo!$G$1)","v":""},{"$f":"IF(Y129=\"\",\"\",Resurssiluettelo!$H$14)","v":""},{"$f":"IF(Y129=\"\",\"\",Resurssiluettelo!$I$14)","v":""},{"$f":"IF(Y129=\"\",\"\",Resurssiluettelo!$J$14)","v":""},{"$f":"IF(Y129=\"\",\"\",Resurssiluettelo!$N$14)","v":""},{"$f":"IF(Y129=\"\",\"\",Resurssiluettelo!$O$14)","v":""},{"$f":"IF(Resurssiluettelo!B176=0,\"\",Resurssiluettelo!B176)","v":""},{"$f":"IF(Resurssiluettelo!C176=0,\"\",Resurssiluettelo!C176)","v":""},{"$f":"IF(Resurssiluettelo!D176=0,\"\",Resurssiluettelo!D176)","v":""},{"$f":"IF($J129=\"\",\"\",VLOOKUP($J129, Resurssiluettelo!$D$21:$X$40,Ohjeistus!K$98-1,FALSE))","v":""},{"$f":"IF($J129=\"\",\"\",VLOOKUP($J129, Resurssiluettelo!$D$21:$X$40,Ohjeistus!L$98-1,FALSE))","v":""},{"$f":"IF($J129=\"\",\"\",VLOOKUP($J129, Resurssiluettelo!$D$21:$X$40,Ohjeistus!M$98-1,FALSE))","v":""},{"$f":"IF($J129=\"\",\"\",VLOOKUP($J129, Resurssiluettelo!$D$21:$X$40,Ohjeistus!N$98-1,FALSE))","v":""},{"$f":"IF($J129=\"\",\"\",VLOOKUP($J129, Resurssiluettelo!$D$21:$X$40,Ohjeistus!O$98-1,FALSE))","v":""},{"$f":"IF($J129=\"\",\"\",VLOOKUP($J129, Resurssiluettelo!$D$21:$X$40,Ohjeistus!P$98-1,FALSE))","v":""},{"$f":"IF($J129=\"\",IF($I129=\"\",\"\",VLOOKUP($I129, Resurssiluettelo!$C$21:$X$40,Ohjeistus!Q$98,FALSE)),VLOOKUP($J129, Resurssiluettelo!$D$21:$X$40,Ohjeistus!Q$98-1,FALSE))","v":""},{"$f":"IF($J129=\"\",IF($I129=\"\",\"\",VLOOKUP($I129, Resurssiluettelo!$C$21:$X$40,Ohjeistus!R$98,FALSE)),VLOOKUP($J129, Resurssiluettelo!$D$21:$X$40,Ohjeistus!R$98-1,FALSE))","v":""},{"$f":"IF($J129=\"\",IF($I129=\"\",\"\",VLOOKUP($I129, Resurssiluettelo!$C$21:$X$40,Ohjeistus!S$98,FALSE)),VLOOKUP($J129, Resurssiluettelo!$D$21:$X$40,Ohjeistus!S$98-1,FALSE))","v":""},{"$f":"IF($J129=\"\",IF($I129=\"\",\"\",VLOOKUP($I129, Resurssiluettelo!$C$21:$X$40,Ohjeistus!T$98,FALSE)),VLOOKUP($J129, Resurssiluettelo!$D$21:$X$40,Ohjeistus!T$98-1,FALSE))","v":""},{"$f":"IF($J129=\"\",\"\",VLOOKUP($J129, Resurssiluettelo!$D$21:$X$40,Ohjeistus!U$98-1,FALSE))","v":""},{"$f":"IF($J129=\"\",\"\",VLOOKUP($J129, Resurssiluettelo!$D$21:$X$40,Ohjeistus!V$98-1,FALSE))","v":""},{"$f":"IF($J129=\"\",\"\",VLOOKUP($J129, Resurssiluettelo!$D$21:$X$40,Ohjeistus!W$98-1,FALSE))","v":""},{"$f":"IF($J129=\"\",\"\",VLOOKUP($J129, Resurssiluettelo!$D$21:$X$40,Ohjeistus!X$98-1,FALSE))","v":""},{"$f":"IF(Resurssiluettelo!E176=0,\"\",Resurssiluettelo!E176)","v":""},{"$f":"IF(Resurssiluettelo!F176=0,\"\",YEAR(Resurssiluettelo!F176)&IF(MONTH(Resurssiluettelo!F176)<10,\"0\",\"\")&MONTH(Resurssiluettelo!F176)&IF(DAY(Resurssiluettelo!F176)<10,\"0\",\"\")&DAY(Resurssiluettelo!F176))","v":""},{"$f":"IF(Resurssiluettelo!G176=0,\"\",Resurssiluettelo!G176)","v":""},{"$f":"IF(Resurssiluettelo!H176=0,\"\",Resurssiluettelo!H176)","v":""},{"$f":"IF(Resurssiluettelo!I176=0,\"\",Resurssiluettelo!I176)","v":""},{"$f":"IF(Resurssiluettelo!W176=0,\"\",Resurssiluettelo!W176)","v":""},{"$f":"IF(Resurssiluettelo!X176=0,\"\",Resurssiluettelo!X176)","v":""},{"$f":"IF(Resurssiluettelo!Y176=0,\"\",Resurssiluettelo!Y176)","v":""},{"$f":"IF(Resurssiluettelo!Z176=0,\"\",Resurssiluettelo!Z176)","v":""},{"$f":"IF(Resurssiluettelo!AA176=0,\"\",Resurssiluettelo!AA176)","v":""},{"$f":"IF(Resurssiluettelo!AB176=0,\"\",Resurssiluettelo!AB176)","v":""},{"$f":"IF(Resurssiluettelo!AC176=0,\"\",Resurssiluettelo!AC176)","v":""},{"$f":"IF(Resurssiluettelo!AD176=0,\"\",Resurssiluettelo!AD176)","v":""},{"$f":"IF(Resurssiluettelo!J176=0,\"\",Resurssiluettelo!J176)","v":""},{"$f":"IF(Resurssiluettelo!K176=0,\"\",Resurssiluettelo!K176)","v":""},{"$f":"IF(Resurssiluettelo!L176=0,\"\",Resurssiluettelo!L176)","v":""},{"$f":"IF(Resurssiluettelo!M176=0,\"\",Resurssiluettelo!M176)","v":""},{"$f":"IF(Resurssiluettelo!N176=0,\"\",Resurssiluettelo!N176)","v":""},{"$f":"IF(Resurssiluettelo!O176=0,\"\",Resurssiluettelo!O176)","v":""},{"$f":"IF(Resurssiluettelo!P176=0,\"\",Resurssiluettelo!P176)","v":""},{"$f":"IF(Resurssiluettelo!Q176=0,\"\",Resurssiluettelo!Q176)","v":""},{"$f":"IF(Resurssiluettelo!R176=0,\"\",Resurssiluettelo!R176)","v":""},{"$f":"IF(Resurssiluettelo!S176=0,\"\",Resurssiluettelo!S176)","v":""},{"$f":"IF(Resurssiluettelo!T176=0,\"\",Resurssiluettelo!T176)","v":""},{"$f":"IF(Resurssiluettelo!U176=0,\"\",Resurssiluettelo!U176)","v":""},{"$f":"IF(Resurssiluettelo!V176=0,\"\",Resurssiluettelo!V176)","v":""}]
[127,{"$f":"IF(Y130=\"\",\"\",Resurssiluettelo!$G$1)","v":""},{"$f":"IF(Y130=\"\",\"\",Resurssiluettelo!$H$14)","v":""},{"$f":"IF(Y130=\"\",\"\",Resurssiluettelo!$I$14)","v":""},{"$f":"IF(Y130=\"\",\"\",Resurssiluettelo!$J$14)","v":""},{"$f":"IF(Y130=\"\",\"\",Resurssiluettelo!$N$14)","v":""},{"$f":"IF(Y130=\"\",\"\",Resurssiluettelo!$O$14)","v":""},{"$f":"IF(Resurssiluettelo!B177=0,\"\",Resurssiluettelo!B177)","v":""},{"$f":"IF(Resurssiluettelo!C177=0,\"\",Resurssiluettelo!C177)","v":""},{"$f":"IF(Resurssiluettelo!D177=0,\"\",Resurssiluettelo!D177)","v":""},{"$f":"IF($J130=\"\",\"\",VLOOKUP($J130, Resurssiluettelo!$D$21:$X$40,Ohjeistus!K$98-1,FALSE))","v":""},{"$f":"IF($J130=\"\",\"\",VLOOKUP($J130, Resurssiluettelo!$D$21:$X$40,Ohjeistus!L$98-1,FALSE))","v":""},{"$f":"IF($J130=\"\",\"\",VLOOKUP($J130, Resurssiluettelo!$D$21:$X$40,Ohjeistus!M$98-1,FALSE))","v":""},{"$f":"IF($J130=\"\",\"\",VLOOKUP($J130, Resurssiluettelo!$D$21:$X$40,Ohjeistus!N$98-1,FALSE))","v":""},{"$f":"IF($J130=\"\",\"\",VLOOKUP($J130, Resurssiluettelo!$D$21:$X$40,Ohjeistus!O$98-1,FALSE))","v":""},{"$f":"IF($J130=\"\",\"\",VLOOKUP($J130, Resurssiluettelo!$D$21:$X$40,Ohjeistus!P$98-1,FALSE))","v":""},{"$f":"IF($J130=\"\",IF($I130=\"\",\"\",VLOOKUP($I130, Resurssiluettelo!$C$21:$X$40,Ohjeistus!Q$98,FALSE)),VLOOKUP($J130, Resurssiluettelo!$D$21:$X$40,Ohjeistus!Q$98-1,FALSE))","v":""},{"$f":"IF($J130=\"\",IF($I130=\"\",\"\",VLOOKUP($I130, Resurssiluettelo!$C$21:$X$40,Ohjeistus!R$98,FALSE)),VLOOKUP($J130, Resurssiluettelo!$D$21:$X$40,Ohjeistus!R$98-1,FALSE))","v":""},{"$f":"IF($J130=\"\",IF($I130=\"\",\"\",VLOOKUP($I130, Resurssiluettelo!$C$21:$X$40,Ohjeistus!S$98,FALSE)),VLOOKUP($J130, Resurssiluettelo!$D$21:$X$40,Ohjeistus!S$98-1,FALSE))","v":""},{"$f":"IF($J130=\"\",IF($I130=\"\",\"\",VLOOKUP($I130, Resurssiluettelo!$C$21:$X$40,Ohjeistus!T$98,FALSE)),VLOOKUP($J130, Resurssiluettelo!$D$21:$X$40,Ohjeistus!T$98-1,FALSE))","v":""},{"$f":"IF($J130=\"\",\"\",VLOOKUP($J130, Resurssiluettelo!$D$21:$X$40,Ohjeistus!U$98-1,FALSE))","v":""},{"$f":"IF($J130=\"\",\"\",VLOOKUP($J130, Resurssiluettelo!$D$21:$X$40,Ohjeistus!V$98-1,FALSE))","v":""},{"$f":"IF($J130=\"\",\"\",VLOOKUP($J130, Resurssiluettelo!$D$21:$X$40,Ohjeistus!W$98-1,FALSE))","v":""},{"$f":"IF($J130=\"\",\"\",VLOOKUP($J130, Resurssiluettelo!$D$21:$X$40,Ohjeistus!X$98-1,FALSE))","v":""},{"$f":"IF(Resurssiluettelo!E177=0,\"\",Resurssiluettelo!E177)","v":""},{"$f":"IF(Resurssiluettelo!F177=0,\"\",YEAR(Resurssiluettelo!F177)&IF(MONTH(Resurssiluettelo!F177)<10,\"0\",\"\")&MONTH(Resurssiluettelo!F177)&IF(DAY(Resurssiluettelo!F177)<10,\"0\",\"\")&DAY(Resurssiluettelo!F177))","v":""},{"$f":"IF(Resurssiluettelo!G177=0,\"\",Resurssiluettelo!G177)","v":""},{"$f":"IF(Resurssiluettelo!H177=0,\"\",Resurssiluettelo!H177)","v":""},{"$f":"IF(Resurssiluettelo!I177=0,\"\",Resurssiluettelo!I177)","v":""},{"$f":"IF(Resurssiluettelo!W177=0,\"\",Resurssiluettelo!W177)","v":""},{"$f":"IF(Resurssiluettelo!X177=0,\"\",Resurssiluettelo!X177)","v":""},{"$f":"IF(Resurssiluettelo!Y177=0,\"\",Resurssiluettelo!Y177)","v":""},{"$f":"IF(Resurssiluettelo!Z177=0,\"\",Resurssiluettelo!Z177)","v":""},{"$f":"IF(Resurssiluettelo!AA177=0,\"\",Resurssiluettelo!AA177)","v":""},{"$f":"IF(Resurssiluettelo!AB177=0,\"\",Resurssiluettelo!AB177)","v":""},{"$f":"IF(Resurssiluettelo!AC177=0,\"\",Resurssiluettelo!AC177)","v":""},{"$f":"IF(Resurssiluettelo!AD177=0,\"\",Resurssiluettelo!AD177)","v":""},{"$f":"IF(Resurssiluettelo!J177=0,\"\",Resurssiluettelo!J177)","v":""},{"$f":"IF(Resurssiluettelo!K177=0,\"\",Resurssiluettelo!K177)","v":""},{"$f":"IF(Resurssiluettelo!L177=0,\"\",Resurssiluettelo!L177)","v":""},{"$f":"IF(Resurssiluettelo!M177=0,\"\",Resurssiluettelo!M177)","v":""},{"$f":"IF(Resurssiluettelo!N177=0,\"\",Resurssiluettelo!N177)","v":""},{"$f":"IF(Resurssiluettelo!O177=0,\"\",Resurssiluettelo!O177)","v":""},{"$f":"IF(Resurssiluettelo!P177=0,\"\",Resurssiluettelo!P177)","v":""},{"$f":"IF(Resurssiluettelo!Q177=0,\"\",Resurssiluettelo!Q177)","v":""},{"$f":"IF(Resurssiluettelo!R177=0,\"\",Resurssiluettelo!R177)","v":""},{"$f":"IF(Resurssiluettelo!S177=0,\"\",Resurssiluettelo!S177)","v":""},{"$f":"IF(Resurssiluettelo!T177=0,\"\",Resurssiluettelo!T177)","v":""},{"$f":"IF(Resurssiluettelo!U177=0,\"\",Resurssiluettelo!U177)","v":""},{"$f":"IF(Resurssiluettelo!V177=0,\"\",Resurssiluettelo!V177)","v":""}]
[128,{"$f":"IF(Y131=\"\",\"\",Resurssiluettelo!$G$1)","v":""},{"$f":"IF(Y131=\"\",\"\",Resurssiluettelo!$H$14)","v":""},{"$f":"IF(Y131=\"\",\"\",Resurssiluettelo!$I$14)","v":""},{"$f":"IF(Y131=\"\",\"\",Resurssiluettelo!$J$14)","v":""},{"$f":"IF(Y131=\"\",\"\",Resurssiluettelo!$N$14)","v":""},{"$f":"IF(Y131=\"\",\"\",Resurssiluettelo!$O$14)","v":""},{"$f":"IF(Resurssiluettelo!B178=0,\"\",Resurssiluettelo!B178)","v":""},{"$f":"IF(Resurssiluettelo!C178=0,\"\",Resurssiluettelo!C178)","v":""},{"$f":"IF(Resurssiluettelo!D178=0,\"\",Resurssiluettelo!D178)","v":""},{"$f":"IF($J131=\"\",\"\",VLOOKUP($J131, Resurssiluettelo!$D$21:$X$40,Ohjeistus!K$98-1,FALSE))","v":""},{"$f":"IF($J131=\"\",\"\",VLOOKUP($J131, Resurssiluettelo!$D$21:$X$40,Ohjeistus!L$98-1,FALSE))","v":""},{"$f":"IF($J131=\"\",\"\",VLOOKUP($J131, Resurssiluettelo!$D$21:$X$40,Ohjeistus!M$98-1,FALSE))","v":""},{"$f":"IF($J131=\"\",\"\",VLOOKUP($J131, Resurssiluettelo!$D$21:$X$40,Ohjeistus!N$98-1,FALSE))","v":""},{"$f":"IF($J131=\"\",\"\",VLOOKUP($J131, Resurssiluettelo!$D$21:$X$40,Ohjeistus!O$98-1,FALSE))","v":""},{"$f":"IF($J131=\"\",\"\",VLOOKUP($J131, Resurssiluettelo!$D$21:$X$40,Ohjeistus!P$98-1,FALSE))","v":""},{"$f":"IF($J131=\"\",IF($I131=\"\",\"\",VLOOKUP($I131, Resurssiluettelo!$C$21:$X$40,Ohjeistus!Q$98,FALSE)),VLOOKUP($J131, Resurssiluettelo!$D$21:$X$40,Ohjeistus!Q$98-1,FALSE))","v":""},{"$f":"IF($J131=\"\",IF($I131=\"\",\"\",VLOOKUP($I131, Resurssiluettelo!$C$21:$X$40,Ohjeistus!R$98,FALSE)),VLOOKUP($J131, Resurssiluettelo!$D$21:$X$40,Ohjeistus!R$98-1,FALSE))","v":""},{"$f":"IF($J131=\"\",IF($I131=\"\",\"\",VLOOKUP($I131, Resurssiluettelo!$C$21:$X$40,Ohjeistus!S$98,FALSE)),VLOOKUP($J131, Resurssiluettelo!$D$21:$X$40,Ohjeistus!S$98-1,FALSE))","v":""},{"$f":"IF($J131=\"\",IF($I131=\"\",\"\",VLOOKUP($I131, Resurssiluettelo!$C$21:$X$40,Ohjeistus!T$98,FALSE)),VLOOKUP($J131, Resurssiluettelo!$D$21:$X$40,Ohjeistus!T$98-1,FALSE))","v":""},{"$f":"IF($J131=\"\",\"\",VLOOKUP($J131, Resurssiluettelo!$D$21:$X$40,Ohjeistus!U$98-1,FALSE))","v":""},{"$f":"IF($J131=\"\",\"\",VLOOKUP($J131, Resurssiluettelo!$D$21:$X$40,Ohjeistus!V$98-1,FALSE))","v":""},{"$f":"IF($J131=\"\",\"\",VLOOKUP($J131, Resurssiluettelo!$D$21:$X$40,Ohjeistus!W$98-1,FALSE))","v":""},{"$f":"IF($J131=\"\",\"\",VLOOKUP($J131, Resurssiluettelo!$D$21:$X$40,Ohjeistus!X$98-1,FALSE))","v":""},{"$f":"IF(Resurssiluettelo!E178=0,\"\",Resurssiluettelo!E178)","v":""},{"$f":"IF(Resurssiluettelo!F178=0,\"\",YEAR(Resurssiluettelo!F178)&IF(MONTH(Resurssiluettelo!F178)<10,\"0\",\"\")&MONTH(Resurssiluettelo!F178)&IF(DAY(Resurssiluettelo!F178)<10,\"0\",\"\")&DAY(Resurssiluettelo!F178))","v":""},{"$f":"IF(Resurssiluettelo!G178=0,\"\",Resurssiluettelo!G178)","v":""},{"$f":"IF(Resurssiluettelo!H178=0,\"\",Resurssiluettelo!H178)","v":""},{"$f":"IF(Resurssiluettelo!I178=0,\"\",Resurssiluettelo!I178)","v":""},{"$f":"IF(Resurssiluettelo!W178=0,\"\",Resurssiluettelo!W178)","v":""},{"$f":"IF(Resurssiluettelo!X178=0,\"\",Resurssiluettelo!X178)","v":""},{"$f":"IF(Resurssiluettelo!Y178=0,\"\",Resurssiluettelo!Y178)","v":""},{"$f":"IF(Resurssiluettelo!Z178=0,\"\",Resurssiluettelo!Z178)","v":""},{"$f":"IF(Resurssiluettelo!AA178=0,\"\",Resurssiluettelo!AA178)","v":""},{"$f":"IF(Resurssiluettelo!AB178=0,\"\",Resurssiluettelo!AB178)","v":""},{"$f":"IF(Resurssiluettelo!AC178=0,\"\",Resurssiluettelo!AC178)","v":""},{"$f":"IF(Resurssiluettelo!AD178=0,\"\",Resurssiluettelo!AD178)","v":""},{"$f":"IF(Resurssiluettelo!J178=0,\"\",Resurssiluettelo!J178)","v":""},{"$f":"IF(Resurssiluettelo!K178=0,\"\",Resurssiluettelo!K178)","v":""},{"$f":"IF(Resurssiluettelo!L178=0,\"\",Resurssiluettelo!L178)","v":""},{"$f":"IF(Resurssiluettelo!M178=0,\"\",Resurssiluettelo!M178)","v":""},{"$f":"IF(Resurssiluettelo!N178=0,\"\",Resurssiluettelo!N178)","v":""},{"$f":"IF(Resurssiluettelo!O178=0,\"\",Resurssiluettelo!O178)","v":""},{"$f":"IF(Resurssiluettelo!P178=0,\"\",Resurssiluettelo!P178)","v":""},{"$f":"IF(Resurssiluettelo!Q178=0,\"\",Resurssiluettelo!Q178)","v":""},{"$f":"IF(Resurssiluettelo!R178=0,\"\",Resurssiluettelo!R178)","v":""},{"$f":"IF(Resurssiluettelo!S178=0,\"\",Resurssiluettelo!S178)","v":""},{"$f":"IF(Resurssiluettelo!T178=0,\"\",Resurssiluettelo!T178)","v":""},{"$f":"IF(Resurssiluettelo!U178=0,\"\",Resurssiluettelo!U178)","v":""},{"$f":"IF(Resurssiluettelo!V178=0,\"\",Resurssiluettelo!V178)","v":""}]
[129,{"$f":"IF(Y132=\"\",\"\",Resurssiluettelo!$G$1)","v":""},{"$f":"IF(Y132=\"\",\"\",Resurssiluettelo!$H$14)","v":""},{"$f":"IF(Y132=\"\",\"\",Resurssiluettelo!$I$14)","v":""},{"$f":"IF(Y132=\"\",\"\",Resurssiluettelo!$J$14)","v":""},{"$f":"IF(Y132=\"\",\"\",Resurssiluettelo!$N$14)","v":""},{"$f":"IF(Y132=\"\",\"\",Resurssiluettelo!$O$14)","v":""},{"$f":"IF(Resurssiluettelo!B179=0,\"\",Resurssiluettelo!B179)","v":""},{"$f":"IF(Resurssiluettelo!C179=0,\"\",Resurssiluettelo!C179)","v":""},{"$f":"IF(Resurssiluettelo!D179=0,\"\",Resurssiluettelo!D179)","v":""},{"$f":"IF($J132=\"\",\"\",VLOOKUP($J132, Resurssiluettelo!$D$21:$X$40,Ohjeistus!K$98-1,FALSE))","v":""},{"$f":"IF($J132=\"\",\"\",VLOOKUP($J132, Resurssiluettelo!$D$21:$X$40,Ohjeistus!L$98-1,FALSE))","v":""},{"$f":"IF($J132=\"\",\"\",VLOOKUP($J132, Resurssiluettelo!$D$21:$X$40,Ohjeistus!M$98-1,FALSE))","v":""},{"$f":"IF($J132=\"\",\"\",VLOOKUP($J132, Resurssiluettelo!$D$21:$X$40,Ohjeistus!N$98-1,FALSE))","v":""},{"$f":"IF($J132=\"\",\"\",VLOOKUP($J132, Resurssiluettelo!$D$21:$X$40,Ohjeistus!O$98-1,FALSE))","v":""},{"$f":"IF($J132=\"\",\"\",VLOOKUP($J132, Resurssiluettelo!$D$21:$X$40,Ohjeistus!P$98-1,FALSE))","v":""},{"$f":"IF($J132=\"\",IF($I132=\"\",\"\",VLOOKUP($I132, Resurssiluettelo!$C$21:$X$40,Ohjeistus!Q$98,FALSE)),VLOOKUP($J132, Resurssiluettelo!$D$21:$X$40,Ohjeistus!Q$98-1,FALSE))","v":""},{"$f":"IF($J132=\"\",IF($I132=\"\",\"\",VLOOKUP($I132, Resurssiluettelo!$C$21:$X$40,Ohjeistus!R$98,FALSE)),VLOOKUP($J132, Resurssiluettelo!$D$21:$X$40,Ohjeistus!R$98-1,FALSE))","v":""},{"$f":"IF($J132=\"\",IF($I132=\"\",\"\",VLOOKUP($I132, Resurssiluettelo!$C$21:$X$40,Ohjeistus!S$98,FALSE)),VLOOKUP($J132, Resurssiluettelo!$D$21:$X$40,Ohjeistus!S$98-1,FALSE))","v":""},{"$f":"IF($J132=\"\",IF($I132=\"\",\"\",VLOOKUP($I132, Resurssiluettelo!$C$21:$X$40,Ohjeistus!T$98,FALSE)),VLOOKUP($J132, Resurssiluettelo!$D$21:$X$40,Ohjeistus!T$98-1,FALSE))","v":""},{"$f":"IF($J132=\"\",\"\",VLOOKUP($J132, Resurssiluettelo!$D$21:$X$40,Ohjeistus!U$98-1,FALSE))","v":""},{"$f":"IF($J132=\"\",\"\",VLOOKUP($J132, Resurssiluettelo!$D$21:$X$40,Ohjeistus!V$98-1,FALSE))","v":""},{"$f":"IF($J132=\"\",\"\",VLOOKUP($J132, Resurssiluettelo!$D$21:$X$40,Ohjeistus!W$98-1,FALSE))","v":""},{"$f":"IF($J132=\"\",\"\",VLOOKUP($J132, Resurssiluettelo!$D$21:$X$40,Ohjeistus!X$98-1,FALSE))","v":""},{"$f":"IF(Resurssiluettelo!E179=0,\"\",Resurssiluettelo!E179)","v":""},{"$f":"IF(Resurssiluettelo!F179=0,\"\",YEAR(Resurssiluettelo!F179)&IF(MONTH(Resurssiluettelo!F179)<10,\"0\",\"\")&MONTH(Resurssiluettelo!F179)&IF(DAY(Resurssiluettelo!F179)<10,\"0\",\"\")&DAY(Resurssiluettelo!F179))","v":""},{"$f":"IF(Resurssiluettelo!G179=0,\"\",Resurssiluettelo!G179)","v":""},{"$f":"IF(Resurssiluettelo!H179=0,\"\",Resurssiluettelo!H179)","v":""},{"$f":"IF(Resurssiluettelo!I179=0,\"\",Resurssiluettelo!I179)","v":""},{"$f":"IF(Resurssiluettelo!W179=0,\"\",Resurssiluettelo!W179)","v":""},{"$f":"IF(Resurssiluettelo!X179=0,\"\",Resurssiluettelo!X179)","v":""},{"$f":"IF(Resurssiluettelo!Y179=0,\"\",Resurssiluettelo!Y179)","v":""},{"$f":"IF(Resurssiluettelo!Z179=0,\"\",Resurssiluettelo!Z179)","v":""},{"$f":"IF(Resurssiluettelo!AA179=0,\"\",Resurssiluettelo!AA179)","v":""},{"$f":"IF(Resurssiluettelo!AB179=0,\"\",Resurssiluettelo!AB179)","v":""},{"$f":"IF(Resurssiluettelo!AC179=0,\"\",Resurssiluettelo!AC179)","v":""},{"$f":"IF(Resurssiluettelo!AD179=0,\"\",Resurssiluettelo!AD179)","v":""},{"$f":"IF(Resurssiluettelo!J179=0,\"\",Resurssiluettelo!J179)","v":""},{"$f":"IF(Resurssiluettelo!K179=0,\"\",Resurssiluettelo!K179)","v":""},{"$f":"IF(Resurssiluettelo!L179=0,\"\",Resurssiluettelo!L179)","v":""},{"$f":"IF(Resurssiluettelo!M179=0,\"\",Resurssiluettelo!M179)","v":""},{"$f":"IF(Resurssiluettelo!N179=0,\"\",Resurssiluettelo!N179)","v":""},{"$f":"IF(Resurssiluettelo!O179=0,\"\",Resurssiluettelo!O179)","v":""},{"$f":"IF(Resurssiluettelo!P179=0,\"\",Resurssiluettelo!P179)","v":""},{"$f":"IF(Resurssiluettelo!Q179=0,\"\",Resurssiluettelo!Q179)","v":""},{"$f":"IF(Resurssiluettelo!R179=0,\"\",Resurssiluettelo!R179)","v":""},{"$f":"IF(Resurssiluettelo!S179=0,\"\",Resurssiluettelo!S179)","v":""},{"$f":"IF(Resurssiluettelo!T179=0,\"\",Resurssiluettelo!T179)","v":""},{"$f":"IF(Resurssiluettelo!U179=0,\"\",Resurssiluettelo!U179)","v":""},{"$f":"IF(Resurssiluettelo!V179=0,\"\",Resurssiluettelo!V179)","v":""}]
[130,{"$f":"IF(Y133=\"\",\"\",Resurssiluettelo!$G$1)","v":""},{"$f":"IF(Y133=\"\",\"\",Resurssiluettelo!$H$14)","v":""},{"$f":"IF(Y133=\"\",\"\",Resurssiluettelo!$I$14)","v":""},{"$f":"IF(Y133=\"\",\"\",Resurssiluettelo!$J$14)","v":""},{"$f":"IF(Y133=\"\",\"\",Resurssiluettelo!$N$14)","v":""},{"$f":"IF(Y133=\"\",\"\",Resurssiluettelo!$O$14)","v":""},{"$f":"IF(Resurssiluettelo!B180=0,\"\",Resurssiluettelo!B180)","v":""},{"$f":"IF(Resurssiluettelo!C180=0,\"\",Resurssiluettelo!C180)","v":""},{"$f":"IF(Resurssiluettelo!D180=0,\"\",Resurssiluettelo!D180)","v":""},{"$f":"IF($J133=\"\",\"\",VLOOKUP($J133, Resurssiluettelo!$D$21:$X$40,Ohjeistus!K$98-1,FALSE))","v":""},{"$f":"IF($J133=\"\",\"\",VLOOKUP($J133, Resurssiluettelo!$D$21:$X$40,Ohjeistus!L$98-1,FALSE))","v":""},{"$f":"IF($J133=\"\",\"\",VLOOKUP($J133, Resurssiluettelo!$D$21:$X$40,Ohjeistus!M$98-1,FALSE))","v":""},{"$f":"IF($J133=\"\",\"\",VLOOKUP($J133, Resurssiluettelo!$D$21:$X$40,Ohjeistus!N$98-1,FALSE))","v":""},{"$f":"IF($J133=\"\",\"\",VLOOKUP($J133, Resurssiluettelo!$D$21:$X$40,Ohjeistus!O$98-1,FALSE))","v":""},{"$f":"IF($J133=\"\",\"\",VLOOKUP($J133, Resurssiluettelo!$D$21:$X$40,Ohjeistus!P$98-1,FALSE))","v":""},{"$f":"IF($J133=\"\",IF($I133=\"\",\"\",VLOOKUP($I133, Resurssiluettelo!$C$21:$X$40,Ohjeistus!Q$98,FALSE)),VLOOKUP($J133, Resurssiluettelo!$D$21:$X$40,Ohjeistus!Q$98-1,FALSE))","v":""},{"$f":"IF($J133=\"\",IF($I133=\"\",\"\",VLOOKUP($I133, Resurssiluettelo!$C$21:$X$40,Ohjeistus!R$98,FALSE)),VLOOKUP($J133, Resurssiluettelo!$D$21:$X$40,Ohjeistus!R$98-1,FALSE))","v":""},{"$f":"IF($J133=\"\",IF($I133=\"\",\"\",VLOOKUP($I133, Resurssiluettelo!$C$21:$X$40,Ohjeistus!S$98,FALSE)),VLOOKUP($J133, Resurssiluettelo!$D$21:$X$40,Ohjeistus!S$98-1,FALSE))","v":""},{"$f":"IF($J133=\"\",IF($I133=\"\",\"\",VLOOKUP($I133, Resurssiluettelo!$C$21:$X$40,Ohjeistus!T$98,FALSE)),VLOOKUP($J133, Resurssiluettelo!$D$21:$X$40,Ohjeistus!T$98-1,FALSE))","v":""},{"$f":"IF($J133=\"\",\"\",VLOOKUP($J133, Resurssiluettelo!$D$21:$X$40,Ohjeistus!U$98-1,FALSE))","v":""},{"$f":"IF($J133=\"\",\"\",VLOOKUP($J133, Resurssiluettelo!$D$21:$X$40,Ohjeistus!V$98-1,FALSE))","v":""},{"$f":"IF($J133=\"\",\"\",VLOOKUP($J133, Resurssiluettelo!$D$21:$X$40,Ohjeistus!W$98-1,FALSE))","v":""},{"$f":"IF($J133=\"\",\"\",VLOOKUP($J133, Resurssiluettelo!$D$21:$X$40,Ohjeistus!X$98-1,FALSE))","v":""},{"$f":"IF(Resurssiluettelo!E180=0,\"\",Resurssiluettelo!E180)","v":""},{"$f":"IF(Resurssiluettelo!F180=0,\"\",YEAR(Resurssiluettelo!F180)&IF(MONTH(Resurssiluettelo!F180)<10,\"0\",\"\")&MONTH(Resurssiluettelo!F180)&IF(DAY(Resurssiluettelo!F180)<10,\"0\",\"\")&DAY(Resurssiluettelo!F180))","v":""},{"$f":"IF(Resurssiluettelo!G180=0,\"\",Resurssiluettelo!G180)","v":""},{"$f":"IF(Resurssiluettelo!H180=0,\"\",Resurssiluettelo!H180)","v":""},{"$f":"IF(Resurssiluettelo!I180=0,\"\",Resurssiluettelo!I180)","v":""},{"$f":"IF(Resurssiluettelo!W180=0,\"\",Resurssiluettelo!W180)","v":""},{"$f":"IF(Resurssiluettelo!X180=0,\"\",Resurssiluettelo!X180)","v":""},{"$f":"IF(Resurssiluettelo!Y180=0,\"\",Resurssiluettelo!Y180)","v":""},{"$f":"IF(Resurssiluettelo!Z180=0,\"\",Resurssiluettelo!Z180)","v":""},{"$f":"IF(Resurssiluettelo!AA180=0,\"\",Resurssiluettelo!AA180)","v":""},{"$f":"IF(Resurssiluettelo!AB180=0,\"\",Resurssiluettelo!AB180)","v":""},{"$f":"IF(Resurssiluettelo!AC180=0,\"\",Resurssiluettelo!AC180)","v":""},{"$f":"IF(Resurssiluettelo!AD180=0,\"\",Resurssiluettelo!AD180)","v":""},{"$f":"IF(Resurssiluettelo!J180=0,\"\",Resurssiluettelo!J180)","v":""},{"$f":"IF(Resurssiluettelo!K180=0,\"\",Resurssiluettelo!K180)","v":""},{"$f":"IF(Resurssiluettelo!L180=0,\"\",Resurssiluettelo!L180)","v":""},{"$f":"IF(Resurssiluettelo!M180=0,\"\",Resurssiluettelo!M180)","v":""},{"$f":"IF(Resurssiluettelo!N180=0,\"\",Resurssiluettelo!N180)","v":""},{"$f":"IF(Resurssiluettelo!O180=0,\"\",Resurssiluettelo!O180)","v":""},{"$f":"IF(Resurssiluettelo!P180=0,\"\",Resurssiluettelo!P180)","v":""},{"$f":"IF(Resurssiluettelo!Q180=0,\"\",Resurssiluettelo!Q180)","v":""},{"$f":"IF(Resurssiluettelo!R180=0,\"\",Resurssiluettelo!R180)","v":""},{"$f":"IF(Resurssiluettelo!S180=0,\"\",Resurssiluettelo!S180)","v":""},{"$f":"IF(Resurssiluettelo!T180=0,\"\",Resurssiluettelo!T180)","v":""},{"$f":"IF(Resurssiluettelo!U180=0,\"\",Resurssiluettelo!U180)","v":""},{"$f":"IF(Resurssiluettelo!V180=0,\"\",Resurssiluettelo!V180)","v":""}]
[131,{"$f":"IF(Y134=\"\",\"\",Resurssiluettelo!$G$1)","v":""},{"$f":"IF(Y134=\"\",\"\",Resurssiluettelo!$H$14)","v":""},{"$f":"IF(Y134=\"\",\"\",Resurssiluettelo!$I$14)","v":""},{"$f":"IF(Y134=\"\",\"\",Resurssiluettelo!$J$14)","v":""},{"$f":"IF(Y134=\"\",\"\",Resurssiluettelo!$N$14)","v":""},{"$f":"IF(Y134=\"\",\"\",Resurssiluettelo!$O$14)","v":""},{"$f":"IF(Resurssiluettelo!B181=0,\"\",Resurssiluettelo!B181)","v":""},{"$f":"IF(Resurssiluettelo!C181=0,\"\",Resurssiluettelo!C181)","v":""},{"$f":"IF(Resurssiluettelo!D181=0,\"\",Resurssiluettelo!D181)","v":""},{"$f":"IF($J134=\"\",\"\",VLOOKUP($J134, Resurssiluettelo!$D$21:$X$40,Ohjeistus!K$98-1,FALSE))","v":""},{"$f":"IF($J134=\"\",\"\",VLOOKUP($J134, Resurssiluettelo!$D$21:$X$40,Ohjeistus!L$98-1,FALSE))","v":""},{"$f":"IF($J134=\"\",\"\",VLOOKUP($J134, Resurssiluettelo!$D$21:$X$40,Ohjeistus!M$98-1,FALSE))","v":""},{"$f":"IF($J134=\"\",\"\",VLOOKUP($J134, Resurssiluettelo!$D$21:$X$40,Ohjeistus!N$98-1,FALSE))","v":""},{"$f":"IF($J134=\"\",\"\",VLOOKUP($J134, Resurssiluettelo!$D$21:$X$40,Ohjeistus!O$98-1,FALSE))","v":""},{"$f":"IF($J134=\"\",\"\",VLOOKUP($J134, Resurssiluettelo!$D$21:$X$40,Ohjeistus!P$98-1,FALSE))","v":""},{"$f":"IF($J134=\"\",IF($I134=\"\",\"\",VLOOKUP($I134, Resurssiluettelo!$C$21:$X$40,Ohjeistus!Q$98,FALSE)),VLOOKUP($J134, Resurssiluettelo!$D$21:$X$40,Ohjeistus!Q$98-1,FALSE))","v":""},{"$f":"IF($J134=\"\",IF($I134=\"\",\"\",VLOOKUP($I134, Resurssiluettelo!$C$21:$X$40,Ohjeistus!R$98,FALSE)),VLOOKUP($J134, Resurssiluettelo!$D$21:$X$40,Ohjeistus!R$98-1,FALSE))","v":""},{"$f":"IF($J134=\"\",IF($I134=\"\",\"\",VLOOKUP($I134, Resurssiluettelo!$C$21:$X$40,Ohjeistus!S$98,FALSE)),VLOOKUP($J134, Resurssiluettelo!$D$21:$X$40,Ohjeistus!S$98-1,FALSE))","v":""},{"$f":"IF($J134=\"\",IF($I134=\"\",\"\",VLOOKUP($I134, Resurssiluettelo!$C$21:$X$40,Ohjeistus!T$98,FALSE)),VLOOKUP($J134, Resurssiluettelo!$D$21:$X$40,Ohjeistus!T$98-1,FALSE))","v":""},{"$f":"IF($J134=\"\",\"\",VLOOKUP($J134, Resurssiluettelo!$D$21:$X$40,Ohjeistus!U$98-1,FALSE))","v":""},{"$f":"IF($J134=\"\",\"\",VLOOKUP($J134, Resurssiluettelo!$D$21:$X$40,Ohjeistus!V$98-1,FALSE))","v":""},{"$f":"IF($J134=\"\",\"\",VLOOKUP($J134, Resurssiluettelo!$D$21:$X$40,Ohjeistus!W$98-1,FALSE))","v":""},{"$f":"IF($J134=\"\",\"\",VLOOKUP($J134, Resurssiluettelo!$D$21:$X$40,Ohjeistus!X$98-1,FALSE))","v":""},{"$f":"IF(Resurssiluettelo!E181=0,\"\",Resurssiluettelo!E181)","v":""},{"$f":"IF(Resurssiluettelo!F181=0,\"\",YEAR(Resurssiluettelo!F181)&IF(MONTH(Resurssiluettelo!F181)<10,\"0\",\"\")&MONTH(Resurssiluettelo!F181)&IF(DAY(Resurssiluettelo!F181)<10,\"0\",\"\")&DAY(Resurssiluettelo!F181))","v":""},{"$f":"IF(Resurssiluettelo!G181=0,\"\",Resurssiluettelo!G181)","v":""},{"$f":"IF(Resurssiluettelo!H181=0,\"\",Resurssiluettelo!H181)","v":""},{"$f":"IF(Resurssiluettelo!I181=0,\"\",Resurssiluettelo!I181)","v":""},{"$f":"IF(Resurssiluettelo!W181=0,\"\",Resurssiluettelo!W181)","v":""},{"$f":"IF(Resurssiluettelo!X181=0,\"\",Resurssiluettelo!X181)","v":""},{"$f":"IF(Resurssiluettelo!Y181=0,\"\",Resurssiluettelo!Y181)","v":""},{"$f":"IF(Resurssiluettelo!Z181=0,\"\",Resurssiluettelo!Z181)","v":""},{"$f":"IF(Resurssiluettelo!AA181=0,\"\",Resurssiluettelo!AA181)","v":""},{"$f":"IF(Resurssiluettelo!AB181=0,\"\",Resurssiluettelo!AB181)","v":""},{"$f":"IF(Resurssiluettelo!AC181=0,\"\",Resurssiluettelo!AC181)","v":""},{"$f":"IF(Resurssiluettelo!AD181=0,\"\",Resurssiluettelo!AD181)","v":""},{"$f":"IF(Resurssiluettelo!J181=0,\"\",Resurssiluettelo!J181)","v":""},{"$f":"IF(Resurssiluettelo!K181=0,\"\",Resurssiluettelo!K181)","v":""},{"$f":"IF(Resurssiluettelo!L181=0,\"\",Resurssiluettelo!L181)","v":""},{"$f":"IF(Resurssiluettelo!M181=0,\"\",Resurssiluettelo!M181)","v":""},{"$f":"IF(Resurssiluettelo!N181=0,\"\",Resurssiluettelo!N181)","v":""},{"$f":"IF(Resurssiluettelo!O181=0,\"\",Resurssiluettelo!O181)","v":""},{"$f":"IF(Resurssiluettelo!P181=0,\"\",Resurssiluettelo!P181)","v":""},{"$f":"IF(Resurssiluettelo!Q181=0,\"\",Resurssiluettelo!Q181)","v":""},{"$f":"IF(Resurssiluettelo!R181=0,\"\",Resurssiluettelo!R181)","v":""},{"$f":"IF(Resurssiluettelo!S181=0,\"\",Resurssiluettelo!S181)","v":""},{"$f":"IF(Resurssiluettelo!T181=0,\"\",Resurssiluettelo!T181)","v":""},{"$f":"IF(Resurssiluettelo!U181=0,\"\",Resurssiluettelo!U181)","v":""},{"$f":"IF(Resurssiluettelo!V181=0,\"\",Resurssiluettelo!V181)","v":""}]
[132,{"$f":"IF(Y135=\"\",\"\",Resurssiluettelo!$G$1)","v":""},{"$f":"IF(Y135=\"\",\"\",Resurssiluettelo!$H$14)","v":""},{"$f":"IF(Y135=\"\",\"\",Resurssiluettelo!$I$14)","v":""},{"$f":"IF(Y135=\"\",\"\",Resurssiluettelo!$J$14)","v":""},{"$f":"IF(Y135=\"\",\"\",Resurssiluettelo!$N$14)","v":""},{"$f":"IF(Y135=\"\",\"\",Resurssiluettelo!$O$14)","v":""},{"$f":"IF(Resurssiluettelo!B182=0,\"\",Resurssiluettelo!B182)","v":""},{"$f":"IF(Resurssiluettelo!C182=0,\"\",Resurssiluettelo!C182)","v":""},{"$f":"IF(Resurssiluettelo!D182=0,\"\",Resurssiluettelo!D182)","v":""},{"$f":"IF($J135=\"\",\"\",VLOOKUP($J135, Resurssiluettelo!$D$21:$X$40,Ohjeistus!K$98-1,FALSE))","v":""},{"$f":"IF($J135=\"\",\"\",VLOOKUP($J135, Resurssiluettelo!$D$21:$X$40,Ohjeistus!L$98-1,FALSE))","v":""},{"$f":"IF($J135=\"\",\"\",VLOOKUP($J135, Resurssiluettelo!$D$21:$X$40,Ohjeistus!M$98-1,FALSE))","v":""},{"$f":"IF($J135=\"\",\"\",VLOOKUP($J135, Resurssiluettelo!$D$21:$X$40,Ohjeistus!N$98-1,FALSE))","v":""},{"$f":"IF($J135=\"\",\"\",VLOOKUP($J135, Resurssiluettelo!$D$21:$X$40,Ohjeistus!O$98-1,FALSE))","v":""},{"$f":"IF($J135=\"\",\"\",VLOOKUP($J135, Resurssiluettelo!$D$21:$X$40,Ohjeistus!P$98-1,FALSE))","v":""},{"$f":"IF($J135=\"\",IF($I135=\"\",\"\",VLOOKUP($I135, Resurssiluettelo!$C$21:$X$40,Ohjeistus!Q$98,FALSE)),VLOOKUP($J135, Resurssiluettelo!$D$21:$X$40,Ohjeistus!Q$98-1,FALSE))","v":""},{"$f":"IF($J135=\"\",IF($I135=\"\",\"\",VLOOKUP($I135, Resurssiluettelo!$C$21:$X$40,Ohjeistus!R$98,FALSE)),VLOOKUP($J135, Resurssiluettelo!$D$21:$X$40,Ohjeistus!R$98-1,FALSE))","v":""},{"$f":"IF($J135=\"\",IF($I135=\"\",\"\",VLOOKUP($I135, Resurssiluettelo!$C$21:$X$40,Ohjeistus!S$98,FALSE)),VLOOKUP($J135, Resurssiluettelo!$D$21:$X$40,Ohjeistus!S$98-1,FALSE))","v":""},{"$f":"IF($J135=\"\",IF($I135=\"\",\"\",VLOOKUP($I135, Resurssiluettelo!$C$21:$X$40,Ohjeistus!T$98,FALSE)),VLOOKUP($J135, Resurssiluettelo!$D$21:$X$40,Ohjeistus!T$98-1,FALSE))","v":""},{"$f":"IF($J135=\"\",\"\",VLOOKUP($J135, Resurssiluettelo!$D$21:$X$40,Ohjeistus!U$98-1,FALSE))","v":""},{"$f":"IF($J135=\"\",\"\",VLOOKUP($J135, Resurssiluettelo!$D$21:$X$40,Ohjeistus!V$98-1,FALSE))","v":""},{"$f":"IF($J135=\"\",\"\",VLOOKUP($J135, Resurssiluettelo!$D$21:$X$40,Ohjeistus!W$98-1,FALSE))","v":""},{"$f":"IF($J135=\"\",\"\",VLOOKUP($J135, Resurssiluettelo!$D$21:$X$40,Ohjeistus!X$98-1,FALSE))","v":""},{"$f":"IF(Resurssiluettelo!E182=0,\"\",Resurssiluettelo!E182)","v":""},{"$f":"IF(Resurssiluettelo!F182=0,\"\",YEAR(Resurssiluettelo!F182)&IF(MONTH(Resurssiluettelo!F182)<10,\"0\",\"\")&MONTH(Resurssiluettelo!F182)&IF(DAY(Resurssiluettelo!F182)<10,\"0\",\"\")&DAY(Resurssiluettelo!F182))","v":""},{"$f":"IF(Resurssiluettelo!G182=0,\"\",Resurssiluettelo!G182)","v":""},{"$f":"IF(Resurssiluettelo!H182=0,\"\",Resurssiluettelo!H182)","v":""},{"$f":"IF(Resurssiluettelo!I182=0,\"\",Resurssiluettelo!I182)","v":""},{"$f":"IF(Resurssiluettelo!W182=0,\"\",Resurssiluettelo!W182)","v":""},{"$f":"IF(Resurssiluettelo!X182=0,\"\",Resurssiluettelo!X182)","v":""},{"$f":"IF(Resurssiluettelo!Y182=0,\"\",Resurssiluettelo!Y182)","v":""},{"$f":"IF(Resurssiluettelo!Z182=0,\"\",Resurssiluettelo!Z182)","v":""},{"$f":"IF(Resurssiluettelo!AA182=0,\"\",Resurssiluettelo!AA182)","v":""},{"$f":"IF(Resurssiluettelo!AB182=0,\"\",Resurssiluettelo!AB182)","v":""},{"$f":"IF(Resurssiluettelo!AC182=0,\"\",Resurssiluettelo!AC182)","v":""},{"$f":"IF(Resurssiluettelo!AD182=0,\"\",Resurssiluettelo!AD182)","v":""},{"$f":"IF(Resurssiluettelo!J182=0,\"\",Resurssiluettelo!J182)","v":""},{"$f":"IF(Resurssiluettelo!K182=0,\"\",Resurssiluettelo!K182)","v":""},{"$f":"IF(Resurssiluettelo!L182=0,\"\",Resurssiluettelo!L182)","v":""},{"$f":"IF(Resurssiluettelo!M182=0,\"\",Resurssiluettelo!M182)","v":""},{"$f":"IF(Resurssiluettelo!N182=0,\"\",Resurssiluettelo!N182)","v":""},{"$f":"IF(Resurssiluettelo!O182=0,\"\",Resurssiluettelo!O182)","v":""},{"$f":"IF(Resurssiluettelo!P182=0,\"\",Resurssiluettelo!P182)","v":""},{"$f":"IF(Resurssiluettelo!Q182=0,\"\",Resurssiluettelo!Q182)","v":""},{"$f":"IF(Resurssiluettelo!R182=0,\"\",Resurssiluettelo!R182)","v":""},{"$f":"IF(Resurssiluettelo!S182=0,\"\",Resurssiluettelo!S182)","v":""},{"$f":"IF(Resurssiluettelo!T182=0,\"\",Resurssiluettelo!T182)","v":""},{"$f":"IF(Resurssiluettelo!U182=0,\"\",Resurssiluettelo!U182)","v":""},{"$f":"IF(Resurssiluettelo!V182=0,\"\",Resurssiluettelo!V182)","v":""}]
[133,{"$f":"IF(Y136=\"\",\"\",Resurssiluettelo!$G$1)","v":""},{"$f":"IF(Y136=\"\",\"\",Resurssiluettelo!$H$14)","v":""},{"$f":"IF(Y136=\"\",\"\",Resurssiluettelo!$I$14)","v":""},{"$f":"IF(Y136=\"\",\"\",Resurssiluettelo!$J$14)","v":""},{"$f":"IF(Y136=\"\",\"\",Resurssiluettelo!$N$14)","v":""},{"$f":"IF(Y136=\"\",\"\",Resurssiluettelo!$O$14)","v":""},{"$f":"IF(Resurssiluettelo!B183=0,\"\",Resurssiluettelo!B183)","v":""},{"$f":"IF(Resurssiluettelo!C183=0,\"\",Resurssiluettelo!C183)","v":""},{"$f":"IF(Resurssiluettelo!D183=0,\"\",Resurssiluettelo!D183)","v":""},{"$f":"IF($J136=\"\",\"\",VLOOKUP($J136, Resurssiluettelo!$D$21:$X$40,Ohjeistus!K$98-1,FALSE))","v":""},{"$f":"IF($J136=\"\",\"\",VLOOKUP($J136, Resurssiluettelo!$D$21:$X$40,Ohjeistus!L$98-1,FALSE))","v":""},{"$f":"IF($J136=\"\",\"\",VLOOKUP($J136, Resurssiluettelo!$D$21:$X$40,Ohjeistus!M$98-1,FALSE))","v":""},{"$f":"IF($J136=\"\",\"\",VLOOKUP($J136, Resurssiluettelo!$D$21:$X$40,Ohjeistus!N$98-1,FALSE))","v":""},{"$f":"IF($J136=\"\",\"\",VLOOKUP($J136, Resurssiluettelo!$D$21:$X$40,Ohjeistus!O$98-1,FALSE))","v":""},{"$f":"IF($J136=\"\",\"\",VLOOKUP($J136, Resurssiluettelo!$D$21:$X$40,Ohjeistus!P$98-1,FALSE))","v":""},{"$f":"IF($J136=\"\",IF($I136=\"\",\"\",VLOOKUP($I136, Resurssiluettelo!$C$21:$X$40,Ohjeistus!Q$98,FALSE)),VLOOKUP($J136, Resurssiluettelo!$D$21:$X$40,Ohjeistus!Q$98-1,FALSE))","v":""},{"$f":"IF($J136=\"\",IF($I136=\"\",\"\",VLOOKUP($I136, Resurssiluettelo!$C$21:$X$40,Ohjeistus!R$98,FALSE)),VLOOKUP($J136, Resurssiluettelo!$D$21:$X$40,Ohjeistus!R$98-1,FALSE))","v":""},{"$f":"IF($J136=\"\",IF($I136=\"\",\"\",VLOOKUP($I136, Resurssiluettelo!$C$21:$X$40,Ohjeistus!S$98,FALSE)),VLOOKUP($J136, Resurssiluettelo!$D$21:$X$40,Ohjeistus!S$98-1,FALSE))","v":""},{"$f":"IF($J136=\"\",IF($I136=\"\",\"\",VLOOKUP($I136, Resurssiluettelo!$C$21:$X$40,Ohjeistus!T$98,FALSE)),VLOOKUP($J136, Resurssiluettelo!$D$21:$X$40,Ohjeistus!T$98-1,FALSE))","v":""},{"$f":"IF($J136=\"\",\"\",VLOOKUP($J136, Resurssiluettelo!$D$21:$X$40,Ohjeistus!U$98-1,FALSE))","v":""},{"$f":"IF($J136=\"\",\"\",VLOOKUP($J136, Resurssiluettelo!$D$21:$X$40,Ohjeistus!V$98-1,FALSE))","v":""},{"$f":"IF($J136=\"\",\"\",VLOOKUP($J136, Resurssiluettelo!$D$21:$X$40,Ohjeistus!W$98-1,FALSE))","v":""},{"$f":"IF($J136=\"\",\"\",VLOOKUP($J136, Resurssiluettelo!$D$21:$X$40,Ohjeistus!X$98-1,FALSE))","v":""},{"$f":"IF(Resurssiluettelo!E183=0,\"\",Resurssiluettelo!E183)","v":""},{"$f":"IF(Resurssiluettelo!F183=0,\"\",YEAR(Resurssiluettelo!F183)&IF(MONTH(Resurssiluettelo!F183)<10,\"0\",\"\")&MONTH(Resurssiluettelo!F183)&IF(DAY(Resurssiluettelo!F183)<10,\"0\",\"\")&DAY(Resurssiluettelo!F183))","v":""},{"$f":"IF(Resurssiluettelo!G183=0,\"\",Resurssiluettelo!G183)","v":""},{"$f":"IF(Resurssiluettelo!H183=0,\"\",Resurssiluettelo!H183)","v":""},{"$f":"IF(Resurssiluettelo!I183=0,\"\",Resurssiluettelo!I183)","v":""},{"$f":"IF(Resurssiluettelo!W183=0,\"\",Resurssiluettelo!W183)","v":""},{"$f":"IF(Resurssiluettelo!X183=0,\"\",Resurssiluettelo!X183)","v":""},{"$f":"IF(Resurssiluettelo!Y183=0,\"\",Resurssiluettelo!Y183)","v":""},{"$f":"IF(Resurssiluettelo!Z183=0,\"\",Resurssiluettelo!Z183)","v":""},{"$f":"IF(Resurssiluettelo!AA183=0,\"\",Resurssiluettelo!AA183)","v":""},{"$f":"IF(Resurssiluettelo!AB183=0,\"\",Resurssiluettelo!AB183)","v":""},{"$f":"IF(Resurssiluettelo!AC183=0,\"\",Resurssiluettelo!AC183)","v":""},{"$f":"IF(Resurssiluettelo!AD183=0,\"\",Resurssiluettelo!AD183)","v":""},{"$f":"IF(Resurssiluettelo!J183=0,\"\",Resurssiluettelo!J183)","v":""},{"$f":"IF(Resurssiluettelo!K183=0,\"\",Resurssiluettelo!K183)","v":""},{"$f":"IF(Resurssiluettelo!L183=0,\"\",Resurssiluettelo!L183)","v":""},{"$f":"IF(Resurssiluettelo!M183=0,\"\",Resurssiluettelo!M183)","v":""},{"$f":"IF(Resurssiluettelo!N183=0,\"\",Resurssiluettelo!N183)","v":""},{"$f":"IF(Resurssiluettelo!O183=0,\"\",Resurssiluettelo!O183)","v":""},{"$f":"IF(Resurssiluettelo!P183=0,\"\",Resurssiluettelo!P183)","v":""},{"$f":"IF(Resurssiluettelo!Q183=0,\"\",Resurssiluettelo!Q183)","v":""},{"$f":"IF(Resurssiluettelo!R183=0,\"\",Resurssiluettelo!R183)","v":""},{"$f":"IF(Resurssiluettelo!S183=0,\"\",Resurssiluettelo!S183)","v":""},{"$f":"IF(Resurssiluettelo!T183=0,\"\",Resurssiluettelo!T183)","v":""},{"$f":"IF(Resurssiluettelo!U183=0,\"\",Resurssiluettelo!U183)","v":""},{"$f":"IF(Resurssiluettelo!V183=0,\"\",Resurssiluettelo!V183)","v":""}]
[134,{"$f":"IF(Y137=\"\",\"\",Resurssiluettelo!$G$1)","v":""},{"$f":"IF(Y137=\"\",\"\",Resurssiluettelo!$H$14)","v":""},{"$f":"IF(Y137=\"\",\"\",Resurssiluettelo!$I$14)","v":""},{"$f":"IF(Y137=\"\",\"\",Resurssiluettelo!$J$14)","v":""},{"$f":"IF(Y137=\"\",\"\",Resurssiluettelo!$N$14)","v":""},{"$f":"IF(Y137=\"\",\"\",Resurssiluettelo!$O$14)","v":""},{"$f":"IF(Resurssiluettelo!B184=0,\"\",Resurssiluettelo!B184)","v":""},{"$f":"IF(Resurssiluettelo!C184=0,\"\",Resurssiluettelo!C184)","v":""},{"$f":"IF(Resurssiluettelo!D184=0,\"\",Resurssiluettelo!D184)","v":""},{"$f":"IF($J137=\"\",\"\",VLOOKUP($J137, Resurssiluettelo!$D$21:$X$40,Ohjeistus!K$98-1,FALSE))","v":""},{"$f":"IF($J137=\"\",\"\",VLOOKUP($J137, Resurssiluettelo!$D$21:$X$40,Ohjeistus!L$98-1,FALSE))","v":""},{"$f":"IF($J137=\"\",\"\",VLOOKUP($J137, Resurssiluettelo!$D$21:$X$40,Ohjeistus!M$98-1,FALSE))","v":""},{"$f":"IF($J137=\"\",\"\",VLOOKUP($J137, Resurssiluettelo!$D$21:$X$40,Ohjeistus!N$98-1,FALSE))","v":""},{"$f":"IF($J137=\"\",\"\",VLOOKUP($J137, Resurssiluettelo!$D$21:$X$40,Ohjeistus!O$98-1,FALSE))","v":""},{"$f":"IF($J137=\"\",\"\",VLOOKUP($J137, Resurssiluettelo!$D$21:$X$40,Ohjeistus!P$98-1,FALSE))","v":""},{"$f":"IF($J137=\"\",IF($I137=\"\",\"\",VLOOKUP($I137, Resurssiluettelo!$C$21:$X$40,Ohjeistus!Q$98,FALSE)),VLOOKUP($J137, Resurssiluettelo!$D$21:$X$40,Ohjeistus!Q$98-1,FALSE))","v":""},{"$f":"IF($J137=\"\",IF($I137=\"\",\"\",VLOOKUP($I137, Resurssiluettelo!$C$21:$X$40,Ohjeistus!R$98,FALSE)),VLOOKUP($J137, Resurssiluettelo!$D$21:$X$40,Ohjeistus!R$98-1,FALSE))","v":""},{"$f":"IF($J137=\"\",IF($I137=\"\",\"\",VLOOKUP($I137, Resurssiluettelo!$C$21:$X$40,Ohjeistus!S$98,FALSE)),VLOOKUP($J137, Resurssiluettelo!$D$21:$X$40,Ohjeistus!S$98-1,FALSE))","v":""},{"$f":"IF($J137=\"\",IF($I137=\"\",\"\",VLOOKUP($I137, Resurssiluettelo!$C$21:$X$40,Ohjeistus!T$98,FALSE)),VLOOKUP($J137, Resurssiluettelo!$D$21:$X$40,Ohjeistus!T$98-1,FALSE))","v":""},{"$f":"IF($J137=\"\",\"\",VLOOKUP($J137, Resurssiluettelo!$D$21:$X$40,Ohjeistus!U$98-1,FALSE))","v":""},{"$f":"IF($J137=\"\",\"\",VLOOKUP($J137, Resurssiluettelo!$D$21:$X$40,Ohjeistus!V$98-1,FALSE))","v":""},{"$f":"IF($J137=\"\",\"\",VLOOKUP($J137, Resurssiluettelo!$D$21:$X$40,Ohjeistus!W$98-1,FALSE))","v":""},{"$f":"IF($J137=\"\",\"\",VLOOKUP($J137, Resurssiluettelo!$D$21:$X$40,Ohjeistus!X$98-1,FALSE))","v":""},{"$f":"IF(Resurssiluettelo!E184=0,\"\",Resurssiluettelo!E184)","v":""},{"$f":"IF(Resurssiluettelo!F184=0,\"\",YEAR(Resurssiluettelo!F184)&IF(MONTH(Resurssiluettelo!F184)<10,\"0\",\"\")&MONTH(Resurssiluettelo!F184)&IF(DAY(Resurssiluettelo!F184)<10,\"0\",\"\")&DAY(Resurssiluettelo!F184))","v":""},{"$f":"IF(Resurssiluettelo!G184=0,\"\",Resurssiluettelo!G184)","v":""},{"$f":"IF(Resurssiluettelo!H184=0,\"\",Resurssiluettelo!H184)","v":""},{"$f":"IF(Resurssiluettelo!I184=0,\"\",Resurssiluettelo!I184)","v":""},{"$f":"IF(Resurssiluettelo!W184=0,\"\",Resurssiluettelo!W184)","v":""},{"$f":"IF(Resurssiluettelo!X184=0,\"\",Resurssiluettelo!X184)","v":""},{"$f":"IF(Resurssiluettelo!Y184=0,\"\",Resurssiluettelo!Y184)","v":""},{"$f":"IF(Resurssiluettelo!Z184=0,\"\",Resurssiluettelo!Z184)","v":""},{"$f":"IF(Resurssiluettelo!AA184=0,\"\",Resurssiluettelo!AA184)","v":""},{"$f":"IF(Resurssiluettelo!AB184=0,\"\",Resurssiluettelo!AB184)","v":""},{"$f":"IF(Resurssiluettelo!AC184=0,\"\",Resurssiluettelo!AC184)","v":""},{"$f":"IF(Resurssiluettelo!AD184=0,\"\",Resurssiluettelo!AD184)","v":""},{"$f":"IF(Resurssiluettelo!J184=0,\"\",Resurssiluettelo!J184)","v":""},{"$f":"IF(Resurssiluettelo!K184=0,\"\",Resurssiluettelo!K184)","v":""},{"$f":"IF(Resurssiluettelo!L184=0,\"\",Resurssiluettelo!L184)","v":""},{"$f":"IF(Resurssiluettelo!M184=0,\"\",Resurssiluettelo!M184)","v":""},{"$f":"IF(Resurssiluettelo!N184=0,\"\",Resurssiluettelo!N184)","v":""},{"$f":"IF(Resurssiluettelo!O184=0,\"\",Resurssiluettelo!O184)","v":""},{"$f":"IF(Resurssiluettelo!P184=0,\"\",Resurssiluettelo!P184)","v":""},{"$f":"IF(Resurssiluettelo!Q184=0,\"\",Resurssiluettelo!Q184)","v":""},{"$f":"IF(Resurssiluettelo!R184=0,\"\",Resurssiluettelo!R184)","v":""},{"$f":"IF(Resurssiluettelo!S184=0,\"\",Resurssiluettelo!S184)","v":""},{"$f":"IF(Resurssiluettelo!T184=0,\"\",Resurssiluettelo!T184)","v":""},{"$f":"IF(Resurssiluettelo!U184=0,\"\",Resurssiluettelo!U184)","v":""},{"$f":"IF(Resurssiluettelo!V184=0,\"\",Resurssiluettelo!V184)","v":""}]
[135,{"$f":"IF(Y138=\"\",\"\",Resurssiluettelo!$G$1)","v":""},{"$f":"IF(Y138=\"\",\"\",Resurssiluettelo!$H$14)","v":""},{"$f":"IF(Y138=\"\",\"\",Resurssiluettelo!$I$14)","v":""},{"$f":"IF(Y138=\"\",\"\",Resurssiluettelo!$J$14)","v":""},{"$f":"IF(Y138=\"\",\"\",Resurssiluettelo!$N$14)","v":""},{"$f":"IF(Y138=\"\",\"\",Resurssiluettelo!$O$14)","v":""},{"$f":"IF(Resurssiluettelo!B185=0,\"\",Resurssiluettelo!B185)","v":""},{"$f":"IF(Resurssiluettelo!C185=0,\"\",Resurssiluettelo!C185)","v":""},{"$f":"IF(Resurssiluettelo!D185=0,\"\",Resurssiluettelo!D185)","v":""},{"$f":"IF($J138=\"\",\"\",VLOOKUP($J138, Resurssiluettelo!$D$21:$X$40,Ohjeistus!K$98-1,FALSE))","v":""},{"$f":"IF($J138=\"\",\"\",VLOOKUP($J138, Resurssiluettelo!$D$21:$X$40,Ohjeistus!L$98-1,FALSE))","v":""},{"$f":"IF($J138=\"\",\"\",VLOOKUP($J138, Resurssiluettelo!$D$21:$X$40,Ohjeistus!M$98-1,FALSE))","v":""},{"$f":"IF($J138=\"\",\"\",VLOOKUP($J138, Resurssiluettelo!$D$21:$X$40,Ohjeistus!N$98-1,FALSE))","v":""},{"$f":"IF($J138=\"\",\"\",VLOOKUP($J138, Resurssiluettelo!$D$21:$X$40,Ohjeistus!O$98-1,FALSE))","v":""},{"$f":"IF($J138=\"\",\"\",VLOOKUP($J138, Resurssiluettelo!$D$21:$X$40,Ohjeistus!P$98-1,FALSE))","v":""},{"$f":"IF($J138=\"\",IF($I138=\"\",\"\",VLOOKUP($I138, Resurssiluettelo!$C$21:$X$40,Ohjeistus!Q$98,FALSE)),VLOOKUP($J138, Resurssiluettelo!$D$21:$X$40,Ohjeistus!Q$98-1,FALSE))","v":""},{"$f":"IF($J138=\"\",IF($I138=\"\",\"\",VLOOKUP($I138, Resurssiluettelo!$C$21:$X$40,Ohjeistus!R$98,FALSE)),VLOOKUP($J138, Resurssiluettelo!$D$21:$X$40,Ohjeistus!R$98-1,FALSE))","v":""},{"$f":"IF($J138=\"\",IF($I138=\"\",\"\",VLOOKUP($I138, Resurssiluettelo!$C$21:$X$40,Ohjeistus!S$98,FALSE)),VLOOKUP($J138, Resurssiluettelo!$D$21:$X$40,Ohjeistus!S$98-1,FALSE))","v":""},{"$f":"IF($J138=\"\",IF($I138=\"\",\"\",VLOOKUP($I138, Resurssiluettelo!$C$21:$X$40,Ohjeistus!T$98,FALSE)),VLOOKUP($J138, Resurssiluettelo!$D$21:$X$40,Ohjeistus!T$98-1,FALSE))","v":""},{"$f":"IF($J138=\"\",\"\",VLOOKUP($J138, Resurssiluettelo!$D$21:$X$40,Ohjeistus!U$98-1,FALSE))","v":""},{"$f":"IF($J138=\"\",\"\",VLOOKUP($J138, Resurssiluettelo!$D$21:$X$40,Ohjeistus!V$98-1,FALSE))","v":""},{"$f":"IF($J138=\"\",\"\",VLOOKUP($J138, Resurssiluettelo!$D$21:$X$40,Ohjeistus!W$98-1,FALSE))","v":""},{"$f":"IF($J138=\"\",\"\",VLOOKUP($J138, Resurssiluettelo!$D$21:$X$40,Ohjeistus!X$98-1,FALSE))","v":""},{"$f":"IF(Resurssiluettelo!E185=0,\"\",Resurssiluettelo!E185)","v":""},{"$f":"IF(Resurssiluettelo!F185=0,\"\",YEAR(Resurssiluettelo!F185)&IF(MONTH(Resurssiluettelo!F185)<10,\"0\",\"\")&MONTH(Resurssiluettelo!F185)&IF(DAY(Resurssiluettelo!F185)<10,\"0\",\"\")&DAY(Resurssiluettelo!F185))","v":""},{"$f":"IF(Resurssiluettelo!G185=0,\"\",Resurssiluettelo!G185)","v":""},{"$f":"IF(Resurssiluettelo!H185=0,\"\",Resurssiluettelo!H185)","v":""},{"$f":"IF(Resurssiluettelo!I185=0,\"\",Resurssiluettelo!I185)","v":""},{"$f":"IF(Resurssiluettelo!W185=0,\"\",Resurssiluettelo!W185)","v":""},{"$f":"IF(Resurssiluettelo!X185=0,\"\",Resurssiluettelo!X185)","v":""},{"$f":"IF(Resurssiluettelo!Y185=0,\"\",Resurssiluettelo!Y185)","v":""},{"$f":"IF(Resurssiluettelo!Z185=0,\"\",Resurssiluettelo!Z185)","v":""},{"$f":"IF(Resurssiluettelo!AA185=0,\"\",Resurssiluettelo!AA185)","v":""},{"$f":"IF(Resurssiluettelo!AB185=0,\"\",Resurssiluettelo!AB185)","v":""},{"$f":"IF(Resurssiluettelo!AC185=0,\"\",Resurssiluettelo!AC185)","v":""},{"$f":"IF(Resurssiluettelo!AD185=0,\"\",Resurssiluettelo!AD185)","v":""},{"$f":"IF(Resurssiluettelo!J185=0,\"\",Resurssiluettelo!J185)","v":""},{"$f":"IF(Resurssiluettelo!K185=0,\"\",Resurssiluettelo!K185)","v":""},{"$f":"IF(Resurssiluettelo!L185=0,\"\",Resurssiluettelo!L185)","v":""},{"$f":"IF(Resurssiluettelo!M185=0,\"\",Resurssiluettelo!M185)","v":""},{"$f":"IF(Resurssiluettelo!N185=0,\"\",Resurssiluettelo!N185)","v":""},{"$f":"IF(Resurssiluettelo!O185=0,\"\",Resurssiluettelo!O185)","v":""},{"$f":"IF(Resurssiluettelo!P185=0,\"\",Resurssiluettelo!P185)","v":""},{"$f":"IF(Resurssiluettelo!Q185=0,\"\",Resurssiluettelo!Q185)","v":""},{"$f":"IF(Resurssiluettelo!R185=0,\"\",Resurssiluettelo!R185)","v":""},{"$f":"IF(Resurssiluettelo!S185=0,\"\",Resurssiluettelo!S185)","v":""},{"$f":"IF(Resurssiluettelo!T185=0,\"\",Resurssiluettelo!T185)","v":""},{"$f":"IF(Resurssiluettelo!U185=0,\"\",Resurssiluettelo!U185)","v":""},{"$f":"IF(Resurssiluettelo!V185=0,\"\",Resurssiluettelo!V185)","v":""}]
[136,{"$f":"IF(Y139=\"\",\"\",Resurssiluettelo!$G$1)","v":""},{"$f":"IF(Y139=\"\",\"\",Resurssiluettelo!$H$14)","v":""},{"$f":"IF(Y139=\"\",\"\",Resurssiluettelo!$I$14)","v":""},{"$f":"IF(Y139=\"\",\"\",Resurssiluettelo!$J$14)","v":""},{"$f":"IF(Y139=\"\",\"\",Resurssiluettelo!$N$14)","v":""},{"$f":"IF(Y139=\"\",\"\",Resurssiluettelo!$O$14)","v":""},{"$f":"IF(Resurssiluettelo!B186=0,\"\",Resurssiluettelo!B186)","v":""},{"$f":"IF(Resurssiluettelo!C186=0,\"\",Resurssiluettelo!C186)","v":""},{"$f":"IF(Resurssiluettelo!D186=0,\"\",Resurssiluettelo!D186)","v":""},{"$f":"IF($J139=\"\",\"\",VLOOKUP($J139, Resurssiluettelo!$D$21:$X$40,Ohjeistus!K$98-1,FALSE))","v":""},{"$f":"IF($J139=\"\",\"\",VLOOKUP($J139, Resurssiluettelo!$D$21:$X$40,Ohjeistus!L$98-1,FALSE))","v":""},{"$f":"IF($J139=\"\",\"\",VLOOKUP($J139, Resurssiluettelo!$D$21:$X$40,Ohjeistus!M$98-1,FALSE))","v":""},{"$f":"IF($J139=\"\",\"\",VLOOKUP($J139, Resurssiluettelo!$D$21:$X$40,Ohjeistus!N$98-1,FALSE))","v":""},{"$f":"IF($J139=\"\",\"\",VLOOKUP($J139, Resurssiluettelo!$D$21:$X$40,Ohjeistus!O$98-1,FALSE))","v":""},{"$f":"IF($J139=\"\",\"\",VLOOKUP($J139, Resurssiluettelo!$D$21:$X$40,Ohjeistus!P$98-1,FALSE))","v":""},{"$f":"IF($J139=\"\",IF($I139=\"\",\"\",VLOOKUP($I139, Resurssiluettelo!$C$21:$X$40,Ohjeistus!Q$98,FALSE)),VLOOKUP($J139, Resurssiluettelo!$D$21:$X$40,Ohjeistus!Q$98-1,FALSE))","v":""},{"$f":"IF($J139=\"\",IF($I139=\"\",\"\",VLOOKUP($I139, Resurssiluettelo!$C$21:$X$40,Ohjeistus!R$98,FALSE)),VLOOKUP($J139, Resurssiluettelo!$D$21:$X$40,Ohjeistus!R$98-1,FALSE))","v":""},{"$f":"IF($J139=\"\",IF($I139=\"\",\"\",VLOOKUP($I139, Resurssiluettelo!$C$21:$X$40,Ohjeistus!S$98,FALSE)),VLOOKUP($J139, Resurssiluettelo!$D$21:$X$40,Ohjeistus!S$98-1,FALSE))","v":""},{"$f":"IF($J139=\"\",IF($I139=\"\",\"\",VLOOKUP($I139, Resurssiluettelo!$C$21:$X$40,Ohjeistus!T$98,FALSE)),VLOOKUP($J139, Resurssiluettelo!$D$21:$X$40,Ohjeistus!T$98-1,FALSE))","v":""},{"$f":"IF($J139=\"\",\"\",VLOOKUP($J139, Resurssiluettelo!$D$21:$X$40,Ohjeistus!U$98-1,FALSE))","v":""},{"$f":"IF($J139=\"\",\"\",VLOOKUP($J139, Resurssiluettelo!$D$21:$X$40,Ohjeistus!V$98-1,FALSE))","v":""},{"$f":"IF($J139=\"\",\"\",VLOOKUP($J139, Resurssiluettelo!$D$21:$X$40,Ohjeistus!W$98-1,FALSE))","v":""},{"$f":"IF($J139=\"\",\"\",VLOOKUP($J139, Resurssiluettelo!$D$21:$X$40,Ohjeistus!X$98-1,FALSE))","v":""},{"$f":"IF(Resurssiluettelo!E186=0,\"\",Resurssiluettelo!E186)","v":""},{"$f":"IF(Resurssiluettelo!F186=0,\"\",YEAR(Resurssiluettelo!F186)&IF(MONTH(Resurssiluettelo!F186)<10,\"0\",\"\")&MONTH(Resurssiluettelo!F186)&IF(DAY(Resurssiluettelo!F186)<10,\"0\",\"\")&DAY(Resurssiluettelo!F186))","v":""},{"$f":"IF(Resurssiluettelo!G186=0,\"\",Resurssiluettelo!G186)","v":""},{"$f":"IF(Resurssiluettelo!H186=0,\"\",Resurssiluettelo!H186)","v":""},{"$f":"IF(Resurssiluettelo!I186=0,\"\",Resurssiluettelo!I186)","v":""},{"$f":"IF(Resurssiluettelo!W186=0,\"\",Resurssiluettelo!W186)","v":""},{"$f":"IF(Resurssiluettelo!X186=0,\"\",Resurssiluettelo!X186)","v":""},{"$f":"IF(Resurssiluettelo!Y186=0,\"\",Resurssiluettelo!Y186)","v":""},{"$f":"IF(Resurssiluettelo!Z186=0,\"\",Resurssiluettelo!Z186)","v":""},{"$f":"IF(Resurssiluettelo!AA186=0,\"\",Resurssiluettelo!AA186)","v":""},{"$f":"IF(Resurssiluettelo!AB186=0,\"\",Resurssiluettelo!AB186)","v":""},{"$f":"IF(Resurssiluettelo!AC186=0,\"\",Resurssiluettelo!AC186)","v":""},{"$f":"IF(Resurssiluettelo!AD186=0,\"\",Resurssiluettelo!AD186)","v":""},{"$f":"IF(Resurssiluettelo!J186=0,\"\",Resurssiluettelo!J186)","v":""},{"$f":"IF(Resurssiluettelo!K186=0,\"\",Resurssiluettelo!K186)","v":""},{"$f":"IF(Resurssiluettelo!L186=0,\"\",Resurssiluettelo!L186)","v":""},{"$f":"IF(Resurssiluettelo!M186=0,\"\",Resurssiluettelo!M186)","v":""},{"$f":"IF(Resurssiluettelo!N186=0,\"\",Resurssiluettelo!N186)","v":""},{"$f":"IF(Resurssiluettelo!O186=0,\"\",Resurssiluettelo!O186)","v":""},{"$f":"IF(Resurssiluettelo!P186=0,\"\",Resurssiluettelo!P186)","v":""},{"$f":"IF(Resurssiluettelo!Q186=0,\"\",Resurssiluettelo!Q186)","v":""},{"$f":"IF(Resurssiluettelo!R186=0,\"\",Resurssiluettelo!R186)","v":""},{"$f":"IF(Resurssiluettelo!S186=0,\"\",Resurssiluettelo!S186)","v":""},{"$f":"IF(Resurssiluettelo!T186=0,\"\",Resurssiluettelo!T186)","v":""},{"$f":"IF(Resurssiluettelo!U186=0,\"\",Resurssiluettelo!U186)","v":""},{"$f":"IF(Resurssiluettelo!V186=0,\"\",Resurssiluettelo!V186)","v":""}]
[137,{"$f":"IF(Y140=\"\",\"\",Resurssiluettelo!$G$1)","v":""},{"$f":"IF(Y140=\"\",\"\",Resurssiluettelo!$H$14)","v":""},{"$f":"IF(Y140=\"\",\"\",Resurssiluettelo!$I$14)","v":""},{"$f":"IF(Y140=\"\",\"\",Resurssiluettelo!$J$14)","v":""},{"$f":"IF(Y140=\"\",\"\",Resurssiluettelo!$N$14)","v":""},{"$f":"IF(Y140=\"\",\"\",Resurssiluettelo!$O$14)","v":""},{"$f":"IF(Resurssiluettelo!B187=0,\"\",Resurssiluettelo!B187)","v":""},{"$f":"IF(Resurssiluettelo!C187=0,\"\",Resurssiluettelo!C187)","v":""},{"$f":"IF(Resurssiluettelo!D187=0,\"\",Resurssiluettelo!D187)","v":""},{"$f":"IF($J140=\"\",\"\",VLOOKUP($J140, Resurssiluettelo!$D$21:$X$40,Ohjeistus!K$98-1,FALSE))","v":""},{"$f":"IF($J140=\"\",\"\",VLOOKUP($J140, Resurssiluettelo!$D$21:$X$40,Ohjeistus!L$98-1,FALSE))","v":""},{"$f":"IF($J140=\"\",\"\",VLOOKUP($J140, Resurssiluettelo!$D$21:$X$40,Ohjeistus!M$98-1,FALSE))","v":""},{"$f":"IF($J140=\"\",\"\",VLOOKUP($J140, Resurssiluettelo!$D$21:$X$40,Ohjeistus!N$98-1,FALSE))","v":""},{"$f":"IF($J140=\"\",\"\",VLOOKUP($J140, Resurssiluettelo!$D$21:$X$40,Ohjeistus!O$98-1,FALSE))","v":""},{"$f":"IF($J140=\"\",\"\",VLOOKUP($J140, Resurssiluettelo!$D$21:$X$40,Ohjeistus!P$98-1,FALSE))","v":""},{"$f":"IF($J140=\"\",IF($I140=\"\",\"\",VLOOKUP($I140, Resurssiluettelo!$C$21:$X$40,Ohjeistus!Q$98,FALSE)),VLOOKUP($J140, Resurssiluettelo!$D$21:$X$40,Ohjeistus!Q$98-1,FALSE))","v":""},{"$f":"IF($J140=\"\",IF($I140=\"\",\"\",VLOOKUP($I140, Resurssiluettelo!$C$21:$X$40,Ohjeistus!R$98,FALSE)),VLOOKUP($J140, Resurssiluettelo!$D$21:$X$40,Ohjeistus!R$98-1,FALSE))","v":""},{"$f":"IF($J140=\"\",IF($I140=\"\",\"\",VLOOKUP($I140, Resurssiluettelo!$C$21:$X$40,Ohjeistus!S$98,FALSE)),VLOOKUP($J140, Resurssiluettelo!$D$21:$X$40,Ohjeistus!S$98-1,FALSE))","v":""},{"$f":"IF($J140=\"\",IF($I140=\"\",\"\",VLOOKUP($I140, Resurssiluettelo!$C$21:$X$40,Ohjeistus!T$98,FALSE)),VLOOKUP($J140, Resurssiluettelo!$D$21:$X$40,Ohjeistus!T$98-1,FALSE))","v":""},{"$f":"IF($J140=\"\",\"\",VLOOKUP($J140, Resurssiluettelo!$D$21:$X$40,Ohjeistus!U$98-1,FALSE))","v":""},{"$f":"IF($J140=\"\",\"\",VLOOKUP($J140, Resurssiluettelo!$D$21:$X$40,Ohjeistus!V$98-1,FALSE))","v":""},{"$f":"IF($J140=\"\",\"\",VLOOKUP($J140, Resurssiluettelo!$D$21:$X$40,Ohjeistus!W$98-1,FALSE))","v":""},{"$f":"IF($J140=\"\",\"\",VLOOKUP($J140, Resurssiluettelo!$D$21:$X$40,Ohjeistus!X$98-1,FALSE))","v":""},{"$f":"IF(Resurssiluettelo!E187=0,\"\",Resurssiluettelo!E187)","v":""},{"$f":"IF(Resurssiluettelo!F187=0,\"\",YEAR(Resurssiluettelo!F187)&IF(MONTH(Resurssiluettelo!F187)<10,\"0\",\"\")&MONTH(Resurssiluettelo!F187)&IF(DAY(Resurssiluettelo!F187)<10,\"0\",\"\")&DAY(Resurssiluettelo!F187))","v":""},{"$f":"IF(Resurssiluettelo!G187=0,\"\",Resurssiluettelo!G187)","v":""},{"$f":"IF(Resurssiluettelo!H187=0,\"\",Resurssiluettelo!H187)","v":""},{"$f":"IF(Resurssiluettelo!I187=0,\"\",Resurssiluettelo!I187)","v":""},{"$f":"IF(Resurssiluettelo!W187=0,\"\",Resurssiluettelo!W187)","v":""},{"$f":"IF(Resurssiluettelo!X187=0,\"\",Resurssiluettelo!X187)","v":""},{"$f":"IF(Resurssiluettelo!Y187=0,\"\",Resurssiluettelo!Y187)","v":""},{"$f":"IF(Resurssiluettelo!Z187=0,\"\",Resurssiluettelo!Z187)","v":""},{"$f":"IF(Resurssiluettelo!AA187=0,\"\",Resurssiluettelo!AA187)","v":""},{"$f":"IF(Resurssiluettelo!AB187=0,\"\",Resurssiluettelo!AB187)","v":""},{"$f":"IF(Resurssiluettelo!AC187=0,\"\",Resurssiluettelo!AC187)","v":""},{"$f":"IF(Resurssiluettelo!AD187=0,\"\",Resurssiluettelo!AD187)","v":""},{"$f":"IF(Resurssiluettelo!J187=0,\"\",Resurssiluettelo!J187)","v":""},{"$f":"IF(Resurssiluettelo!K187=0,\"\",Resurssiluettelo!K187)","v":""},{"$f":"IF(Resurssiluettelo!L187=0,\"\",Resurssiluettelo!L187)","v":""},{"$f":"IF(Resurssiluettelo!M187=0,\"\",Resurssiluettelo!M187)","v":""},{"$f":"IF(Resurssiluettelo!N187=0,\"\",Resurssiluettelo!N187)","v":""},{"$f":"IF(Resurssiluettelo!O187=0,\"\",Resurssiluettelo!O187)","v":""},{"$f":"IF(Resurssiluettelo!P187=0,\"\",Resurssiluettelo!P187)","v":""},{"$f":"IF(Resurssiluettelo!Q187=0,\"\",Resurssiluettelo!Q187)","v":""},{"$f":"IF(Resurssiluettelo!R187=0,\"\",Resurssiluettelo!R187)","v":""},{"$f":"IF(Resurssiluettelo!S187=0,\"\",Resurssiluettelo!S187)","v":""},{"$f":"IF(Resurssiluettelo!T187=0,\"\",Resurssiluettelo!T187)","v":""},{"$f":"IF(Resurssiluettelo!U187=0,\"\",Resurssiluettelo!U187)","v":""},{"$f":"IF(Resurssiluettelo!V187=0,\"\",Resurssiluettelo!V187)","v":""}]
[138,{"$f":"IF(Y141=\"\",\"\",Resurssiluettelo!$G$1)","v":""},{"$f":"IF(Y141=\"\",\"\",Resurssiluettelo!$H$14)","v":""},{"$f":"IF(Y141=\"\",\"\",Resurssiluettelo!$I$14)","v":""},{"$f":"IF(Y141=\"\",\"\",Resurssiluettelo!$J$14)","v":""},{"$f":"IF(Y141=\"\",\"\",Resurssiluettelo!$N$14)","v":""},{"$f":"IF(Y141=\"\",\"\",Resurssiluettelo!$O$14)","v":""},{"$f":"IF(Resurssiluettelo!B188=0,\"\",Resurssiluettelo!B188)","v":""},{"$f":"IF(Resurssiluettelo!C188=0,\"\",Resurssiluettelo!C188)","v":""},{"$f":"IF(Resurssiluettelo!D188=0,\"\",Resurssiluettelo!D188)","v":""},{"$f":"IF($J141=\"\",\"\",VLOOKUP($J141, Resurssiluettelo!$D$21:$X$40,Ohjeistus!K$98-1,FALSE))","v":""},{"$f":"IF($J141=\"\",\"\",VLOOKUP($J141, Resurssiluettelo!$D$21:$X$40,Ohjeistus!L$98-1,FALSE))","v":""},{"$f":"IF($J141=\"\",\"\",VLOOKUP($J141, Resurssiluettelo!$D$21:$X$40,Ohjeistus!M$98-1,FALSE))","v":""},{"$f":"IF($J141=\"\",\"\",VLOOKUP($J141, Resurssiluettelo!$D$21:$X$40,Ohjeistus!N$98-1,FALSE))","v":""},{"$f":"IF($J141=\"\",\"\",VLOOKUP($J141, Resurssiluettelo!$D$21:$X$40,Ohjeistus!O$98-1,FALSE))","v":""},{"$f":"IF($J141=\"\",\"\",VLOOKUP($J141, Resurssiluettelo!$D$21:$X$40,Ohjeistus!P$98-1,FALSE))","v":""},{"$f":"IF($J141=\"\",IF($I141=\"\",\"\",VLOOKUP($I141, Resurssiluettelo!$C$21:$X$40,Ohjeistus!Q$98,FALSE)),VLOOKUP($J141, Resurssiluettelo!$D$21:$X$40,Ohjeistus!Q$98-1,FALSE))","v":""},{"$f":"IF($J141=\"\",IF($I141=\"\",\"\",VLOOKUP($I141, Resurssiluettelo!$C$21:$X$40,Ohjeistus!R$98,FALSE)),VLOOKUP($J141, Resurssiluettelo!$D$21:$X$40,Ohjeistus!R$98-1,FALSE))","v":""},{"$f":"IF($J141=\"\",IF($I141=\"\",\"\",VLOOKUP($I141, Resurssiluettelo!$C$21:$X$40,Ohjeistus!S$98,FALSE)),VLOOKUP($J141, Resurssiluettelo!$D$21:$X$40,Ohjeistus!S$98-1,FALSE))","v":""},{"$f":"IF($J141=\"\",IF($I141=\"\",\"\",VLOOKUP($I141, Resurssiluettelo!$C$21:$X$40,Ohjeistus!T$98,FALSE)),VLOOKUP($J141, Resurssiluettelo!$D$21:$X$40,Ohjeistus!T$98-1,FALSE))","v":""},{"$f":"IF($J141=\"\",\"\",VLOOKUP($J141, Resurssiluettelo!$D$21:$X$40,Ohjeistus!U$98-1,FALSE))","v":""},{"$f":"IF($J141=\"\",\"\",VLOOKUP($J141, Resurssiluettelo!$D$21:$X$40,Ohjeistus!V$98-1,FALSE))","v":""},{"$f":"IF($J141=\"\",\"\",VLOOKUP($J141, Resurssiluettelo!$D$21:$X$40,Ohjeistus!W$98-1,FALSE))","v":""},{"$f":"IF($J141=\"\",\"\",VLOOKUP($J141, Resurssiluettelo!$D$21:$X$40,Ohjeistus!X$98-1,FALSE))","v":""},{"$f":"IF(Resurssiluettelo!E188=0,\"\",Resurssiluettelo!E188)","v":""},{"$f":"IF(Resurssiluettelo!F188=0,\"\",YEAR(Resurssiluettelo!F188)&IF(MONTH(Resurssiluettelo!F188)<10,\"0\",\"\")&MONTH(Resurssiluettelo!F188)&IF(DAY(Resurssiluettelo!F188)<10,\"0\",\"\")&DAY(Resurssiluettelo!F188))","v":""},{"$f":"IF(Resurssiluettelo!G188=0,\"\",Resurssiluettelo!G188)","v":""},{"$f":"IF(Resurssiluettelo!H188=0,\"\",Resurssiluettelo!H188)","v":""},{"$f":"IF(Resurssiluettelo!I188=0,\"\",Resurssiluettelo!I188)","v":""},{"$f":"IF(Resurssiluettelo!W188=0,\"\",Resurssiluettelo!W188)","v":""},{"$f":"IF(Resurssiluettelo!X188=0,\"\",Resurssiluettelo!X188)","v":""},{"$f":"IF(Resurssiluettelo!Y188=0,\"\",Resurssiluettelo!Y188)","v":""},{"$f":"IF(Resurssiluettelo!Z188=0,\"\",Resurssiluettelo!Z188)","v":""},{"$f":"IF(Resurssiluettelo!AA188=0,\"\",Resurssiluettelo!AA188)","v":""},{"$f":"IF(Resurssiluettelo!AB188=0,\"\",Resurssiluettelo!AB188)","v":""},{"$f":"IF(Resurssiluettelo!AC188=0,\"\",Resurssiluettelo!AC188)","v":""},{"$f":"IF(Resurssiluettelo!AD188=0,\"\",Resurssiluettelo!AD188)","v":""},{"$f":"IF(Resurssiluettelo!J188=0,\"\",Resurssiluettelo!J188)","v":""},{"$f":"IF(Resurssiluettelo!K188=0,\"\",Resurssiluettelo!K188)","v":""},{"$f":"IF(Resurssiluettelo!L188=0,\"\",Resurssiluettelo!L188)","v":""},{"$f":"IF(Resurssiluettelo!M188=0,\"\",Resurssiluettelo!M188)","v":""},{"$f":"IF(Resurssiluettelo!N188=0,\"\",Resurssiluettelo!N188)","v":""},{"$f":"IF(Resurssiluettelo!O188=0,\"\",Resurssiluettelo!O188)","v":""},{"$f":"IF(Resurssiluettelo!P188=0,\"\",Resurssiluettelo!P188)","v":""},{"$f":"IF(Resurssiluettelo!Q188=0,\"\",Resurssiluettelo!Q188)","v":""},{"$f":"IF(Resurssiluettelo!R188=0,\"\",Resurssiluettelo!R188)","v":""},{"$f":"IF(Resurssiluettelo!S188=0,\"\",Resurssiluettelo!S188)","v":""},{"$f":"IF(Resurssiluettelo!T188=0,\"\",Resurssiluettelo!T188)","v":""},{"$f":"IF(Resurssiluettelo!U188=0,\"\",Resurssiluettelo!U188)","v":""},{"$f":"IF(Resurssiluettelo!V188=0,\"\",Resurssiluettelo!V188)","v":""}]
[139,{"$f":"IF(Y142=\"\",\"\",Resurssiluettelo!$G$1)","v":""},{"$f":"IF(Y142=\"\",\"\",Resurssiluettelo!$H$14)","v":""},{"$f":"IF(Y142=\"\",\"\",Resurssiluettelo!$I$14)","v":""},{"$f":"IF(Y142=\"\",\"\",Resurssiluettelo!$J$14)","v":""},{"$f":"IF(Y142=\"\",\"\",Resurssiluettelo!$N$14)","v":""},{"$f":"IF(Y142=\"\",\"\",Resurssiluettelo!$O$14)","v":""},{"$f":"IF(Resurssiluettelo!B189=0,\"\",Resurssiluettelo!B189)","v":""},{"$f":"IF(Resurssiluettelo!C189=0,\"\",Resurssiluettelo!C189)","v":""},{"$f":"IF(Resurssiluettelo!D189=0,\"\",Resurssiluettelo!D189)","v":""},{"$f":"IF($J142=\"\",\"\",VLOOKUP($J142, Resurssiluettelo!$D$21:$X$40,Ohjeistus!K$98-1,FALSE))","v":""},{"$f":"IF($J142=\"\",\"\",VLOOKUP($J142, Resurssiluettelo!$D$21:$X$40,Ohjeistus!L$98-1,FALSE))","v":""},{"$f":"IF($J142=\"\",\"\",VLOOKUP($J142, Resurssiluettelo!$D$21:$X$40,Ohjeistus!M$98-1,FALSE))","v":""},{"$f":"IF($J142=\"\",\"\",VLOOKUP($J142, Resurssiluettelo!$D$21:$X$40,Ohjeistus!N$98-1,FALSE))","v":""},{"$f":"IF($J142=\"\",\"\",VLOOKUP($J142, Resurssiluettelo!$D$21:$X$40,Ohjeistus!O$98-1,FALSE))","v":""},{"$f":"IF($J142=\"\",\"\",VLOOKUP($J142, Resurssiluettelo!$D$21:$X$40,Ohjeistus!P$98-1,FALSE))","v":""},{"$f":"IF($J142=\"\",IF($I142=\"\",\"\",VLOOKUP($I142, Resurssiluettelo!$C$21:$X$40,Ohjeistus!Q$98,FALSE)),VLOOKUP($J142, Resurssiluettelo!$D$21:$X$40,Ohjeistus!Q$98-1,FALSE))","v":""},{"$f":"IF($J142=\"\",IF($I142=\"\",\"\",VLOOKUP($I142, Resurssiluettelo!$C$21:$X$40,Ohjeistus!R$98,FALSE)),VLOOKUP($J142, Resurssiluettelo!$D$21:$X$40,Ohjeistus!R$98-1,FALSE))","v":""},{"$f":"IF($J142=\"\",IF($I142=\"\",\"\",VLOOKUP($I142, Resurssiluettelo!$C$21:$X$40,Ohjeistus!S$98,FALSE)),VLOOKUP($J142, Resurssiluettelo!$D$21:$X$40,Ohjeistus!S$98-1,FALSE))","v":""},{"$f":"IF($J142=\"\",IF($I142=\"\",\"\",VLOOKUP($I142, Resurssiluettelo!$C$21:$X$40,Ohjeistus!T$98,FALSE)),VLOOKUP($J142, Resurssiluettelo!$D$21:$X$40,Ohjeistus!T$98-1,FALSE))","v":""},{"$f":"IF($J142=\"\",\"\",VLOOKUP($J142, Resurssiluettelo!$D$21:$X$40,Ohjeistus!U$98-1,FALSE))","v":""},{"$f":"IF($J142=\"\",\"\",VLOOKUP($J142, Resurssiluettelo!$D$21:$X$40,Ohjeistus!V$98-1,FALSE))","v":""},{"$f":"IF($J142=\"\",\"\",VLOOKUP($J142, Resurssiluettelo!$D$21:$X$40,Ohjeistus!W$98-1,FALSE))","v":""},{"$f":"IF($J142=\"\",\"\",VLOOKUP($J142, Resurssiluettelo!$D$21:$X$40,Ohjeistus!X$98-1,FALSE))","v":""},{"$f":"IF(Resurssiluettelo!E189=0,\"\",Resurssiluettelo!E189)","v":""},{"$f":"IF(Resurssiluettelo!F189=0,\"\",YEAR(Resurssiluettelo!F189)&IF(MONTH(Resurssiluettelo!F189)<10,\"0\",\"\")&MONTH(Resurssiluettelo!F189)&IF(DAY(Resurssiluettelo!F189)<10,\"0\",\"\")&DAY(Resurssiluettelo!F189))","v":""},{"$f":"IF(Resurssiluettelo!G189=0,\"\",Resurssiluettelo!G189)","v":""},{"$f":"IF(Resurssiluettelo!H189=0,\"\",Resurssiluettelo!H189)","v":""},{"$f":"IF(Resurssiluettelo!I189=0,\"\",Resurssiluettelo!I189)","v":""},{"$f":"IF(Resurssiluettelo!W189=0,\"\",Resurssiluettelo!W189)","v":""},{"$f":"IF(Resurssiluettelo!X189=0,\"\",Resurssiluettelo!X189)","v":""},{"$f":"IF(Resurssiluettelo!Y189=0,\"\",Resurssiluettelo!Y189)","v":""},{"$f":"IF(Resurssiluettelo!Z189=0,\"\",Resurssiluettelo!Z189)","v":""},{"$f":"IF(Resurssiluettelo!AA189=0,\"\",Resurssiluettelo!AA189)","v":""},{"$f":"IF(Resurssiluettelo!AB189=0,\"\",Resurssiluettelo!AB189)","v":""},{"$f":"IF(Resurssiluettelo!AC189=0,\"\",Resurssiluettelo!AC189)","v":""},{"$f":"IF(Resurssiluettelo!AD189=0,\"\",Resurssiluettelo!AD189)","v":""},{"$f":"IF(Resurssiluettelo!J189=0,\"\",Resurssiluettelo!J189)","v":""},{"$f":"IF(Resurssiluettelo!K189=0,\"\",Resurssiluettelo!K189)","v":""},{"$f":"IF(Resurssiluettelo!L189=0,\"\",Resurssiluettelo!L189)","v":""},{"$f":"IF(Resurssiluettelo!M189=0,\"\",Resurssiluettelo!M189)","v":""},{"$f":"IF(Resurssiluettelo!N189=0,\"\",Resurssiluettelo!N189)","v":""},{"$f":"IF(Resurssiluettelo!O189=0,\"\",Resurssiluettelo!O189)","v":""},{"$f":"IF(Resurssiluettelo!P189=0,\"\",Resurssiluettelo!P189)","v":""},{"$f":"IF(Resurssiluettelo!Q189=0,\"\",Resurssiluettelo!Q189)","v":""},{"$f":"IF(Resurssiluettelo!R189=0,\"\",Resurssiluettelo!R189)","v":""},{"$f":"IF(Resurssiluettelo!S189=0,\"\",Resurssiluettelo!S189)","v":""},{"$f":"IF(Resurssiluettelo!T189=0,\"\",Resurssiluettelo!T189)","v":""},{"$f":"IF(Resurssiluettelo!U189=0,\"\",Resurssiluettelo!U189)","v":""},{"$f":"IF(Resurssiluettelo!V189=0,\"\",Resurssiluettelo!V189)","v":""}]
[140,{"$f":"IF(Y143=\"\",\"\",Resurssiluettelo!$G$1)","v":""},{"$f":"IF(Y143=\"\",\"\",Resurssiluettelo!$H$14)","v":""},{"$f":"IF(Y143=\"\",\"\",Resurssiluettelo!$I$14)","v":""},{"$f":"IF(Y143=\"\",\"\",Resurssiluettelo!$J$14)","v":""},{"$f":"IF(Y143=\"\",\"\",Resurssiluettelo!$N$14)","v":""},{"$f":"IF(Y143=\"\",\"\",Resurssiluettelo!$O$14)","v":""},{"$f":"IF(Resurssiluettelo!B190=0,\"\",Resurssiluettelo!B190)","v":""},{"$f":"IF(Resurssiluettelo!C190=0,\"\",Resurssiluettelo!C190)","v":""},{"$f":"IF(Resurssiluettelo!D190=0,\"\",Resurssiluettelo!D190)","v":""},{"$f":"IF($J143=\"\",\"\",VLOOKUP($J143, Resurssiluettelo!$D$21:$X$40,Ohjeistus!K$98-1,FALSE))","v":""},{"$f":"IF($J143=\"\",\"\",VLOOKUP($J143, Resurssiluettelo!$D$21:$X$40,Ohjeistus!L$98-1,FALSE))","v":""},{"$f":"IF($J143=\"\",\"\",VLOOKUP($J143, Resurssiluettelo!$D$21:$X$40,Ohjeistus!M$98-1,FALSE))","v":""},{"$f":"IF($J143=\"\",\"\",VLOOKUP($J143, Resurssiluettelo!$D$21:$X$40,Ohjeistus!N$98-1,FALSE))","v":""},{"$f":"IF($J143=\"\",\"\",VLOOKUP($J143, Resurssiluettelo!$D$21:$X$40,Ohjeistus!O$98-1,FALSE))","v":""},{"$f":"IF($J143=\"\",\"\",VLOOKUP($J143, Resurssiluettelo!$D$21:$X$40,Ohjeistus!P$98-1,FALSE))","v":""},{"$f":"IF($J143=\"\",IF($I143=\"\",\"\",VLOOKUP($I143, Resurssiluettelo!$C$21:$X$40,Ohjeistus!Q$98,FALSE)),VLOOKUP($J143, Resurssiluettelo!$D$21:$X$40,Ohjeistus!Q$98-1,FALSE))","v":""},{"$f":"IF($J143=\"\",IF($I143=\"\",\"\",VLOOKUP($I143, Resurssiluettelo!$C$21:$X$40,Ohjeistus!R$98,FALSE)),VLOOKUP($J143, Resurssiluettelo!$D$21:$X$40,Ohjeistus!R$98-1,FALSE))","v":""},{"$f":"IF($J143=\"\",IF($I143=\"\",\"\",VLOOKUP($I143, Resurssiluettelo!$C$21:$X$40,Ohjeistus!S$98,FALSE)),VLOOKUP($J143, Resurssiluettelo!$D$21:$X$40,Ohjeistus!S$98-1,FALSE))","v":""},{"$f":"IF($J143=\"\",IF($I143=\"\",\"\",VLOOKUP($I143, Resurssiluettelo!$C$21:$X$40,Ohjeistus!T$98,FALSE)),VLOOKUP($J143, Resurssiluettelo!$D$21:$X$40,Ohjeistus!T$98-1,FALSE))","v":""},{"$f":"IF($J143=\"\",\"\",VLOOKUP($J143, Resurssiluettelo!$D$21:$X$40,Ohjeistus!U$98-1,FALSE))","v":""},{"$f":"IF($J143=\"\",\"\",VLOOKUP($J143, Resurssiluettelo!$D$21:$X$40,Ohjeistus!V$98-1,FALSE))","v":""},{"$f":"IF($J143=\"\",\"\",VLOOKUP($J143, Resurssiluettelo!$D$21:$X$40,Ohjeistus!W$98-1,FALSE))","v":""},{"$f":"IF($J143=\"\",\"\",VLOOKUP($J143, Resurssiluettelo!$D$21:$X$40,Ohjeistus!X$98-1,FALSE))","v":""},{"$f":"IF(Resurssiluettelo!E190=0,\"\",Resurssiluettelo!E190)","v":""},{"$f":"IF(Resurssiluettelo!F190=0,\"\",YEAR(Resurssiluettelo!F190)&IF(MONTH(Resurssiluettelo!F190)<10,\"0\",\"\")&MONTH(Resurssiluettelo!F190)&IF(DAY(Resurssiluettelo!F190)<10,\"0\",\"\")&DAY(Resurssiluettelo!F190))","v":""},{"$f":"IF(Resurssiluettelo!G190=0,\"\",Resurssiluettelo!G190)","v":""},{"$f":"IF(Resurssiluettelo!H190=0,\"\",Resurssiluettelo!H190)","v":""},{"$f":"IF(Resurssiluettelo!I190=0,\"\",Resurssiluettelo!I190)","v":""},{"$f":"IF(Resurssiluettelo!W190=0,\"\",Resurssiluettelo!W190)","v":""},{"$f":"IF(Resurssiluettelo!X190=0,\"\",Resurssiluettelo!X190)","v":""},{"$f":"IF(Resurssiluettelo!Y190=0,\"\",Resurssiluettelo!Y190)","v":""},{"$f":"IF(Resurssiluettelo!Z190=0,\"\",Resurssiluettelo!Z190)","v":""},{"$f":"IF(Resurssiluettelo!AA190=0,\"\",Resurssiluettelo!AA190)","v":""},{"$f":"IF(Resurssiluettelo!AB190=0,\"\",Resurssiluettelo!AB190)","v":""},{"$f":"IF(Resurssiluettelo!AC190=0,\"\",Resurssiluettelo!AC190)","v":""},{"$f":"IF(Resurssiluettelo!AD190=0,\"\",Resurssiluettelo!AD190)","v":""},{"$f":"IF(Resurssiluettelo!J190=0,\"\",Resurssiluettelo!J190)","v":""},{"$f":"IF(Resurssiluettelo!K190=0,\"\",Resurssiluettelo!K190)","v":""},{"$f":"IF(Resurssiluettelo!L190=0,\"\",Resurssiluettelo!L190)","v":""},{"$f":"IF(Resurssiluettelo!M190=0,\"\",Resurssiluettelo!M190)","v":""},{"$f":"IF(Resurssiluettelo!N190=0,\"\",Resurssiluettelo!N190)","v":""},{"$f":"IF(Resurssiluettelo!O190=0,\"\",Resurssiluettelo!O190)","v":""},{"$f":"IF(Resurssiluettelo!P190=0,\"\",Resurssiluettelo!P190)","v":""},{"$f":"IF(Resurssiluettelo!Q190=0,\"\",Resurssiluettelo!Q190)","v":""},{"$f":"IF(Resurssiluettelo!R190=0,\"\",Resurssiluettelo!R190)","v":""},{"$f":"IF(Resurssiluettelo!S190=0,\"\",Resurssiluettelo!S190)","v":""},{"$f":"IF(Resurssiluettelo!T190=0,\"\",Resurssiluettelo!T190)","v":""},{"$f":"IF(Resurssiluettelo!U190=0,\"\",Resurssiluettelo!U190)","v":""},{"$f":"IF(Resurssiluettelo!V190=0,\"\",Resurssiluettelo!V190)","v":""}]
[141,{"$f":"IF(Y144=\"\",\"\",Resurssiluettelo!$G$1)","v":""},{"$f":"IF(Y144=\"\",\"\",Resurssiluettelo!$H$14)","v":""},{"$f":"IF(Y144=\"\",\"\",Resurssiluettelo!$I$14)","v":""},{"$f":"IF(Y144=\"\",\"\",Resurssiluettelo!$J$14)","v":""},{"$f":"IF(Y144=\"\",\"\",Resurssiluettelo!$N$14)","v":""},{"$f":"IF(Y144=\"\",\"\",Resurssiluettelo!$O$14)","v":""},{"$f":"IF(Resurssiluettelo!B191=0,\"\",Resurssiluettelo!B191)","v":""},{"$f":"IF(Resurssiluettelo!C191=0,\"\",Resurssiluettelo!C191)","v":""},{"$f":"IF(Resurssiluettelo!D191=0,\"\",Resurssiluettelo!D191)","v":""},{"$f":"IF($J144=\"\",\"\",VLOOKUP($J144, Resurssiluettelo!$D$21:$X$40,Ohjeistus!K$98-1,FALSE))","v":""},{"$f":"IF($J144=\"\",\"\",VLOOKUP($J144, Resurssiluettelo!$D$21:$X$40,Ohjeistus!L$98-1,FALSE))","v":""},{"$f":"IF($J144=\"\",\"\",VLOOKUP($J144, Resurssiluettelo!$D$21:$X$40,Ohjeistus!M$98-1,FALSE))","v":""},{"$f":"IF($J144=\"\",\"\",VLOOKUP($J144, Resurssiluettelo!$D$21:$X$40,Ohjeistus!N$98-1,FALSE))","v":""},{"$f":"IF($J144=\"\",\"\",VLOOKUP($J144, Resurssiluettelo!$D$21:$X$40,Ohjeistus!O$98-1,FALSE))","v":""},{"$f":"IF($J144=\"\",\"\",VLOOKUP($J144, Resurssiluettelo!$D$21:$X$40,Ohjeistus!P$98-1,FALSE))","v":""},{"$f":"IF($J144=\"\",IF($I144=\"\",\"\",VLOOKUP($I144, Resurssiluettelo!$C$21:$X$40,Ohjeistus!Q$98,FALSE)),VLOOKUP($J144, Resurssiluettelo!$D$21:$X$40,Ohjeistus!Q$98-1,FALSE))","v":""},{"$f":"IF($J144=\"\",IF($I144=\"\",\"\",VLOOKUP($I144, Resurssiluettelo!$C$21:$X$40,Ohjeistus!R$98,FALSE)),VLOOKUP($J144, Resurssiluettelo!$D$21:$X$40,Ohjeistus!R$98-1,FALSE))","v":""},{"$f":"IF($J144=\"\",IF($I144=\"\",\"\",VLOOKUP($I144, Resurssiluettelo!$C$21:$X$40,Ohjeistus!S$98,FALSE)),VLOOKUP($J144, Resurssiluettelo!$D$21:$X$40,Ohjeistus!S$98-1,FALSE))","v":""},{"$f":"IF($J144=\"\",IF($I144=\"\",\"\",VLOOKUP($I144, Resurssiluettelo!$C$21:$X$40,Ohjeistus!T$98,FALSE)),VLOOKUP($J144, Resurssiluettelo!$D$21:$X$40,Ohjeistus!T$98-1,FALSE))","v":""},{"$f":"IF($J144=\"\",\"\",VLOOKUP($J144, Resurssiluettelo!$D$21:$X$40,Ohjeistus!U$98-1,FALSE))","v":""},{"$f":"IF($J144=\"\",\"\",VLOOKUP($J144, Resurssiluettelo!$D$21:$X$40,Ohjeistus!V$98-1,FALSE))","v":""},{"$f":"IF($J144=\"\",\"\",VLOOKUP($J144, Resurssiluettelo!$D$21:$X$40,Ohjeistus!W$98-1,FALSE))","v":""},{"$f":"IF($J144=\"\",\"\",VLOOKUP($J144, Resurssiluettelo!$D$21:$X$40,Ohjeistus!X$98-1,FALSE))","v":""},{"$f":"IF(Resurssiluettelo!E191=0,\"\",Resurssiluettelo!E191)","v":""},{"$f":"IF(Resurssiluettelo!F191=0,\"\",YEAR(Resurssiluettelo!F191)&IF(MONTH(Resurssiluettelo!F191)<10,\"0\",\"\")&MONTH(Resurssiluettelo!F191)&IF(DAY(Resurssiluettelo!F191)<10,\"0\",\"\")&DAY(Resurssiluettelo!F191))","v":""},{"$f":"IF(Resurssiluettelo!G191=0,\"\",Resurssiluettelo!G191)","v":""},{"$f":"IF(Resurssiluettelo!H191=0,\"\",Resurssiluettelo!H191)","v":""},{"$f":"IF(Resurssiluettelo!I191=0,\"\",Resurssiluettelo!I191)","v":""},{"$f":"IF(Resurssiluettelo!W191=0,\"\",Resurssiluettelo!W191)","v":""},{"$f":"IF(Resurssiluettelo!X191=0,\"\",Resurssiluettelo!X191)","v":""},{"$f":"IF(Resurssiluettelo!Y191=0,\"\",Resurssiluettelo!Y191)","v":""},{"$f":"IF(Resurssiluettelo!Z191=0,\"\",Resurssiluettelo!Z191)","v":""},{"$f":"IF(Resurssiluettelo!AA191=0,\"\",Resurssiluettelo!AA191)","v":""},{"$f":"IF(Resurssiluettelo!AB191=0,\"\",Resurssiluettelo!AB191)","v":""},{"$f":"IF(Resurssiluettelo!AC191=0,\"\",Resurssiluettelo!AC191)","v":""},{"$f":"IF(Resurssiluettelo!AD191=0,\"\",Resurssiluettelo!AD191)","v":""},{"$f":"IF(Resurssiluettelo!J191=0,\"\",Resurssiluettelo!J191)","v":""},{"$f":"IF(Resurssiluettelo!K191=0,\"\",Resurssiluettelo!K191)","v":""},{"$f":"IF(Resurssiluettelo!L191=0,\"\",Resurssiluettelo!L191)","v":""},{"$f":"IF(Resurssiluettelo!M191=0,\"\",Resurssiluettelo!M191)","v":""},{"$f":"IF(Resurssiluettelo!N191=0,\"\",Resurssiluettelo!N191)","v":""},{"$f":"IF(Resurssiluettelo!O191=0,\"\",Resurssiluettelo!O191)","v":""},{"$f":"IF(Resurssiluettelo!P191=0,\"\",Resurssiluettelo!P191)","v":""},{"$f":"IF(Resurssiluettelo!Q191=0,\"\",Resurssiluettelo!Q191)","v":""},{"$f":"IF(Resurssiluettelo!R191=0,\"\",Resurssiluettelo!R191)","v":""},{"$f":"IF(Resurssiluettelo!S191=0,\"\",Resurssiluettelo!S191)","v":""},{"$f":"IF(Resurssiluettelo!T191=0,\"\",Resurssiluettelo!T191)","v":""},{"$f":"IF(Resurssiluettelo!U191=0,\"\",Resurssiluettelo!U191)","v":""},{"$f":"IF(Resurssiluettelo!V191=0,\"\",Resurssiluettelo!V191)","v":""}]
[142,{"$f":"IF(Y145=\"\",\"\",Resurssiluettelo!$G$1)","v":""},{"$f":"IF(Y145=\"\",\"\",Resurssiluettelo!$H$14)","v":""},{"$f":"IF(Y145=\"\",\"\",Resurssiluettelo!$I$14)","v":""},{"$f":"IF(Y145=\"\",\"\",Resurssiluettelo!$J$14)","v":""},{"$f":"IF(Y145=\"\",\"\",Resurssiluettelo!$N$14)","v":""},{"$f":"IF(Y145=\"\",\"\",Resurssiluettelo!$O$14)","v":""},{"$f":"IF(Resurssiluettelo!B192=0,\"\",Resurssiluettelo!B192)","v":""},{"$f":"IF(Resurssiluettelo!C192=0,\"\",Resurssiluettelo!C192)","v":""},{"$f":"IF(Resurssiluettelo!D192=0,\"\",Resurssiluettelo!D192)","v":""},{"$f":"IF($J145=\"\",\"\",VLOOKUP($J145, Resurssiluettelo!$D$21:$X$40,Ohjeistus!K$98-1,FALSE))","v":""},{"$f":"IF($J145=\"\",\"\",VLOOKUP($J145, Resurssiluettelo!$D$21:$X$40,Ohjeistus!L$98-1,FALSE))","v":""},{"$f":"IF($J145=\"\",\"\",VLOOKUP($J145, Resurssiluettelo!$D$21:$X$40,Ohjeistus!M$98-1,FALSE))","v":""},{"$f":"IF($J145=\"\",\"\",VLOOKUP($J145, Resurssiluettelo!$D$21:$X$40,Ohjeistus!N$98-1,FALSE))","v":""},{"$f":"IF($J145=\"\",\"\",VLOOKUP($J145, Resurssiluettelo!$D$21:$X$40,Ohjeistus!O$98-1,FALSE))","v":""},{"$f":"IF($J145=\"\",\"\",VLOOKUP($J145, Resurssiluettelo!$D$21:$X$40,Ohjeistus!P$98-1,FALSE))","v":""},{"$f":"IF($J145=\"\",IF($I145=\"\",\"\",VLOOKUP($I145, Resurssiluettelo!$C$21:$X$40,Ohjeistus!Q$98,FALSE)),VLOOKUP($J145, Resurssiluettelo!$D$21:$X$40,Ohjeistus!Q$98-1,FALSE))","v":""},{"$f":"IF($J145=\"\",IF($I145=\"\",\"\",VLOOKUP($I145, Resurssiluettelo!$C$21:$X$40,Ohjeistus!R$98,FALSE)),VLOOKUP($J145, Resurssiluettelo!$D$21:$X$40,Ohjeistus!R$98-1,FALSE))","v":""},{"$f":"IF($J145=\"\",IF($I145=\"\",\"\",VLOOKUP($I145, Resurssiluettelo!$C$21:$X$40,Ohjeistus!S$98,FALSE)),VLOOKUP($J145, Resurssiluettelo!$D$21:$X$40,Ohjeistus!S$98-1,FALSE))","v":""},{"$f":"IF($J145=\"\",IF($I145=\"\",\"\",VLOOKUP($I145, Resurssiluettelo!$C$21:$X$40,Ohjeistus!T$98,FALSE)),VLOOKUP($J145, Resurssiluettelo!$D$21:$X$40,Ohjeistus!T$98-1,FALSE))","v":""},{"$f":"IF($J145=\"\",\"\",VLOOKUP($J145, Resurssiluettelo!$D$21:$X$40,Ohjeistus!U$98-1,FALSE))","v":""},{"$f":"IF($J145=\"\",\"\",VLOOKUP($J145, Resurssiluettelo!$D$21:$X$40,Ohjeistus!V$98-1,FALSE))","v":""},{"$f":"IF($J145=\"\",\"\",VLOOKUP($J145, Resurssiluettelo!$D$21:$X$40,Ohjeistus!W$98-1,FALSE))","v":""},{"$f":"IF($J145=\"\",\"\",VLOOKUP($J145, Resurssiluettelo!$D$21:$X$40,Ohjeistus!X$98-1,FALSE))","v":""},{"$f":"IF(Resurssiluettelo!E192=0,\"\",Resurssiluettelo!E192)","v":""},{"$f":"IF(Resurssiluettelo!F192=0,\"\",YEAR(Resurssiluettelo!F192)&IF(MONTH(Resurssiluettelo!F192)<10,\"0\",\"\")&MONTH(Resurssiluettelo!F192)&IF(DAY(Resurssiluettelo!F192)<10,\"0\",\"\")&DAY(Resurssiluettelo!F192))","v":""},{"$f":"IF(Resurssiluettelo!G192=0,\"\",Resurssiluettelo!G192)","v":""},{"$f":"IF(Resurssiluettelo!H192=0,\"\",Resurssiluettelo!H192)","v":""},{"$f":"IF(Resurssiluettelo!I192=0,\"\",Resurssiluettelo!I192)","v":""},{"$f":"IF(Resurssiluettelo!W192=0,\"\",Resurssiluettelo!W192)","v":""},{"$f":"IF(Resurssiluettelo!X192=0,\"\",Resurssiluettelo!X192)","v":""},{"$f":"IF(Resurssiluettelo!Y192=0,\"\",Resurssiluettelo!Y192)","v":""},{"$f":"IF(Resurssiluettelo!Z192=0,\"\",Resurssiluettelo!Z192)","v":""},{"$f":"IF(Resurssiluettelo!AA192=0,\"\",Resurssiluettelo!AA192)","v":""},{"$f":"IF(Resurssiluettelo!AB192=0,\"\",Resurssiluettelo!AB192)","v":""},{"$f":"IF(Resurssiluettelo!AC192=0,\"\",Resurssiluettelo!AC192)","v":""},{"$f":"IF(Resurssiluettelo!AD192=0,\"\",Resurssiluettelo!AD192)","v":""},{"$f":"IF(Resurssiluettelo!J192=0,\"\",Resurssiluettelo!J192)","v":""},{"$f":"IF(Resurssiluettelo!K192=0,\"\",Resurssiluettelo!K192)","v":""},{"$f":"IF(Resurssiluettelo!L192=0,\"\",Resurssiluettelo!L192)","v":""},{"$f":"IF(Resurssiluettelo!M192=0,\"\",Resurssiluettelo!M192)","v":""},{"$f":"IF(Resurssiluettelo!N192=0,\"\",Resurssiluettelo!N192)","v":""},{"$f":"IF(Resurssiluettelo!O192=0,\"\",Resurssiluettelo!O192)","v":""},{"$f":"IF(Resurssiluettelo!P192=0,\"\",Resurssiluettelo!P192)","v":""},{"$f":"IF(Resurssiluettelo!Q192=0,\"\",Resurssiluettelo!Q192)","v":""},{"$f":"IF(Resurssiluettelo!R192=0,\"\",Resurssiluettelo!R192)","v":""},{"$f":"IF(Resurssiluettelo!S192=0,\"\",Resurssiluettelo!S192)","v":""},{"$f":"IF(Resurssiluettelo!T192=0,\"\",Resurssiluettelo!T192)","v":""},{"$f":"IF(Resurssiluettelo!U192=0,\"\",Resurssiluettelo!U192)","v":""},{"$f":"IF(Resurssiluettelo!V192=0,\"\",Resurssiluettelo!V192)","v":""}]
[143,{"$f":"IF(Y146=\"\",\"\",Resurssiluettelo!$G$1)","v":""},{"$f":"IF(Y146=\"\",\"\",Resurssiluettelo!$H$14)","v":""},{"$f":"IF(Y146=\"\",\"\",Resurssiluettelo!$I$14)","v":""},{"$f":"IF(Y146=\"\",\"\",Resurssiluettelo!$J$14)","v":""},{"$f":"IF(Y146=\"\",\"\",Resurssiluettelo!$N$14)","v":""},{"$f":"IF(Y146=\"\",\"\",Resurssiluettelo!$O$14)","v":""},{"$f":"IF(Resurssiluettelo!B193=0,\"\",Resurssiluettelo!B193)","v":""},{"$f":"IF(Resurssiluettelo!C193=0,\"\",Resurssiluettelo!C193)","v":""},{"$f":"IF(Resurssiluettelo!D193=0,\"\",Resurssiluettelo!D193)","v":""},{"$f":"IF($J146=\"\",\"\",VLOOKUP($J146, Resurssiluettelo!$D$21:$X$40,Ohjeistus!K$98-1,FALSE))","v":""},{"$f":"IF($J146=\"\",\"\",VLOOKUP($J146, Resurssiluettelo!$D$21:$X$40,Ohjeistus!L$98-1,FALSE))","v":""},{"$f":"IF($J146=\"\",\"\",VLOOKUP($J146, Resurssiluettelo!$D$21:$X$40,Ohjeistus!M$98-1,FALSE))","v":""},{"$f":"IF($J146=\"\",\"\",VLOOKUP($J146, Resurssiluettelo!$D$21:$X$40,Ohjeistus!N$98-1,FALSE))","v":""},{"$f":"IF($J146=\"\",\"\",VLOOKUP($J146, Resurssiluettelo!$D$21:$X$40,Ohjeistus!O$98-1,FALSE))","v":""},{"$f":"IF($J146=\"\",\"\",VLOOKUP($J146, Resurssiluettelo!$D$21:$X$40,Ohjeistus!P$98-1,FALSE))","v":""},{"$f":"IF($J146=\"\",IF($I146=\"\",\"\",VLOOKUP($I146, Resurssiluettelo!$C$21:$X$40,Ohjeistus!Q$98,FALSE)),VLOOKUP($J146, Resurssiluettelo!$D$21:$X$40,Ohjeistus!Q$98-1,FALSE))","v":""},{"$f":"IF($J146=\"\",IF($I146=\"\",\"\",VLOOKUP($I146, Resurssiluettelo!$C$21:$X$40,Ohjeistus!R$98,FALSE)),VLOOKUP($J146, Resurssiluettelo!$D$21:$X$40,Ohjeistus!R$98-1,FALSE))","v":""},{"$f":"IF($J146=\"\",IF($I146=\"\",\"\",VLOOKUP($I146, Resurssiluettelo!$C$21:$X$40,Ohjeistus!S$98,FALSE)),VLOOKUP($J146, Resurssiluettelo!$D$21:$X$40,Ohjeistus!S$98-1,FALSE))","v":""},{"$f":"IF($J146=\"\",IF($I146=\"\",\"\",VLOOKUP($I146, Resurssiluettelo!$C$21:$X$40,Ohjeistus!T$98,FALSE)),VLOOKUP($J146, Resurssiluettelo!$D$21:$X$40,Ohjeistus!T$98-1,FALSE))","v":""},{"$f":"IF($J146=\"\",\"\",VLOOKUP($J146, Resurssiluettelo!$D$21:$X$40,Ohjeistus!U$98-1,FALSE))","v":""},{"$f":"IF($J146=\"\",\"\",VLOOKUP($J146, Resurssiluettelo!$D$21:$X$40,Ohjeistus!V$98-1,FALSE))","v":""},{"$f":"IF($J146=\"\",\"\",VLOOKUP($J146, Resurssiluettelo!$D$21:$X$40,Ohjeistus!W$98-1,FALSE))","v":""},{"$f":"IF($J146=\"\",\"\",VLOOKUP($J146, Resurssiluettelo!$D$21:$X$40,Ohjeistus!X$98-1,FALSE))","v":""},{"$f":"IF(Resurssiluettelo!E193=0,\"\",Resurssiluettelo!E193)","v":""},{"$f":"IF(Resurssiluettelo!F193=0,\"\",YEAR(Resurssiluettelo!F193)&IF(MONTH(Resurssiluettelo!F193)<10,\"0\",\"\")&MONTH(Resurssiluettelo!F193)&IF(DAY(Resurssiluettelo!F193)<10,\"0\",\"\")&DAY(Resurssiluettelo!F193))","v":""},{"$f":"IF(Resurssiluettelo!G193=0,\"\",Resurssiluettelo!G193)","v":""},{"$f":"IF(Resurssiluettelo!H193=0,\"\",Resurssiluettelo!H193)","v":""},{"$f":"IF(Resurssiluettelo!I193=0,\"\",Resurssiluettelo!I193)","v":""},{"$f":"IF(Resurssiluettelo!W193=0,\"\",Resurssiluettelo!W193)","v":""},{"$f":"IF(Resurssiluettelo!X193=0,\"\",Resurssiluettelo!X193)","v":""},{"$f":"IF(Resurssiluettelo!Y193=0,\"\",Resurssiluettelo!Y193)","v":""},{"$f":"IF(Resurssiluettelo!Z193=0,\"\",Resurssiluettelo!Z193)","v":""},{"$f":"IF(Resurssiluettelo!AA193=0,\"\",Resurssiluettelo!AA193)","v":""},{"$f":"IF(Resurssiluettelo!AB193=0,\"\",Resurssiluettelo!AB193)","v":""},{"$f":"IF(Resurssiluettelo!AC193=0,\"\",Resurssiluettelo!AC193)","v":""},{"$f":"IF(Resurssiluettelo!AD193=0,\"\",Resurssiluettelo!AD193)","v":""},{"$f":"IF(Resurssiluettelo!J193=0,\"\",Resurssiluettelo!J193)","v":""},{"$f":"IF(Resurssiluettelo!K193=0,\"\",Resurssiluettelo!K193)","v":""},{"$f":"IF(Resurssiluettelo!L193=0,\"\",Resurssiluettelo!L193)","v":""},{"$f":"IF(Resurssiluettelo!M193=0,\"\",Resurssiluettelo!M193)","v":""},{"$f":"IF(Resurssiluettelo!N193=0,\"\",Resurssiluettelo!N193)","v":""},{"$f":"IF(Resurssiluettelo!O193=0,\"\",Resurssiluettelo!O193)","v":""},{"$f":"IF(Resurssiluettelo!P193=0,\"\",Resurssiluettelo!P193)","v":""},{"$f":"IF(Resurssiluettelo!Q193=0,\"\",Resurssiluettelo!Q193)","v":""},{"$f":"IF(Resurssiluettelo!R193=0,\"\",Resurssiluettelo!R193)","v":""},{"$f":"IF(Resurssiluettelo!S193=0,\"\",Resurssiluettelo!S193)","v":""},{"$f":"IF(Resurssiluettelo!T193=0,\"\",Resurssiluettelo!T193)","v":""},{"$f":"IF(Resurssiluettelo!U193=0,\"\",Resurssiluettelo!U193)","v":""},{"$f":"IF(Resurssiluettelo!V193=0,\"\",Resurssiluettelo!V193)","v":""}]
[144,{"$f":"IF(Y147=\"\",\"\",Resurssiluettelo!$G$1)","v":""},{"$f":"IF(Y147=\"\",\"\",Resurssiluettelo!$H$14)","v":""},{"$f":"IF(Y147=\"\",\"\",Resurssiluettelo!$I$14)","v":""},{"$f":"IF(Y147=\"\",\"\",Resurssiluettelo!$J$14)","v":""},{"$f":"IF(Y147=\"\",\"\",Resurssiluettelo!$N$14)","v":""},{"$f":"IF(Y147=\"\",\"\",Resurssiluettelo!$O$14)","v":""},{"$f":"IF(Resurssiluettelo!B194=0,\"\",Resurssiluettelo!B194)","v":""},{"$f":"IF(Resurssiluettelo!C194=0,\"\",Resurssiluettelo!C194)","v":""},{"$f":"IF(Resurssiluettelo!D194=0,\"\",Resurssiluettelo!D194)","v":""},{"$f":"IF($J147=\"\",\"\",VLOOKUP($J147, Resurssiluettelo!$D$21:$X$40,Ohjeistus!K$98-1,FALSE))","v":""},{"$f":"IF($J147=\"\",\"\",VLOOKUP($J147, Resurssiluettelo!$D$21:$X$40,Ohjeistus!L$98-1,FALSE))","v":""},{"$f":"IF($J147=\"\",\"\",VLOOKUP($J147, Resurssiluettelo!$D$21:$X$40,Ohjeistus!M$98-1,FALSE))","v":""},{"$f":"IF($J147=\"\",\"\",VLOOKUP($J147, Resurssiluettelo!$D$21:$X$40,Ohjeistus!N$98-1,FALSE))","v":""},{"$f":"IF($J147=\"\",\"\",VLOOKUP($J147, Resurssiluettelo!$D$21:$X$40,Ohjeistus!O$98-1,FALSE))","v":""},{"$f":"IF($J147=\"\",\"\",VLOOKUP($J147, Resurssiluettelo!$D$21:$X$40,Ohjeistus!P$98-1,FALSE))","v":""},{"$f":"IF($J147=\"\",IF($I147=\"\",\"\",VLOOKUP($I147, Resurssiluettelo!$C$21:$X$40,Ohjeistus!Q$98,FALSE)),VLOOKUP($J147, Resurssiluettelo!$D$21:$X$40,Ohjeistus!Q$98-1,FALSE))","v":""},{"$f":"IF($J147=\"\",IF($I147=\"\",\"\",VLOOKUP($I147, Resurssiluettelo!$C$21:$X$40,Ohjeistus!R$98,FALSE)),VLOOKUP($J147, Resurssiluettelo!$D$21:$X$40,Ohjeistus!R$98-1,FALSE))","v":""},{"$f":"IF($J147=\"\",IF($I147=\"\",\"\",VLOOKUP($I147, Resurssiluettelo!$C$21:$X$40,Ohjeistus!S$98,FALSE)),VLOOKUP($J147, Resurssiluettelo!$D$21:$X$40,Ohjeistus!S$98-1,FALSE))","v":""},{"$f":"IF($J147=\"\",IF($I147=\"\",\"\",VLOOKUP($I147, Resurssiluettelo!$C$21:$X$40,Ohjeistus!T$98,FALSE)),VLOOKUP($J147, Resurssiluettelo!$D$21:$X$40,Ohjeistus!T$98-1,FALSE))","v":""},{"$f":"IF($J147=\"\",\"\",VLOOKUP($J147, Resurssiluettelo!$D$21:$X$40,Ohjeistus!U$98-1,FALSE))","v":""},{"$f":"IF($J147=\"\",\"\",VLOOKUP($J147, Resurssiluettelo!$D$21:$X$40,Ohjeistus!V$98-1,FALSE))","v":""},{"$f":"IF($J147=\"\",\"\",VLOOKUP($J147, Resurssiluettelo!$D$21:$X$40,Ohjeistus!W$98-1,FALSE))","v":""},{"$f":"IF($J147=\"\",\"\",VLOOKUP($J147, Resurssiluettelo!$D$21:$X$40,Ohjeistus!X$98-1,FALSE))","v":""},{"$f":"IF(Resurssiluettelo!E194=0,\"\",Resurssiluettelo!E194)","v":""},{"$f":"IF(Resurssiluettelo!F194=0,\"\",YEAR(Resurssiluettelo!F194)&IF(MONTH(Resurssiluettelo!F194)<10,\"0\",\"\")&MONTH(Resurssiluettelo!F194)&IF(DAY(Resurssiluettelo!F194)<10,\"0\",\"\")&DAY(Resurssiluettelo!F194))","v":""},{"$f":"IF(Resurssiluettelo!G194=0,\"\",Resurssiluettelo!G194)","v":""},{"$f":"IF(Resurssiluettelo!H194=0,\"\",Resurssiluettelo!H194)","v":""},{"$f":"IF(Resurssiluettelo!I194=0,\"\",Resurssiluettelo!I194)","v":""},{"$f":"IF(Resurssiluettelo!W194=0,\"\",Resurssiluettelo!W194)","v":""},{"$f":"IF(Resurssiluettelo!X194=0,\"\",Resurssiluettelo!X194)","v":""},{"$f":"IF(Resurssiluettelo!Y194=0,\"\",Resurssiluettelo!Y194)","v":""},{"$f":"IF(Resurssiluettelo!Z194=0,\"\",Resurssiluettelo!Z194)","v":""},{"$f":"IF(Resurssiluettelo!AA194=0,\"\",Resurssiluettelo!AA194)","v":""},{"$f":"IF(Resurssiluettelo!AB194=0,\"\",Resurssiluettelo!AB194)","v":""},{"$f":"IF(Resurssiluettelo!AC194=0,\"\",Resurssiluettelo!AC194)","v":""},{"$f":"IF(Resurssiluettelo!AD194=0,\"\",Resurssiluettelo!AD194)","v":""},{"$f":"IF(Resurssiluettelo!J194=0,\"\",Resurssiluettelo!J194)","v":""},{"$f":"IF(Resurssiluettelo!K194=0,\"\",Resurssiluettelo!K194)","v":""},{"$f":"IF(Resurssiluettelo!L194=0,\"\",Resurssiluettelo!L194)","v":""},{"$f":"IF(Resurssiluettelo!M194=0,\"\",Resurssiluettelo!M194)","v":""},{"$f":"IF(Resurssiluettelo!N194=0,\"\",Resurssiluettelo!N194)","v":""},{"$f":"IF(Resurssiluettelo!O194=0,\"\",Resurssiluettelo!O194)","v":""},{"$f":"IF(Resurssiluettelo!P194=0,\"\",Resurssiluettelo!P194)","v":""},{"$f":"IF(Resurssiluettelo!Q194=0,\"\",Resurssiluettelo!Q194)","v":""},{"$f":"IF(Resurssiluettelo!R194=0,\"\",Resurssiluettelo!R194)","v":""},{"$f":"IF(Resurssiluettelo!S194=0,\"\",Resurssiluettelo!S194)","v":""},{"$f":"IF(Resurssiluettelo!T194=0,\"\",Resurssiluettelo!T194)","v":""},{"$f":"IF(Resurssiluettelo!U194=0,\"\",Resurssiluettelo!U194)","v":""},{"$f":"IF(Resurssiluettelo!V194=0,\"\",Resurssiluettelo!V194)","v":""}]
[145,{"$f":"IF(Y148=\"\",\"\",Resurssiluettelo!$G$1)","v":""},{"$f":"IF(Y148=\"\",\"\",Resurssiluettelo!$H$14)","v":""},{"$f":"IF(Y148=\"\",\"\",Resurssiluettelo!$I$14)","v":""},{"$f":"IF(Y148=\"\",\"\",Resurssiluettelo!$J$14)","v":""},{"$f":"IF(Y148=\"\",\"\",Resurssiluettelo!$N$14)","v":""},{"$f":"IF(Y148=\"\",\"\",Resurssiluettelo!$O$14)","v":""},{"$f":"IF(Resurssiluettelo!B195=0,\"\",Resurssiluettelo!B195)","v":""},{"$f":"IF(Resurssiluettelo!C195=0,\"\",Resurssiluettelo!C195)","v":""},{"$f":"IF(Resurssiluettelo!D195=0,\"\",Resurssiluettelo!D195)","v":""},{"$f":"IF($J148=\"\",\"\",VLOOKUP($J148, Resurssiluettelo!$D$21:$X$40,Ohjeistus!K$98-1,FALSE))","v":""},{"$f":"IF($J148=\"\",\"\",VLOOKUP($J148, Resurssiluettelo!$D$21:$X$40,Ohjeistus!L$98-1,FALSE))","v":""},{"$f":"IF($J148=\"\",\"\",VLOOKUP($J148, Resurssiluettelo!$D$21:$X$40,Ohjeistus!M$98-1,FALSE))","v":""},{"$f":"IF($J148=\"\",\"\",VLOOKUP($J148, Resurssiluettelo!$D$21:$X$40,Ohjeistus!N$98-1,FALSE))","v":""},{"$f":"IF($J148=\"\",\"\",VLOOKUP($J148, Resurssiluettelo!$D$21:$X$40,Ohjeistus!O$98-1,FALSE))","v":""},{"$f":"IF($J148=\"\",\"\",VLOOKUP($J148, Resurssiluettelo!$D$21:$X$40,Ohjeistus!P$98-1,FALSE))","v":""},{"$f":"IF($J148=\"\",IF($I148=\"\",\"\",VLOOKUP($I148, Resurssiluettelo!$C$21:$X$40,Ohjeistus!Q$98,FALSE)),VLOOKUP($J148, Resurssiluettelo!$D$21:$X$40,Ohjeistus!Q$98-1,FALSE))","v":""},{"$f":"IF($J148=\"\",IF($I148=\"\",\"\",VLOOKUP($I148, Resurssiluettelo!$C$21:$X$40,Ohjeistus!R$98,FALSE)),VLOOKUP($J148, Resurssiluettelo!$D$21:$X$40,Ohjeistus!R$98-1,FALSE))","v":""},{"$f":"IF($J148=\"\",IF($I148=\"\",\"\",VLOOKUP($I148, Resurssiluettelo!$C$21:$X$40,Ohjeistus!S$98,FALSE)),VLOOKUP($J148, Resurssiluettelo!$D$21:$X$40,Ohjeistus!S$98-1,FALSE))","v":""},{"$f":"IF($J148=\"\",IF($I148=\"\",\"\",VLOOKUP($I148, Resurssiluettelo!$C$21:$X$40,Ohjeistus!T$98,FALSE)),VLOOKUP($J148, Resurssiluettelo!$D$21:$X$40,Ohjeistus!T$98-1,FALSE))","v":""},{"$f":"IF($J148=\"\",\"\",VLOOKUP($J148, Resurssiluettelo!$D$21:$X$40,Ohjeistus!U$98-1,FALSE))","v":""},{"$f":"IF($J148=\"\",\"\",VLOOKUP($J148, Resurssiluettelo!$D$21:$X$40,Ohjeistus!V$98-1,FALSE))","v":""},{"$f":"IF($J148=\"\",\"\",VLOOKUP($J148, Resurssiluettelo!$D$21:$X$40,Ohjeistus!W$98-1,FALSE))","v":""},{"$f":"IF($J148=\"\",\"\",VLOOKUP($J148, Resurssiluettelo!$D$21:$X$40,Ohjeistus!X$98-1,FALSE))","v":""},{"$f":"IF(Resurssiluettelo!E195=0,\"\",Resurssiluettelo!E195)","v":""},{"$f":"IF(Resurssiluettelo!F195=0,\"\",YEAR(Resurssiluettelo!F195)&IF(MONTH(Resurssiluettelo!F195)<10,\"0\",\"\")&MONTH(Resurssiluettelo!F195)&IF(DAY(Resurssiluettelo!F195)<10,\"0\",\"\")&DAY(Resurssiluettelo!F195))","v":""},{"$f":"IF(Resurssiluettelo!G195=0,\"\",Resurssiluettelo!G195)","v":""},{"$f":"IF(Resurssiluettelo!H195=0,\"\",Resurssiluettelo!H195)","v":""},{"$f":"IF(Resurssiluettelo!I195=0,\"\",Resurssiluettelo!I195)","v":""},{"$f":"IF(Resurssiluettelo!W195=0,\"\",Resurssiluettelo!W195)","v":""},{"$f":"IF(Resurssiluettelo!X195=0,\"\",Resurssiluettelo!X195)","v":""},{"$f":"IF(Resurssiluettelo!Y195=0,\"\",Resurssiluettelo!Y195)","v":""},{"$f":"IF(Resurssiluettelo!Z195=0,\"\",Resurssiluettelo!Z195)","v":""},{"$f":"IF(Resurssiluettelo!AA195=0,\"\",Resurssiluettelo!AA195)","v":""},{"$f":"IF(Resurssiluettelo!AB195=0,\"\",Resurssiluettelo!AB195)","v":""},{"$f":"IF(Resurssiluettelo!AC195=0,\"\",Resurssiluettelo!AC195)","v":""},{"$f":"IF(Resurssiluettelo!AD195=0,\"\",Resurssiluettelo!AD195)","v":""},{"$f":"IF(Resurssiluettelo!J195=0,\"\",Resurssiluettelo!J195)","v":""},{"$f":"IF(Resurssiluettelo!K195=0,\"\",Resurssiluettelo!K195)","v":""},{"$f":"IF(Resurssiluettelo!L195=0,\"\",Resurssiluettelo!L195)","v":""},{"$f":"IF(Resurssiluettelo!M195=0,\"\",Resurssiluettelo!M195)","v":""},{"$f":"IF(Resurssiluettelo!N195=0,\"\",Resurssiluettelo!N195)","v":""},{"$f":"IF(Resurssiluettelo!O195=0,\"\",Resurssiluettelo!O195)","v":""},{"$f":"IF(Resurssiluettelo!P195=0,\"\",Resurssiluettelo!P195)","v":""},{"$f":"IF(Resurssiluettelo!Q195=0,\"\",Resurssiluettelo!Q195)","v":""},{"$f":"IF(Resurssiluettelo!R195=0,\"\",Resurssiluettelo!R195)","v":""},{"$f":"IF(Resurssiluettelo!S195=0,\"\",Resurssiluettelo!S195)","v":""},{"$f":"IF(Resurssiluettelo!T195=0,\"\",Resurssiluettelo!T195)","v":""},{"$f":"IF(Resurssiluettelo!U195=0,\"\",Resurssiluettelo!U195)","v":""},{"$f":"IF(Resurssiluettelo!V195=0,\"\",Resurssiluettelo!V195)","v":""}]
[146,{"$f":"IF(Y149=\"\",\"\",Resurssiluettelo!$G$1)","v":""},{"$f":"IF(Y149=\"\",\"\",Resurssiluettelo!$H$14)","v":""},{"$f":"IF(Y149=\"\",\"\",Resurssiluettelo!$I$14)","v":""},{"$f":"IF(Y149=\"\",\"\",Resurssiluettelo!$J$14)","v":""},{"$f":"IF(Y149=\"\",\"\",Resurssiluettelo!$N$14)","v":""},{"$f":"IF(Y149=\"\",\"\",Resurssiluettelo!$O$14)","v":""},{"$f":"IF(Resurssiluettelo!B196=0,\"\",Resurssiluettelo!B196)","v":""},{"$f":"IF(Resurssiluettelo!C196=0,\"\",Resurssiluettelo!C196)","v":""},{"$f":"IF(Resurssiluettelo!D196=0,\"\",Resurssiluettelo!D196)","v":""},{"$f":"IF($J149=\"\",\"\",VLOOKUP($J149, Resurssiluettelo!$D$21:$X$40,Ohjeistus!K$98-1,FALSE))","v":""},{"$f":"IF($J149=\"\",\"\",VLOOKUP($J149, Resurssiluettelo!$D$21:$X$40,Ohjeistus!L$98-1,FALSE))","v":""},{"$f":"IF($J149=\"\",\"\",VLOOKUP($J149, Resurssiluettelo!$D$21:$X$40,Ohjeistus!M$98-1,FALSE))","v":""},{"$f":"IF($J149=\"\",\"\",VLOOKUP($J149, Resurssiluettelo!$D$21:$X$40,Ohjeistus!N$98-1,FALSE))","v":""},{"$f":"IF($J149=\"\",\"\",VLOOKUP($J149, Resurssiluettelo!$D$21:$X$40,Ohjeistus!O$98-1,FALSE))","v":""},{"$f":"IF($J149=\"\",\"\",VLOOKUP($J149, Resurssiluettelo!$D$21:$X$40,Ohjeistus!P$98-1,FALSE))","v":""},{"$f":"IF($J149=\"\",IF($I149=\"\",\"\",VLOOKUP($I149, Resurssiluettelo!$C$21:$X$40,Ohjeistus!Q$98,FALSE)),VLOOKUP($J149, Resurssiluettelo!$D$21:$X$40,Ohjeistus!Q$98-1,FALSE))","v":""},{"$f":"IF($J149=\"\",IF($I149=\"\",\"\",VLOOKUP($I149, Resurssiluettelo!$C$21:$X$40,Ohjeistus!R$98,FALSE)),VLOOKUP($J149, Resurssiluettelo!$D$21:$X$40,Ohjeistus!R$98-1,FALSE))","v":""},{"$f":"IF($J149=\"\",IF($I149=\"\",\"\",VLOOKUP($I149, Resurssiluettelo!$C$21:$X$40,Ohjeistus!S$98,FALSE)),VLOOKUP($J149, Resurssiluettelo!$D$21:$X$40,Ohjeistus!S$98-1,FALSE))","v":""},{"$f":"IF($J149=\"\",IF($I149=\"\",\"\",VLOOKUP($I149, Resurssiluettelo!$C$21:$X$40,Ohjeistus!T$98,FALSE)),VLOOKUP($J149, Resurssiluettelo!$D$21:$X$40,Ohjeistus!T$98-1,FALSE))","v":""},{"$f":"IF($J149=\"\",\"\",VLOOKUP($J149, Resurssiluettelo!$D$21:$X$40,Ohjeistus!U$98-1,FALSE))","v":""},{"$f":"IF($J149=\"\",\"\",VLOOKUP($J149, Resurssiluettelo!$D$21:$X$40,Ohjeistus!V$98-1,FALSE))","v":""},{"$f":"IF($J149=\"\",\"\",VLOOKUP($J149, Resurssiluettelo!$D$21:$X$40,Ohjeistus!W$98-1,FALSE))","v":""},{"$f":"IF($J149=\"\",\"\",VLOOKUP($J149, Resurssiluettelo!$D$21:$X$40,Ohjeistus!X$98-1,FALSE))","v":""},{"$f":"IF(Resurssiluettelo!E196=0,\"\",Resurssiluettelo!E196)","v":""},{"$f":"IF(Resurssiluettelo!F196=0,\"\",YEAR(Resurssiluettelo!F196)&IF(MONTH(Resurssiluettelo!F196)<10,\"0\",\"\")&MONTH(Resurssiluettelo!F196)&IF(DAY(Resurssiluettelo!F196)<10,\"0\",\"\")&DAY(Resurssiluettelo!F196))","v":""},{"$f":"IF(Resurssiluettelo!G196=0,\"\",Resurssiluettelo!G196)","v":""},{"$f":"IF(Resurssiluettelo!H196=0,\"\",Resurssiluettelo!H196)","v":""},{"$f":"IF(Resurssiluettelo!I196=0,\"\",Resurssiluettelo!I196)","v":""},{"$f":"IF(Resurssiluettelo!W196=0,\"\",Resurssiluettelo!W196)","v":""},{"$f":"IF(Resurssiluettelo!X196=0,\"\",Resurssiluettelo!X196)","v":""},{"$f":"IF(Resurssiluettelo!Y196=0,\"\",Resurssiluettelo!Y196)","v":""},{"$f":"IF(Resurssiluettelo!Z196=0,\"\",Resurssiluettelo!Z196)","v":""},{"$f":"IF(Resurssiluettelo!AA196=0,\"\",Resurssiluettelo!AA196)","v":""},{"$f":"IF(Resurssiluettelo!AB196=0,\"\",Resurssiluettelo!AB196)","v":""},{"$f":"IF(Resurssiluettelo!AC196=0,\"\",Resurssiluettelo!AC196)","v":""},{"$f":"IF(Resurssiluettelo!AD196=0,\"\",Resurssiluettelo!AD196)","v":""},{"$f":"IF(Resurssiluettelo!J196=0,\"\",Resurssiluettelo!J196)","v":""},{"$f":"IF(Resurssiluettelo!K196=0,\"\",Resurssiluettelo!K196)","v":""},{"$f":"IF(Resurssiluettelo!L196=0,\"\",Resurssiluettelo!L196)","v":""},{"$f":"IF(Resurssiluettelo!M196=0,\"\",Resurssiluettelo!M196)","v":""},{"$f":"IF(Resurssiluettelo!N196=0,\"\",Resurssiluettelo!N196)","v":""},{"$f":"IF(Resurssiluettelo!O196=0,\"\",Resurssiluettelo!O196)","v":""},{"$f":"IF(Resurssiluettelo!P196=0,\"\",Resurssiluettelo!P196)","v":""},{"$f":"IF(Resurssiluettelo!Q196=0,\"\",Resurssiluettelo!Q196)","v":""},{"$f":"IF(Resurssiluettelo!R196=0,\"\",Resurssiluettelo!R196)","v":""},{"$f":"IF(Resurssiluettelo!S196=0,\"\",Resurssiluettelo!S196)","v":""},{"$f":"IF(Resurssiluettelo!T196=0,\"\",Resurssiluettelo!T196)","v":""},{"$f":"IF(Resurssiluettelo!U196=0,\"\",Resurssiluettelo!U196)","v":""},{"$f":"IF(Resurssiluettelo!V196=0,\"\",Resurssiluettelo!V196)","v":""}]
[147,{"$f":"IF(Y150=\"\",\"\",Resurssiluettelo!$G$1)","v":""},{"$f":"IF(Y150=\"\",\"\",Resurssiluettelo!$H$14)","v":""},{"$f":"IF(Y150=\"\",\"\",Resurssiluettelo!$I$14)","v":""},{"$f":"IF(Y150=\"\",\"\",Resurssiluettelo!$J$14)","v":""},{"$f":"IF(Y150=\"\",\"\",Resurssiluettelo!$N$14)","v":""},{"$f":"IF(Y150=\"\",\"\",Resurssiluettelo!$O$14)","v":""},{"$f":"IF(Resurssiluettelo!B197=0,\"\",Resurssiluettelo!B197)","v":""},{"$f":"IF(Resurssiluettelo!C197=0,\"\",Resurssiluettelo!C197)","v":""},{"$f":"IF(Resurssiluettelo!D197=0,\"\",Resurssiluettelo!D197)","v":""},{"$f":"IF($J150=\"\",\"\",VLOOKUP($J150, Resurssiluettelo!$D$21:$X$40,Ohjeistus!K$98-1,FALSE))","v":""},{"$f":"IF($J150=\"\",\"\",VLOOKUP($J150, Resurssiluettelo!$D$21:$X$40,Ohjeistus!L$98-1,FALSE))","v":""},{"$f":"IF($J150=\"\",\"\",VLOOKUP($J150, Resurssiluettelo!$D$21:$X$40,Ohjeistus!M$98-1,FALSE))","v":""},{"$f":"IF($J150=\"\",\"\",VLOOKUP($J150, Resurssiluettelo!$D$21:$X$40,Ohjeistus!N$98-1,FALSE))","v":""},{"$f":"IF($J150=\"\",\"\",VLOOKUP($J150, Resurssiluettelo!$D$21:$X$40,Ohjeistus!O$98-1,FALSE))","v":""},{"$f":"IF($J150=\"\",\"\",VLOOKUP($J150, Resurssiluettelo!$D$21:$X$40,Ohjeistus!P$98-1,FALSE))","v":""},{"$f":"IF($J150=\"\",IF($I150=\"\",\"\",VLOOKUP($I150, Resurssiluettelo!$C$21:$X$40,Ohjeistus!Q$98,FALSE)),VLOOKUP($J150, Resurssiluettelo!$D$21:$X$40,Ohjeistus!Q$98-1,FALSE))","v":""},{"$f":"IF($J150=\"\",IF($I150=\"\",\"\",VLOOKUP($I150, Resurssiluettelo!$C$21:$X$40,Ohjeistus!R$98,FALSE)),VLOOKUP($J150, Resurssiluettelo!$D$21:$X$40,Ohjeistus!R$98-1,FALSE))","v":""},{"$f":"IF($J150=\"\",IF($I150=\"\",\"\",VLOOKUP($I150, Resurssiluettelo!$C$21:$X$40,Ohjeistus!S$98,FALSE)),VLOOKUP($J150, Resurssiluettelo!$D$21:$X$40,Ohjeistus!S$98-1,FALSE))","v":""},{"$f":"IF($J150=\"\",IF($I150=\"\",\"\",VLOOKUP($I150, Resurssiluettelo!$C$21:$X$40,Ohjeistus!T$98,FALSE)),VLOOKUP($J150, Resurssiluettelo!$D$21:$X$40,Ohjeistus!T$98-1,FALSE))","v":""},{"$f":"IF($J150=\"\",\"\",VLOOKUP($J150, Resurssiluettelo!$D$21:$X$40,Ohjeistus!U$98-1,FALSE))","v":""},{"$f":"IF($J150=\"\",\"\",VLOOKUP($J150, Resurssiluettelo!$D$21:$X$40,Ohjeistus!V$98-1,FALSE))","v":""},{"$f":"IF($J150=\"\",\"\",VLOOKUP($J150, Resurssiluettelo!$D$21:$X$40,Ohjeistus!W$98-1,FALSE))","v":""},{"$f":"IF($J150=\"\",\"\",VLOOKUP($J150, Resurssiluettelo!$D$21:$X$40,Ohjeistus!X$98-1,FALSE))","v":""},{"$f":"IF(Resurssiluettelo!E197=0,\"\",Resurssiluettelo!E197)","v":""},{"$f":"IF(Resurssiluettelo!F197=0,\"\",YEAR(Resurssiluettelo!F197)&IF(MONTH(Resurssiluettelo!F197)<10,\"0\",\"\")&MONTH(Resurssiluettelo!F197)&IF(DAY(Resurssiluettelo!F197)<10,\"0\",\"\")&DAY(Resurssiluettelo!F197))","v":""},{"$f":"IF(Resurssiluettelo!G197=0,\"\",Resurssiluettelo!G197)","v":""},{"$f":"IF(Resurssiluettelo!H197=0,\"\",Resurssiluettelo!H197)","v":""},{"$f":"IF(Resurssiluettelo!I197=0,\"\",Resurssiluettelo!I197)","v":""},{"$f":"IF(Resurssiluettelo!W197=0,\"\",Resurssiluettelo!W197)","v":""},{"$f":"IF(Resurssiluettelo!X197=0,\"\",Resurssiluettelo!X197)","v":""},{"$f":"IF(Resurssiluettelo!Y197=0,\"\",Resurssiluettelo!Y197)","v":""},{"$f":"IF(Resurssiluettelo!Z197=0,\"\",Resurssiluettelo!Z197)","v":""},{"$f":"IF(Resurssiluettelo!AA197=0,\"\",Resurssiluettelo!AA197)","v":""},{"$f":"IF(Resurssiluettelo!AB197=0,\"\",Resurssiluettelo!AB197)","v":""},{"$f":"IF(Resurssiluettelo!AC197=0,\"\",Resurssiluettelo!AC197)","v":""},{"$f":"IF(Resurssiluettelo!AD197=0,\"\",Resurssiluettelo!AD197)","v":""},{"$f":"IF(Resurssiluettelo!J197=0,\"\",Resurssiluettelo!J197)","v":""},{"$f":"IF(Resurssiluettelo!K197=0,\"\",Resurssiluettelo!K197)","v":""},{"$f":"IF(Resurssiluettelo!L197=0,\"\",Resurssiluettelo!L197)","v":""},{"$f":"IF(Resurssiluettelo!M197=0,\"\",Resurssiluettelo!M197)","v":""},{"$f":"IF(Resurssiluettelo!N197=0,\"\",Resurssiluettelo!N197)","v":""},{"$f":"IF(Resurssiluettelo!O197=0,\"\",Resurssiluettelo!O197)","v":""},{"$f":"IF(Resurssiluettelo!P197=0,\"\",Resurssiluettelo!P197)","v":""},{"$f":"IF(Resurssiluettelo!Q197=0,\"\",Resurssiluettelo!Q197)","v":""},{"$f":"IF(Resurssiluettelo!R197=0,\"\",Resurssiluettelo!R197)","v":""},{"$f":"IF(Resurssiluettelo!S197=0,\"\",Resurssiluettelo!S197)","v":""},{"$f":"IF(Resurssiluettelo!T197=0,\"\",Resurssiluettelo!T197)","v":""},{"$f":"IF(Resurssiluettelo!U197=0,\"\",Resurssiluettelo!U197)","v":""},{"$f":"IF(Resurssiluettelo!V197=0,\"\",Resurssiluettelo!V197)","v":""}]
[148,{"$f":"IF(Y151=\"\",\"\",Resurssiluettelo!$G$1)","v":""},{"$f":"IF(Y151=\"\",\"\",Resurssiluettelo!$H$14)","v":""},{"$f":"IF(Y151=\"\",\"\",Resurssiluettelo!$I$14)","v":""},{"$f":"IF(Y151=\"\",\"\",Resurssiluettelo!$J$14)","v":""},{"$f":"IF(Y151=\"\",\"\",Resurssiluettelo!$N$14)","v":""},{"$f":"IF(Y151=\"\",\"\",Resurssiluettelo!$O$14)","v":""},{"$f":"IF(Resurssiluettelo!B198=0,\"\",Resurssiluettelo!B198)","v":""},{"$f":"IF(Resurssiluettelo!C198=0,\"\",Resurssiluettelo!C198)","v":""},{"$f":"IF(Resurssiluettelo!D198=0,\"\",Resurssiluettelo!D198)","v":""},{"$f":"IF($J151=\"\",\"\",VLOOKUP($J151, Resurssiluettelo!$D$21:$X$40,Ohjeistus!K$98-1,FALSE))","v":""},{"$f":"IF($J151=\"\",\"\",VLOOKUP($J151, Resurssiluettelo!$D$21:$X$40,Ohjeistus!L$98-1,FALSE))","v":""},{"$f":"IF($J151=\"\",\"\",VLOOKUP($J151, Resurssiluettelo!$D$21:$X$40,Ohjeistus!M$98-1,FALSE))","v":""},{"$f":"IF($J151=\"\",\"\",VLOOKUP($J151, Resurssiluettelo!$D$21:$X$40,Ohjeistus!N$98-1,FALSE))","v":""},{"$f":"IF($J151=\"\",\"\",VLOOKUP($J151, Resurssiluettelo!$D$21:$X$40,Ohjeistus!O$98-1,FALSE))","v":""},{"$f":"IF($J151=\"\",\"\",VLOOKUP($J151, Resurssiluettelo!$D$21:$X$40,Ohjeistus!P$98-1,FALSE))","v":""},{"$f":"IF($J151=\"\",IF($I151=\"\",\"\",VLOOKUP($I151, Resurssiluettelo!$C$21:$X$40,Ohjeistus!Q$98,FALSE)),VLOOKUP($J151, Resurssiluettelo!$D$21:$X$40,Ohjeistus!Q$98-1,FALSE))","v":""},{"$f":"IF($J151=\"\",IF($I151=\"\",\"\",VLOOKUP($I151, Resurssiluettelo!$C$21:$X$40,Ohjeistus!R$98,FALSE)),VLOOKUP($J151, Resurssiluettelo!$D$21:$X$40,Ohjeistus!R$98-1,FALSE))","v":""},{"$f":"IF($J151=\"\",IF($I151=\"\",\"\",VLOOKUP($I151, Resurssiluettelo!$C$21:$X$40,Ohjeistus!S$98,FALSE)),VLOOKUP($J151, Resurssiluettelo!$D$21:$X$40,Ohjeistus!S$98-1,FALSE))","v":""},{"$f":"IF($J151=\"\",IF($I151=\"\",\"\",VLOOKUP($I151, Resurssiluettelo!$C$21:$X$40,Ohjeistus!T$98,FALSE)),VLOOKUP($J151, Resurssiluettelo!$D$21:$X$40,Ohjeistus!T$98-1,FALSE))","v":""},{"$f":"IF($J151=\"\",\"\",VLOOKUP($J151, Resurssiluettelo!$D$21:$X$40,Ohjeistus!U$98-1,FALSE))","v":""},{"$f":"IF($J151=\"\",\"\",VLOOKUP($J151, Resurssiluettelo!$D$21:$X$40,Ohjeistus!V$98-1,FALSE))","v":""},{"$f":"IF($J151=\"\",\"\",VLOOKUP($J151, Resurssiluettelo!$D$21:$X$40,Ohjeistus!W$98-1,FALSE))","v":""},{"$f":"IF($J151=\"\",\"\",VLOOKUP($J151, Resurssiluettelo!$D$21:$X$40,Ohjeistus!X$98-1,FALSE))","v":""},{"$f":"IF(Resurssiluettelo!E198=0,\"\",Resurssiluettelo!E198)","v":""},{"$f":"IF(Resurssiluettelo!F198=0,\"\",YEAR(Resurssiluettelo!F198)&IF(MONTH(Resurssiluettelo!F198)<10,\"0\",\"\")&MONTH(Resurssiluettelo!F198)&IF(DAY(Resurssiluettelo!F198)<10,\"0\",\"\")&DAY(Resurssiluettelo!F198))","v":""},{"$f":"IF(Resurssiluettelo!G198=0,\"\",Resurssiluettelo!G198)","v":""},{"$f":"IF(Resurssiluettelo!H198=0,\"\",Resurssiluettelo!H198)","v":""},{"$f":"IF(Resurssiluettelo!I198=0,\"\",Resurssiluettelo!I198)","v":""},{"$f":"IF(Resurssiluettelo!W198=0,\"\",Resurssiluettelo!W198)","v":""},{"$f":"IF(Resurssiluettelo!X198=0,\"\",Resurssiluettelo!X198)","v":""},{"$f":"IF(Resurssiluettelo!Y198=0,\"\",Resurssiluettelo!Y198)","v":""},{"$f":"IF(Resurssiluettelo!Z198=0,\"\",Resurssiluettelo!Z198)","v":""},{"$f":"IF(Resurssiluettelo!AA198=0,\"\",Resurssiluettelo!AA198)","v":""},{"$f":"IF(Resurssiluettelo!AB198=0,\"\",Resurssiluettelo!AB198)","v":""},{"$f":"IF(Resurssiluettelo!AC198=0,\"\",Resurssiluettelo!AC198)","v":""},{"$f":"IF(Resurssiluettelo!AD198=0,\"\",Resurssiluettelo!AD198)","v":""},{"$f":"IF(Resurssiluettelo!J198=0,\"\",Resurssiluettelo!J198)","v":""},{"$f":"IF(Resurssiluettelo!K198=0,\"\",Resurssiluettelo!K198)","v":""},{"$f":"IF(Resurssiluettelo!L198=0,\"\",Resurssiluettelo!L198)","v":""},{"$f":"IF(Resurssiluettelo!M198=0,\"\",Resurssiluettelo!M198)","v":""},{"$f":"IF(Resurssiluettelo!N198=0,\"\",Resurssiluettelo!N198)","v":""},{"$f":"IF(Resurssiluettelo!O198=0,\"\",Resurssiluettelo!O198)","v":""},{"$f":"IF(Resurssiluettelo!P198=0,\"\",Resurssiluettelo!P198)","v":""},{"$f":"IF(Resurssiluettelo!Q198=0,\"\",Resurssiluettelo!Q198)","v":""},{"$f":"IF(Resurssiluettelo!R198=0,\"\",Resurssiluettelo!R198)","v":""},{"$f":"IF(Resurssiluettelo!S198=0,\"\",Resurssiluettelo!S198)","v":""},{"$f":"IF(Resurssiluettelo!T198=0,\"\",Resurssiluettelo!T198)","v":""},{"$f":"IF(Resurssiluettelo!U198=0,\"\",Resurssiluettelo!U198)","v":""},{"$f":"IF(Resurssiluettelo!V198=0,\"\",Resurssiluettelo!V198)","v":""}]
[149,{"$f":"IF(Y152=\"\",\"\",Resurssiluettelo!$G$1)","v":""},{"$f":"IF(Y152=\"\",\"\",Resurssiluettelo!$H$14)","v":""},{"$f":"IF(Y152=\"\",\"\",Resurssiluettelo!$I$14)","v":""},{"$f":"IF(Y152=\"\",\"\",Resurssiluettelo!$J$14)","v":""},{"$f":"IF(Y152=\"\",\"\",Resurssiluettelo!$N$14)","v":""},{"$f":"IF(Y152=\"\",\"\",Resurssiluettelo!$O$14)","v":""},{"$f":"IF(Resurssiluettelo!B199=0,\"\",Resurssiluettelo!B199)","v":""},{"$f":"IF(Resurssiluettelo!C199=0,\"\",Resurssiluettelo!C199)","v":""},{"$f":"IF(Resurssiluettelo!D199=0,\"\",Resurssiluettelo!D199)","v":""},{"$f":"IF($J152=\"\",\"\",VLOOKUP($J152, Resurssiluettelo!$D$21:$X$40,Ohjeistus!K$98-1,FALSE))","v":""},{"$f":"IF($J152=\"\",\"\",VLOOKUP($J152, Resurssiluettelo!$D$21:$X$40,Ohjeistus!L$98-1,FALSE))","v":""},{"$f":"IF($J152=\"\",\"\",VLOOKUP($J152, Resurssiluettelo!$D$21:$X$40,Ohjeistus!M$98-1,FALSE))","v":""},{"$f":"IF($J152=\"\",\"\",VLOOKUP($J152, Resurssiluettelo!$D$21:$X$40,Ohjeistus!N$98-1,FALSE))","v":""},{"$f":"IF($J152=\"\",\"\",VLOOKUP($J152, Resurssiluettelo!$D$21:$X$40,Ohjeistus!O$98-1,FALSE))","v":""},{"$f":"IF($J152=\"\",\"\",VLOOKUP($J152, Resurssiluettelo!$D$21:$X$40,Ohjeistus!P$98-1,FALSE))","v":""},{"$f":"IF($J152=\"\",IF($I152=\"\",\"\",VLOOKUP($I152, Resurssiluettelo!$C$21:$X$40,Ohjeistus!Q$98,FALSE)),VLOOKUP($J152, Resurssiluettelo!$D$21:$X$40,Ohjeistus!Q$98-1,FALSE))","v":""},{"$f":"IF($J152=\"\",IF($I152=\"\",\"\",VLOOKUP($I152, Resurssiluettelo!$C$21:$X$40,Ohjeistus!R$98,FALSE)),VLOOKUP($J152, Resurssiluettelo!$D$21:$X$40,Ohjeistus!R$98-1,FALSE))","v":""},{"$f":"IF($J152=\"\",IF($I152=\"\",\"\",VLOOKUP($I152, Resurssiluettelo!$C$21:$X$40,Ohjeistus!S$98,FALSE)),VLOOKUP($J152, Resurssiluettelo!$D$21:$X$40,Ohjeistus!S$98-1,FALSE))","v":""},{"$f":"IF($J152=\"\",IF($I152=\"\",\"\",VLOOKUP($I152, Resurssiluettelo!$C$21:$X$40,Ohjeistus!T$98,FALSE)),VLOOKUP($J152, Resurssiluettelo!$D$21:$X$40,Ohjeistus!T$98-1,FALSE))","v":""},{"$f":"IF($J152=\"\",\"\",VLOOKUP($J152, Resurssiluettelo!$D$21:$X$40,Ohjeistus!U$98-1,FALSE))","v":""},{"$f":"IF($J152=\"\",\"\",VLOOKUP($J152, Resurssiluettelo!$D$21:$X$40,Ohjeistus!V$98-1,FALSE))","v":""},{"$f":"IF($J152=\"\",\"\",VLOOKUP($J152, Resurssiluettelo!$D$21:$X$40,Ohjeistus!W$98-1,FALSE))","v":""},{"$f":"IF($J152=\"\",\"\",VLOOKUP($J152, Resurssiluettelo!$D$21:$X$40,Ohjeistus!X$98-1,FALSE))","v":""},{"$f":"IF(Resurssiluettelo!E199=0,\"\",Resurssiluettelo!E199)","v":""},{"$f":"IF(Resurssiluettelo!F199=0,\"\",YEAR(Resurssiluettelo!F199)&IF(MONTH(Resurssiluettelo!F199)<10,\"0\",\"\")&MONTH(Resurssiluettelo!F199)&IF(DAY(Resurssiluettelo!F199)<10,\"0\",\"\")&DAY(Resurssiluettelo!F199))","v":""},{"$f":"IF(Resurssiluettelo!G199=0,\"\",Resurssiluettelo!G199)","v":""},{"$f":"IF(Resurssiluettelo!H199=0,\"\",Resurssiluettelo!H199)","v":""},{"$f":"IF(Resurssiluettelo!I199=0,\"\",Resurssiluettelo!I199)","v":""},{"$f":"IF(Resurssiluettelo!W199=0,\"\",Resurssiluettelo!W199)","v":""},{"$f":"IF(Resurssiluettelo!X199=0,\"\",Resurssiluettelo!X199)","v":""},{"$f":"IF(Resurssiluettelo!Y199=0,\"\",Resurssiluettelo!Y199)","v":""},{"$f":"IF(Resurssiluettelo!Z199=0,\"\",Resurssiluettelo!Z199)","v":""},{"$f":"IF(Resurssiluettelo!AA199=0,\"\",Resurssiluettelo!AA199)","v":""},{"$f":"IF(Resurssiluettelo!AB199=0,\"\",Resurssiluettelo!AB199)","v":""},{"$f":"IF(Resurssiluettelo!AC199=0,\"\",Resurssiluettelo!AC199)","v":""},{"$f":"IF(Resurssiluettelo!AD199=0,\"\",Resurssiluettelo!AD199)","v":""},{"$f":"IF(Resurssiluettelo!J199=0,\"\",Resurssiluettelo!J199)","v":""},{"$f":"IF(Resurssiluettelo!K199=0,\"\",Resurssiluettelo!K199)","v":""},{"$f":"IF(Resurssiluettelo!L199=0,\"\",Resurssiluettelo!L199)","v":""},{"$f":"IF(Resurssiluettelo!M199=0,\"\",Resurssiluettelo!M199)","v":""},{"$f":"IF(Resurssiluettelo!N199=0,\"\",Resurssiluettelo!N199)","v":""},{"$f":"IF(Resurssiluettelo!O199=0,\"\",Resurssiluettelo!O199)","v":""},{"$f":"IF(Resurssiluettelo!P199=0,\"\",Resurssiluettelo!P199)","v":""},{"$f":"IF(Resurssiluettelo!Q199=0,\"\",Resurssiluettelo!Q199)","v":""},{"$f":"IF(Resurssiluettelo!R199=0,\"\",Resurssiluettelo!R199)","v":""},{"$f":"IF(Resurssiluettelo!S199=0,\"\",Resurssiluettelo!S199)","v":""},{"$f":"IF(Resurssiluettelo!T199=0,\"\",Resurssiluettelo!T199)","v":""},{"$f":"IF(Resurssiluettelo!U199=0,\"\",Resurssiluettelo!U199)","v":""},{"$f":"IF(Resurssiluettelo!V199=0,\"\",Resurssiluettelo!V199)","v":""}]
[150,{"$f":"IF(Y153=\"\",\"\",Resurssiluettelo!$G$1)","v":""},{"$f":"IF(Y153=\"\",\"\",Resurssiluettelo!$H$14)","v":""},{"$f":"IF(Y153=\"\",\"\",Resurssiluettelo!$I$14)","v":""},{"$f":"IF(Y153=\"\",\"\",Resurssiluettelo!$J$14)","v":""},{"$f":"IF(Y153=\"\",\"\",Resurssiluettelo!$N$14)","v":""},{"$f":"IF(Y153=\"\",\"\",Resurssiluettelo!$O$14)","v":""},{"$f":"IF(Resurssiluettelo!B200=0,\"\",Resurssiluettelo!B200)","v":""},{"$f":"IF(Resurssiluettelo!C200=0,\"\",Resurssiluettelo!C200)","v":""},{"$f":"IF(Resurssiluettelo!D200=0,\"\",Resurssiluettelo!D200)","v":""},{"$f":"IF($J153=\"\",\"\",VLOOKUP($J153, Resurssiluettelo!$D$21:$X$40,Ohjeistus!K$98-1,FALSE))","v":""},{"$f":"IF($J153=\"\",\"\",VLOOKUP($J153, Resurssiluettelo!$D$21:$X$40,Ohjeistus!L$98-1,FALSE))","v":""},{"$f":"IF($J153=\"\",\"\",VLOOKUP($J153, Resurssiluettelo!$D$21:$X$40,Ohjeistus!M$98-1,FALSE))","v":""},{"$f":"IF($J153=\"\",\"\",VLOOKUP($J153, Resurssiluettelo!$D$21:$X$40,Ohjeistus!N$98-1,FALSE))","v":""},{"$f":"IF($J153=\"\",\"\",VLOOKUP($J153, Resurssiluettelo!$D$21:$X$40,Ohjeistus!O$98-1,FALSE))","v":""},{"$f":"IF($J153=\"\",\"\",VLOOKUP($J153, Resurssiluettelo!$D$21:$X$40,Ohjeistus!P$98-1,FALSE))","v":""},{"$f":"IF($J153=\"\",IF($I153=\"\",\"\",VLOOKUP($I153, Resurssiluettelo!$C$21:$X$40,Ohjeistus!Q$98,FALSE)),VLOOKUP($J153, Resurssiluettelo!$D$21:$X$40,Ohjeistus!Q$98-1,FALSE))","v":""},{"$f":"IF($J153=\"\",IF($I153=\"\",\"\",VLOOKUP($I153, Resurssiluettelo!$C$21:$X$40,Ohjeistus!R$98,FALSE)),VLOOKUP($J153, Resurssiluettelo!$D$21:$X$40,Ohjeistus!R$98-1,FALSE))","v":""},{"$f":"IF($J153=\"\",IF($I153=\"\",\"\",VLOOKUP($I153, Resurssiluettelo!$C$21:$X$40,Ohjeistus!S$98,FALSE)),VLOOKUP($J153, Resurssiluettelo!$D$21:$X$40,Ohjeistus!S$98-1,FALSE))","v":""},{"$f":"IF($J153=\"\",IF($I153=\"\",\"\",VLOOKUP($I153, Resurssiluettelo!$C$21:$X$40,Ohjeistus!T$98,FALSE)),VLOOKUP($J153, Resurssiluettelo!$D$21:$X$40,Ohjeistus!T$98-1,FALSE))","v":""},{"$f":"IF($J153=\"\",\"\",VLOOKUP($J153, Resurssiluettelo!$D$21:$X$40,Ohjeistus!U$98-1,FALSE))","v":""},{"$f":"IF($J153=\"\",\"\",VLOOKUP($J153, Resurssiluettelo!$D$21:$X$40,Ohjeistus!V$98-1,FALSE))","v":""},{"$f":"IF($J153=\"\",\"\",VLOOKUP($J153, Resurssiluettelo!$D$21:$X$40,Ohjeistus!W$98-1,FALSE))","v":""},{"$f":"IF($J153=\"\",\"\",VLOOKUP($J153, Resurssiluettelo!$D$21:$X$40,Ohjeistus!X$98-1,FALSE))","v":""},{"$f":"IF(Resurssiluettelo!E200=0,\"\",Resurssiluettelo!E200)","v":""},{"$f":"IF(Resurssiluettelo!F200=0,\"\",YEAR(Resurssiluettelo!F200)&IF(MONTH(Resurssiluettelo!F200)<10,\"0\",\"\")&MONTH(Resurssiluettelo!F200)&IF(DAY(Resurssiluettelo!F200)<10,\"0\",\"\")&DAY(Resurssiluettelo!F200))","v":""},{"$f":"IF(Resurssiluettelo!G200=0,\"\",Resurssiluettelo!G200)","v":""},{"$f":"IF(Resurssiluettelo!H200=0,\"\",Resurssiluettelo!H200)","v":""},{"$f":"IF(Resurssiluettelo!I200=0,\"\",Resurssiluettelo!I200)","v":""},{"$f":"IF(Resurssiluettelo!W200=0,\"\",Resurssiluettelo!W200)","v":""},{"$f":"IF(Resurssiluettelo!X200=0,\"\",Resurssiluettelo!X200)","v":""},{"$f":"IF(Resurssiluettelo!Y200=0,\"\",Resurssiluettelo!Y200)","v":""},{"$f":"IF(Resurssiluettelo!Z200=0,\"\",Resurssiluettelo!Z200)","v":""},{"$f":"IF(Resurssiluettelo!AA200=0,\"\",Resurssiluettelo!AA200)","v":""},{"$f":"IF(Resurssiluettelo!AB200=0,\"\",Resurssiluettelo!AB200)","v":""},{"$f":"IF(Resurssiluettelo!AC200=0,\"\",Resurssiluettelo!AC200)","v":""},{"$f":"IF(Resurssiluettelo!AD200=0,\"\",Resurssiluettelo!AD200)","v":""},{"$f":"IF(Resurssiluettelo!J200=0,\"\",Resurssiluettelo!J200)","v":""},{"$f":"IF(Resurssiluettelo!K200=0,\"\",Resurssiluettelo!K200)","v":""},{"$f":"IF(Resurssiluettelo!L200=0,\"\",Resurssiluettelo!L200)","v":""},{"$f":"IF(Resurssiluettelo!M200=0,\"\",Resurssiluettelo!M200)","v":""},{"$f":"IF(Resurssiluettelo!N200=0,\"\",Resurssiluettelo!N200)","v":""},{"$f":"IF(Resurssiluettelo!O200=0,\"\",Resurssiluettelo!O200)","v":""},{"$f":"IF(Resurssiluettelo!P200=0,\"\",Resurssiluettelo!P200)","v":""},{"$f":"IF(Resurssiluettelo!Q200=0,\"\",Resurssiluettelo!Q200)","v":""},{"$f":"IF(Resurssiluettelo!R200=0,\"\",Resurssiluettelo!R200)","v":""},{"$f":"IF(Resurssiluettelo!S200=0,\"\",Resurssiluettelo!S200)","v":""},{"$f":"IF(Resurssiluettelo!T200=0,\"\",Resurssiluettelo!T200)","v":""},{"$f":"IF(Resurssiluettelo!U200=0,\"\",Resurssiluettelo!U200)","v":""},{"$f":"IF(Resurssiluettelo!V200=0,\"\",Resurssiluettelo!V200)","v":""}]
[151,{"$f":"IF(Y154=\"\",\"\",Resurssiluettelo!$G$1)","v":""},{"$f":"IF(Y154=\"\",\"\",Resurssiluettelo!$H$14)","v":""},{"$f":"IF(Y154=\"\",\"\",Resurssiluettelo!$I$14)","v":""},{"$f":"IF(Y154=\"\",\"\",Resurssiluettelo!$J$14)","v":""},{"$f":"IF(Y154=\"\",\"\",Resurssiluettelo!$N$14)","v":""},{"$f":"IF(Y154=\"\",\"\",Resurssiluettelo!$O$14)","v":""},{"$f":"IF(Resurssiluettelo!B201=0,\"\",Resurssiluettelo!B201)","v":""},{"$f":"IF(Resurssiluettelo!C201=0,\"\",Resurssiluettelo!C201)","v":""},{"$f":"IF(Resurssiluettelo!D201=0,\"\",Resurssiluettelo!D201)","v":""},{"$f":"IF($J154=\"\",\"\",VLOOKUP($J154, Resurssiluettelo!$D$21:$X$40,Ohjeistus!K$98-1,FALSE))","v":""},{"$f":"IF($J154=\"\",\"\",VLOOKUP($J154, Resurssiluettelo!$D$21:$X$40,Ohjeistus!L$98-1,FALSE))","v":""},{"$f":"IF($J154=\"\",\"\",VLOOKUP($J154, Resurssiluettelo!$D$21:$X$40,Ohjeistus!M$98-1,FALSE))","v":""},{"$f":"IF($J154=\"\",\"\",VLOOKUP($J154, Resurssiluettelo!$D$21:$X$40,Ohjeistus!N$98-1,FALSE))","v":""},{"$f":"IF($J154=\"\",\"\",VLOOKUP($J154, Resurssiluettelo!$D$21:$X$40,Ohjeistus!O$98-1,FALSE))","v":""},{"$f":"IF($J154=\"\",\"\",VLOOKUP($J154, Resurssiluettelo!$D$21:$X$40,Ohjeistus!P$98-1,FALSE))","v":""},{"$f":"IF($J154=\"\",IF($I154=\"\",\"\",VLOOKUP($I154, Resurssiluettelo!$C$21:$X$40,Ohjeistus!Q$98,FALSE)),VLOOKUP($J154, Resurssiluettelo!$D$21:$X$40,Ohjeistus!Q$98-1,FALSE))","v":""},{"$f":"IF($J154=\"\",IF($I154=\"\",\"\",VLOOKUP($I154, Resurssiluettelo!$C$21:$X$40,Ohjeistus!R$98,FALSE)),VLOOKUP($J154, Resurssiluettelo!$D$21:$X$40,Ohjeistus!R$98-1,FALSE))","v":""},{"$f":"IF($J154=\"\",IF($I154=\"\",\"\",VLOOKUP($I154, Resurssiluettelo!$C$21:$X$40,Ohjeistus!S$98,FALSE)),VLOOKUP($J154, Resurssiluettelo!$D$21:$X$40,Ohjeistus!S$98-1,FALSE))","v":""},{"$f":"IF($J154=\"\",IF($I154=\"\",\"\",VLOOKUP($I154, Resurssiluettelo!$C$21:$X$40,Ohjeistus!T$98,FALSE)),VLOOKUP($J154, Resurssiluettelo!$D$21:$X$40,Ohjeistus!T$98-1,FALSE))","v":""},{"$f":"IF($J154=\"\",\"\",VLOOKUP($J154, Resurssiluettelo!$D$21:$X$40,Ohjeistus!U$98-1,FALSE))","v":""},{"$f":"IF($J154=\"\",\"\",VLOOKUP($J154, Resurssiluettelo!$D$21:$X$40,Ohjeistus!V$98-1,FALSE))","v":""},{"$f":"IF($J154=\"\",\"\",VLOOKUP($J154, Resurssiluettelo!$D$21:$X$40,Ohjeistus!W$98-1,FALSE))","v":""},{"$f":"IF($J154=\"\",\"\",VLOOKUP($J154, Resurssiluettelo!$D$21:$X$40,Ohjeistus!X$98-1,FALSE))","v":""},{"$f":"IF(Resurssiluettelo!E201=0,\"\",Resurssiluettelo!E201)","v":""},{"$f":"IF(Resurssiluettelo!F201=0,\"\",YEAR(Resurssiluettelo!F201)&IF(MONTH(Resurssiluettelo!F201)<10,\"0\",\"\")&MONTH(Resurssiluettelo!F201)&IF(DAY(Resurssiluettelo!F201)<10,\"0\",\"\")&DAY(Resurssiluettelo!F201))","v":""},{"$f":"IF(Resurssiluettelo!G201=0,\"\",Resurssiluettelo!G201)","v":""},{"$f":"IF(Resurssiluettelo!H201=0,\"\",Resurssiluettelo!H201)","v":""},{"$f":"IF(Resurssiluettelo!I201=0,\"\",Resurssiluettelo!I201)","v":""},{"$f":"IF(Resurssiluettelo!W201=0,\"\",Resurssiluettelo!W201)","v":""},{"$f":"IF(Resurssiluettelo!X201=0,\"\",Resurssiluettelo!X201)","v":""},{"$f":"IF(Resurssiluettelo!Y201=0,\"\",Resurssiluettelo!Y201)","v":""},{"$f":"IF(Resurssiluettelo!Z201=0,\"\",Resurssiluettelo!Z201)","v":""},{"$f":"IF(Resurssiluettelo!AA201=0,\"\",Resurssiluettelo!AA201)","v":""},{"$f":"IF(Resurssiluettelo!AB201=0,\"\",Resurssiluettelo!AB201)","v":""},{"$f":"IF(Resurssiluettelo!AC201=0,\"\",Resurssiluettelo!AC201)","v":""},{"$f":"IF(Resurssiluettelo!AD201=0,\"\",Resurssiluettelo!AD201)","v":""},{"$f":"IF(Resurssiluettelo!J201=0,\"\",Resurssiluettelo!J201)","v":""},{"$f":"IF(Resurssiluettelo!K201=0,\"\",Resurssiluettelo!K201)","v":""},{"$f":"IF(Resurssiluettelo!L201=0,\"\",Resurssiluettelo!L201)","v":""},{"$f":"IF(Resurssiluettelo!M201=0,\"\",Resurssiluettelo!M201)","v":""},{"$f":"IF(Resurssiluettelo!N201=0,\"\",Resurssiluettelo!N201)","v":""},{"$f":"IF(Resurssiluettelo!O201=0,\"\",Resurssiluettelo!O201)","v":""},{"$f":"IF(Resurssiluettelo!P201=0,\"\",Resurssiluettelo!P201)","v":""},{"$f":"IF(Resurssiluettelo!Q201=0,\"\",Resurssiluettelo!Q201)","v":""},{"$f":"IF(Resurssiluettelo!R201=0,\"\",Resurssiluettelo!R201)","v":""},{"$f":"IF(Resurssiluettelo!S201=0,\"\",Resurssiluettelo!S201)","v":""},{"$f":"IF(Resurssiluettelo!T201=0,\"\",Resurssiluettelo!T201)","v":""},{"$f":"IF(Resurssiluettelo!U201=0,\"\",Resurssiluettelo!U201)","v":""},{"$f":"IF(Resurssiluettelo!V201=0,\"\",Resurssiluettelo!V201)","v":""}]
[152,{"$f":"IF(Y155=\"\",\"\",Resurssiluettelo!$G$1)","v":""},{"$f":"IF(Y155=\"\",\"\",Resurssiluettelo!$H$14)","v":""},{"$f":"IF(Y155=\"\",\"\",Resurssiluettelo!$I$14)","v":""},{"$f":"IF(Y155=\"\",\"\",Resurssiluettelo!$J$14)","v":""},{"$f":"IF(Y155=\"\",\"\",Resurssiluettelo!$N$14)","v":""},{"$f":"IF(Y155=\"\",\"\",Resurssiluettelo!$O$14)","v":""},{"$f":"IF(Resurssiluettelo!B202=0,\"\",Resurssiluettelo!B202)","v":""},{"$f":"IF(Resurssiluettelo!C202=0,\"\",Resurssiluettelo!C202)","v":""},{"$f":"IF(Resurssiluettelo!D202=0,\"\",Resurssiluettelo!D202)","v":""},{"$f":"IF($J155=\"\",\"\",VLOOKUP($J155, Resurssiluettelo!$D$21:$X$40,Ohjeistus!K$98-1,FALSE))","v":""},{"$f":"IF($J155=\"\",\"\",VLOOKUP($J155, Resurssiluettelo!$D$21:$X$40,Ohjeistus!L$98-1,FALSE))","v":""},{"$f":"IF($J155=\"\",\"\",VLOOKUP($J155, Resurssiluettelo!$D$21:$X$40,Ohjeistus!M$98-1,FALSE))","v":""},{"$f":"IF($J155=\"\",\"\",VLOOKUP($J155, Resurssiluettelo!$D$21:$X$40,Ohjeistus!N$98-1,FALSE))","v":""},{"$f":"IF($J155=\"\",\"\",VLOOKUP($J155, Resurssiluettelo!$D$21:$X$40,Ohjeistus!O$98-1,FALSE))","v":""},{"$f":"IF($J155=\"\",\"\",VLOOKUP($J155, Resurssiluettelo!$D$21:$X$40,Ohjeistus!P$98-1,FALSE))","v":""},{"$f":"IF($J155=\"\",IF($I155=\"\",\"\",VLOOKUP($I155, Resurssiluettelo!$C$21:$X$40,Ohjeistus!Q$98,FALSE)),VLOOKUP($J155, Resurssiluettelo!$D$21:$X$40,Ohjeistus!Q$98-1,FALSE))","v":""},{"$f":"IF($J155=\"\",IF($I155=\"\",\"\",VLOOKUP($I155, Resurssiluettelo!$C$21:$X$40,Ohjeistus!R$98,FALSE)),VLOOKUP($J155, Resurssiluettelo!$D$21:$X$40,Ohjeistus!R$98-1,FALSE))","v":""},{"$f":"IF($J155=\"\",IF($I155=\"\",\"\",VLOOKUP($I155, Resurssiluettelo!$C$21:$X$40,Ohjeistus!S$98,FALSE)),VLOOKUP($J155, Resurssiluettelo!$D$21:$X$40,Ohjeistus!S$98-1,FALSE))","v":""},{"$f":"IF($J155=\"\",IF($I155=\"\",\"\",VLOOKUP($I155, Resurssiluettelo!$C$21:$X$40,Ohjeistus!T$98,FALSE)),VLOOKUP($J155, Resurssiluettelo!$D$21:$X$40,Ohjeistus!T$98-1,FALSE))","v":""},{"$f":"IF($J155=\"\",\"\",VLOOKUP($J155, Resurssiluettelo!$D$21:$X$40,Ohjeistus!U$98-1,FALSE))","v":""},{"$f":"IF($J155=\"\",\"\",VLOOKUP($J155, Resurssiluettelo!$D$21:$X$40,Ohjeistus!V$98-1,FALSE))","v":""},{"$f":"IF($J155=\"\",\"\",VLOOKUP($J155, Resurssiluettelo!$D$21:$X$40,Ohjeistus!W$98-1,FALSE))","v":""},{"$f":"IF($J155=\"\",\"\",VLOOKUP($J155, Resurssiluettelo!$D$21:$X$40,Ohjeistus!X$98-1,FALSE))","v":""},{"$f":"IF(Resurssiluettelo!E202=0,\"\",Resurssiluettelo!E202)","v":""},{"$f":"IF(Resurssiluettelo!F202=0,\"\",YEAR(Resurssiluettelo!F202)&IF(MONTH(Resurssiluettelo!F202)<10,\"0\",\"\")&MONTH(Resurssiluettelo!F202)&IF(DAY(Resurssiluettelo!F202)<10,\"0\",\"\")&DAY(Resurssiluettelo!F202))","v":""},{"$f":"IF(Resurssiluettelo!G202=0,\"\",Resurssiluettelo!G202)","v":""},{"$f":"IF(Resurssiluettelo!H202=0,\"\",Resurssiluettelo!H202)","v":""},{"$f":"IF(Resurssiluettelo!I202=0,\"\",Resurssiluettelo!I202)","v":""},{"$f":"IF(Resurssiluettelo!W202=0,\"\",Resurssiluettelo!W202)","v":""},{"$f":"IF(Resurssiluettelo!X202=0,\"\",Resurssiluettelo!X202)","v":""},{"$f":"IF(Resurssiluettelo!Y202=0,\"\",Resurssiluettelo!Y202)","v":""},{"$f":"IF(Resurssiluettelo!Z202=0,\"\",Resurssiluettelo!Z202)","v":""},{"$f":"IF(Resurssiluettelo!AA202=0,\"\",Resurssiluettelo!AA202)","v":""},{"$f":"IF(Resurssiluettelo!AB202=0,\"\",Resurssiluettelo!AB202)","v":""},{"$f":"IF(Resurssiluettelo!AC202=0,\"\",Resurssiluettelo!AC202)","v":""},{"$f":"IF(Resurssiluettelo!AD202=0,\"\",Resurssiluettelo!AD202)","v":""},{"$f":"IF(Resurssiluettelo!J202=0,\"\",Resurssiluettelo!J202)","v":""},{"$f":"IF(Resurssiluettelo!K202=0,\"\",Resurssiluettelo!K202)","v":""},{"$f":"IF(Resurssiluettelo!L202=0,\"\",Resurssiluettelo!L202)","v":""},{"$f":"IF(Resurssiluettelo!M202=0,\"\",Resurssiluettelo!M202)","v":""},{"$f":"IF(Resurssiluettelo!N202=0,\"\",Resurssiluettelo!N202)","v":""},{"$f":"IF(Resurssiluettelo!O202=0,\"\",Resurssiluettelo!O202)","v":""},{"$f":"IF(Resurssiluettelo!P202=0,\"\",Resurssiluettelo!P202)","v":""},{"$f":"IF(Resurssiluettelo!Q202=0,\"\",Resurssiluettelo!Q202)","v":""},{"$f":"IF(Resurssiluettelo!R202=0,\"\",Resurssiluettelo!R202)","v":""},{"$f":"IF(Resurssiluettelo!S202=0,\"\",Resurssiluettelo!S202)","v":""},{"$f":"IF(Resurssiluettelo!T202=0,\"\",Resurssiluettelo!T202)","v":""},{"$f":"IF(Resurssiluettelo!U202=0,\"\",Resurssiluettelo!U202)","v":""},{"$f":"IF(Resurssiluettelo!V202=0,\"\",Resurssiluettelo!V202)","v":""}]
[153,{"$f":"IF(Y156=\"\",\"\",Resurssiluettelo!$G$1)","v":""},{"$f":"IF(Y156=\"\",\"\",Resurssiluettelo!$H$14)","v":""},{"$f":"IF(Y156=\"\",\"\",Resurssiluettelo!$I$14)","v":""},{"$f":"IF(Y156=\"\",\"\",Resurssiluettelo!$J$14)","v":""},{"$f":"IF(Y156=\"\",\"\",Resurssiluettelo!$N$14)","v":""},{"$f":"IF(Y156=\"\",\"\",Resurssiluettelo!$O$14)","v":""},{"$f":"IF(Resurssiluettelo!B203=0,\"\",Resurssiluettelo!B203)","v":""},{"$f":"IF(Resurssiluettelo!C203=0,\"\",Resurssiluettelo!C203)","v":""},{"$f":"IF(Resurssiluettelo!D203=0,\"\",Resurssiluettelo!D203)","v":""},{"$f":"IF($J156=\"\",\"\",VLOOKUP($J156, Resurssiluettelo!$D$21:$X$40,Ohjeistus!K$98-1,FALSE))","v":""},{"$f":"IF($J156=\"\",\"\",VLOOKUP($J156, Resurssiluettelo!$D$21:$X$40,Ohjeistus!L$98-1,FALSE))","v":""},{"$f":"IF($J156=\"\",\"\",VLOOKUP($J156, Resurssiluettelo!$D$21:$X$40,Ohjeistus!M$98-1,FALSE))","v":""},{"$f":"IF($J156=\"\",\"\",VLOOKUP($J156, Resurssiluettelo!$D$21:$X$40,Ohjeistus!N$98-1,FALSE))","v":""},{"$f":"IF($J156=\"\",\"\",VLOOKUP($J156, Resurssiluettelo!$D$21:$X$40,Ohjeistus!O$98-1,FALSE))","v":""},{"$f":"IF($J156=\"\",\"\",VLOOKUP($J156, Resurssiluettelo!$D$21:$X$40,Ohjeistus!P$98-1,FALSE))","v":""},{"$f":"IF($J156=\"\",IF($I156=\"\",\"\",VLOOKUP($I156, Resurssiluettelo!$C$21:$X$40,Ohjeistus!Q$98,FALSE)),VLOOKUP($J156, Resurssiluettelo!$D$21:$X$40,Ohjeistus!Q$98-1,FALSE))","v":""},{"$f":"IF($J156=\"\",IF($I156=\"\",\"\",VLOOKUP($I156, Resurssiluettelo!$C$21:$X$40,Ohjeistus!R$98,FALSE)),VLOOKUP($J156, Resurssiluettelo!$D$21:$X$40,Ohjeistus!R$98-1,FALSE))","v":""},{"$f":"IF($J156=\"\",IF($I156=\"\",\"\",VLOOKUP($I156, Resurssiluettelo!$C$21:$X$40,Ohjeistus!S$98,FALSE)),VLOOKUP($J156, Resurssiluettelo!$D$21:$X$40,Ohjeistus!S$98-1,FALSE))","v":""},{"$f":"IF($J156=\"\",IF($I156=\"\",\"\",VLOOKUP($I156, Resurssiluettelo!$C$21:$X$40,Ohjeistus!T$98,FALSE)),VLOOKUP($J156, Resurssiluettelo!$D$21:$X$40,Ohjeistus!T$98-1,FALSE))","v":""},{"$f":"IF($J156=\"\",\"\",VLOOKUP($J156, Resurssiluettelo!$D$21:$X$40,Ohjeistus!U$98-1,FALSE))","v":""},{"$f":"IF($J156=\"\",\"\",VLOOKUP($J156, Resurssiluettelo!$D$21:$X$40,Ohjeistus!V$98-1,FALSE))","v":""},{"$f":"IF($J156=\"\",\"\",VLOOKUP($J156, Resurssiluettelo!$D$21:$X$40,Ohjeistus!W$98-1,FALSE))","v":""},{"$f":"IF($J156=\"\",\"\",VLOOKUP($J156, Resurssiluettelo!$D$21:$X$40,Ohjeistus!X$98-1,FALSE))","v":""},{"$f":"IF(Resurssiluettelo!E203=0,\"\",Resurssiluettelo!E203)","v":""},{"$f":"IF(Resurssiluettelo!F203=0,\"\",YEAR(Resurssiluettelo!F203)&IF(MONTH(Resurssiluettelo!F203)<10,\"0\",\"\")&MONTH(Resurssiluettelo!F203)&IF(DAY(Resurssiluettelo!F203)<10,\"0\",\"\")&DAY(Resurssiluettelo!F203))","v":""},{"$f":"IF(Resurssiluettelo!G203=0,\"\",Resurssiluettelo!G203)","v":""},{"$f":"IF(Resurssiluettelo!H203=0,\"\",Resurssiluettelo!H203)","v":""},{"$f":"IF(Resurssiluettelo!I203=0,\"\",Resurssiluettelo!I203)","v":""},{"$f":"IF(Resurssiluettelo!W203=0,\"\",Resurssiluettelo!W203)","v":""},{"$f":"IF(Resurssiluettelo!X203=0,\"\",Resurssiluettelo!X203)","v":""},{"$f":"IF(Resurssiluettelo!Y203=0,\"\",Resurssiluettelo!Y203)","v":""},{"$f":"IF(Resurssiluettelo!Z203=0,\"\",Resurssiluettelo!Z203)","v":""},{"$f":"IF(Resurssiluettelo!AA203=0,\"\",Resurssiluettelo!AA203)","v":""},{"$f":"IF(Resurssiluettelo!AB203=0,\"\",Resurssiluettelo!AB203)","v":""},{"$f":"IF(Resurssiluettelo!AC203=0,\"\",Resurssiluettelo!AC203)","v":""},{"$f":"IF(Resurssiluettelo!AD203=0,\"\",Resurssiluettelo!AD203)","v":""},{"$f":"IF(Resurssiluettelo!J203=0,\"\",Resurssiluettelo!J203)","v":""},{"$f":"IF(Resurssiluettelo!K203=0,\"\",Resurssiluettelo!K203)","v":""},{"$f":"IF(Resurssiluettelo!L203=0,\"\",Resurssiluettelo!L203)","v":""},{"$f":"IF(Resurssiluettelo!M203=0,\"\",Resurssiluettelo!M203)","v":""},{"$f":"IF(Resurssiluettelo!N203=0,\"\",Resurssiluettelo!N203)","v":""},{"$f":"IF(Resurssiluettelo!O203=0,\"\",Resurssiluettelo!O203)","v":""},{"$f":"IF(Resurssiluettelo!P203=0,\"\",Resurssiluettelo!P203)","v":""},{"$f":"IF(Resurssiluettelo!Q203=0,\"\",Resurssiluettelo!Q203)","v":""},{"$f":"IF(Resurssiluettelo!R203=0,\"\",Resurssiluettelo!R203)","v":""},{"$f":"IF(Resurssiluettelo!S203=0,\"\",Resurssiluettelo!S203)","v":""},{"$f":"IF(Resurssiluettelo!T203=0,\"\",Resurssiluettelo!T203)","v":""},{"$f":"IF(Resurssiluettelo!U203=0,\"\",Resurssiluettelo!U203)","v":""},{"$f":"IF(Resurssiluettelo!V203=0,\"\",Resurssiluettelo!V203)","v":""}]
[154,{"$f":"IF(Y157=\"\",\"\",Resurssiluettelo!$G$1)","v":""},{"$f":"IF(Y157=\"\",\"\",Resurssiluettelo!$H$14)","v":""},{"$f":"IF(Y157=\"\",\"\",Resurssiluettelo!$I$14)","v":""},{"$f":"IF(Y157=\"\",\"\",Resurssiluettelo!$J$14)","v":""},{"$f":"IF(Y157=\"\",\"\",Resurssiluettelo!$N$14)","v":""},{"$f":"IF(Y157=\"\",\"\",Resurssiluettelo!$O$14)","v":""},{"$f":"IF(Resurssiluettelo!B204=0,\"\",Resurssiluettelo!B204)","v":""},{"$f":"IF(Resurssiluettelo!C204=0,\"\",Resurssiluettelo!C204)","v":""},{"$f":"IF(Resurssiluettelo!D204=0,\"\",Resurssiluettelo!D204)","v":""},{"$f":"IF($J157=\"\",\"\",VLOOKUP($J157, Resurssiluettelo!$D$21:$X$40,Ohjeistus!K$98-1,FALSE))","v":""},{"$f":"IF($J157=\"\",\"\",VLOOKUP($J157, Resurssiluettelo!$D$21:$X$40,Ohjeistus!L$98-1,FALSE))","v":""},{"$f":"IF($J157=\"\",\"\",VLOOKUP($J157, Resurssiluettelo!$D$21:$X$40,Ohjeistus!M$98-1,FALSE))","v":""},{"$f":"IF($J157=\"\",\"\",VLOOKUP($J157, Resurssiluettelo!$D$21:$X$40,Ohjeistus!N$98-1,FALSE))","v":""},{"$f":"IF($J157=\"\",\"\",VLOOKUP($J157, Resurssiluettelo!$D$21:$X$40,Ohjeistus!O$98-1,FALSE))","v":""},{"$f":"IF($J157=\"\",\"\",VLOOKUP($J157, Resurssiluettelo!$D$21:$X$40,Ohjeistus!P$98-1,FALSE))","v":""},{"$f":"IF($J157=\"\",IF($I157=\"\",\"\",VLOOKUP($I157, Resurssiluettelo!$C$21:$X$40,Ohjeistus!Q$98,FALSE)),VLOOKUP($J157, Resurssiluettelo!$D$21:$X$40,Ohjeistus!Q$98-1,FALSE))","v":""},{"$f":"IF($J157=\"\",IF($I157=\"\",\"\",VLOOKUP($I157, Resurssiluettelo!$C$21:$X$40,Ohjeistus!R$98,FALSE)),VLOOKUP($J157, Resurssiluettelo!$D$21:$X$40,Ohjeistus!R$98-1,FALSE))","v":""},{"$f":"IF($J157=\"\",IF($I157=\"\",\"\",VLOOKUP($I157, Resurssiluettelo!$C$21:$X$40,Ohjeistus!S$98,FALSE)),VLOOKUP($J157, Resurssiluettelo!$D$21:$X$40,Ohjeistus!S$98-1,FALSE))","v":""},{"$f":"IF($J157=\"\",IF($I157=\"\",\"\",VLOOKUP($I157, Resurssiluettelo!$C$21:$X$40,Ohjeistus!T$98,FALSE)),VLOOKUP($J157, Resurssiluettelo!$D$21:$X$40,Ohjeistus!T$98-1,FALSE))","v":""},{"$f":"IF($J157=\"\",\"\",VLOOKUP($J157, Resurssiluettelo!$D$21:$X$40,Ohjeistus!U$98-1,FALSE))","v":""},{"$f":"IF($J157=\"\",\"\",VLOOKUP($J157, Resurssiluettelo!$D$21:$X$40,Ohjeistus!V$98-1,FALSE))","v":""},{"$f":"IF($J157=\"\",\"\",VLOOKUP($J157, Resurssiluettelo!$D$21:$X$40,Ohjeistus!W$98-1,FALSE))","v":""},{"$f":"IF($J157=\"\",\"\",VLOOKUP($J157, Resurssiluettelo!$D$21:$X$40,Ohjeistus!X$98-1,FALSE))","v":""},{"$f":"IF(Resurssiluettelo!E204=0,\"\",Resurssiluettelo!E204)","v":""},{"$f":"IF(Resurssiluettelo!F204=0,\"\",YEAR(Resurssiluettelo!F204)&IF(MONTH(Resurssiluettelo!F204)<10,\"0\",\"\")&MONTH(Resurssiluettelo!F204)&IF(DAY(Resurssiluettelo!F204)<10,\"0\",\"\")&DAY(Resurssiluettelo!F204))","v":""},{"$f":"IF(Resurssiluettelo!G204=0,\"\",Resurssiluettelo!G204)","v":""},{"$f":"IF(Resurssiluettelo!H204=0,\"\",Resurssiluettelo!H204)","v":""},{"$f":"IF(Resurssiluettelo!I204=0,\"\",Resurssiluettelo!I204)","v":""},{"$f":"IF(Resurssiluettelo!W204=0,\"\",Resurssiluettelo!W204)","v":""},{"$f":"IF(Resurssiluettelo!X204=0,\"\",Resurssiluettelo!X204)","v":""},{"$f":"IF(Resurssiluettelo!Y204=0,\"\",Resurssiluettelo!Y204)","v":""},{"$f":"IF(Resurssiluettelo!Z204=0,\"\",Resurssiluettelo!Z204)","v":""},{"$f":"IF(Resurssiluettelo!AA204=0,\"\",Resurssiluettelo!AA204)","v":""},{"$f":"IF(Resurssiluettelo!AB204=0,\"\",Resurssiluettelo!AB204)","v":""},{"$f":"IF(Resurssiluettelo!AC204=0,\"\",Resurssiluettelo!AC204)","v":""},{"$f":"IF(Resurssiluettelo!AD204=0,\"\",Resurssiluettelo!AD204)","v":""},{"$f":"IF(Resurssiluettelo!J204=0,\"\",Resurssiluettelo!J204)","v":""},{"$f":"IF(Resurssiluettelo!K204=0,\"\",Resurssiluettelo!K204)","v":""},{"$f":"IF(Resurssiluettelo!L204=0,\"\",Resurssiluettelo!L204)","v":""},{"$f":"IF(Resurssiluettelo!M204=0,\"\",Resurssiluettelo!M204)","v":""},{"$f":"IF(Resurssiluettelo!N204=0,\"\",Resurssiluettelo!N204)","v":""},{"$f":"IF(Resurssiluettelo!O204=0,\"\",Resurssiluettelo!O204)","v":""},{"$f":"IF(Resurssiluettelo!P204=0,\"\",Resurssiluettelo!P204)","v":""},{"$f":"IF(Resurssiluettelo!Q204=0,\"\",Resurssiluettelo!Q204)","v":""},{"$f":"IF(Resurssiluettelo!R204=0,\"\",Resurssiluettelo!R204)","v":""},{"$f":"IF(Resurssiluettelo!S204=0,\"\",Resurssiluettelo!S204)","v":""},{"$f":"IF(Resurssiluettelo!T204=0,\"\",Resurssiluettelo!T204)","v":""},{"$f":"IF(Resurssiluettelo!U204=0,\"\",Resurssiluettelo!U204)","v":""},{"$f":"IF(Resurssiluettelo!V204=0,\"\",Resurssiluettelo!V204)","v":""}]
[155,{"$f":"IF(Y158=\"\",\"\",Resurssiluettelo!$G$1)","v":""},{"$f":"IF(Y158=\"\",\"\",Resurssiluettelo!$H$14)","v":""},{"$f":"IF(Y158=\"\",\"\",Resurssiluettelo!$I$14)","v":""},{"$f":"IF(Y158=\"\",\"\",Resurssiluettelo!$J$14)","v":""},{"$f":"IF(Y158=\"\",\"\",Resurssiluettelo!$N$14)","v":""},{"$f":"IF(Y158=\"\",\"\",Resurssiluettelo!$O$14)","v":""},{"$f":"IF(Resurssiluettelo!B205=0,\"\",Resurssiluettelo!B205)","v":""},{"$f":"IF(Resurssiluettelo!C205=0,\"\",Resurssiluettelo!C205)","v":""},{"$f":"IF(Resurssiluettelo!D205=0,\"\",Resurssiluettelo!D205)","v":""},{"$f":"IF($J158=\"\",\"\",VLOOKUP($J158, Resurssiluettelo!$D$21:$X$40,Ohjeistus!K$98-1,FALSE))","v":""},{"$f":"IF($J158=\"\",\"\",VLOOKUP($J158, Resurssiluettelo!$D$21:$X$40,Ohjeistus!L$98-1,FALSE))","v":""},{"$f":"IF($J158=\"\",\"\",VLOOKUP($J158, Resurssiluettelo!$D$21:$X$40,Ohjeistus!M$98-1,FALSE))","v":""},{"$f":"IF($J158=\"\",\"\",VLOOKUP($J158, Resurssiluettelo!$D$21:$X$40,Ohjeistus!N$98-1,FALSE))","v":""},{"$f":"IF($J158=\"\",\"\",VLOOKUP($J158, Resurssiluettelo!$D$21:$X$40,Ohjeistus!O$98-1,FALSE))","v":""},{"$f":"IF($J158=\"\",\"\",VLOOKUP($J158, Resurssiluettelo!$D$21:$X$40,Ohjeistus!P$98-1,FALSE))","v":""},{"$f":"IF($J158=\"\",IF($I158=\"\",\"\",VLOOKUP($I158, Resurssiluettelo!$C$21:$X$40,Ohjeistus!Q$98,FALSE)),VLOOKUP($J158, Resurssiluettelo!$D$21:$X$40,Ohjeistus!Q$98-1,FALSE))","v":""},{"$f":"IF($J158=\"\",IF($I158=\"\",\"\",VLOOKUP($I158, Resurssiluettelo!$C$21:$X$40,Ohjeistus!R$98,FALSE)),VLOOKUP($J158, Resurssiluettelo!$D$21:$X$40,Ohjeistus!R$98-1,FALSE))","v":""},{"$f":"IF($J158=\"\",IF($I158=\"\",\"\",VLOOKUP($I158, Resurssiluettelo!$C$21:$X$40,Ohjeistus!S$98,FALSE)),VLOOKUP($J158, Resurssiluettelo!$D$21:$X$40,Ohjeistus!S$98-1,FALSE))","v":""},{"$f":"IF($J158=\"\",IF($I158=\"\",\"\",VLOOKUP($I158, Resurssiluettelo!$C$21:$X$40,Ohjeistus!T$98,FALSE)),VLOOKUP($J158, Resurssiluettelo!$D$21:$X$40,Ohjeistus!T$98-1,FALSE))","v":""},{"$f":"IF($J158=\"\",\"\",VLOOKUP($J158, Resurssiluettelo!$D$21:$X$40,Ohjeistus!U$98-1,FALSE))","v":""},{"$f":"IF($J158=\"\",\"\",VLOOKUP($J158, Resurssiluettelo!$D$21:$X$40,Ohjeistus!V$98-1,FALSE))","v":""},{"$f":"IF($J158=\"\",\"\",VLOOKUP($J158, Resurssiluettelo!$D$21:$X$40,Ohjeistus!W$98-1,FALSE))","v":""},{"$f":"IF($J158=\"\",\"\",VLOOKUP($J158, Resurssiluettelo!$D$21:$X$40,Ohjeistus!X$98-1,FALSE))","v":""},{"$f":"IF(Resurssiluettelo!E205=0,\"\",Resurssiluettelo!E205)","v":""},{"$f":"IF(Resurssiluettelo!F205=0,\"\",YEAR(Resurssiluettelo!F205)&IF(MONTH(Resurssiluettelo!F205)<10,\"0\",\"\")&MONTH(Resurssiluettelo!F205)&IF(DAY(Resurssiluettelo!F205)<10,\"0\",\"\")&DAY(Resurssiluettelo!F205))","v":""},{"$f":"IF(Resurssiluettelo!G205=0,\"\",Resurssiluettelo!G205)","v":""},{"$f":"IF(Resurssiluettelo!H205=0,\"\",Resurssiluettelo!H205)","v":""},{"$f":"IF(Resurssiluettelo!I205=0,\"\",Resurssiluettelo!I205)","v":""},{"$f":"IF(Resurssiluettelo!W205=0,\"\",Resurssiluettelo!W205)","v":""},{"$f":"IF(Resurssiluettelo!X205=0,\"\",Resurssiluettelo!X205)","v":""},{"$f":"IF(Resurssiluettelo!Y205=0,\"\",Resurssiluettelo!Y205)","v":""},{"$f":"IF(Resurssiluettelo!Z205=0,\"\",Resurssiluettelo!Z205)","v":""},{"$f":"IF(Resurssiluettelo!AA205=0,\"\",Resurssiluettelo!AA205)","v":""},{"$f":"IF(Resurssiluettelo!AB205=0,\"\",Resurssiluettelo!AB205)","v":""},{"$f":"IF(Resurssiluettelo!AC205=0,\"\",Resurssiluettelo!AC205)","v":""},{"$f":"IF(Resurssiluettelo!AD205=0,\"\",Resurssiluettelo!AD205)","v":""},{"$f":"IF(Resurssiluettelo!J205=0,\"\",Resurssiluettelo!J205)","v":""},{"$f":"IF(Resurssiluettelo!K205=0,\"\",Resurssiluettelo!K205)","v":""},{"$f":"IF(Resurssiluettelo!L205=0,\"\",Resurssiluettelo!L205)","v":""},{"$f":"IF(Resurssiluettelo!M205=0,\"\",Resurssiluettelo!M205)","v":""},{"$f":"IF(Resurssiluettelo!N205=0,\"\",Resurssiluettelo!N205)","v":""},{"$f":"IF(Resurssiluettelo!O205=0,\"\",Resurssiluettelo!O205)","v":""},{"$f":"IF(Resurssiluettelo!P205=0,\"\",Resurssiluettelo!P205)","v":""},{"$f":"IF(Resurssiluettelo!Q205=0,\"\",Resurssiluettelo!Q205)","v":""},{"$f":"IF(Resurssiluettelo!R205=0,\"\",Resurssiluettelo!R205)","v":""},{"$f":"IF(Resurssiluettelo!S205=0,\"\",Resurssiluettelo!S205)","v":""},{"$f":"IF(Resurssiluettelo!T205=0,\"\",Resurssiluettelo!T205)","v":""},{"$f":"IF(Resurssiluettelo!U205=0,\"\",Resurssiluettelo!U205)","v":""},{"$f":"IF(Resurssiluettelo!V205=0,\"\",Resurssiluettelo!V205)","v":""}]
[156,{"$f":"IF(Y159=\"\",\"\",Resurssiluettelo!$G$1)","v":""},{"$f":"IF(Y159=\"\",\"\",Resurssiluettelo!$H$14)","v":""},{"$f":"IF(Y159=\"\",\"\",Resurssiluettelo!$I$14)","v":""},{"$f":"IF(Y159=\"\",\"\",Resurssiluettelo!$J$14)","v":""},{"$f":"IF(Y159=\"\",\"\",Resurssiluettelo!$N$14)","v":""},{"$f":"IF(Y159=\"\",\"\",Resurssiluettelo!$O$14)","v":""},{"$f":"IF(Resurssiluettelo!B206=0,\"\",Resurssiluettelo!B206)","v":""},{"$f":"IF(Resurssiluettelo!C206=0,\"\",Resurssiluettelo!C206)","v":""},{"$f":"IF(Resurssiluettelo!D206=0,\"\",Resurssiluettelo!D206)","v":""},{"$f":"IF($J159=\"\",\"\",VLOOKUP($J159, Resurssiluettelo!$D$21:$X$40,Ohjeistus!K$98-1,FALSE))","v":""},{"$f":"IF($J159=\"\",\"\",VLOOKUP($J159, Resurssiluettelo!$D$21:$X$40,Ohjeistus!L$98-1,FALSE))","v":""},{"$f":"IF($J159=\"\",\"\",VLOOKUP($J159, Resurssiluettelo!$D$21:$X$40,Ohjeistus!M$98-1,FALSE))","v":""},{"$f":"IF($J159=\"\",\"\",VLOOKUP($J159, Resurssiluettelo!$D$21:$X$40,Ohjeistus!N$98-1,FALSE))","v":""},{"$f":"IF($J159=\"\",\"\",VLOOKUP($J159, Resurssiluettelo!$D$21:$X$40,Ohjeistus!O$98-1,FALSE))","v":""},{"$f":"IF($J159=\"\",\"\",VLOOKUP($J159, Resurssiluettelo!$D$21:$X$40,Ohjeistus!P$98-1,FALSE))","v":""},{"$f":"IF($J159=\"\",IF($I159=\"\",\"\",VLOOKUP($I159, Resurssiluettelo!$C$21:$X$40,Ohjeistus!Q$98,FALSE)),VLOOKUP($J159, Resurssiluettelo!$D$21:$X$40,Ohjeistus!Q$98-1,FALSE))","v":""},{"$f":"IF($J159=\"\",IF($I159=\"\",\"\",VLOOKUP($I159, Resurssiluettelo!$C$21:$X$40,Ohjeistus!R$98,FALSE)),VLOOKUP($J159, Resurssiluettelo!$D$21:$X$40,Ohjeistus!R$98-1,FALSE))","v":""},{"$f":"IF($J159=\"\",IF($I159=\"\",\"\",VLOOKUP($I159, Resurssiluettelo!$C$21:$X$40,Ohjeistus!S$98,FALSE)),VLOOKUP($J159, Resurssiluettelo!$D$21:$X$40,Ohjeistus!S$98-1,FALSE))","v":""},{"$f":"IF($J159=\"\",IF($I159=\"\",\"\",VLOOKUP($I159, Resurssiluettelo!$C$21:$X$40,Ohjeistus!T$98,FALSE)),VLOOKUP($J159, Resurssiluettelo!$D$21:$X$40,Ohjeistus!T$98-1,FALSE))","v":""},{"$f":"IF($J159=\"\",\"\",VLOOKUP($J159, Resurssiluettelo!$D$21:$X$40,Ohjeistus!U$98-1,FALSE))","v":""},{"$f":"IF($J159=\"\",\"\",VLOOKUP($J159, Resurssiluettelo!$D$21:$X$40,Ohjeistus!V$98-1,FALSE))","v":""},{"$f":"IF($J159=\"\",\"\",VLOOKUP($J159, Resurssiluettelo!$D$21:$X$40,Ohjeistus!W$98-1,FALSE))","v":""},{"$f":"IF($J159=\"\",\"\",VLOOKUP($J159, Resurssiluettelo!$D$21:$X$40,Ohjeistus!X$98-1,FALSE))","v":""},{"$f":"IF(Resurssiluettelo!E206=0,\"\",Resurssiluettelo!E206)","v":""},{"$f":"IF(Resurssiluettelo!F206=0,\"\",YEAR(Resurssiluettelo!F206)&IF(MONTH(Resurssiluettelo!F206)<10,\"0\",\"\")&MONTH(Resurssiluettelo!F206)&IF(DAY(Resurssiluettelo!F206)<10,\"0\",\"\")&DAY(Resurssiluettelo!F206))","v":""},{"$f":"IF(Resurssiluettelo!G206=0,\"\",Resurssiluettelo!G206)","v":""},{"$f":"IF(Resurssiluettelo!H206=0,\"\",Resurssiluettelo!H206)","v":""},{"$f":"IF(Resurssiluettelo!I206=0,\"\",Resurssiluettelo!I206)","v":""},{"$f":"IF(Resurssiluettelo!W206=0,\"\",Resurssiluettelo!W206)","v":""},{"$f":"IF(Resurssiluettelo!X206=0,\"\",Resurssiluettelo!X206)","v":""},{"$f":"IF(Resurssiluettelo!Y206=0,\"\",Resurssiluettelo!Y206)","v":""},{"$f":"IF(Resurssiluettelo!Z206=0,\"\",Resurssiluettelo!Z206)","v":""},{"$f":"IF(Resurssiluettelo!AA206=0,\"\",Resurssiluettelo!AA206)","v":""},{"$f":"IF(Resurssiluettelo!AB206=0,\"\",Resurssiluettelo!AB206)","v":""},{"$f":"IF(Resurssiluettelo!AC206=0,\"\",Resurssiluettelo!AC206)","v":""},{"$f":"IF(Resurssiluettelo!AD206=0,\"\",Resurssiluettelo!AD206)","v":""},{"$f":"IF(Resurssiluettelo!J206=0,\"\",Resurssiluettelo!J206)","v":""},{"$f":"IF(Resurssiluettelo!K206=0,\"\",Resurssiluettelo!K206)","v":""},{"$f":"IF(Resurssiluettelo!L206=0,\"\",Resurssiluettelo!L206)","v":""},{"$f":"IF(Resurssiluettelo!M206=0,\"\",Resurssiluettelo!M206)","v":""},{"$f":"IF(Resurssiluettelo!N206=0,\"\",Resurssiluettelo!N206)","v":""},{"$f":"IF(Resurssiluettelo!O206=0,\"\",Resurssiluettelo!O206)","v":""},{"$f":"IF(Resurssiluettelo!P206=0,\"\",Resurssiluettelo!P206)","v":""},{"$f":"IF(Resurssiluettelo!Q206=0,\"\",Resurssiluettelo!Q206)","v":""},{"$f":"IF(Resurssiluettelo!R206=0,\"\",Resurssiluettelo!R206)","v":""},{"$f":"IF(Resurssiluettelo!S206=0,\"\",Resurssiluettelo!S206)","v":""},{"$f":"IF(Resurssiluettelo!T206=0,\"\",Resurssiluettelo!T206)","v":""},{"$f":"IF(Resurssiluettelo!U206=0,\"\",Resurssiluettelo!U206)","v":""},{"$f":"IF(Resurssiluettelo!V206=0,\"\",Resurssiluettelo!V206)","v":""}]
[157,{"$f":"IF(Y160=\"\",\"\",Resurssiluettelo!$G$1)","v":""},{"$f":"IF(Y160=\"\",\"\",Resurssiluettelo!$H$14)","v":""},{"$f":"IF(Y160=\"\",\"\",Resurssiluettelo!$I$14)","v":""},{"$f":"IF(Y160=\"\",\"\",Resurssiluettelo!$J$14)","v":""},{"$f":"IF(Y160=\"\",\"\",Resurssiluettelo!$N$14)","v":""},{"$f":"IF(Y160=\"\",\"\",Resurssiluettelo!$O$14)","v":""},{"$f":"IF(Resurssiluettelo!B207=0,\"\",Resurssiluettelo!B207)","v":""},{"$f":"IF(Resurssiluettelo!C207=0,\"\",Resurssiluettelo!C207)","v":""},{"$f":"IF(Resurssiluettelo!D207=0,\"\",Resurssiluettelo!D207)","v":""},{"$f":"IF($J160=\"\",\"\",VLOOKUP($J160, Resurssiluettelo!$D$21:$X$40,Ohjeistus!K$98-1,FALSE))","v":""},{"$f":"IF($J160=\"\",\"\",VLOOKUP($J160, Resurssiluettelo!$D$21:$X$40,Ohjeistus!L$98-1,FALSE))","v":""},{"$f":"IF($J160=\"\",\"\",VLOOKUP($J160, Resurssiluettelo!$D$21:$X$40,Ohjeistus!M$98-1,FALSE))","v":""},{"$f":"IF($J160=\"\",\"\",VLOOKUP($J160, Resurssiluettelo!$D$21:$X$40,Ohjeistus!N$98-1,FALSE))","v":""},{"$f":"IF($J160=\"\",\"\",VLOOKUP($J160, Resurssiluettelo!$D$21:$X$40,Ohjeistus!O$98-1,FALSE))","v":""},{"$f":"IF($J160=\"\",\"\",VLOOKUP($J160, Resurssiluettelo!$D$21:$X$40,Ohjeistus!P$98-1,FALSE))","v":""},{"$f":"IF($J160=\"\",IF($I160=\"\",\"\",VLOOKUP($I160, Resurssiluettelo!$C$21:$X$40,Ohjeistus!Q$98,FALSE)),VLOOKUP($J160, Resurssiluettelo!$D$21:$X$40,Ohjeistus!Q$98-1,FALSE))","v":""},{"$f":"IF($J160=\"\",IF($I160=\"\",\"\",VLOOKUP($I160, Resurssiluettelo!$C$21:$X$40,Ohjeistus!R$98,FALSE)),VLOOKUP($J160, Resurssiluettelo!$D$21:$X$40,Ohjeistus!R$98-1,FALSE))","v":""},{"$f":"IF($J160=\"\",IF($I160=\"\",\"\",VLOOKUP($I160, Resurssiluettelo!$C$21:$X$40,Ohjeistus!S$98,FALSE)),VLOOKUP($J160, Resurssiluettelo!$D$21:$X$40,Ohjeistus!S$98-1,FALSE))","v":""},{"$f":"IF($J160=\"\",IF($I160=\"\",\"\",VLOOKUP($I160, Resurssiluettelo!$C$21:$X$40,Ohjeistus!T$98,FALSE)),VLOOKUP($J160, Resurssiluettelo!$D$21:$X$40,Ohjeistus!T$98-1,FALSE))","v":""},{"$f":"IF($J160=\"\",\"\",VLOOKUP($J160, Resurssiluettelo!$D$21:$X$40,Ohjeistus!U$98-1,FALSE))","v":""},{"$f":"IF($J160=\"\",\"\",VLOOKUP($J160, Resurssiluettelo!$D$21:$X$40,Ohjeistus!V$98-1,FALSE))","v":""},{"$f":"IF($J160=\"\",\"\",VLOOKUP($J160, Resurssiluettelo!$D$21:$X$40,Ohjeistus!W$98-1,FALSE))","v":""},{"$f":"IF($J160=\"\",\"\",VLOOKUP($J160, Resurssiluettelo!$D$21:$X$40,Ohjeistus!X$98-1,FALSE))","v":""},{"$f":"IF(Resurssiluettelo!E207=0,\"\",Resurssiluettelo!E207)","v":""},{"$f":"IF(Resurssiluettelo!F207=0,\"\",YEAR(Resurssiluettelo!F207)&IF(MONTH(Resurssiluettelo!F207)<10,\"0\",\"\")&MONTH(Resurssiluettelo!F207)&IF(DAY(Resurssiluettelo!F207)<10,\"0\",\"\")&DAY(Resurssiluettelo!F207))","v":""},{"$f":"IF(Resurssiluettelo!G207=0,\"\",Resurssiluettelo!G207)","v":""},{"$f":"IF(Resurssiluettelo!H207=0,\"\",Resurssiluettelo!H207)","v":""},{"$f":"IF(Resurssiluettelo!I207=0,\"\",Resurssiluettelo!I207)","v":""},{"$f":"IF(Resurssiluettelo!W207=0,\"\",Resurssiluettelo!W207)","v":""},{"$f":"IF(Resurssiluettelo!X207=0,\"\",Resurssiluettelo!X207)","v":""},{"$f":"IF(Resurssiluettelo!Y207=0,\"\",Resurssiluettelo!Y207)","v":""},{"$f":"IF(Resurssiluettelo!Z207=0,\"\",Resurssiluettelo!Z207)","v":""},{"$f":"IF(Resurssiluettelo!AA207=0,\"\",Resurssiluettelo!AA207)","v":""},{"$f":"IF(Resurssiluettelo!AB207=0,\"\",Resurssiluettelo!AB207)","v":""},{"$f":"IF(Resurssiluettelo!AC207=0,\"\",Resurssiluettelo!AC207)","v":""},{"$f":"IF(Resurssiluettelo!AD207=0,\"\",Resurssiluettelo!AD207)","v":""},{"$f":"IF(Resurssiluettelo!J207=0,\"\",Resurssiluettelo!J207)","v":""},{"$f":"IF(Resurssiluettelo!K207=0,\"\",Resurssiluettelo!K207)","v":""},{"$f":"IF(Resurssiluettelo!L207=0,\"\",Resurssiluettelo!L207)","v":""},{"$f":"IF(Resurssiluettelo!M207=0,\"\",Resurssiluettelo!M207)","v":""},{"$f":"IF(Resurssiluettelo!N207=0,\"\",Resurssiluettelo!N207)","v":""},{"$f":"IF(Resurssiluettelo!O207=0,\"\",Resurssiluettelo!O207)","v":""},{"$f":"IF(Resurssiluettelo!P207=0,\"\",Resurssiluettelo!P207)","v":""},{"$f":"IF(Resurssiluettelo!Q207=0,\"\",Resurssiluettelo!Q207)","v":""},{"$f":"IF(Resurssiluettelo!R207=0,\"\",Resurssiluettelo!R207)","v":""},{"$f":"IF(Resurssiluettelo!S207=0,\"\",Resurssiluettelo!S207)","v":""},{"$f":"IF(Resurssiluettelo!T207=0,\"\",Resurssiluettelo!T207)","v":""},{"$f":"IF(Resurssiluettelo!U207=0,\"\",Resurssiluettelo!U207)","v":""},{"$f":"IF(Resurssiluettelo!V207=0,\"\",Resurssiluettelo!V207)","v":""}]
[158,{"$f":"IF(Y161=\"\",\"\",Resurssiluettelo!$G$1)","v":""},{"$f":"IF(Y161=\"\",\"\",Resurssiluettelo!$H$14)","v":""},{"$f":"IF(Y161=\"\",\"\",Resurssiluettelo!$I$14)","v":""},{"$f":"IF(Y161=\"\",\"\",Resurssiluettelo!$J$14)","v":""},{"$f":"IF(Y161=\"\",\"\",Resurssiluettelo!$N$14)","v":""},{"$f":"IF(Y161=\"\",\"\",Resurssiluettelo!$O$14)","v":""},{"$f":"IF(Resurssiluettelo!B208=0,\"\",Resurssiluettelo!B208)","v":""},{"$f":"IF(Resurssiluettelo!C208=0,\"\",Resurssiluettelo!C208)","v":""},{"$f":"IF(Resurssiluettelo!D208=0,\"\",Resurssiluettelo!D208)","v":""},{"$f":"IF($J161=\"\",\"\",VLOOKUP($J161, Resurssiluettelo!$D$21:$X$40,Ohjeistus!K$98-1,FALSE))","v":""},{"$f":"IF($J161=\"\",\"\",VLOOKUP($J161, Resurssiluettelo!$D$21:$X$40,Ohjeistus!L$98-1,FALSE))","v":""},{"$f":"IF($J161=\"\",\"\",VLOOKUP($J161, Resurssiluettelo!$D$21:$X$40,Ohjeistus!M$98-1,FALSE))","v":""},{"$f":"IF($J161=\"\",\"\",VLOOKUP($J161, Resurssiluettelo!$D$21:$X$40,Ohjeistus!N$98-1,FALSE))","v":""},{"$f":"IF($J161=\"\",\"\",VLOOKUP($J161, Resurssiluettelo!$D$21:$X$40,Ohjeistus!O$98-1,FALSE))","v":""},{"$f":"IF($J161=\"\",\"\",VLOOKUP($J161, Resurssiluettelo!$D$21:$X$40,Ohjeistus!P$98-1,FALSE))","v":""},{"$f":"IF($J161=\"\",IF($I161=\"\",\"\",VLOOKUP($I161, Resurssiluettelo!$C$21:$X$40,Ohjeistus!Q$98,FALSE)),VLOOKUP($J161, Resurssiluettelo!$D$21:$X$40,Ohjeistus!Q$98-1,FALSE))","v":""},{"$f":"IF($J161=\"\",IF($I161=\"\",\"\",VLOOKUP($I161, Resurssiluettelo!$C$21:$X$40,Ohjeistus!R$98,FALSE)),VLOOKUP($J161, Resurssiluettelo!$D$21:$X$40,Ohjeistus!R$98-1,FALSE))","v":""},{"$f":"IF($J161=\"\",IF($I161=\"\",\"\",VLOOKUP($I161, Resurssiluettelo!$C$21:$X$40,Ohjeistus!S$98,FALSE)),VLOOKUP($J161, Resurssiluettelo!$D$21:$X$40,Ohjeistus!S$98-1,FALSE))","v":""},{"$f":"IF($J161=\"\",IF($I161=\"\",\"\",VLOOKUP($I161, Resurssiluettelo!$C$21:$X$40,Ohjeistus!T$98,FALSE)),VLOOKUP($J161, Resurssiluettelo!$D$21:$X$40,Ohjeistus!T$98-1,FALSE))","v":""},{"$f":"IF($J161=\"\",\"\",VLOOKUP($J161, Resurssiluettelo!$D$21:$X$40,Ohjeistus!U$98-1,FALSE))","v":""},{"$f":"IF($J161=\"\",\"\",VLOOKUP($J161, Resurssiluettelo!$D$21:$X$40,Ohjeistus!V$98-1,FALSE))","v":""},{"$f":"IF($J161=\"\",\"\",VLOOKUP($J161, Resurssiluettelo!$D$21:$X$40,Ohjeistus!W$98-1,FALSE))","v":""},{"$f":"IF($J161=\"\",\"\",VLOOKUP($J161, Resurssiluettelo!$D$21:$X$40,Ohjeistus!X$98-1,FALSE))","v":""},{"$f":"IF(Resurssiluettelo!E208=0,\"\",Resurssiluettelo!E208)","v":""},{"$f":"IF(Resurssiluettelo!F208=0,\"\",YEAR(Resurssiluettelo!F208)&IF(MONTH(Resurssiluettelo!F208)<10,\"0\",\"\")&MONTH(Resurssiluettelo!F208)&IF(DAY(Resurssiluettelo!F208)<10,\"0\",\"\")&DAY(Resurssiluettelo!F208))","v":""},{"$f":"IF(Resurssiluettelo!G208=0,\"\",Resurssiluettelo!G208)","v":""},{"$f":"IF(Resurssiluettelo!H208=0,\"\",Resurssiluettelo!H208)","v":""},{"$f":"IF(Resurssiluettelo!I208=0,\"\",Resurssiluettelo!I208)","v":""},{"$f":"IF(Resurssiluettelo!W208=0,\"\",Resurssiluettelo!W208)","v":""},{"$f":"IF(Resurssiluettelo!X208=0,\"\",Resurssiluettelo!X208)","v":""},{"$f":"IF(Resurssiluettelo!Y208=0,\"\",Resurssiluettelo!Y208)","v":""},{"$f":"IF(Resurssiluettelo!Z208=0,\"\",Resurssiluettelo!Z208)","v":""},{"$f":"IF(Resurssiluettelo!AA208=0,\"\",Resurssiluettelo!AA208)","v":""},{"$f":"IF(Resurssiluettelo!AB208=0,\"\",Resurssiluettelo!AB208)","v":""},{"$f":"IF(Resurssiluettelo!AC208=0,\"\",Resurssiluettelo!AC208)","v":""},{"$f":"IF(Resurssiluettelo!AD208=0,\"\",Resurssiluettelo!AD208)","v":""},{"$f":"IF(Resurssiluettelo!J208=0,\"\",Resurssiluettelo!J208)","v":""},{"$f":"IF(Resurssiluettelo!K208=0,\"\",Resurssiluettelo!K208)","v":""},{"$f":"IF(Resurssiluettelo!L208=0,\"\",Resurssiluettelo!L208)","v":""},{"$f":"IF(Resurssiluettelo!M208=0,\"\",Resurssiluettelo!M208)","v":""},{"$f":"IF(Resurssiluettelo!N208=0,\"\",Resurssiluettelo!N208)","v":""},{"$f":"IF(Resurssiluettelo!O208=0,\"\",Resurssiluettelo!O208)","v":""},{"$f":"IF(Resurssiluettelo!P208=0,\"\",Resurssiluettelo!P208)","v":""},{"$f":"IF(Resurssiluettelo!Q208=0,\"\",Resurssiluettelo!Q208)","v":""},{"$f":"IF(Resurssiluettelo!R208=0,\"\",Resurssiluettelo!R208)","v":""},{"$f":"IF(Resurssiluettelo!S208=0,\"\",Resurssiluettelo!S208)","v":""},{"$f":"IF(Resurssiluettelo!T208=0,\"\",Resurssiluettelo!T208)","v":""},{"$f":"IF(Resurssiluettelo!U208=0,\"\",Resurssiluettelo!U208)","v":""},{"$f":"IF(Resurssiluettelo!V208=0,\"\",Resurssiluettelo!V208)","v":""}]
[159,{"$f":"IF(Y162=\"\",\"\",Resurssiluettelo!$G$1)","v":""},{"$f":"IF(Y162=\"\",\"\",Resurssiluettelo!$H$14)","v":""},{"$f":"IF(Y162=\"\",\"\",Resurssiluettelo!$I$14)","v":""},{"$f":"IF(Y162=\"\",\"\",Resurssiluettelo!$J$14)","v":""},{"$f":"IF(Y162=\"\",\"\",Resurssiluettelo!$N$14)","v":""},{"$f":"IF(Y162=\"\",\"\",Resurssiluettelo!$O$14)","v":""},{"$f":"IF(Resurssiluettelo!B209=0,\"\",Resurssiluettelo!B209)","v":""},{"$f":"IF(Resurssiluettelo!C209=0,\"\",Resurssiluettelo!C209)","v":""},{"$f":"IF(Resurssiluettelo!D209=0,\"\",Resurssiluettelo!D209)","v":""},{"$f":"IF($J162=\"\",\"\",VLOOKUP($J162, Resurssiluettelo!$D$21:$X$40,Ohjeistus!K$98-1,FALSE))","v":""},{"$f":"IF($J162=\"\",\"\",VLOOKUP($J162, Resurssiluettelo!$D$21:$X$40,Ohjeistus!L$98-1,FALSE))","v":""},{"$f":"IF($J162=\"\",\"\",VLOOKUP($J162, Resurssiluettelo!$D$21:$X$40,Ohjeistus!M$98-1,FALSE))","v":""},{"$f":"IF($J162=\"\",\"\",VLOOKUP($J162, Resurssiluettelo!$D$21:$X$40,Ohjeistus!N$98-1,FALSE))","v":""},{"$f":"IF($J162=\"\",\"\",VLOOKUP($J162, Resurssiluettelo!$D$21:$X$40,Ohjeistus!O$98-1,FALSE))","v":""},{"$f":"IF($J162=\"\",\"\",VLOOKUP($J162, Resurssiluettelo!$D$21:$X$40,Ohjeistus!P$98-1,FALSE))","v":""},{"$f":"IF($J162=\"\",IF($I162=\"\",\"\",VLOOKUP($I162, Resurssiluettelo!$C$21:$X$40,Ohjeistus!Q$98,FALSE)),VLOOKUP($J162, Resurssiluettelo!$D$21:$X$40,Ohjeistus!Q$98-1,FALSE))","v":""},{"$f":"IF($J162=\"\",IF($I162=\"\",\"\",VLOOKUP($I162, Resurssiluettelo!$C$21:$X$40,Ohjeistus!R$98,FALSE)),VLOOKUP($J162, Resurssiluettelo!$D$21:$X$40,Ohjeistus!R$98-1,FALSE))","v":""},{"$f":"IF($J162=\"\",IF($I162=\"\",\"\",VLOOKUP($I162, Resurssiluettelo!$C$21:$X$40,Ohjeistus!S$98,FALSE)),VLOOKUP($J162, Resurssiluettelo!$D$21:$X$40,Ohjeistus!S$98-1,FALSE))","v":""},{"$f":"IF($J162=\"\",IF($I162=\"\",\"\",VLOOKUP($I162, Resurssiluettelo!$C$21:$X$40,Ohjeistus!T$98,FALSE)),VLOOKUP($J162, Resurssiluettelo!$D$21:$X$40,Ohjeistus!T$98-1,FALSE))","v":""},{"$f":"IF($J162=\"\",\"\",VLOOKUP($J162, Resurssiluettelo!$D$21:$X$40,Ohjeistus!U$98-1,FALSE))","v":""},{"$f":"IF($J162=\"\",\"\",VLOOKUP($J162, Resurssiluettelo!$D$21:$X$40,Ohjeistus!V$98-1,FALSE))","v":""},{"$f":"IF($J162=\"\",\"\",VLOOKUP($J162, Resurssiluettelo!$D$21:$X$40,Ohjeistus!W$98-1,FALSE))","v":""},{"$f":"IF($J162=\"\",\"\",VLOOKUP($J162, Resurssiluettelo!$D$21:$X$40,Ohjeistus!X$98-1,FALSE))","v":""},{"$f":"IF(Resurssiluettelo!E209=0,\"\",Resurssiluettelo!E209)","v":""},{"$f":"IF(Resurssiluettelo!F209=0,\"\",YEAR(Resurssiluettelo!F209)&IF(MONTH(Resurssiluettelo!F209)<10,\"0\",\"\")&MONTH(Resurssiluettelo!F209)&IF(DAY(Resurssiluettelo!F209)<10,\"0\",\"\")&DAY(Resurssiluettelo!F209))","v":""},{"$f":"IF(Resurssiluettelo!G209=0,\"\",Resurssiluettelo!G209)","v":""},{"$f":"IF(Resurssiluettelo!H209=0,\"\",Resurssiluettelo!H209)","v":""},{"$f":"IF(Resurssiluettelo!I209=0,\"\",Resurssiluettelo!I209)","v":""},{"$f":"IF(Resurssiluettelo!W209=0,\"\",Resurssiluettelo!W209)","v":""},{"$f":"IF(Resurssiluettelo!X209=0,\"\",Resurssiluettelo!X209)","v":""},{"$f":"IF(Resurssiluettelo!Y209=0,\"\",Resurssiluettelo!Y209)","v":""},{"$f":"IF(Resurssiluettelo!Z209=0,\"\",Resurssiluettelo!Z209)","v":""},{"$f":"IF(Resurssiluettelo!AA209=0,\"\",Resurssiluettelo!AA209)","v":""},{"$f":"IF(Resurssiluettelo!AB209=0,\"\",Resurssiluettelo!AB209)","v":""},{"$f":"IF(Resurssiluettelo!AC209=0,\"\",Resurssiluettelo!AC209)","v":""},{"$f":"IF(Resurssiluettelo!AD209=0,\"\",Resurssiluettelo!AD209)","v":""},{"$f":"IF(Resurssiluettelo!J209=0,\"\",Resurssiluettelo!J209)","v":""},{"$f":"IF(Resurssiluettelo!K209=0,\"\",Resurssiluettelo!K209)","v":""},{"$f":"IF(Resurssiluettelo!L209=0,\"\",Resurssiluettelo!L209)","v":""},{"$f":"IF(Resurssiluettelo!M209=0,\"\",Resurssiluettelo!M209)","v":""},{"$f":"IF(Resurssiluettelo!N209=0,\"\",Resurssiluettelo!N209)","v":""},{"$f":"IF(Resurssiluettelo!O209=0,\"\",Resurssiluettelo!O209)","v":""},{"$f":"IF(Resurssiluettelo!P209=0,\"\",Resurssiluettelo!P209)","v":""},{"$f":"IF(Resurssiluettelo!Q209=0,\"\",Resurssiluettelo!Q209)","v":""},{"$f":"IF(Resurssiluettelo!R209=0,\"\",Resurssiluettelo!R209)","v":""},{"$f":"IF(Resurssiluettelo!S209=0,\"\",Resurssiluettelo!S209)","v":""},{"$f":"IF(Resurssiluettelo!T209=0,\"\",Resurssiluettelo!T209)","v":""},{"$f":"IF(Resurssiluettelo!U209=0,\"\",Resurssiluettelo!U209)","v":""},{"$f":"IF(Resurssiluettelo!V209=0,\"\",Resurssiluettelo!V209)","v":""}]
[160,{"$f":"IF(Y163=\"\",\"\",Resurssiluettelo!$G$1)","v":""},{"$f":"IF(Y163=\"\",\"\",Resurssiluettelo!$H$14)","v":""},{"$f":"IF(Y163=\"\",\"\",Resurssiluettelo!$I$14)","v":""},{"$f":"IF(Y163=\"\",\"\",Resurssiluettelo!$J$14)","v":""},{"$f":"IF(Y163=\"\",\"\",Resurssiluettelo!$N$14)","v":""},{"$f":"IF(Y163=\"\",\"\",Resurssiluettelo!$O$14)","v":""},{"$f":"IF(Resurssiluettelo!B210=0,\"\",Resurssiluettelo!B210)","v":""},{"$f":"IF(Resurssiluettelo!C210=0,\"\",Resurssiluettelo!C210)","v":""},{"$f":"IF(Resurssiluettelo!D210=0,\"\",Resurssiluettelo!D210)","v":""},{"$f":"IF($J163=\"\",\"\",VLOOKUP($J163, Resurssiluettelo!$D$21:$X$40,Ohjeistus!K$98-1,FALSE))","v":""},{"$f":"IF($J163=\"\",\"\",VLOOKUP($J163, Resurssiluettelo!$D$21:$X$40,Ohjeistus!L$98-1,FALSE))","v":""},{"$f":"IF($J163=\"\",\"\",VLOOKUP($J163, Resurssiluettelo!$D$21:$X$40,Ohjeistus!M$98-1,FALSE))","v":""},{"$f":"IF($J163=\"\",\"\",VLOOKUP($J163, Resurssiluettelo!$D$21:$X$40,Ohjeistus!N$98-1,FALSE))","v":""},{"$f":"IF($J163=\"\",\"\",VLOOKUP($J163, Resurssiluettelo!$D$21:$X$40,Ohjeistus!O$98-1,FALSE))","v":""},{"$f":"IF($J163=\"\",\"\",VLOOKUP($J163, Resurssiluettelo!$D$21:$X$40,Ohjeistus!P$98-1,FALSE))","v":""},{"$f":"IF($J163=\"\",IF($I163=\"\",\"\",VLOOKUP($I163, Resurssiluettelo!$C$21:$X$40,Ohjeistus!Q$98,FALSE)),VLOOKUP($J163, Resurssiluettelo!$D$21:$X$40,Ohjeistus!Q$98-1,FALSE))","v":""},{"$f":"IF($J163=\"\",IF($I163=\"\",\"\",VLOOKUP($I163, Resurssiluettelo!$C$21:$X$40,Ohjeistus!R$98,FALSE)),VLOOKUP($J163, Resurssiluettelo!$D$21:$X$40,Ohjeistus!R$98-1,FALSE))","v":""},{"$f":"IF($J163=\"\",IF($I163=\"\",\"\",VLOOKUP($I163, Resurssiluettelo!$C$21:$X$40,Ohjeistus!S$98,FALSE)),VLOOKUP($J163, Resurssiluettelo!$D$21:$X$40,Ohjeistus!S$98-1,FALSE))","v":""},{"$f":"IF($J163=\"\",IF($I163=\"\",\"\",VLOOKUP($I163, Resurssiluettelo!$C$21:$X$40,Ohjeistus!T$98,FALSE)),VLOOKUP($J163, Resurssiluettelo!$D$21:$X$40,Ohjeistus!T$98-1,FALSE))","v":""},{"$f":"IF($J163=\"\",\"\",VLOOKUP($J163, Resurssiluettelo!$D$21:$X$40,Ohjeistus!U$98-1,FALSE))","v":""},{"$f":"IF($J163=\"\",\"\",VLOOKUP($J163, Resurssiluettelo!$D$21:$X$40,Ohjeistus!V$98-1,FALSE))","v":""},{"$f":"IF($J163=\"\",\"\",VLOOKUP($J163, Resurssiluettelo!$D$21:$X$40,Ohjeistus!W$98-1,FALSE))","v":""},{"$f":"IF($J163=\"\",\"\",VLOOKUP($J163, Resurssiluettelo!$D$21:$X$40,Ohjeistus!X$98-1,FALSE))","v":""},{"$f":"IF(Resurssiluettelo!E210=0,\"\",Resurssiluettelo!E210)","v":""},{"$f":"IF(Resurssiluettelo!F210=0,\"\",YEAR(Resurssiluettelo!F210)&IF(MONTH(Resurssiluettelo!F210)<10,\"0\",\"\")&MONTH(Resurssiluettelo!F210)&IF(DAY(Resurssiluettelo!F210)<10,\"0\",\"\")&DAY(Resurssiluettelo!F210))","v":""},{"$f":"IF(Resurssiluettelo!G210=0,\"\",Resurssiluettelo!G210)","v":""},{"$f":"IF(Resurssiluettelo!H210=0,\"\",Resurssiluettelo!H210)","v":""},{"$f":"IF(Resurssiluettelo!I210=0,\"\",Resurssiluettelo!I210)","v":""},{"$f":"IF(Resurssiluettelo!W210=0,\"\",Resurssiluettelo!W210)","v":""},{"$f":"IF(Resurssiluettelo!X210=0,\"\",Resurssiluettelo!X210)","v":""},{"$f":"IF(Resurssiluettelo!Y210=0,\"\",Resurssiluettelo!Y210)","v":""},{"$f":"IF(Resurssiluettelo!Z210=0,\"\",Resurssiluettelo!Z210)","v":""},{"$f":"IF(Resurssiluettelo!AA210=0,\"\",Resurssiluettelo!AA210)","v":""},{"$f":"IF(Resurssiluettelo!AB210=0,\"\",Resurssiluettelo!AB210)","v":""},{"$f":"IF(Resurssiluettelo!AC210=0,\"\",Resurssiluettelo!AC210)","v":""},{"$f":"IF(Resurssiluettelo!AD210=0,\"\",Resurssiluettelo!AD210)","v":""},{"$f":"IF(Resurssiluettelo!J210=0,\"\",Resurssiluettelo!J210)","v":""},{"$f":"IF(Resurssiluettelo!K210=0,\"\",Resurssiluettelo!K210)","v":""},{"$f":"IF(Resurssiluettelo!L210=0,\"\",Resurssiluettelo!L210)","v":""},{"$f":"IF(Resurssiluettelo!M210=0,\"\",Resurssiluettelo!M210)","v":""},{"$f":"IF(Resurssiluettelo!N210=0,\"\",Resurssiluettelo!N210)","v":""},{"$f":"IF(Resurssiluettelo!O210=0,\"\",Resurssiluettelo!O210)","v":""},{"$f":"IF(Resurssiluettelo!P210=0,\"\",Resurssiluettelo!P210)","v":""},{"$f":"IF(Resurssiluettelo!Q210=0,\"\",Resurssiluettelo!Q210)","v":""},{"$f":"IF(Resurssiluettelo!R210=0,\"\",Resurssiluettelo!R210)","v":""},{"$f":"IF(Resurssiluettelo!S210=0,\"\",Resurssiluettelo!S210)","v":""},{"$f":"IF(Resurssiluettelo!T210=0,\"\",Resurssiluettelo!T210)","v":""},{"$f":"IF(Resurssiluettelo!U210=0,\"\",Resurssiluettelo!U210)","v":""},{"$f":"IF(Resurssiluettelo!V210=0,\"\",Resurssiluettelo!V210)","v":""}]
[161,{"$f":"IF(Y164=\"\",\"\",Resurssiluettelo!$G$1)","v":""},{"$f":"IF(Y164=\"\",\"\",Resurssiluettelo!$H$14)","v":""},{"$f":"IF(Y164=\"\",\"\",Resurssiluettelo!$I$14)","v":""},{"$f":"IF(Y164=\"\",\"\",Resurssiluettelo!$J$14)","v":""},{"$f":"IF(Y164=\"\",\"\",Resurssiluettelo!$N$14)","v":""},{"$f":"IF(Y164=\"\",\"\",Resurssiluettelo!$O$14)","v":""},{"$f":"IF(Resurssiluettelo!B211=0,\"\",Resurssiluettelo!B211)","v":""},{"$f":"IF(Resurssiluettelo!C211=0,\"\",Resurssiluettelo!C211)","v":""},{"$f":"IF(Resurssiluettelo!D211=0,\"\",Resurssiluettelo!D211)","v":""},{"$f":"IF($J164=\"\",\"\",VLOOKUP($J164, Resurssiluettelo!$D$21:$X$40,Ohjeistus!K$98-1,FALSE))","v":""},{"$f":"IF($J164=\"\",\"\",VLOOKUP($J164, Resurssiluettelo!$D$21:$X$40,Ohjeistus!L$98-1,FALSE))","v":""},{"$f":"IF($J164=\"\",\"\",VLOOKUP($J164, Resurssiluettelo!$D$21:$X$40,Ohjeistus!M$98-1,FALSE))","v":""},{"$f":"IF($J164=\"\",\"\",VLOOKUP($J164, Resurssiluettelo!$D$21:$X$40,Ohjeistus!N$98-1,FALSE))","v":""},{"$f":"IF($J164=\"\",\"\",VLOOKUP($J164, Resurssiluettelo!$D$21:$X$40,Ohjeistus!O$98-1,FALSE))","v":""},{"$f":"IF($J164=\"\",\"\",VLOOKUP($J164, Resurssiluettelo!$D$21:$X$40,Ohjeistus!P$98-1,FALSE))","v":""},{"$f":"IF($J164=\"\",IF($I164=\"\",\"\",VLOOKUP($I164, Resurssiluettelo!$C$21:$X$40,Ohjeistus!Q$98,FALSE)),VLOOKUP($J164, Resurssiluettelo!$D$21:$X$40,Ohjeistus!Q$98-1,FALSE))","v":""},{"$f":"IF($J164=\"\",IF($I164=\"\",\"\",VLOOKUP($I164, Resurssiluettelo!$C$21:$X$40,Ohjeistus!R$98,FALSE)),VLOOKUP($J164, Resurssiluettelo!$D$21:$X$40,Ohjeistus!R$98-1,FALSE))","v":""},{"$f":"IF($J164=\"\",IF($I164=\"\",\"\",VLOOKUP($I164, Resurssiluettelo!$C$21:$X$40,Ohjeistus!S$98,FALSE)),VLOOKUP($J164, Resurssiluettelo!$D$21:$X$40,Ohjeistus!S$98-1,FALSE))","v":""},{"$f":"IF($J164=\"\",IF($I164=\"\",\"\",VLOOKUP($I164, Resurssiluettelo!$C$21:$X$40,Ohjeistus!T$98,FALSE)),VLOOKUP($J164, Resurssiluettelo!$D$21:$X$40,Ohjeistus!T$98-1,FALSE))","v":""},{"$f":"IF($J164=\"\",\"\",VLOOKUP($J164, Resurssiluettelo!$D$21:$X$40,Ohjeistus!U$98-1,FALSE))","v":""},{"$f":"IF($J164=\"\",\"\",VLOOKUP($J164, Resurssiluettelo!$D$21:$X$40,Ohjeistus!V$98-1,FALSE))","v":""},{"$f":"IF($J164=\"\",\"\",VLOOKUP($J164, Resurssiluettelo!$D$21:$X$40,Ohjeistus!W$98-1,FALSE))","v":""},{"$f":"IF($J164=\"\",\"\",VLOOKUP($J164, Resurssiluettelo!$D$21:$X$40,Ohjeistus!X$98-1,FALSE))","v":""},{"$f":"IF(Resurssiluettelo!E211=0,\"\",Resurssiluettelo!E211)","v":""},{"$f":"IF(Resurssiluettelo!F211=0,\"\",YEAR(Resurssiluettelo!F211)&IF(MONTH(Resurssiluettelo!F211)<10,\"0\",\"\")&MONTH(Resurssiluettelo!F211)&IF(DAY(Resurssiluettelo!F211)<10,\"0\",\"\")&DAY(Resurssiluettelo!F211))","v":""},{"$f":"IF(Resurssiluettelo!G211=0,\"\",Resurssiluettelo!G211)","v":""},{"$f":"IF(Resurssiluettelo!H211=0,\"\",Resurssiluettelo!H211)","v":""},{"$f":"IF(Resurssiluettelo!I211=0,\"\",Resurssiluettelo!I211)","v":""},{"$f":"IF(Resurssiluettelo!W211=0,\"\",Resurssiluettelo!W211)","v":""},{"$f":"IF(Resurssiluettelo!X211=0,\"\",Resurssiluettelo!X211)","v":""},{"$f":"IF(Resurssiluettelo!Y211=0,\"\",Resurssiluettelo!Y211)","v":""},{"$f":"IF(Resurssiluettelo!Z211=0,\"\",Resurssiluettelo!Z211)","v":""},{"$f":"IF(Resurssiluettelo!AA211=0,\"\",Resurssiluettelo!AA211)","v":""},{"$f":"IF(Resurssiluettelo!AB211=0,\"\",Resurssiluettelo!AB211)","v":""},{"$f":"IF(Resurssiluettelo!AC211=0,\"\",Resurssiluettelo!AC211)","v":""},{"$f":"IF(Resurssiluettelo!AD211=0,\"\",Resurssiluettelo!AD211)","v":""},{"$f":"IF(Resurssiluettelo!J211=0,\"\",Resurssiluettelo!J211)","v":""},{"$f":"IF(Resurssiluettelo!K211=0,\"\",Resurssiluettelo!K211)","v":""},{"$f":"IF(Resurssiluettelo!L211=0,\"\",Resurssiluettelo!L211)","v":""},{"$f":"IF(Resurssiluettelo!M211=0,\"\",Resurssiluettelo!M211)","v":""},{"$f":"IF(Resurssiluettelo!N211=0,\"\",Resurssiluettelo!N211)","v":""},{"$f":"IF(Resurssiluettelo!O211=0,\"\",Resurssiluettelo!O211)","v":""},{"$f":"IF(Resurssiluettelo!P211=0,\"\",Resurssiluettelo!P211)","v":""},{"$f":"IF(Resurssiluettelo!Q211=0,\"\",Resurssiluettelo!Q211)","v":""},{"$f":"IF(Resurssiluettelo!R211=0,\"\",Resurssiluettelo!R211)","v":""},{"$f":"IF(Resurssiluettelo!S211=0,\"\",Resurssiluettelo!S211)","v":""},{"$f":"IF(Resurssiluettelo!T211=0,\"\",Resurssiluettelo!T211)","v":""},{"$f":"IF(Resurssiluettelo!U211=0,\"\",Resurssiluettelo!U211)","v":""},{"$f":"IF(Resurssiluettelo!V211=0,\"\",Resurssiluettelo!V211)","v":""}]
[162,{"$f":"IF(Y165=\"\",\"\",Resurssiluettelo!$G$1)","v":""},{"$f":"IF(Y165=\"\",\"\",Resurssiluettelo!$H$14)","v":""},{"$f":"IF(Y165=\"\",\"\",Resurssiluettelo!$I$14)","v":""},{"$f":"IF(Y165=\"\",\"\",Resurssiluettelo!$J$14)","v":""},{"$f":"IF(Y165=\"\",\"\",Resurssiluettelo!$N$14)","v":""},{"$f":"IF(Y165=\"\",\"\",Resurssiluettelo!$O$14)","v":""},{"$f":"IF(Resurssiluettelo!B212=0,\"\",Resurssiluettelo!B212)","v":""},{"$f":"IF(Resurssiluettelo!C212=0,\"\",Resurssiluettelo!C212)","v":""},{"$f":"IF(Resurssiluettelo!D212=0,\"\",Resurssiluettelo!D212)","v":""},{"$f":"IF($J165=\"\",\"\",VLOOKUP($J165, Resurssiluettelo!$D$21:$X$40,Ohjeistus!K$98-1,FALSE))","v":""},{"$f":"IF($J165=\"\",\"\",VLOOKUP($J165, Resurssiluettelo!$D$21:$X$40,Ohjeistus!L$98-1,FALSE))","v":""},{"$f":"IF($J165=\"\",\"\",VLOOKUP($J165, Resurssiluettelo!$D$21:$X$40,Ohjeistus!M$98-1,FALSE))","v":""},{"$f":"IF($J165=\"\",\"\",VLOOKUP($J165, Resurssiluettelo!$D$21:$X$40,Ohjeistus!N$98-1,FALSE))","v":""},{"$f":"IF($J165=\"\",\"\",VLOOKUP($J165, Resurssiluettelo!$D$21:$X$40,Ohjeistus!O$98-1,FALSE))","v":""},{"$f":"IF($J165=\"\",\"\",VLOOKUP($J165, Resurssiluettelo!$D$21:$X$40,Ohjeistus!P$98-1,FALSE))","v":""},{"$f":"IF($J165=\"\",IF($I165=\"\",\"\",VLOOKUP($I165, Resurssiluettelo!$C$21:$X$40,Ohjeistus!Q$98,FALSE)),VLOOKUP($J165, Resurssiluettelo!$D$21:$X$40,Ohjeistus!Q$98-1,FALSE))","v":""},{"$f":"IF($J165=\"\",IF($I165=\"\",\"\",VLOOKUP($I165, Resurssiluettelo!$C$21:$X$40,Ohjeistus!R$98,FALSE)),VLOOKUP($J165, Resurssiluettelo!$D$21:$X$40,Ohjeistus!R$98-1,FALSE))","v":""},{"$f":"IF($J165=\"\",IF($I165=\"\",\"\",VLOOKUP($I165, Resurssiluettelo!$C$21:$X$40,Ohjeistus!S$98,FALSE)),VLOOKUP($J165, Resurssiluettelo!$D$21:$X$40,Ohjeistus!S$98-1,FALSE))","v":""},{"$f":"IF($J165=\"\",IF($I165=\"\",\"\",VLOOKUP($I165, Resurssiluettelo!$C$21:$X$40,Ohjeistus!T$98,FALSE)),VLOOKUP($J165, Resurssiluettelo!$D$21:$X$40,Ohjeistus!T$98-1,FALSE))","v":""},{"$f":"IF($J165=\"\",\"\",VLOOKUP($J165, Resurssiluettelo!$D$21:$X$40,Ohjeistus!U$98-1,FALSE))","v":""},{"$f":"IF($J165=\"\",\"\",VLOOKUP($J165, Resurssiluettelo!$D$21:$X$40,Ohjeistus!V$98-1,FALSE))","v":""},{"$f":"IF($J165=\"\",\"\",VLOOKUP($J165, Resurssiluettelo!$D$21:$X$40,Ohjeistus!W$98-1,FALSE))","v":""},{"$f":"IF($J165=\"\",\"\",VLOOKUP($J165, Resurssiluettelo!$D$21:$X$40,Ohjeistus!X$98-1,FALSE))","v":""},{"$f":"IF(Resurssiluettelo!E212=0,\"\",Resurssiluettelo!E212)","v":""},{"$f":"IF(Resurssiluettelo!F212=0,\"\",YEAR(Resurssiluettelo!F212)&IF(MONTH(Resurssiluettelo!F212)<10,\"0\",\"\")&MONTH(Resurssiluettelo!F212)&IF(DAY(Resurssiluettelo!F212)<10,\"0\",\"\")&DAY(Resurssiluettelo!F212))","v":""},{"$f":"IF(Resurssiluettelo!G212=0,\"\",Resurssiluettelo!G212)","v":""},{"$f":"IF(Resurssiluettelo!H212=0,\"\",Resurssiluettelo!H212)","v":""},{"$f":"IF(Resurssiluettelo!I212=0,\"\",Resurssiluettelo!I212)","v":""},{"$f":"IF(Resurssiluettelo!W212=0,\"\",Resurssiluettelo!W212)","v":""},{"$f":"IF(Resurssiluettelo!X212=0,\"\",Resurssiluettelo!X212)","v":""},{"$f":"IF(Resurssiluettelo!Y212=0,\"\",Resurssiluettelo!Y212)","v":""},{"$f":"IF(Resurssiluettelo!Z212=0,\"\",Resurssiluettelo!Z212)","v":""},{"$f":"IF(Resurssiluettelo!AA212=0,\"\",Resurssiluettelo!AA212)","v":""},{"$f":"IF(Resurssiluettelo!AB212=0,\"\",Resurssiluettelo!AB212)","v":""},{"$f":"IF(Resurssiluettelo!AC212=0,\"\",Resurssiluettelo!AC212)","v":""},{"$f":"IF(Resurssiluettelo!AD212=0,\"\",Resurssiluettelo!AD212)","v":""},{"$f":"IF(Resurssiluettelo!J212=0,\"\",Resurssiluettelo!J212)","v":""},{"$f":"IF(Resurssiluettelo!K212=0,\"\",Resurssiluettelo!K212)","v":""},{"$f":"IF(Resurssiluettelo!L212=0,\"\",Resurssiluettelo!L212)","v":""},{"$f":"IF(Resurssiluettelo!M212=0,\"\",Resurssiluettelo!M212)","v":""},{"$f":"IF(Resurssiluettelo!N212=0,\"\",Resurssiluettelo!N212)","v":""},{"$f":"IF(Resurssiluettelo!O212=0,\"\",Resurssiluettelo!O212)","v":""},{"$f":"IF(Resurssiluettelo!P212=0,\"\",Resurssiluettelo!P212)","v":""},{"$f":"IF(Resurssiluettelo!Q212=0,\"\",Resurssiluettelo!Q212)","v":""},{"$f":"IF(Resurssiluettelo!R212=0,\"\",Resurssiluettelo!R212)","v":""},{"$f":"IF(Resurssiluettelo!S212=0,\"\",Resurssiluettelo!S212)","v":""},{"$f":"IF(Resurssiluettelo!T212=0,\"\",Resurssiluettelo!T212)","v":""},{"$f":"IF(Resurssiluettelo!U212=0,\"\",Resurssiluettelo!U212)","v":""},{"$f":"IF(Resurssiluettelo!V212=0,\"\",Resurssiluettelo!V212)","v":""}]
[163,{"$f":"IF(Y166=\"\",\"\",Resurssiluettelo!$G$1)","v":""},{"$f":"IF(Y166=\"\",\"\",Resurssiluettelo!$H$14)","v":""},{"$f":"IF(Y166=\"\",\"\",Resurssiluettelo!$I$14)","v":""},{"$f":"IF(Y166=\"\",\"\",Resurssiluettelo!$J$14)","v":""},{"$f":"IF(Y166=\"\",\"\",Resurssiluettelo!$N$14)","v":""},{"$f":"IF(Y166=\"\",\"\",Resurssiluettelo!$O$14)","v":""},{"$f":"IF(Resurssiluettelo!B213=0,\"\",Resurssiluettelo!B213)","v":""},{"$f":"IF(Resurssiluettelo!C213=0,\"\",Resurssiluettelo!C213)","v":""},{"$f":"IF(Resurssiluettelo!D213=0,\"\",Resurssiluettelo!D213)","v":""},{"$f":"IF($J166=\"\",\"\",VLOOKUP($J166, Resurssiluettelo!$D$21:$X$40,Ohjeistus!K$98-1,FALSE))","v":""},{"$f":"IF($J166=\"\",\"\",VLOOKUP($J166, Resurssiluettelo!$D$21:$X$40,Ohjeistus!L$98-1,FALSE))","v":""},{"$f":"IF($J166=\"\",\"\",VLOOKUP($J166, Resurssiluettelo!$D$21:$X$40,Ohjeistus!M$98-1,FALSE))","v":""},{"$f":"IF($J166=\"\",\"\",VLOOKUP($J166, Resurssiluettelo!$D$21:$X$40,Ohjeistus!N$98-1,FALSE))","v":""},{"$f":"IF($J166=\"\",\"\",VLOOKUP($J166, Resurssiluettelo!$D$21:$X$40,Ohjeistus!O$98-1,FALSE))","v":""},{"$f":"IF($J166=\"\",\"\",VLOOKUP($J166, Resurssiluettelo!$D$21:$X$40,Ohjeistus!P$98-1,FALSE))","v":""},{"$f":"IF($J166=\"\",IF($I166=\"\",\"\",VLOOKUP($I166, Resurssiluettelo!$C$21:$X$40,Ohjeistus!Q$98,FALSE)),VLOOKUP($J166, Resurssiluettelo!$D$21:$X$40,Ohjeistus!Q$98-1,FALSE))","v":""},{"$f":"IF($J166=\"\",IF($I166=\"\",\"\",VLOOKUP($I166, Resurssiluettelo!$C$21:$X$40,Ohjeistus!R$98,FALSE)),VLOOKUP($J166, Resurssiluettelo!$D$21:$X$40,Ohjeistus!R$98-1,FALSE))","v":""},{"$f":"IF($J166=\"\",IF($I166=\"\",\"\",VLOOKUP($I166, Resurssiluettelo!$C$21:$X$40,Ohjeistus!S$98,FALSE)),VLOOKUP($J166, Resurssiluettelo!$D$21:$X$40,Ohjeistus!S$98-1,FALSE))","v":""},{"$f":"IF($J166=\"\",IF($I166=\"\",\"\",VLOOKUP($I166, Resurssiluettelo!$C$21:$X$40,Ohjeistus!T$98,FALSE)),VLOOKUP($J166, Resurssiluettelo!$D$21:$X$40,Ohjeistus!T$98-1,FALSE))","v":""},{"$f":"IF($J166=\"\",\"\",VLOOKUP($J166, Resurssiluettelo!$D$21:$X$40,Ohjeistus!U$98-1,FALSE))","v":""},{"$f":"IF($J166=\"\",\"\",VLOOKUP($J166, Resurssiluettelo!$D$21:$X$40,Ohjeistus!V$98-1,FALSE))","v":""},{"$f":"IF($J166=\"\",\"\",VLOOKUP($J166, Resurssiluettelo!$D$21:$X$40,Ohjeistus!W$98-1,FALSE))","v":""},{"$f":"IF($J166=\"\",\"\",VLOOKUP($J166, Resurssiluettelo!$D$21:$X$40,Ohjeistus!X$98-1,FALSE))","v":""},{"$f":"IF(Resurssiluettelo!E213=0,\"\",Resurssiluettelo!E213)","v":""},{"$f":"IF(Resurssiluettelo!F213=0,\"\",YEAR(Resurssiluettelo!F213)&IF(MONTH(Resurssiluettelo!F213)<10,\"0\",\"\")&MONTH(Resurssiluettelo!F213)&IF(DAY(Resurssiluettelo!F213)<10,\"0\",\"\")&DAY(Resurssiluettelo!F213))","v":""},{"$f":"IF(Resurssiluettelo!G213=0,\"\",Resurssiluettelo!G213)","v":""},{"$f":"IF(Resurssiluettelo!H213=0,\"\",Resurssiluettelo!H213)","v":""},{"$f":"IF(Resurssiluettelo!I213=0,\"\",Resurssiluettelo!I213)","v":""},{"$f":"IF(Resurssiluettelo!W213=0,\"\",Resurssiluettelo!W213)","v":""},{"$f":"IF(Resurssiluettelo!X213=0,\"\",Resurssiluettelo!X213)","v":""},{"$f":"IF(Resurssiluettelo!Y213=0,\"\",Resurssiluettelo!Y213)","v":""},{"$f":"IF(Resurssiluettelo!Z213=0,\"\",Resurssiluettelo!Z213)","v":""},{"$f":"IF(Resurssiluettelo!AA213=0,\"\",Resurssiluettelo!AA213)","v":""},{"$f":"IF(Resurssiluettelo!AB213=0,\"\",Resurssiluettelo!AB213)","v":""},{"$f":"IF(Resurssiluettelo!AC213=0,\"\",Resurssiluettelo!AC213)","v":""},{"$f":"IF(Resurssiluettelo!AD213=0,\"\",Resurssiluettelo!AD213)","v":""},{"$f":"IF(Resurssiluettelo!J213=0,\"\",Resurssiluettelo!J213)","v":""},{"$f":"IF(Resurssiluettelo!K213=0,\"\",Resurssiluettelo!K213)","v":""},{"$f":"IF(Resurssiluettelo!L213=0,\"\",Resurssiluettelo!L213)","v":""},{"$f":"IF(Resurssiluettelo!M213=0,\"\",Resurssiluettelo!M213)","v":""},{"$f":"IF(Resurssiluettelo!N213=0,\"\",Resurssiluettelo!N213)","v":""},{"$f":"IF(Resurssiluettelo!O213=0,\"\",Resurssiluettelo!O213)","v":""},{"$f":"IF(Resurssiluettelo!P213=0,\"\",Resurssiluettelo!P213)","v":""},{"$f":"IF(Resurssiluettelo!Q213=0,\"\",Resurssiluettelo!Q213)","v":""},{"$f":"IF(Resurssiluettelo!R213=0,\"\",Resurssiluettelo!R213)","v":""},{"$f":"IF(Resurssiluettelo!S213=0,\"\",Resurssiluettelo!S213)","v":""},{"$f":"IF(Resurssiluettelo!T213=0,\"\",Resurssiluettelo!T213)","v":""},{"$f":"IF(Resurssiluettelo!U213=0,\"\",Resurssiluettelo!U213)","v":""},{"$f":"IF(Resurssiluettelo!V213=0,\"\",Resurssiluettelo!V213)","v":""}]
[164,{"$f":"IF(Y167=\"\",\"\",Resurssiluettelo!$G$1)","v":""},{"$f":"IF(Y167=\"\",\"\",Resurssiluettelo!$H$14)","v":""},{"$f":"IF(Y167=\"\",\"\",Resurssiluettelo!$I$14)","v":""},{"$f":"IF(Y167=\"\",\"\",Resurssiluettelo!$J$14)","v":""},{"$f":"IF(Y167=\"\",\"\",Resurssiluettelo!$N$14)","v":""},{"$f":"IF(Y167=\"\",\"\",Resurssiluettelo!$O$14)","v":""},{"$f":"IF(Resurssiluettelo!B214=0,\"\",Resurssiluettelo!B214)","v":""},{"$f":"IF(Resurssiluettelo!C214=0,\"\",Resurssiluettelo!C214)","v":""},{"$f":"IF(Resurssiluettelo!D214=0,\"\",Resurssiluettelo!D214)","v":""},{"$f":"IF($J167=\"\",\"\",VLOOKUP($J167, Resurssiluettelo!$D$21:$X$40,Ohjeistus!K$98-1,FALSE))","v":""},{"$f":"IF($J167=\"\",\"\",VLOOKUP($J167, Resurssiluettelo!$D$21:$X$40,Ohjeistus!L$98-1,FALSE))","v":""},{"$f":"IF($J167=\"\",\"\",VLOOKUP($J167, Resurssiluettelo!$D$21:$X$40,Ohjeistus!M$98-1,FALSE))","v":""},{"$f":"IF($J167=\"\",\"\",VLOOKUP($J167, Resurssiluettelo!$D$21:$X$40,Ohjeistus!N$98-1,FALSE))","v":""},{"$f":"IF($J167=\"\",\"\",VLOOKUP($J167, Resurssiluettelo!$D$21:$X$40,Ohjeistus!O$98-1,FALSE))","v":""},{"$f":"IF($J167=\"\",\"\",VLOOKUP($J167, Resurssiluettelo!$D$21:$X$40,Ohjeistus!P$98-1,FALSE))","v":""},{"$f":"IF($J167=\"\",IF($I167=\"\",\"\",VLOOKUP($I167, Resurssiluettelo!$C$21:$X$40,Ohjeistus!Q$98,FALSE)),VLOOKUP($J167, Resurssiluettelo!$D$21:$X$40,Ohjeistus!Q$98-1,FALSE))","v":""},{"$f":"IF($J167=\"\",IF($I167=\"\",\"\",VLOOKUP($I167, Resurssiluettelo!$C$21:$X$40,Ohjeistus!R$98,FALSE)),VLOOKUP($J167, Resurssiluettelo!$D$21:$X$40,Ohjeistus!R$98-1,FALSE))","v":""},{"$f":"IF($J167=\"\",IF($I167=\"\",\"\",VLOOKUP($I167, Resurssiluettelo!$C$21:$X$40,Ohjeistus!S$98,FALSE)),VLOOKUP($J167, Resurssiluettelo!$D$21:$X$40,Ohjeistus!S$98-1,FALSE))","v":""},{"$f":"IF($J167=\"\",IF($I167=\"\",\"\",VLOOKUP($I167, Resurssiluettelo!$C$21:$X$40,Ohjeistus!T$98,FALSE)),VLOOKUP($J167, Resurssiluettelo!$D$21:$X$40,Ohjeistus!T$98-1,FALSE))","v":""},{"$f":"IF($J167=\"\",\"\",VLOOKUP($J167, Resurssiluettelo!$D$21:$X$40,Ohjeistus!U$98-1,FALSE))","v":""},{"$f":"IF($J167=\"\",\"\",VLOOKUP($J167, Resurssiluettelo!$D$21:$X$40,Ohjeistus!V$98-1,FALSE))","v":""},{"$f":"IF($J167=\"\",\"\",VLOOKUP($J167, Resurssiluettelo!$D$21:$X$40,Ohjeistus!W$98-1,FALSE))","v":""},{"$f":"IF($J167=\"\",\"\",VLOOKUP($J167, Resurssiluettelo!$D$21:$X$40,Ohjeistus!X$98-1,FALSE))","v":""},{"$f":"IF(Resurssiluettelo!E214=0,\"\",Resurssiluettelo!E214)","v":""},{"$f":"IF(Resurssiluettelo!F214=0,\"\",YEAR(Resurssiluettelo!F214)&IF(MONTH(Resurssiluettelo!F214)<10,\"0\",\"\")&MONTH(Resurssiluettelo!F214)&IF(DAY(Resurssiluettelo!F214)<10,\"0\",\"\")&DAY(Resurssiluettelo!F214))","v":""},{"$f":"IF(Resurssiluettelo!G214=0,\"\",Resurssiluettelo!G214)","v":""},{"$f":"IF(Resurssiluettelo!H214=0,\"\",Resurssiluettelo!H214)","v":""},{"$f":"IF(Resurssiluettelo!I214=0,\"\",Resurssiluettelo!I214)","v":""},{"$f":"IF(Resurssiluettelo!W214=0,\"\",Resurssiluettelo!W214)","v":""},{"$f":"IF(Resurssiluettelo!X214=0,\"\",Resurssiluettelo!X214)","v":""},{"$f":"IF(Resurssiluettelo!Y214=0,\"\",Resurssiluettelo!Y214)","v":""},{"$f":"IF(Resurssiluettelo!Z214=0,\"\",Resurssiluettelo!Z214)","v":""},{"$f":"IF(Resurssiluettelo!AA214=0,\"\",Resurssiluettelo!AA214)","v":""},{"$f":"IF(Resurssiluettelo!AB214=0,\"\",Resurssiluettelo!AB214)","v":""},{"$f":"IF(Resurssiluettelo!AC214=0,\"\",Resurssiluettelo!AC214)","v":""},{"$f":"IF(Resurssiluettelo!AD214=0,\"\",Resurssiluettelo!AD214)","v":""},{"$f":"IF(Resurssiluettelo!J214=0,\"\",Resurssiluettelo!J214)","v":""},{"$f":"IF(Resurssiluettelo!K214=0,\"\",Resurssiluettelo!K214)","v":""},{"$f":"IF(Resurssiluettelo!L214=0,\"\",Resurssiluettelo!L214)","v":""},{"$f":"IF(Resurssiluettelo!M214=0,\"\",Resurssiluettelo!M214)","v":""},{"$f":"IF(Resurssiluettelo!N214=0,\"\",Resurssiluettelo!N214)","v":""},{"$f":"IF(Resurssiluettelo!O214=0,\"\",Resurssiluettelo!O214)","v":""},{"$f":"IF(Resurssiluettelo!P214=0,\"\",Resurssiluettelo!P214)","v":""},{"$f":"IF(Resurssiluettelo!Q214=0,\"\",Resurssiluettelo!Q214)","v":""},{"$f":"IF(Resurssiluettelo!R214=0,\"\",Resurssiluettelo!R214)","v":""},{"$f":"IF(Resurssiluettelo!S214=0,\"\",Resurssiluettelo!S214)","v":""},{"$f":"IF(Resurssiluettelo!T214=0,\"\",Resurssiluettelo!T214)","v":""},{"$f":"IF(Resurssiluettelo!U214=0,\"\",Resurssiluettelo!U214)","v":""},{"$f":"IF(Resurssiluettelo!V214=0,\"\",Resurssiluettelo!V214)","v":""}]
[165,{"$f":"IF(Y168=\"\",\"\",Resurssiluettelo!$G$1)","v":""},{"$f":"IF(Y168=\"\",\"\",Resurssiluettelo!$H$14)","v":""},{"$f":"IF(Y168=\"\",\"\",Resurssiluettelo!$I$14)","v":""},{"$f":"IF(Y168=\"\",\"\",Resurssiluettelo!$J$14)","v":""},{"$f":"IF(Y168=\"\",\"\",Resurssiluettelo!$N$14)","v":""},{"$f":"IF(Y168=\"\",\"\",Resurssiluettelo!$O$14)","v":""},{"$f":"IF(Resurssiluettelo!B215=0,\"\",Resurssiluettelo!B215)","v":""},{"$f":"IF(Resurssiluettelo!C215=0,\"\",Resurssiluettelo!C215)","v":""},{"$f":"IF(Resurssiluettelo!D215=0,\"\",Resurssiluettelo!D215)","v":""},{"$f":"IF($J168=\"\",\"\",VLOOKUP($J168, Resurssiluettelo!$D$21:$X$40,Ohjeistus!K$98-1,FALSE))","v":""},{"$f":"IF($J168=\"\",\"\",VLOOKUP($J168, Resurssiluettelo!$D$21:$X$40,Ohjeistus!L$98-1,FALSE))","v":""},{"$f":"IF($J168=\"\",\"\",VLOOKUP($J168, Resurssiluettelo!$D$21:$X$40,Ohjeistus!M$98-1,FALSE))","v":""},{"$f":"IF($J168=\"\",\"\",VLOOKUP($J168, Resurssiluettelo!$D$21:$X$40,Ohjeistus!N$98-1,FALSE))","v":""},{"$f":"IF($J168=\"\",\"\",VLOOKUP($J168, Resurssiluettelo!$D$21:$X$40,Ohjeistus!O$98-1,FALSE))","v":""},{"$f":"IF($J168=\"\",\"\",VLOOKUP($J168, Resurssiluettelo!$D$21:$X$40,Ohjeistus!P$98-1,FALSE))","v":""},{"$f":"IF($J168=\"\",IF($I168=\"\",\"\",VLOOKUP($I168, Resurssiluettelo!$C$21:$X$40,Ohjeistus!Q$98,FALSE)),VLOOKUP($J168, Resurssiluettelo!$D$21:$X$40,Ohjeistus!Q$98-1,FALSE))","v":""},{"$f":"IF($J168=\"\",IF($I168=\"\",\"\",VLOOKUP($I168, Resurssiluettelo!$C$21:$X$40,Ohjeistus!R$98,FALSE)),VLOOKUP($J168, Resurssiluettelo!$D$21:$X$40,Ohjeistus!R$98-1,FALSE))","v":""},{"$f":"IF($J168=\"\",IF($I168=\"\",\"\",VLOOKUP($I168, Resurssiluettelo!$C$21:$X$40,Ohjeistus!S$98,FALSE)),VLOOKUP($J168, Resurssiluettelo!$D$21:$X$40,Ohjeistus!S$98-1,FALSE))","v":""},{"$f":"IF($J168=\"\",IF($I168=\"\",\"\",VLOOKUP($I168, Resurssiluettelo!$C$21:$X$40,Ohjeistus!T$98,FALSE)),VLOOKUP($J168, Resurssiluettelo!$D$21:$X$40,Ohjeistus!T$98-1,FALSE))","v":""},{"$f":"IF($J168=\"\",\"\",VLOOKUP($J168, Resurssiluettelo!$D$21:$X$40,Ohjeistus!U$98-1,FALSE))","v":""},{"$f":"IF($J168=\"\",\"\",VLOOKUP($J168, Resurssiluettelo!$D$21:$X$40,Ohjeistus!V$98-1,FALSE))","v":""},{"$f":"IF($J168=\"\",\"\",VLOOKUP($J168, Resurssiluettelo!$D$21:$X$40,Ohjeistus!W$98-1,FALSE))","v":""},{"$f":"IF($J168=\"\",\"\",VLOOKUP($J168, Resurssiluettelo!$D$21:$X$40,Ohjeistus!X$98-1,FALSE))","v":""},{"$f":"IF(Resurssiluettelo!E215=0,\"\",Resurssiluettelo!E215)","v":""},{"$f":"IF(Resurssiluettelo!F215=0,\"\",YEAR(Resurssiluettelo!F215)&IF(MONTH(Resurssiluettelo!F215)<10,\"0\",\"\")&MONTH(Resurssiluettelo!F215)&IF(DAY(Resurssiluettelo!F215)<10,\"0\",\"\")&DAY(Resurssiluettelo!F215))","v":""},{"$f":"IF(Resurssiluettelo!G215=0,\"\",Resurssiluettelo!G215)","v":""},{"$f":"IF(Resurssiluettelo!H215=0,\"\",Resurssiluettelo!H215)","v":""},{"$f":"IF(Resurssiluettelo!I215=0,\"\",Resurssiluettelo!I215)","v":""},{"$f":"IF(Resurssiluettelo!W215=0,\"\",Resurssiluettelo!W215)","v":""},{"$f":"IF(Resurssiluettelo!X215=0,\"\",Resurssiluettelo!X215)","v":""},{"$f":"IF(Resurssiluettelo!Y215=0,\"\",Resurssiluettelo!Y215)","v":""},{"$f":"IF(Resurssiluettelo!Z215=0,\"\",Resurssiluettelo!Z215)","v":""},{"$f":"IF(Resurssiluettelo!AA215=0,\"\",Resurssiluettelo!AA215)","v":""},{"$f":"IF(Resurssiluettelo!AB215=0,\"\",Resurssiluettelo!AB215)","v":""},{"$f":"IF(Resurssiluettelo!AC215=0,\"\",Resurssiluettelo!AC215)","v":""},{"$f":"IF(Resurssiluettelo!AD215=0,\"\",Resurssiluettelo!AD215)","v":""},{"$f":"IF(Resurssiluettelo!J215=0,\"\",Resurssiluettelo!J215)","v":""},{"$f":"IF(Resurssiluettelo!K215=0,\"\",Resurssiluettelo!K215)","v":""},{"$f":"IF(Resurssiluettelo!L215=0,\"\",Resurssiluettelo!L215)","v":""},{"$f":"IF(Resurssiluettelo!M215=0,\"\",Resurssiluettelo!M215)","v":""},{"$f":"IF(Resurssiluettelo!N215=0,\"\",Resurssiluettelo!N215)","v":""},{"$f":"IF(Resurssiluettelo!O215=0,\"\",Resurssiluettelo!O215)","v":""},{"$f":"IF(Resurssiluettelo!P215=0,\"\",Resurssiluettelo!P215)","v":""},{"$f":"IF(Resurssiluettelo!Q215=0,\"\",Resurssiluettelo!Q215)","v":""},{"$f":"IF(Resurssiluettelo!R215=0,\"\",Resurssiluettelo!R215)","v":""},{"$f":"IF(Resurssiluettelo!S215=0,\"\",Resurssiluettelo!S215)","v":""},{"$f":"IF(Resurssiluettelo!T215=0,\"\",Resurssiluettelo!T215)","v":""},{"$f":"IF(Resurssiluettelo!U215=0,\"\",Resurssiluettelo!U215)","v":""},{"$f":"IF(Resurssiluettelo!V215=0,\"\",Resurssiluettelo!V215)","v":""}]
[166,{"$f":"IF(Y169=\"\",\"\",Resurssiluettelo!$G$1)","v":""},{"$f":"IF(Y169=\"\",\"\",Resurssiluettelo!$H$14)","v":""},{"$f":"IF(Y169=\"\",\"\",Resurssiluettelo!$I$14)","v":""},{"$f":"IF(Y169=\"\",\"\",Resurssiluettelo!$J$14)","v":""},{"$f":"IF(Y169=\"\",\"\",Resurssiluettelo!$N$14)","v":""},{"$f":"IF(Y169=\"\",\"\",Resurssiluettelo!$O$14)","v":""},{"$f":"IF(Resurssiluettelo!B216=0,\"\",Resurssiluettelo!B216)","v":""},{"$f":"IF(Resurssiluettelo!C216=0,\"\",Resurssiluettelo!C216)","v":""},{"$f":"IF(Resurssiluettelo!D216=0,\"\",Resurssiluettelo!D216)","v":""},{"$f":"IF($J169=\"\",\"\",VLOOKUP($J169, Resurssiluettelo!$D$21:$X$40,Ohjeistus!K$98-1,FALSE))","v":""},{"$f":"IF($J169=\"\",\"\",VLOOKUP($J169, Resurssiluettelo!$D$21:$X$40,Ohjeistus!L$98-1,FALSE))","v":""},{"$f":"IF($J169=\"\",\"\",VLOOKUP($J169, Resurssiluettelo!$D$21:$X$40,Ohjeistus!M$98-1,FALSE))","v":""},{"$f":"IF($J169=\"\",\"\",VLOOKUP($J169, Resurssiluettelo!$D$21:$X$40,Ohjeistus!N$98-1,FALSE))","v":""},{"$f":"IF($J169=\"\",\"\",VLOOKUP($J169, Resurssiluettelo!$D$21:$X$40,Ohjeistus!O$98-1,FALSE))","v":""},{"$f":"IF($J169=\"\",\"\",VLOOKUP($J169, Resurssiluettelo!$D$21:$X$40,Ohjeistus!P$98-1,FALSE))","v":""},{"$f":"IF($J169=\"\",IF($I169=\"\",\"\",VLOOKUP($I169, Resurssiluettelo!$C$21:$X$40,Ohjeistus!Q$98,FALSE)),VLOOKUP($J169, Resurssiluettelo!$D$21:$X$40,Ohjeistus!Q$98-1,FALSE))","v":""},{"$f":"IF($J169=\"\",IF($I169=\"\",\"\",VLOOKUP($I169, Resurssiluettelo!$C$21:$X$40,Ohjeistus!R$98,FALSE)),VLOOKUP($J169, Resurssiluettelo!$D$21:$X$40,Ohjeistus!R$98-1,FALSE))","v":""},{"$f":"IF($J169=\"\",IF($I169=\"\",\"\",VLOOKUP($I169, Resurssiluettelo!$C$21:$X$40,Ohjeistus!S$98,FALSE)),VLOOKUP($J169, Resurssiluettelo!$D$21:$X$40,Ohjeistus!S$98-1,FALSE))","v":""},{"$f":"IF($J169=\"\",IF($I169=\"\",\"\",VLOOKUP($I169, Resurssiluettelo!$C$21:$X$40,Ohjeistus!T$98,FALSE)),VLOOKUP($J169, Resurssiluettelo!$D$21:$X$40,Ohjeistus!T$98-1,FALSE))","v":""},{"$f":"IF($J169=\"\",\"\",VLOOKUP($J169, Resurssiluettelo!$D$21:$X$40,Ohjeistus!U$98-1,FALSE))","v":""},{"$f":"IF($J169=\"\",\"\",VLOOKUP($J169, Resurssiluettelo!$D$21:$X$40,Ohjeistus!V$98-1,FALSE))","v":""},{"$f":"IF($J169=\"\",\"\",VLOOKUP($J169, Resurssiluettelo!$D$21:$X$40,Ohjeistus!W$98-1,FALSE))","v":""},{"$f":"IF($J169=\"\",\"\",VLOOKUP($J169, Resurssiluettelo!$D$21:$X$40,Ohjeistus!X$98-1,FALSE))","v":""},{"$f":"IF(Resurssiluettelo!E216=0,\"\",Resurssiluettelo!E216)","v":""},{"$f":"IF(Resurssiluettelo!F216=0,\"\",YEAR(Resurssiluettelo!F216)&IF(MONTH(Resurssiluettelo!F216)<10,\"0\",\"\")&MONTH(Resurssiluettelo!F216)&IF(DAY(Resurssiluettelo!F216)<10,\"0\",\"\")&DAY(Resurssiluettelo!F216))","v":""},{"$f":"IF(Resurssiluettelo!G216=0,\"\",Resurssiluettelo!G216)","v":""},{"$f":"IF(Resurssiluettelo!H216=0,\"\",Resurssiluettelo!H216)","v":""},{"$f":"IF(Resurssiluettelo!I216=0,\"\",Resurssiluettelo!I216)","v":""},{"$f":"IF(Resurssiluettelo!W216=0,\"\",Resurssiluettelo!W216)","v":""},{"$f":"IF(Resurssiluettelo!X216=0,\"\",Resurssiluettelo!X216)","v":""},{"$f":"IF(Resurssiluettelo!Y216=0,\"\",Resurssiluettelo!Y216)","v":""},{"$f":"IF(Resurssiluettelo!Z216=0,\"\",Resurssiluettelo!Z216)","v":""},{"$f":"IF(Resurssiluettelo!AA216=0,\"\",Resurssiluettelo!AA216)","v":""},{"$f":"IF(Resurssiluettelo!AB216=0,\"\",Resurssiluettelo!AB216)","v":""},{"$f":"IF(Resurssiluettelo!AC216=0,\"\",Resurssiluettelo!AC216)","v":""},{"$f":"IF(Resurssiluettelo!AD216=0,\"\",Resurssiluettelo!AD216)","v":""},{"$f":"IF(Resurssiluettelo!J216=0,\"\",Resurssiluettelo!J216)","v":""},{"$f":"IF(Resurssiluettelo!K216=0,\"\",Resurssiluettelo!K216)","v":""},{"$f":"IF(Resurssiluettelo!L216=0,\"\",Resurssiluettelo!L216)","v":""},{"$f":"IF(Resurssiluettelo!M216=0,\"\",Resurssiluettelo!M216)","v":""},{"$f":"IF(Resurssiluettelo!N216=0,\"\",Resurssiluettelo!N216)","v":""},{"$f":"IF(Resurssiluettelo!O216=0,\"\",Resurssiluettelo!O216)","v":""},{"$f":"IF(Resurssiluettelo!P216=0,\"\",Resurssiluettelo!P216)","v":""},{"$f":"IF(Resurssiluettelo!Q216=0,\"\",Resurssiluettelo!Q216)","v":""},{"$f":"IF(Resurssiluettelo!R216=0,\"\",Resurssiluettelo!R216)","v":""},{"$f":"IF(Resurssiluettelo!S216=0,\"\",Resurssiluettelo!S216)","v":""},{"$f":"IF(Resurssiluettelo!T216=0,\"\",Resurssiluettelo!T216)","v":""},{"$f":"IF(Resurssiluettelo!U216=0,\"\",Resurssiluettelo!U216)","v":""},{"$f":"IF(Resurssiluettelo!V216=0,\"\",Resurssiluettelo!V216)","v":""}]
[167,{"$f":"IF(Y170=\"\",\"\",Resurssiluettelo!$G$1)","v":""},{"$f":"IF(Y170=\"\",\"\",Resurssiluettelo!$H$14)","v":""},{"$f":"IF(Y170=\"\",\"\",Resurssiluettelo!$I$14)","v":""},{"$f":"IF(Y170=\"\",\"\",Resurssiluettelo!$J$14)","v":""},{"$f":"IF(Y170=\"\",\"\",Resurssiluettelo!$N$14)","v":""},{"$f":"IF(Y170=\"\",\"\",Resurssiluettelo!$O$14)","v":""},{"$f":"IF(Resurssiluettelo!B217=0,\"\",Resurssiluettelo!B217)","v":""},{"$f":"IF(Resurssiluettelo!C217=0,\"\",Resurssiluettelo!C217)","v":""},{"$f":"IF(Resurssiluettelo!D217=0,\"\",Resurssiluettelo!D217)","v":""},{"$f":"IF($J170=\"\",\"\",VLOOKUP($J170, Resurssiluettelo!$D$21:$X$40,Ohjeistus!K$98-1,FALSE))","v":""},{"$f":"IF($J170=\"\",\"\",VLOOKUP($J170, Resurssiluettelo!$D$21:$X$40,Ohjeistus!L$98-1,FALSE))","v":""},{"$f":"IF($J170=\"\",\"\",VLOOKUP($J170, Resurssiluettelo!$D$21:$X$40,Ohjeistus!M$98-1,FALSE))","v":""},{"$f":"IF($J170=\"\",\"\",VLOOKUP($J170, Resurssiluettelo!$D$21:$X$40,Ohjeistus!N$98-1,FALSE))","v":""},{"$f":"IF($J170=\"\",\"\",VLOOKUP($J170, Resurssiluettelo!$D$21:$X$40,Ohjeistus!O$98-1,FALSE))","v":""},{"$f":"IF($J170=\"\",\"\",VLOOKUP($J170, Resurssiluettelo!$D$21:$X$40,Ohjeistus!P$98-1,FALSE))","v":""},{"$f":"IF($J170=\"\",IF($I170=\"\",\"\",VLOOKUP($I170, Resurssiluettelo!$C$21:$X$40,Ohjeistus!Q$98,FALSE)),VLOOKUP($J170, Resurssiluettelo!$D$21:$X$40,Ohjeistus!Q$98-1,FALSE))","v":""},{"$f":"IF($J170=\"\",IF($I170=\"\",\"\",VLOOKUP($I170, Resurssiluettelo!$C$21:$X$40,Ohjeistus!R$98,FALSE)),VLOOKUP($J170, Resurssiluettelo!$D$21:$X$40,Ohjeistus!R$98-1,FALSE))","v":""},{"$f":"IF($J170=\"\",IF($I170=\"\",\"\",VLOOKUP($I170, Resurssiluettelo!$C$21:$X$40,Ohjeistus!S$98,FALSE)),VLOOKUP($J170, Resurssiluettelo!$D$21:$X$40,Ohjeistus!S$98-1,FALSE))","v":""},{"$f":"IF($J170=\"\",IF($I170=\"\",\"\",VLOOKUP($I170, Resurssiluettelo!$C$21:$X$40,Ohjeistus!T$98,FALSE)),VLOOKUP($J170, Resurssiluettelo!$D$21:$X$40,Ohjeistus!T$98-1,FALSE))","v":""},{"$f":"IF($J170=\"\",\"\",VLOOKUP($J170, Resurssiluettelo!$D$21:$X$40,Ohjeistus!U$98-1,FALSE))","v":""},{"$f":"IF($J170=\"\",\"\",VLOOKUP($J170, Resurssiluettelo!$D$21:$X$40,Ohjeistus!V$98-1,FALSE))","v":""},{"$f":"IF($J170=\"\",\"\",VLOOKUP($J170, Resurssiluettelo!$D$21:$X$40,Ohjeistus!W$98-1,FALSE))","v":""},{"$f":"IF($J170=\"\",\"\",VLOOKUP($J170, Resurssiluettelo!$D$21:$X$40,Ohjeistus!X$98-1,FALSE))","v":""},{"$f":"IF(Resurssiluettelo!E217=0,\"\",Resurssiluettelo!E217)","v":""},{"$f":"IF(Resurssiluettelo!F217=0,\"\",YEAR(Resurssiluettelo!F217)&IF(MONTH(Resurssiluettelo!F217)<10,\"0\",\"\")&MONTH(Resurssiluettelo!F217)&IF(DAY(Resurssiluettelo!F217)<10,\"0\",\"\")&DAY(Resurssiluettelo!F217))","v":""},{"$f":"IF(Resurssiluettelo!G217=0,\"\",Resurssiluettelo!G217)","v":""},{"$f":"IF(Resurssiluettelo!H217=0,\"\",Resurssiluettelo!H217)","v":""},{"$f":"IF(Resurssiluettelo!I217=0,\"\",Resurssiluettelo!I217)","v":""},{"$f":"IF(Resurssiluettelo!W217=0,\"\",Resurssiluettelo!W217)","v":""},{"$f":"IF(Resurssiluettelo!X217=0,\"\",Resurssiluettelo!X217)","v":""},{"$f":"IF(Resurssiluettelo!Y217=0,\"\",Resurssiluettelo!Y217)","v":""},{"$f":"IF(Resurssiluettelo!Z217=0,\"\",Resurssiluettelo!Z217)","v":""},{"$f":"IF(Resurssiluettelo!AA217=0,\"\",Resurssiluettelo!AA217)","v":""},{"$f":"IF(Resurssiluettelo!AB217=0,\"\",Resurssiluettelo!AB217)","v":""},{"$f":"IF(Resurssiluettelo!AC217=0,\"\",Resurssiluettelo!AC217)","v":""},{"$f":"IF(Resurssiluettelo!AD217=0,\"\",Resurssiluettelo!AD217)","v":""},{"$f":"IF(Resurssiluettelo!J217=0,\"\",Resurssiluettelo!J217)","v":""},{"$f":"IF(Resurssiluettelo!K217=0,\"\",Resurssiluettelo!K217)","v":""},{"$f":"IF(Resurssiluettelo!L217=0,\"\",Resurssiluettelo!L217)","v":""},{"$f":"IF(Resurssiluettelo!M217=0,\"\",Resurssiluettelo!M217)","v":""},{"$f":"IF(Resurssiluettelo!N217=0,\"\",Resurssiluettelo!N217)","v":""},{"$f":"IF(Resurssiluettelo!O217=0,\"\",Resurssiluettelo!O217)","v":""},{"$f":"IF(Resurssiluettelo!P217=0,\"\",Resurssiluettelo!P217)","v":""},{"$f":"IF(Resurssiluettelo!Q217=0,\"\",Resurssiluettelo!Q217)","v":""},{"$f":"IF(Resurssiluettelo!R217=0,\"\",Resurssiluettelo!R217)","v":""},{"$f":"IF(Resurssiluettelo!S217=0,\"\",Resurssiluettelo!S217)","v":""},{"$f":"IF(Resurssiluettelo!T217=0,\"\",Resurssiluettelo!T217)","v":""},{"$f":"IF(Resurssiluettelo!U217=0,\"\",Resurssiluettelo!U217)","v":""},{"$f":"IF(Resurssiluettelo!V217=0,\"\",Resurssiluettelo!V217)","v":""}]
[168,{"$f":"IF(Y171=\"\",\"\",Resurssiluettelo!$G$1)","v":""},{"$f":"IF(Y171=\"\",\"\",Resurssiluettelo!$H$14)","v":""},{"$f":"IF(Y171=\"\",\"\",Resurssiluettelo!$I$14)","v":""},{"$f":"IF(Y171=\"\",\"\",Resurssiluettelo!$J$14)","v":""},{"$f":"IF(Y171=\"\",\"\",Resurssiluettelo!$N$14)","v":""},{"$f":"IF(Y171=\"\",\"\",Resurssiluettelo!$O$14)","v":""},{"$f":"IF(Resurssiluettelo!B218=0,\"\",Resurssiluettelo!B218)","v":""},{"$f":"IF(Resurssiluettelo!C218=0,\"\",Resurssiluettelo!C218)","v":""},{"$f":"IF(Resurssiluettelo!D218=0,\"\",Resurssiluettelo!D218)","v":""},{"$f":"IF($J171=\"\",\"\",VLOOKUP($J171, Resurssiluettelo!$D$21:$X$40,Ohjeistus!K$98-1,FALSE))","v":""},{"$f":"IF($J171=\"\",\"\",VLOOKUP($J171, Resurssiluettelo!$D$21:$X$40,Ohjeistus!L$98-1,FALSE))","v":""},{"$f":"IF($J171=\"\",\"\",VLOOKUP($J171, Resurssiluettelo!$D$21:$X$40,Ohjeistus!M$98-1,FALSE))","v":""},{"$f":"IF($J171=\"\",\"\",VLOOKUP($J171, Resurssiluettelo!$D$21:$X$40,Ohjeistus!N$98-1,FALSE))","v":""},{"$f":"IF($J171=\"\",\"\",VLOOKUP($J171, Resurssiluettelo!$D$21:$X$40,Ohjeistus!O$98-1,FALSE))","v":""},{"$f":"IF($J171=\"\",\"\",VLOOKUP($J171, Resurssiluettelo!$D$21:$X$40,Ohjeistus!P$98-1,FALSE))","v":""},{"$f":"IF($J171=\"\",IF($I171=\"\",\"\",VLOOKUP($I171, Resurssiluettelo!$C$21:$X$40,Ohjeistus!Q$98,FALSE)),VLOOKUP($J171, Resurssiluettelo!$D$21:$X$40,Ohjeistus!Q$98-1,FALSE))","v":""},{"$f":"IF($J171=\"\",IF($I171=\"\",\"\",VLOOKUP($I171, Resurssiluettelo!$C$21:$X$40,Ohjeistus!R$98,FALSE)),VLOOKUP($J171, Resurssiluettelo!$D$21:$X$40,Ohjeistus!R$98-1,FALSE))","v":""},{"$f":"IF($J171=\"\",IF($I171=\"\",\"\",VLOOKUP($I171, Resurssiluettelo!$C$21:$X$40,Ohjeistus!S$98,FALSE)),VLOOKUP($J171, Resurssiluettelo!$D$21:$X$40,Ohjeistus!S$98-1,FALSE))","v":""},{"$f":"IF($J171=\"\",IF($I171=\"\",\"\",VLOOKUP($I171, Resurssiluettelo!$C$21:$X$40,Ohjeistus!T$98,FALSE)),VLOOKUP($J171, Resurssiluettelo!$D$21:$X$40,Ohjeistus!T$98-1,FALSE))","v":""},{"$f":"IF($J171=\"\",\"\",VLOOKUP($J171, Resurssiluettelo!$D$21:$X$40,Ohjeistus!U$98-1,FALSE))","v":""},{"$f":"IF($J171=\"\",\"\",VLOOKUP($J171, Resurssiluettelo!$D$21:$X$40,Ohjeistus!V$98-1,FALSE))","v":""},{"$f":"IF($J171=\"\",\"\",VLOOKUP($J171, Resurssiluettelo!$D$21:$X$40,Ohjeistus!W$98-1,FALSE))","v":""},{"$f":"IF($J171=\"\",\"\",VLOOKUP($J171, Resurssiluettelo!$D$21:$X$40,Ohjeistus!X$98-1,FALSE))","v":""},{"$f":"IF(Resurssiluettelo!E218=0,\"\",Resurssiluettelo!E218)","v":""},{"$f":"IF(Resurssiluettelo!F218=0,\"\",YEAR(Resurssiluettelo!F218)&IF(MONTH(Resurssiluettelo!F218)<10,\"0\",\"\")&MONTH(Resurssiluettelo!F218)&IF(DAY(Resurssiluettelo!F218)<10,\"0\",\"\")&DAY(Resurssiluettelo!F218))","v":""},{"$f":"IF(Resurssiluettelo!G218=0,\"\",Resurssiluettelo!G218)","v":""},{"$f":"IF(Resurssiluettelo!H218=0,\"\",Resurssiluettelo!H218)","v":""},{"$f":"IF(Resurssiluettelo!I218=0,\"\",Resurssiluettelo!I218)","v":""},{"$f":"IF(Resurssiluettelo!W218=0,\"\",Resurssiluettelo!W218)","v":""},{"$f":"IF(Resurssiluettelo!X218=0,\"\",Resurssiluettelo!X218)","v":""},{"$f":"IF(Resurssiluettelo!Y218=0,\"\",Resurssiluettelo!Y218)","v":""},{"$f":"IF(Resurssiluettelo!Z218=0,\"\",Resurssiluettelo!Z218)","v":""},{"$f":"IF(Resurssiluettelo!AA218=0,\"\",Resurssiluettelo!AA218)","v":""},{"$f":"IF(Resurssiluettelo!AB218=0,\"\",Resurssiluettelo!AB218)","v":""},{"$f":"IF(Resurssiluettelo!AC218=0,\"\",Resurssiluettelo!AC218)","v":""},{"$f":"IF(Resurssiluettelo!AD218=0,\"\",Resurssiluettelo!AD218)","v":""},{"$f":"IF(Resurssiluettelo!J218=0,\"\",Resurssiluettelo!J218)","v":""},{"$f":"IF(Resurssiluettelo!K218=0,\"\",Resurssiluettelo!K218)","v":""},{"$f":"IF(Resurssiluettelo!L218=0,\"\",Resurssiluettelo!L218)","v":""},{"$f":"IF(Resurssiluettelo!M218=0,\"\",Resurssiluettelo!M218)","v":""},{"$f":"IF(Resurssiluettelo!N218=0,\"\",Resurssiluettelo!N218)","v":""},{"$f":"IF(Resurssiluettelo!O218=0,\"\",Resurssiluettelo!O218)","v":""},{"$f":"IF(Resurssiluettelo!P218=0,\"\",Resurssiluettelo!P218)","v":""},{"$f":"IF(Resurssiluettelo!Q218=0,\"\",Resurssiluettelo!Q218)","v":""},{"$f":"IF(Resurssiluettelo!R218=0,\"\",Resurssiluettelo!R218)","v":""},{"$f":"IF(Resurssiluettelo!S218=0,\"\",Resurssiluettelo!S218)","v":""},{"$f":"IF(Resurssiluettelo!T218=0,\"\",Resurssiluettelo!T218)","v":""},{"$f":"IF(Resurssiluettelo!U218=0,\"\",Resurssiluettelo!U218)","v":""},{"$f":"IF(Resurssiluettelo!V218=0,\"\",Resurssiluettelo!V218)","v":""}]
[169,{"$f":"IF(Y172=\"\",\"\",Resurssiluettelo!$G$1)","v":""},{"$f":"IF(Y172=\"\",\"\",Resurssiluettelo!$H$14)","v":""},{"$f":"IF(Y172=\"\",\"\",Resurssiluettelo!$I$14)","v":""},{"$f":"IF(Y172=\"\",\"\",Resurssiluettelo!$J$14)","v":""},{"$f":"IF(Y172=\"\",\"\",Resurssiluettelo!$N$14)","v":""},{"$f":"IF(Y172=\"\",\"\",Resurssiluettelo!$O$14)","v":""},{"$f":"IF(Resurssiluettelo!B219=0,\"\",Resurssiluettelo!B219)","v":""},{"$f":"IF(Resurssiluettelo!C219=0,\"\",Resurssiluettelo!C219)","v":""},{"$f":"IF(Resurssiluettelo!D219=0,\"\",Resurssiluettelo!D219)","v":""},{"$f":"IF($J172=\"\",\"\",VLOOKUP($J172, Resurssiluettelo!$D$21:$X$40,Ohjeistus!K$98-1,FALSE))","v":""},{"$f":"IF($J172=\"\",\"\",VLOOKUP($J172, Resurssiluettelo!$D$21:$X$40,Ohjeistus!L$98-1,FALSE))","v":""},{"$f":"IF($J172=\"\",\"\",VLOOKUP($J172, Resurssiluettelo!$D$21:$X$40,Ohjeistus!M$98-1,FALSE))","v":""},{"$f":"IF($J172=\"\",\"\",VLOOKUP($J172, Resurssiluettelo!$D$21:$X$40,Ohjeistus!N$98-1,FALSE))","v":""},{"$f":"IF($J172=\"\",\"\",VLOOKUP($J172, Resurssiluettelo!$D$21:$X$40,Ohjeistus!O$98-1,FALSE))","v":""},{"$f":"IF($J172=\"\",\"\",VLOOKUP($J172, Resurssiluettelo!$D$21:$X$40,Ohjeistus!P$98-1,FALSE))","v":""},{"$f":"IF($J172=\"\",IF($I172=\"\",\"\",VLOOKUP($I172, Resurssiluettelo!$C$21:$X$40,Ohjeistus!Q$98,FALSE)),VLOOKUP($J172, Resurssiluettelo!$D$21:$X$40,Ohjeistus!Q$98-1,FALSE))","v":""},{"$f":"IF($J172=\"\",IF($I172=\"\",\"\",VLOOKUP($I172, Resurssiluettelo!$C$21:$X$40,Ohjeistus!R$98,FALSE)),VLOOKUP($J172, Resurssiluettelo!$D$21:$X$40,Ohjeistus!R$98-1,FALSE))","v":""},{"$f":"IF($J172=\"\",IF($I172=\"\",\"\",VLOOKUP($I172, Resurssiluettelo!$C$21:$X$40,Ohjeistus!S$98,FALSE)),VLOOKUP($J172, Resurssiluettelo!$D$21:$X$40,Ohjeistus!S$98-1,FALSE))","v":""},{"$f":"IF($J172=\"\",IF($I172=\"\",\"\",VLOOKUP($I172, Resurssiluettelo!$C$21:$X$40,Ohjeistus!T$98,FALSE)),VLOOKUP($J172, Resurssiluettelo!$D$21:$X$40,Ohjeistus!T$98-1,FALSE))","v":""},{"$f":"IF($J172=\"\",\"\",VLOOKUP($J172, Resurssiluettelo!$D$21:$X$40,Ohjeistus!U$98-1,FALSE))","v":""},{"$f":"IF($J172=\"\",\"\",VLOOKUP($J172, Resurssiluettelo!$D$21:$X$40,Ohjeistus!V$98-1,FALSE))","v":""},{"$f":"IF($J172=\"\",\"\",VLOOKUP($J172, Resurssiluettelo!$D$21:$X$40,Ohjeistus!W$98-1,FALSE))","v":""},{"$f":"IF($J172=\"\",\"\",VLOOKUP($J172, Resurssiluettelo!$D$21:$X$40,Ohjeistus!X$98-1,FALSE))","v":""},{"$f":"IF(Resurssiluettelo!E219=0,\"\",Resurssiluettelo!E219)","v":""},{"$f":"IF(Resurssiluettelo!F219=0,\"\",YEAR(Resurssiluettelo!F219)&IF(MONTH(Resurssiluettelo!F219)<10,\"0\",\"\")&MONTH(Resurssiluettelo!F219)&IF(DAY(Resurssiluettelo!F219)<10,\"0\",\"\")&DAY(Resurssiluettelo!F219))","v":""},{"$f":"IF(Resurssiluettelo!G219=0,\"\",Resurssiluettelo!G219)","v":""},{"$f":"IF(Resurssiluettelo!H219=0,\"\",Resurssiluettelo!H219)","v":""},{"$f":"IF(Resurssiluettelo!I219=0,\"\",Resurssiluettelo!I219)","v":""},{"$f":"IF(Resurssiluettelo!W219=0,\"\",Resurssiluettelo!W219)","v":""},{"$f":"IF(Resurssiluettelo!X219=0,\"\",Resurssiluettelo!X219)","v":""},{"$f":"IF(Resurssiluettelo!Y219=0,\"\",Resurssiluettelo!Y219)","v":""},{"$f":"IF(Resurssiluettelo!Z219=0,\"\",Resurssiluettelo!Z219)","v":""},{"$f":"IF(Resurssiluettelo!AA219=0,\"\",Resurssiluettelo!AA219)","v":""},{"$f":"IF(Resurssiluettelo!AB219=0,\"\",Resurssiluettelo!AB219)","v":""},{"$f":"IF(Resurssiluettelo!AC219=0,\"\",Resurssiluettelo!AC219)","v":""},{"$f":"IF(Resurssiluettelo!AD219=0,\"\",Resurssiluettelo!AD219)","v":""},{"$f":"IF(Resurssiluettelo!J219=0,\"\",Resurssiluettelo!J219)","v":""},{"$f":"IF(Resurssiluettelo!K219=0,\"\",Resurssiluettelo!K219)","v":""},{"$f":"IF(Resurssiluettelo!L219=0,\"\",Resurssiluettelo!L219)","v":""},{"$f":"IF(Resurssiluettelo!M219=0,\"\",Resurssiluettelo!M219)","v":""},{"$f":"IF(Resurssiluettelo!N219=0,\"\",Resurssiluettelo!N219)","v":""},{"$f":"IF(Resurssiluettelo!O219=0,\"\",Resurssiluettelo!O219)","v":""},{"$f":"IF(Resurssiluettelo!P219=0,\"\",Resurssiluettelo!P219)","v":""},{"$f":"IF(Resurssiluettelo!Q219=0,\"\",Resurssiluettelo!Q219)","v":""},{"$f":"IF(Resurssiluettelo!R219=0,\"\",Resurssiluettelo!R219)","v":""},{"$f":"IF(Resurssiluettelo!S219=0,\"\",Resurssiluettelo!S219)","v":""},{"$f":"IF(Resurssiluettelo!T219=0,\"\",Resurssiluettelo!T219)","v":""},{"$f":"IF(Resurssiluettelo!U219=0,\"\",Resurssiluettelo!U219)","v":""},{"$f":"IF(Resurssiluettelo!V219=0,\"\",Resurssiluettelo!V219)","v":""}]
[170,{"$f":"IF(Y173=\"\",\"\",Resurssiluettelo!$G$1)","v":""},{"$f":"IF(Y173=\"\",\"\",Resurssiluettelo!$H$14)","v":""},{"$f":"IF(Y173=\"\",\"\",Resurssiluettelo!$I$14)","v":""},{"$f":"IF(Y173=\"\",\"\",Resurssiluettelo!$J$14)","v":""},{"$f":"IF(Y173=\"\",\"\",Resurssiluettelo!$N$14)","v":""},{"$f":"IF(Y173=\"\",\"\",Resurssiluettelo!$O$14)","v":""},{"$f":"IF(Resurssiluettelo!B220=0,\"\",Resurssiluettelo!B220)","v":""},{"$f":"IF(Resurssiluettelo!C220=0,\"\",Resurssiluettelo!C220)","v":""},{"$f":"IF(Resurssiluettelo!D220=0,\"\",Resurssiluettelo!D220)","v":""},{"$f":"IF($J173=\"\",\"\",VLOOKUP($J173, Resurssiluettelo!$D$21:$X$40,Ohjeistus!K$98-1,FALSE))","v":""},{"$f":"IF($J173=\"\",\"\",VLOOKUP($J173, Resurssiluettelo!$D$21:$X$40,Ohjeistus!L$98-1,FALSE))","v":""},{"$f":"IF($J173=\"\",\"\",VLOOKUP($J173, Resurssiluettelo!$D$21:$X$40,Ohjeistus!M$98-1,FALSE))","v":""},{"$f":"IF($J173=\"\",\"\",VLOOKUP($J173, Resurssiluettelo!$D$21:$X$40,Ohjeistus!N$98-1,FALSE))","v":""},{"$f":"IF($J173=\"\",\"\",VLOOKUP($J173, Resurssiluettelo!$D$21:$X$40,Ohjeistus!O$98-1,FALSE))","v":""},{"$f":"IF($J173=\"\",\"\",VLOOKUP($J173, Resurssiluettelo!$D$21:$X$40,Ohjeistus!P$98-1,FALSE))","v":""},{"$f":"IF($J173=\"\",IF($I173=\"\",\"\",VLOOKUP($I173, Resurssiluettelo!$C$21:$X$40,Ohjeistus!Q$98,FALSE)),VLOOKUP($J173, Resurssiluettelo!$D$21:$X$40,Ohjeistus!Q$98-1,FALSE))","v":""},{"$f":"IF($J173=\"\",IF($I173=\"\",\"\",VLOOKUP($I173, Resurssiluettelo!$C$21:$X$40,Ohjeistus!R$98,FALSE)),VLOOKUP($J173, Resurssiluettelo!$D$21:$X$40,Ohjeistus!R$98-1,FALSE))","v":""},{"$f":"IF($J173=\"\",IF($I173=\"\",\"\",VLOOKUP($I173, Resurssiluettelo!$C$21:$X$40,Ohjeistus!S$98,FALSE)),VLOOKUP($J173, Resurssiluettelo!$D$21:$X$40,Ohjeistus!S$98-1,FALSE))","v":""},{"$f":"IF($J173=\"\",IF($I173=\"\",\"\",VLOOKUP($I173, Resurssiluettelo!$C$21:$X$40,Ohjeistus!T$98,FALSE)),VLOOKUP($J173, Resurssiluettelo!$D$21:$X$40,Ohjeistus!T$98-1,FALSE))","v":""},{"$f":"IF($J173=\"\",\"\",VLOOKUP($J173, Resurssiluettelo!$D$21:$X$40,Ohjeistus!U$98-1,FALSE))","v":""},{"$f":"IF($J173=\"\",\"\",VLOOKUP($J173, Resurssiluettelo!$D$21:$X$40,Ohjeistus!V$98-1,FALSE))","v":""},{"$f":"IF($J173=\"\",\"\",VLOOKUP($J173, Resurssiluettelo!$D$21:$X$40,Ohjeistus!W$98-1,FALSE))","v":""},{"$f":"IF($J173=\"\",\"\",VLOOKUP($J173, Resurssiluettelo!$D$21:$X$40,Ohjeistus!X$98-1,FALSE))","v":""},{"$f":"IF(Resurssiluettelo!E220=0,\"\",Resurssiluettelo!E220)","v":""},{"$f":"IF(Resurssiluettelo!F220=0,\"\",YEAR(Resurssiluettelo!F220)&IF(MONTH(Resurssiluettelo!F220)<10,\"0\",\"\")&MONTH(Resurssiluettelo!F220)&IF(DAY(Resurssiluettelo!F220)<10,\"0\",\"\")&DAY(Resurssiluettelo!F220))","v":""},{"$f":"IF(Resurssiluettelo!G220=0,\"\",Resurssiluettelo!G220)","v":""},{"$f":"IF(Resurssiluettelo!H220=0,\"\",Resurssiluettelo!H220)","v":""},{"$f":"IF(Resurssiluettelo!I220=0,\"\",Resurssiluettelo!I220)","v":""},{"$f":"IF(Resurssiluettelo!W220=0,\"\",Resurssiluettelo!W220)","v":""},{"$f":"IF(Resurssiluettelo!X220=0,\"\",Resurssiluettelo!X220)","v":""},{"$f":"IF(Resurssiluettelo!Y220=0,\"\",Resurssiluettelo!Y220)","v":""},{"$f":"IF(Resurssiluettelo!Z220=0,\"\",Resurssiluettelo!Z220)","v":""},{"$f":"IF(Resurssiluettelo!AA220=0,\"\",Resurssiluettelo!AA220)","v":""},{"$f":"IF(Resurssiluettelo!AB220=0,\"\",Resurssiluettelo!AB220)","v":""},{"$f":"IF(Resurssiluettelo!AC220=0,\"\",Resurssiluettelo!AC220)","v":""},{"$f":"IF(Resurssiluettelo!AD220=0,\"\",Resurssiluettelo!AD220)","v":""},{"$f":"IF(Resurssiluettelo!J220=0,\"\",Resurssiluettelo!J220)","v":""},{"$f":"IF(Resurssiluettelo!K220=0,\"\",Resurssiluettelo!K220)","v":""},{"$f":"IF(Resurssiluettelo!L220=0,\"\",Resurssiluettelo!L220)","v":""},{"$f":"IF(Resurssiluettelo!M220=0,\"\",Resurssiluettelo!M220)","v":""},{"$f":"IF(Resurssiluettelo!N220=0,\"\",Resurssiluettelo!N220)","v":""},{"$f":"IF(Resurssiluettelo!O220=0,\"\",Resurssiluettelo!O220)","v":""},{"$f":"IF(Resurssiluettelo!P220=0,\"\",Resurssiluettelo!P220)","v":""},{"$f":"IF(Resurssiluettelo!Q220=0,\"\",Resurssiluettelo!Q220)","v":""},{"$f":"IF(Resurssiluettelo!R220=0,\"\",Resurssiluettelo!R220)","v":""},{"$f":"IF(Resurssiluettelo!S220=0,\"\",Resurssiluettelo!S220)","v":""},{"$f":"IF(Resurssiluettelo!T220=0,\"\",Resurssiluettelo!T220)","v":""},{"$f":"IF(Resurssiluettelo!U220=0,\"\",Resurssiluettelo!U220)","v":""},{"$f":"IF(Resurssiluettelo!V220=0,\"\",Resurssiluettelo!V220)","v":""}]
[171,{"$f":"IF(Y174=\"\",\"\",Resurssiluettelo!$G$1)","v":""},{"$f":"IF(Y174=\"\",\"\",Resurssiluettelo!$H$14)","v":""},{"$f":"IF(Y174=\"\",\"\",Resurssiluettelo!$I$14)","v":""},{"$f":"IF(Y174=\"\",\"\",Resurssiluettelo!$J$14)","v":""},{"$f":"IF(Y174=\"\",\"\",Resurssiluettelo!$N$14)","v":""},{"$f":"IF(Y174=\"\",\"\",Resurssiluettelo!$O$14)","v":""},{"$f":"IF(Resurssiluettelo!B221=0,\"\",Resurssiluettelo!B221)","v":""},{"$f":"IF(Resurssiluettelo!C221=0,\"\",Resurssiluettelo!C221)","v":""},{"$f":"IF(Resurssiluettelo!D221=0,\"\",Resurssiluettelo!D221)","v":""},{"$f":"IF($J174=\"\",\"\",VLOOKUP($J174, Resurssiluettelo!$D$21:$X$40,Ohjeistus!K$98-1,FALSE))","v":""},{"$f":"IF($J174=\"\",\"\",VLOOKUP($J174, Resurssiluettelo!$D$21:$X$40,Ohjeistus!L$98-1,FALSE))","v":""},{"$f":"IF($J174=\"\",\"\",VLOOKUP($J174, Resurssiluettelo!$D$21:$X$40,Ohjeistus!M$98-1,FALSE))","v":""},{"$f":"IF($J174=\"\",\"\",VLOOKUP($J174, Resurssiluettelo!$D$21:$X$40,Ohjeistus!N$98-1,FALSE))","v":""},{"$f":"IF($J174=\"\",\"\",VLOOKUP($J174, Resurssiluettelo!$D$21:$X$40,Ohjeistus!O$98-1,FALSE))","v":""},{"$f":"IF($J174=\"\",\"\",VLOOKUP($J174, Resurssiluettelo!$D$21:$X$40,Ohjeistus!P$98-1,FALSE))","v":""},{"$f":"IF($J174=\"\",IF($I174=\"\",\"\",VLOOKUP($I174, Resurssiluettelo!$C$21:$X$40,Ohjeistus!Q$98,FALSE)),VLOOKUP($J174, Resurssiluettelo!$D$21:$X$40,Ohjeistus!Q$98-1,FALSE))","v":""},{"$f":"IF($J174=\"\",IF($I174=\"\",\"\",VLOOKUP($I174, Resurssiluettelo!$C$21:$X$40,Ohjeistus!R$98,FALSE)),VLOOKUP($J174, Resurssiluettelo!$D$21:$X$40,Ohjeistus!R$98-1,FALSE))","v":""},{"$f":"IF($J174=\"\",IF($I174=\"\",\"\",VLOOKUP($I174, Resurssiluettelo!$C$21:$X$40,Ohjeistus!S$98,FALSE)),VLOOKUP($J174, Resurssiluettelo!$D$21:$X$40,Ohjeistus!S$98-1,FALSE))","v":""},{"$f":"IF($J174=\"\",IF($I174=\"\",\"\",VLOOKUP($I174, Resurssiluettelo!$C$21:$X$40,Ohjeistus!T$98,FALSE)),VLOOKUP($J174, Resurssiluettelo!$D$21:$X$40,Ohjeistus!T$98-1,FALSE))","v":""},{"$f":"IF($J174=\"\",\"\",VLOOKUP($J174, Resurssiluettelo!$D$21:$X$40,Ohjeistus!U$98-1,FALSE))","v":""},{"$f":"IF($J174=\"\",\"\",VLOOKUP($J174, Resurssiluettelo!$D$21:$X$40,Ohjeistus!V$98-1,FALSE))","v":""},{"$f":"IF($J174=\"\",\"\",VLOOKUP($J174, Resurssiluettelo!$D$21:$X$40,Ohjeistus!W$98-1,FALSE))","v":""},{"$f":"IF($J174=\"\",\"\",VLOOKUP($J174, Resurssiluettelo!$D$21:$X$40,Ohjeistus!X$98-1,FALSE))","v":""},{"$f":"IF(Resurssiluettelo!E221=0,\"\",Resurssiluettelo!E221)","v":""},{"$f":"IF(Resurssiluettelo!F221=0,\"\",YEAR(Resurssiluettelo!F221)&IF(MONTH(Resurssiluettelo!F221)<10,\"0\",\"\")&MONTH(Resurssiluettelo!F221)&IF(DAY(Resurssiluettelo!F221)<10,\"0\",\"\")&DAY(Resurssiluettelo!F221))","v":""},{"$f":"IF(Resurssiluettelo!G221=0,\"\",Resurssiluettelo!G221)","v":""},{"$f":"IF(Resurssiluettelo!H221=0,\"\",Resurssiluettelo!H221)","v":""},{"$f":"IF(Resurssiluettelo!I221=0,\"\",Resurssiluettelo!I221)","v":""},{"$f":"IF(Resurssiluettelo!W221=0,\"\",Resurssiluettelo!W221)","v":""},{"$f":"IF(Resurssiluettelo!X221=0,\"\",Resurssiluettelo!X221)","v":""},{"$f":"IF(Resurssiluettelo!Y221=0,\"\",Resurssiluettelo!Y221)","v":""},{"$f":"IF(Resurssiluettelo!Z221=0,\"\",Resurssiluettelo!Z221)","v":""},{"$f":"IF(Resurssiluettelo!AA221=0,\"\",Resurssiluettelo!AA221)","v":""},{"$f":"IF(Resurssiluettelo!AB221=0,\"\",Resurssiluettelo!AB221)","v":""},{"$f":"IF(Resurssiluettelo!AC221=0,\"\",Resurssiluettelo!AC221)","v":""},{"$f":"IF(Resurssiluettelo!AD221=0,\"\",Resurssiluettelo!AD221)","v":""},{"$f":"IF(Resurssiluettelo!J221=0,\"\",Resurssiluettelo!J221)","v":""},{"$f":"IF(Resurssiluettelo!K221=0,\"\",Resurssiluettelo!K221)","v":""},{"$f":"IF(Resurssiluettelo!L221=0,\"\",Resurssiluettelo!L221)","v":""},{"$f":"IF(Resurssiluettelo!M221=0,\"\",Resurssiluettelo!M221)","v":""},{"$f":"IF(Resurssiluettelo!N221=0,\"\",Resurssiluettelo!N221)","v":""},{"$f":"IF(Resurssiluettelo!O221=0,\"\",Resurssiluettelo!O221)","v":""},{"$f":"IF(Resurssiluettelo!P221=0,\"\",Resurssiluettelo!P221)","v":""},{"$f":"IF(Resurssiluettelo!Q221=0,\"\",Resurssiluettelo!Q221)","v":""},{"$f":"IF(Resurssiluettelo!R221=0,\"\",Resurssiluettelo!R221)","v":""},{"$f":"IF(Resurssiluettelo!S221=0,\"\",Resurssiluettelo!S221)","v":""},{"$f":"IF(Resurssiluettelo!T221=0,\"\",Resurssiluettelo!T221)","v":""},{"$f":"IF(Resurssiluettelo!U221=0,\"\",Resurssiluettelo!U221)","v":""},{"$f":"IF(Resurssiluettelo!V221=0,\"\",Resurssiluettelo!V221)","v":""}]
[172,{"$f":"IF(Y175=\"\",\"\",Resurssiluettelo!$G$1)","v":""},{"$f":"IF(Y175=\"\",\"\",Resurssiluettelo!$H$14)","v":""},{"$f":"IF(Y175=\"\",\"\",Resurssiluettelo!$I$14)","v":""},{"$f":"IF(Y175=\"\",\"\",Resurssiluettelo!$J$14)","v":""},{"$f":"IF(Y175=\"\",\"\",Resurssiluettelo!$N$14)","v":""},{"$f":"IF(Y175=\"\",\"\",Resurssiluettelo!$O$14)","v":""},{"$f":"IF(Resurssiluettelo!B222=0,\"\",Resurssiluettelo!B222)","v":""},{"$f":"IF(Resurssiluettelo!C222=0,\"\",Resurssiluettelo!C222)","v":""},{"$f":"IF(Resurssiluettelo!D222=0,\"\",Resurssiluettelo!D222)","v":""},{"$f":"IF($J175=\"\",\"\",VLOOKUP($J175, Resurssiluettelo!$D$21:$X$40,Ohjeistus!K$98-1,FALSE))","v":""},{"$f":"IF($J175=\"\",\"\",VLOOKUP($J175, Resurssiluettelo!$D$21:$X$40,Ohjeistus!L$98-1,FALSE))","v":""},{"$f":"IF($J175=\"\",\"\",VLOOKUP($J175, Resurssiluettelo!$D$21:$X$40,Ohjeistus!M$98-1,FALSE))","v":""},{"$f":"IF($J175=\"\",\"\",VLOOKUP($J175, Resurssiluettelo!$D$21:$X$40,Ohjeistus!N$98-1,FALSE))","v":""},{"$f":"IF($J175=\"\",\"\",VLOOKUP($J175, Resurssiluettelo!$D$21:$X$40,Ohjeistus!O$98-1,FALSE))","v":""},{"$f":"IF($J175=\"\",\"\",VLOOKUP($J175, Resurssiluettelo!$D$21:$X$40,Ohjeistus!P$98-1,FALSE))","v":""},{"$f":"IF($J175=\"\",IF($I175=\"\",\"\",VLOOKUP($I175, Resurssiluettelo!$C$21:$X$40,Ohjeistus!Q$98,FALSE)),VLOOKUP($J175, Resurssiluettelo!$D$21:$X$40,Ohjeistus!Q$98-1,FALSE))","v":""},{"$f":"IF($J175=\"\",IF($I175=\"\",\"\",VLOOKUP($I175, Resurssiluettelo!$C$21:$X$40,Ohjeistus!R$98,FALSE)),VLOOKUP($J175, Resurssiluettelo!$D$21:$X$40,Ohjeistus!R$98-1,FALSE))","v":""},{"$f":"IF($J175=\"\",IF($I175=\"\",\"\",VLOOKUP($I175, Resurssiluettelo!$C$21:$X$40,Ohjeistus!S$98,FALSE)),VLOOKUP($J175, Resurssiluettelo!$D$21:$X$40,Ohjeistus!S$98-1,FALSE))","v":""},{"$f":"IF($J175=\"\",IF($I175=\"\",\"\",VLOOKUP($I175, Resurssiluettelo!$C$21:$X$40,Ohjeistus!T$98,FALSE)),VLOOKUP($J175, Resurssiluettelo!$D$21:$X$40,Ohjeistus!T$98-1,FALSE))","v":""},{"$f":"IF($J175=\"\",\"\",VLOOKUP($J175, Resurssiluettelo!$D$21:$X$40,Ohjeistus!U$98-1,FALSE))","v":""},{"$f":"IF($J175=\"\",\"\",VLOOKUP($J175, Resurssiluettelo!$D$21:$X$40,Ohjeistus!V$98-1,FALSE))","v":""},{"$f":"IF($J175=\"\",\"\",VLOOKUP($J175, Resurssiluettelo!$D$21:$X$40,Ohjeistus!W$98-1,FALSE))","v":""},{"$f":"IF($J175=\"\",\"\",VLOOKUP($J175, Resurssiluettelo!$D$21:$X$40,Ohjeistus!X$98-1,FALSE))","v":""},{"$f":"IF(Resurssiluettelo!E222=0,\"\",Resurssiluettelo!E222)","v":""},{"$f":"IF(Resurssiluettelo!F222=0,\"\",YEAR(Resurssiluettelo!F222)&IF(MONTH(Resurssiluettelo!F222)<10,\"0\",\"\")&MONTH(Resurssiluettelo!F222)&IF(DAY(Resurssiluettelo!F222)<10,\"0\",\"\")&DAY(Resurssiluettelo!F222))","v":""},{"$f":"IF(Resurssiluettelo!G222=0,\"\",Resurssiluettelo!G222)","v":""},{"$f":"IF(Resurssiluettelo!H222=0,\"\",Resurssiluettelo!H222)","v":""},{"$f":"IF(Resurssiluettelo!I222=0,\"\",Resurssiluettelo!I222)","v":""},{"$f":"IF(Resurssiluettelo!W222=0,\"\",Resurssiluettelo!W222)","v":""},{"$f":"IF(Resurssiluettelo!X222=0,\"\",Resurssiluettelo!X222)","v":""},{"$f":"IF(Resurssiluettelo!Y222=0,\"\",Resurssiluettelo!Y222)","v":""},{"$f":"IF(Resurssiluettelo!Z222=0,\"\",Resurssiluettelo!Z222)","v":""},{"$f":"IF(Resurssiluettelo!AA222=0,\"\",Resurssiluettelo!AA222)","v":""},{"$f":"IF(Resurssiluettelo!AB222=0,\"\",Resurssiluettelo!AB222)","v":""},{"$f":"IF(Resurssiluettelo!AC222=0,\"\",Resurssiluettelo!AC222)","v":""},{"$f":"IF(Resurssiluettelo!AD222=0,\"\",Resurssiluettelo!AD222)","v":""},{"$f":"IF(Resurssiluettelo!J222=0,\"\",Resurssiluettelo!J222)","v":""},{"$f":"IF(Resurssiluettelo!K222=0,\"\",Resurssiluettelo!K222)","v":""},{"$f":"IF(Resurssiluettelo!L222=0,\"\",Resurssiluettelo!L222)","v":""},{"$f":"IF(Resurssiluettelo!M222=0,\"\",Resurssiluettelo!M222)","v":""},{"$f":"IF(Resurssiluettelo!N222=0,\"\",Resurssiluettelo!N222)","v":""},{"$f":"IF(Resurssiluettelo!O222=0,\"\",Resurssiluettelo!O222)","v":""},{"$f":"IF(Resurssiluettelo!P222=0,\"\",Resurssiluettelo!P222)","v":""},{"$f":"IF(Resurssiluettelo!Q222=0,\"\",Resurssiluettelo!Q222)","v":""},{"$f":"IF(Resurssiluettelo!R222=0,\"\",Resurssiluettelo!R222)","v":""},{"$f":"IF(Resurssiluettelo!S222=0,\"\",Resurssiluettelo!S222)","v":""},{"$f":"IF(Resurssiluettelo!T222=0,\"\",Resurssiluettelo!T222)","v":""},{"$f":"IF(Resurssiluettelo!U222=0,\"\",Resurssiluettelo!U222)","v":""},{"$f":"IF(Resurssiluettelo!V222=0,\"\",Resurssiluettelo!V222)","v":""}]
[173,{"$f":"IF(Y176=\"\",\"\",Resurssiluettelo!$G$1)","v":""},{"$f":"IF(Y176=\"\",\"\",Resurssiluettelo!$H$14)","v":""},{"$f":"IF(Y176=\"\",\"\",Resurssiluettelo!$I$14)","v":""},{"$f":"IF(Y176=\"\",\"\",Resurssiluettelo!$J$14)","v":""},{"$f":"IF(Y176=\"\",\"\",Resurssiluettelo!$N$14)","v":""},{"$f":"IF(Y176=\"\",\"\",Resurssiluettelo!$O$14)","v":""},{"$f":"IF(Resurssiluettelo!B223=0,\"\",Resurssiluettelo!B223)","v":""},{"$f":"IF(Resurssiluettelo!C223=0,\"\",Resurssiluettelo!C223)","v":""},{"$f":"IF(Resurssiluettelo!D223=0,\"\",Resurssiluettelo!D223)","v":""},{"$f":"IF($J176=\"\",\"\",VLOOKUP($J176, Resurssiluettelo!$D$21:$X$40,Ohjeistus!K$98-1,FALSE))","v":""},{"$f":"IF($J176=\"\",\"\",VLOOKUP($J176, Resurssiluettelo!$D$21:$X$40,Ohjeistus!L$98-1,FALSE))","v":""},{"$f":"IF($J176=\"\",\"\",VLOOKUP($J176, Resurssiluettelo!$D$21:$X$40,Ohjeistus!M$98-1,FALSE))","v":""},{"$f":"IF($J176=\"\",\"\",VLOOKUP($J176, Resurssiluettelo!$D$21:$X$40,Ohjeistus!N$98-1,FALSE))","v":""},{"$f":"IF($J176=\"\",\"\",VLOOKUP($J176, Resurssiluettelo!$D$21:$X$40,Ohjeistus!O$98-1,FALSE))","v":""},{"$f":"IF($J176=\"\",\"\",VLOOKUP($J176, Resurssiluettelo!$D$21:$X$40,Ohjeistus!P$98-1,FALSE))","v":""},{"$f":"IF($J176=\"\",IF($I176=\"\",\"\",VLOOKUP($I176, Resurssiluettelo!$C$21:$X$40,Ohjeistus!Q$98,FALSE)),VLOOKUP($J176, Resurssiluettelo!$D$21:$X$40,Ohjeistus!Q$98-1,FALSE))","v":""},{"$f":"IF($J176=\"\",IF($I176=\"\",\"\",VLOOKUP($I176, Resurssiluettelo!$C$21:$X$40,Ohjeistus!R$98,FALSE)),VLOOKUP($J176, Resurssiluettelo!$D$21:$X$40,Ohjeistus!R$98-1,FALSE))","v":""},{"$f":"IF($J176=\"\",IF($I176=\"\",\"\",VLOOKUP($I176, Resurssiluettelo!$C$21:$X$40,Ohjeistus!S$98,FALSE)),VLOOKUP($J176, Resurssiluettelo!$D$21:$X$40,Ohjeistus!S$98-1,FALSE))","v":""},{"$f":"IF($J176=\"\",IF($I176=\"\",\"\",VLOOKUP($I176, Resurssiluettelo!$C$21:$X$40,Ohjeistus!T$98,FALSE)),VLOOKUP($J176, Resurssiluettelo!$D$21:$X$40,Ohjeistus!T$98-1,FALSE))","v":""},{"$f":"IF($J176=\"\",\"\",VLOOKUP($J176, Resurssiluettelo!$D$21:$X$40,Ohjeistus!U$98-1,FALSE))","v":""},{"$f":"IF($J176=\"\",\"\",VLOOKUP($J176, Resurssiluettelo!$D$21:$X$40,Ohjeistus!V$98-1,FALSE))","v":""},{"$f":"IF($J176=\"\",\"\",VLOOKUP($J176, Resurssiluettelo!$D$21:$X$40,Ohjeistus!W$98-1,FALSE))","v":""},{"$f":"IF($J176=\"\",\"\",VLOOKUP($J176, Resurssiluettelo!$D$21:$X$40,Ohjeistus!X$98-1,FALSE))","v":""},{"$f":"IF(Resurssiluettelo!E223=0,\"\",Resurssiluettelo!E223)","v":""},{"$f":"IF(Resurssiluettelo!F223=0,\"\",YEAR(Resurssiluettelo!F223)&IF(MONTH(Resurssiluettelo!F223)<10,\"0\",\"\")&MONTH(Resurssiluettelo!F223)&IF(DAY(Resurssiluettelo!F223)<10,\"0\",\"\")&DAY(Resurssiluettelo!F223))","v":""},{"$f":"IF(Resurssiluettelo!G223=0,\"\",Resurssiluettelo!G223)","v":""},{"$f":"IF(Resurssiluettelo!H223=0,\"\",Resurssiluettelo!H223)","v":""},{"$f":"IF(Resurssiluettelo!I223=0,\"\",Resurssiluettelo!I223)","v":""},{"$f":"IF(Resurssiluettelo!W223=0,\"\",Resurssiluettelo!W223)","v":""},{"$f":"IF(Resurssiluettelo!X223=0,\"\",Resurssiluettelo!X223)","v":""},{"$f":"IF(Resurssiluettelo!Y223=0,\"\",Resurssiluettelo!Y223)","v":""},{"$f":"IF(Resurssiluettelo!Z223=0,\"\",Resurssiluettelo!Z223)","v":""},{"$f":"IF(Resurssiluettelo!AA223=0,\"\",Resurssiluettelo!AA223)","v":""},{"$f":"IF(Resurssiluettelo!AB223=0,\"\",Resurssiluettelo!AB223)","v":""},{"$f":"IF(Resurssiluettelo!AC223=0,\"\",Resurssiluettelo!AC223)","v":""},{"$f":"IF(Resurssiluettelo!AD223=0,\"\",Resurssiluettelo!AD223)","v":""},{"$f":"IF(Resurssiluettelo!J223=0,\"\",Resurssiluettelo!J223)","v":""},{"$f":"IF(Resurssiluettelo!K223=0,\"\",Resurssiluettelo!K223)","v":""},{"$f":"IF(Resurssiluettelo!L223=0,\"\",Resurssiluettelo!L223)","v":""},{"$f":"IF(Resurssiluettelo!M223=0,\"\",Resurssiluettelo!M223)","v":""},{"$f":"IF(Resurssiluettelo!N223=0,\"\",Resurssiluettelo!N223)","v":""},{"$f":"IF(Resurssiluettelo!O223=0,\"\",Resurssiluettelo!O223)","v":""},{"$f":"IF(Resurssiluettelo!P223=0,\"\",Resurssiluettelo!P223)","v":""},{"$f":"IF(Resurssiluettelo!Q223=0,\"\",Resurssiluettelo!Q223)","v":""},{"$f":"IF(Resurssiluettelo!R223=0,\"\",Resurssiluettelo!R223)","v":""},{"$f":"IF(Resurssiluettelo!S223=0,\"\",Resurssiluettelo!S223)","v":""},{"$f":"IF(Resurssiluettelo!T223=0,\"\",Resurssiluettelo!T223)","v":""},{"$f":"IF(Resurssiluettelo!U223=0,\"\",Resurssiluettelo!U223)","v":""},{"$f":"IF(Resurssiluettelo!V223=0,\"\",Resurssiluettelo!V223)","v":""}]
[174,{"$f":"IF(Y177=\"\",\"\",Resurssiluettelo!$G$1)","v":""},{"$f":"IF(Y177=\"\",\"\",Resurssiluettelo!$H$14)","v":""},{"$f":"IF(Y177=\"\",\"\",Resurssiluettelo!$I$14)","v":""},{"$f":"IF(Y177=\"\",\"\",Resurssiluettelo!$J$14)","v":""},{"$f":"IF(Y177=\"\",\"\",Resurssiluettelo!$N$14)","v":""},{"$f":"IF(Y177=\"\",\"\",Resurssiluettelo!$O$14)","v":""},{"$f":"IF(Resurssiluettelo!B224=0,\"\",Resurssiluettelo!B224)","v":""},{"$f":"IF(Resurssiluettelo!C224=0,\"\",Resurssiluettelo!C224)","v":""},{"$f":"IF(Resurssiluettelo!D224=0,\"\",Resurssiluettelo!D224)","v":""},{"$f":"IF($J177=\"\",\"\",VLOOKUP($J177, Resurssiluettelo!$D$21:$X$40,Ohjeistus!K$98-1,FALSE))","v":""},{"$f":"IF($J177=\"\",\"\",VLOOKUP($J177, Resurssiluettelo!$D$21:$X$40,Ohjeistus!L$98-1,FALSE))","v":""},{"$f":"IF($J177=\"\",\"\",VLOOKUP($J177, Resurssiluettelo!$D$21:$X$40,Ohjeistus!M$98-1,FALSE))","v":""},{"$f":"IF($J177=\"\",\"\",VLOOKUP($J177, Resurssiluettelo!$D$21:$X$40,Ohjeistus!N$98-1,FALSE))","v":""},{"$f":"IF($J177=\"\",\"\",VLOOKUP($J177, Resurssiluettelo!$D$21:$X$40,Ohjeistus!O$98-1,FALSE))","v":""},{"$f":"IF($J177=\"\",\"\",VLOOKUP($J177, Resurssiluettelo!$D$21:$X$40,Ohjeistus!P$98-1,FALSE))","v":""},{"$f":"IF($J177=\"\",IF($I177=\"\",\"\",VLOOKUP($I177, Resurssiluettelo!$C$21:$X$40,Ohjeistus!Q$98,FALSE)),VLOOKUP($J177, Resurssiluettelo!$D$21:$X$40,Ohjeistus!Q$98-1,FALSE))","v":""},{"$f":"IF($J177=\"\",IF($I177=\"\",\"\",VLOOKUP($I177, Resurssiluettelo!$C$21:$X$40,Ohjeistus!R$98,FALSE)),VLOOKUP($J177, Resurssiluettelo!$D$21:$X$40,Ohjeistus!R$98-1,FALSE))","v":""},{"$f":"IF($J177=\"\",IF($I177=\"\",\"\",VLOOKUP($I177, Resurssiluettelo!$C$21:$X$40,Ohjeistus!S$98,FALSE)),VLOOKUP($J177, Resurssiluettelo!$D$21:$X$40,Ohjeistus!S$98-1,FALSE))","v":""},{"$f":"IF($J177=\"\",IF($I177=\"\",\"\",VLOOKUP($I177, Resurssiluettelo!$C$21:$X$40,Ohjeistus!T$98,FALSE)),VLOOKUP($J177, Resurssiluettelo!$D$21:$X$40,Ohjeistus!T$98-1,FALSE))","v":""},{"$f":"IF($J177=\"\",\"\",VLOOKUP($J177, Resurssiluettelo!$D$21:$X$40,Ohjeistus!U$98-1,FALSE))","v":""},{"$f":"IF($J177=\"\",\"\",VLOOKUP($J177, Resurssiluettelo!$D$21:$X$40,Ohjeistus!V$98-1,FALSE))","v":""},{"$f":"IF($J177=\"\",\"\",VLOOKUP($J177, Resurssiluettelo!$D$21:$X$40,Ohjeistus!W$98-1,FALSE))","v":""},{"$f":"IF($J177=\"\",\"\",VLOOKUP($J177, Resurssiluettelo!$D$21:$X$40,Ohjeistus!X$98-1,FALSE))","v":""},{"$f":"IF(Resurssiluettelo!E224=0,\"\",Resurssiluettelo!E224)","v":""},{"$f":"IF(Resurssiluettelo!F224=0,\"\",YEAR(Resurssiluettelo!F224)&IF(MONTH(Resurssiluettelo!F224)<10,\"0\",\"\")&MONTH(Resurssiluettelo!F224)&IF(DAY(Resurssiluettelo!F224)<10,\"0\",\"\")&DAY(Resurssiluettelo!F224))","v":""},{"$f":"IF(Resurssiluettelo!G224=0,\"\",Resurssiluettelo!G224)","v":""},{"$f":"IF(Resurssiluettelo!H224=0,\"\",Resurssiluettelo!H224)","v":""},{"$f":"IF(Resurssiluettelo!I224=0,\"\",Resurssiluettelo!I224)","v":""},{"$f":"IF(Resurssiluettelo!W224=0,\"\",Resurssiluettelo!W224)","v":""},{"$f":"IF(Resurssiluettelo!X224=0,\"\",Resurssiluettelo!X224)","v":""},{"$f":"IF(Resurssiluettelo!Y224=0,\"\",Resurssiluettelo!Y224)","v":""},{"$f":"IF(Resurssiluettelo!Z224=0,\"\",Resurssiluettelo!Z224)","v":""},{"$f":"IF(Resurssiluettelo!AA224=0,\"\",Resurssiluettelo!AA224)","v":""},{"$f":"IF(Resurssiluettelo!AB224=0,\"\",Resurssiluettelo!AB224)","v":""},{"$f":"IF(Resurssiluettelo!AC224=0,\"\",Resurssiluettelo!AC224)","v":""},{"$f":"IF(Resurssiluettelo!AD224=0,\"\",Resurssiluettelo!AD224)","v":""},{"$f":"IF(Resurssiluettelo!J224=0,\"\",Resurssiluettelo!J224)","v":""},{"$f":"IF(Resurssiluettelo!K224=0,\"\",Resurssiluettelo!K224)","v":""},{"$f":"IF(Resurssiluettelo!L224=0,\"\",Resurssiluettelo!L224)","v":""},{"$f":"IF(Resurssiluettelo!M224=0,\"\",Resurssiluettelo!M224)","v":""},{"$f":"IF(Resurssiluettelo!N224=0,\"\",Resurssiluettelo!N224)","v":""},{"$f":"IF(Resurssiluettelo!O224=0,\"\",Resurssiluettelo!O224)","v":""},{"$f":"IF(Resurssiluettelo!P224=0,\"\",Resurssiluettelo!P224)","v":""},{"$f":"IF(Resurssiluettelo!Q224=0,\"\",Resurssiluettelo!Q224)","v":""},{"$f":"IF(Resurssiluettelo!R224=0,\"\",Resurssiluettelo!R224)","v":""},{"$f":"IF(Resurssiluettelo!S224=0,\"\",Resurssiluettelo!S224)","v":""},{"$f":"IF(Resurssiluettelo!T224=0,\"\",Resurssiluettelo!T224)","v":""},{"$f":"IF(Resurssiluettelo!U224=0,\"\",Resurssiluettelo!U224)","v":""},{"$f":"IF(Resurssiluettelo!V224=0,\"\",Resurssiluettelo!V224)","v":""}]
[175,{"$f":"IF(Y178=\"\",\"\",Resurssiluettelo!$G$1)","v":""},{"$f":"IF(Y178=\"\",\"\",Resurssiluettelo!$H$14)","v":""},{"$f":"IF(Y178=\"\",\"\",Resurssiluettelo!$I$14)","v":""},{"$f":"IF(Y178=\"\",\"\",Resurssiluettelo!$J$14)","v":""},{"$f":"IF(Y178=\"\",\"\",Resurssiluettelo!$N$14)","v":""},{"$f":"IF(Y178=\"\",\"\",Resurssiluettelo!$O$14)","v":""},{"$f":"IF(Resurssiluettelo!B225=0,\"\",Resurssiluettelo!B225)","v":""},{"$f":"IF(Resurssiluettelo!C225=0,\"\",Resurssiluettelo!C225)","v":""},{"$f":"IF(Resurssiluettelo!D225=0,\"\",Resurssiluettelo!D225)","v":""},{"$f":"IF($J178=\"\",\"\",VLOOKUP($J178, Resurssiluettelo!$D$21:$X$40,Ohjeistus!K$98-1,FALSE))","v":""},{"$f":"IF($J178=\"\",\"\",VLOOKUP($J178, Resurssiluettelo!$D$21:$X$40,Ohjeistus!L$98-1,FALSE))","v":""},{"$f":"IF($J178=\"\",\"\",VLOOKUP($J178, Resurssiluettelo!$D$21:$X$40,Ohjeistus!M$98-1,FALSE))","v":""},{"$f":"IF($J178=\"\",\"\",VLOOKUP($J178, Resurssiluettelo!$D$21:$X$40,Ohjeistus!N$98-1,FALSE))","v":""},{"$f":"IF($J178=\"\",\"\",VLOOKUP($J178, Resurssiluettelo!$D$21:$X$40,Ohjeistus!O$98-1,FALSE))","v":""},{"$f":"IF($J178=\"\",\"\",VLOOKUP($J178, Resurssiluettelo!$D$21:$X$40,Ohjeistus!P$98-1,FALSE))","v":""},{"$f":"IF($J178=\"\",IF($I178=\"\",\"\",VLOOKUP($I178, Resurssiluettelo!$C$21:$X$40,Ohjeistus!Q$98,FALSE)),VLOOKUP($J178, Resurssiluettelo!$D$21:$X$40,Ohjeistus!Q$98-1,FALSE))","v":""},{"$f":"IF($J178=\"\",IF($I178=\"\",\"\",VLOOKUP($I178, Resurssiluettelo!$C$21:$X$40,Ohjeistus!R$98,FALSE)),VLOOKUP($J178, Resurssiluettelo!$D$21:$X$40,Ohjeistus!R$98-1,FALSE))","v":""},{"$f":"IF($J178=\"\",IF($I178=\"\",\"\",VLOOKUP($I178, Resurssiluettelo!$C$21:$X$40,Ohjeistus!S$98,FALSE)),VLOOKUP($J178, Resurssiluettelo!$D$21:$X$40,Ohjeistus!S$98-1,FALSE))","v":""},{"$f":"IF($J178=\"\",IF($I178=\"\",\"\",VLOOKUP($I178, Resurssiluettelo!$C$21:$X$40,Ohjeistus!T$98,FALSE)),VLOOKUP($J178, Resurssiluettelo!$D$21:$X$40,Ohjeistus!T$98-1,FALSE))","v":""},{"$f":"IF($J178=\"\",\"\",VLOOKUP($J178, Resurssiluettelo!$D$21:$X$40,Ohjeistus!U$98-1,FALSE))","v":""},{"$f":"IF($J178=\"\",\"\",VLOOKUP($J178, Resurssiluettelo!$D$21:$X$40,Ohjeistus!V$98-1,FALSE))","v":""},{"$f":"IF($J178=\"\",\"\",VLOOKUP($J178, Resurssiluettelo!$D$21:$X$40,Ohjeistus!W$98-1,FALSE))","v":""},{"$f":"IF($J178=\"\",\"\",VLOOKUP($J178, Resurssiluettelo!$D$21:$X$40,Ohjeistus!X$98-1,FALSE))","v":""},{"$f":"IF(Resurssiluettelo!E225=0,\"\",Resurssiluettelo!E225)","v":""},{"$f":"IF(Resurssiluettelo!F225=0,\"\",YEAR(Resurssiluettelo!F225)&IF(MONTH(Resurssiluettelo!F225)<10,\"0\",\"\")&MONTH(Resurssiluettelo!F225)&IF(DAY(Resurssiluettelo!F225)<10,\"0\",\"\")&DAY(Resurssiluettelo!F225))","v":""},{"$f":"IF(Resurssiluettelo!G225=0,\"\",Resurssiluettelo!G225)","v":""},{"$f":"IF(Resurssiluettelo!H225=0,\"\",Resurssiluettelo!H225)","v":""},{"$f":"IF(Resurssiluettelo!I225=0,\"\",Resurssiluettelo!I225)","v":""},{"$f":"IF(Resurssiluettelo!W225=0,\"\",Resurssiluettelo!W225)","v":""},{"$f":"IF(Resurssiluettelo!X225=0,\"\",Resurssiluettelo!X225)","v":""},{"$f":"IF(Resurssiluettelo!Y225=0,\"\",Resurssiluettelo!Y225)","v":""},{"$f":"IF(Resurssiluettelo!Z225=0,\"\",Resurssiluettelo!Z225)","v":""},{"$f":"IF(Resurssiluettelo!AA225=0,\"\",Resurssiluettelo!AA225)","v":""},{"$f":"IF(Resurssiluettelo!AB225=0,\"\",Resurssiluettelo!AB225)","v":""},{"$f":"IF(Resurssiluettelo!AC225=0,\"\",Resurssiluettelo!AC225)","v":""},{"$f":"IF(Resurssiluettelo!AD225=0,\"\",Resurssiluettelo!AD225)","v":""},{"$f":"IF(Resurssiluettelo!J225=0,\"\",Resurssiluettelo!J225)","v":""},{"$f":"IF(Resurssiluettelo!K225=0,\"\",Resurssiluettelo!K225)","v":""},{"$f":"IF(Resurssiluettelo!L225=0,\"\",Resurssiluettelo!L225)","v":""},{"$f":"IF(Resurssiluettelo!M225=0,\"\",Resurssiluettelo!M225)","v":""},{"$f":"IF(Resurssiluettelo!N225=0,\"\",Resurssiluettelo!N225)","v":""},{"$f":"IF(Resurssiluettelo!O225=0,\"\",Resurssiluettelo!O225)","v":""},{"$f":"IF(Resurssiluettelo!P225=0,\"\",Resurssiluettelo!P225)","v":""},{"$f":"IF(Resurssiluettelo!Q225=0,\"\",Resurssiluettelo!Q225)","v":""},{"$f":"IF(Resurssiluettelo!R225=0,\"\",Resurssiluettelo!R225)","v":""},{"$f":"IF(Resurssiluettelo!S225=0,\"\",Resurssiluettelo!S225)","v":""},{"$f":"IF(Resurssiluettelo!T225=0,\"\",Resurssiluettelo!T225)","v":""},{"$f":"IF(Resurssiluettelo!U225=0,\"\",Resurssiluettelo!U225)","v":""},{"$f":"IF(Resurssiluettelo!V225=0,\"\",Resurssiluettelo!V225)","v":""}]
[176,{"$f":"IF(Y179=\"\",\"\",Resurssiluettelo!$G$1)","v":""},{"$f":"IF(Y179=\"\",\"\",Resurssiluettelo!$H$14)","v":""},{"$f":"IF(Y179=\"\",\"\",Resurssiluettelo!$I$14)","v":""},{"$f":"IF(Y179=\"\",\"\",Resurssiluettelo!$J$14)","v":""},{"$f":"IF(Y179=\"\",\"\",Resurssiluettelo!$N$14)","v":""},{"$f":"IF(Y179=\"\",\"\",Resurssiluettelo!$O$14)","v":""},{"$f":"IF(Resurssiluettelo!B226=0,\"\",Resurssiluettelo!B226)","v":""},{"$f":"IF(Resurssiluettelo!C226=0,\"\",Resurssiluettelo!C226)","v":""},{"$f":"IF(Resurssiluettelo!D226=0,\"\",Resurssiluettelo!D226)","v":""},{"$f":"IF($J179=\"\",\"\",VLOOKUP($J179, Resurssiluettelo!$D$21:$X$40,Ohjeistus!K$98-1,FALSE))","v":""},{"$f":"IF($J179=\"\",\"\",VLOOKUP($J179, Resurssiluettelo!$D$21:$X$40,Ohjeistus!L$98-1,FALSE))","v":""},{"$f":"IF($J179=\"\",\"\",VLOOKUP($J179, Resurssiluettelo!$D$21:$X$40,Ohjeistus!M$98-1,FALSE))","v":""},{"$f":"IF($J179=\"\",\"\",VLOOKUP($J179, Resurssiluettelo!$D$21:$X$40,Ohjeistus!N$98-1,FALSE))","v":""},{"$f":"IF($J179=\"\",\"\",VLOOKUP($J179, Resurssiluettelo!$D$21:$X$40,Ohjeistus!O$98-1,FALSE))","v":""},{"$f":"IF($J179=\"\",\"\",VLOOKUP($J179, Resurssiluettelo!$D$21:$X$40,Ohjeistus!P$98-1,FALSE))","v":""},{"$f":"IF($J179=\"\",IF($I179=\"\",\"\",VLOOKUP($I179, Resurssiluettelo!$C$21:$X$40,Ohjeistus!Q$98,FALSE)),VLOOKUP($J179, Resurssiluettelo!$D$21:$X$40,Ohjeistus!Q$98-1,FALSE))","v":""},{"$f":"IF($J179=\"\",IF($I179=\"\",\"\",VLOOKUP($I179, Resurssiluettelo!$C$21:$X$40,Ohjeistus!R$98,FALSE)),VLOOKUP($J179, Resurssiluettelo!$D$21:$X$40,Ohjeistus!R$98-1,FALSE))","v":""},{"$f":"IF($J179=\"\",IF($I179=\"\",\"\",VLOOKUP($I179, Resurssiluettelo!$C$21:$X$40,Ohjeistus!S$98,FALSE)),VLOOKUP($J179, Resurssiluettelo!$D$21:$X$40,Ohjeistus!S$98-1,FALSE))","v":""},{"$f":"IF($J179=\"\",IF($I179=\"\",\"\",VLOOKUP($I179, Resurssiluettelo!$C$21:$X$40,Ohjeistus!T$98,FALSE)),VLOOKUP($J179, Resurssiluettelo!$D$21:$X$40,Ohjeistus!T$98-1,FALSE))","v":""},{"$f":"IF($J179=\"\",\"\",VLOOKUP($J179, Resurssiluettelo!$D$21:$X$40,Ohjeistus!U$98-1,FALSE))","v":""},{"$f":"IF($J179=\"\",\"\",VLOOKUP($J179, Resurssiluettelo!$D$21:$X$40,Ohjeistus!V$98-1,FALSE))","v":""},{"$f":"IF($J179=\"\",\"\",VLOOKUP($J179, Resurssiluettelo!$D$21:$X$40,Ohjeistus!W$98-1,FALSE))","v":""},{"$f":"IF($J179=\"\",\"\",VLOOKUP($J179, Resurssiluettelo!$D$21:$X$40,Ohjeistus!X$98-1,FALSE))","v":""},{"$f":"IF(Resurssiluettelo!E226=0,\"\",Resurssiluettelo!E226)","v":""},{"$f":"IF(Resurssiluettelo!F226=0,\"\",YEAR(Resurssiluettelo!F226)&IF(MONTH(Resurssiluettelo!F226)<10,\"0\",\"\")&MONTH(Resurssiluettelo!F226)&IF(DAY(Resurssiluettelo!F226)<10,\"0\",\"\")&DAY(Resurssiluettelo!F226))","v":""},{"$f":"IF(Resurssiluettelo!G226=0,\"\",Resurssiluettelo!G226)","v":""},{"$f":"IF(Resurssiluettelo!H226=0,\"\",Resurssiluettelo!H226)","v":""},{"$f":"IF(Resurssiluettelo!I226=0,\"\",Resurssiluettelo!I226)","v":""},{"$f":"IF(Resurssiluettelo!W226=0,\"\",Resurssiluettelo!W226)","v":""},{"$f":"IF(Resurssiluettelo!X226=0,\"\",Resurssiluettelo!X226)","v":""},{"$f":"IF(Resurssiluettelo!Y226=0,\"\",Resurssiluettelo!Y226)","v":""},{"$f":"IF(Resurssiluettelo!Z226=0,\"\",Resurssiluettelo!Z226)","v":""},{"$f":"IF(Resurssiluettelo!AA226=0,\"\",Resurssiluettelo!AA226)","v":""},{"$f":"IF(Resurssiluettelo!AB226=0,\"\",Resurssiluettelo!AB226)","v":""},{"$f":"IF(Resurssiluettelo!AC226=0,\"\",Resurssiluettelo!AC226)","v":""},{"$f":"IF(Resurssiluettelo!AD226=0,\"\",Resurssiluettelo!AD226)","v":""},{"$f":"IF(Resurssiluettelo!J226=0,\"\",Resurssiluettelo!J226)","v":""},{"$f":"IF(Resurssiluettelo!K226=0,\"\",Resurssiluettelo!K226)","v":""},{"$f":"IF(Resurssiluettelo!L226=0,\"\",Resurssiluettelo!L226)","v":""},{"$f":"IF(Resurssiluettelo!M226=0,\"\",Resurssiluettelo!M226)","v":""},{"$f":"IF(Resurssiluettelo!N226=0,\"\",Resurssiluettelo!N226)","v":""},{"$f":"IF(Resurssiluettelo!O226=0,\"\",Resurssiluettelo!O226)","v":""},{"$f":"IF(Resurssiluettelo!P226=0,\"\",Resurssiluettelo!P226)","v":""},{"$f":"IF(Resurssiluettelo!Q226=0,\"\",Resurssiluettelo!Q226)","v":""},{"$f":"IF(Resurssiluettelo!R226=0,\"\",Resurssiluettelo!R226)","v":""},{"$f":"IF(Resurssiluettelo!S226=0,\"\",Resurssiluettelo!S226)","v":""},{"$f":"IF(Resurssiluettelo!T226=0,\"\",Resurssiluettelo!T226)","v":""},{"$f":"IF(Resurssiluettelo!U226=0,\"\",Resurssiluettelo!U226)","v":""},{"$f":"IF(Resurssiluettelo!V226=0,\"\",Resurssiluettelo!V226)","v":""}]
[177,{"$f":"IF(Y180=\"\",\"\",Resurssiluettelo!$G$1)","v":""},{"$f":"IF(Y180=\"\",\"\",Resurssiluettelo!$H$14)","v":""},{"$f":"IF(Y180=\"\",\"\",Resurssiluettelo!$I$14)","v":""},{"$f":"IF(Y180=\"\",\"\",Resurssiluettelo!$J$14)","v":""},{"$f":"IF(Y180=\"\",\"\",Resurssiluettelo!$N$14)","v":""},{"$f":"IF(Y180=\"\",\"\",Resurssiluettelo!$O$14)","v":""},{"$f":"IF(Resurssiluettelo!B227=0,\"\",Resurssiluettelo!B227)","v":""},{"$f":"IF(Resurssiluettelo!C227=0,\"\",Resurssiluettelo!C227)","v":""},{"$f":"IF(Resurssiluettelo!D227=0,\"\",Resurssiluettelo!D227)","v":""},{"$f":"IF($J180=\"\",\"\",VLOOKUP($J180, Resurssiluettelo!$D$21:$X$40,Ohjeistus!K$98-1,FALSE))","v":""},{"$f":"IF($J180=\"\",\"\",VLOOKUP($J180, Resurssiluettelo!$D$21:$X$40,Ohjeistus!L$98-1,FALSE))","v":""},{"$f":"IF($J180=\"\",\"\",VLOOKUP($J180, Resurssiluettelo!$D$21:$X$40,Ohjeistus!M$98-1,FALSE))","v":""},{"$f":"IF($J180=\"\",\"\",VLOOKUP($J180, Resurssiluettelo!$D$21:$X$40,Ohjeistus!N$98-1,FALSE))","v":""},{"$f":"IF($J180=\"\",\"\",VLOOKUP($J180, Resurssiluettelo!$D$21:$X$40,Ohjeistus!O$98-1,FALSE))","v":""},{"$f":"IF($J180=\"\",\"\",VLOOKUP($J180, Resurssiluettelo!$D$21:$X$40,Ohjeistus!P$98-1,FALSE))","v":""},{"$f":"IF($J180=\"\",IF($I180=\"\",\"\",VLOOKUP($I180, Resurssiluettelo!$C$21:$X$40,Ohjeistus!Q$98,FALSE)),VLOOKUP($J180, Resurssiluettelo!$D$21:$X$40,Ohjeistus!Q$98-1,FALSE))","v":""},{"$f":"IF($J180=\"\",IF($I180=\"\",\"\",VLOOKUP($I180, Resurssiluettelo!$C$21:$X$40,Ohjeistus!R$98,FALSE)),VLOOKUP($J180, Resurssiluettelo!$D$21:$X$40,Ohjeistus!R$98-1,FALSE))","v":""},{"$f":"IF($J180=\"\",IF($I180=\"\",\"\",VLOOKUP($I180, Resurssiluettelo!$C$21:$X$40,Ohjeistus!S$98,FALSE)),VLOOKUP($J180, Resurssiluettelo!$D$21:$X$40,Ohjeistus!S$98-1,FALSE))","v":""},{"$f":"IF($J180=\"\",IF($I180=\"\",\"\",VLOOKUP($I180, Resurssiluettelo!$C$21:$X$40,Ohjeistus!T$98,FALSE)),VLOOKUP($J180, Resurssiluettelo!$D$21:$X$40,Ohjeistus!T$98-1,FALSE))","v":""},{"$f":"IF($J180=\"\",\"\",VLOOKUP($J180, Resurssiluettelo!$D$21:$X$40,Ohjeistus!U$98-1,FALSE))","v":""},{"$f":"IF($J180=\"\",\"\",VLOOKUP($J180, Resurssiluettelo!$D$21:$X$40,Ohjeistus!V$98-1,FALSE))","v":""},{"$f":"IF($J180=\"\",\"\",VLOOKUP($J180, Resurssiluettelo!$D$21:$X$40,Ohjeistus!W$98-1,FALSE))","v":""},{"$f":"IF($J180=\"\",\"\",VLOOKUP($J180, Resurssiluettelo!$D$21:$X$40,Ohjeistus!X$98-1,FALSE))","v":""},{"$f":"IF(Resurssiluettelo!E227=0,\"\",Resurssiluettelo!E227)","v":""},{"$f":"IF(Resurssiluettelo!F227=0,\"\",YEAR(Resurssiluettelo!F227)&IF(MONTH(Resurssiluettelo!F227)<10,\"0\",\"\")&MONTH(Resurssiluettelo!F227)&IF(DAY(Resurssiluettelo!F227)<10,\"0\",\"\")&DAY(Resurssiluettelo!F227))","v":""},{"$f":"IF(Resurssiluettelo!G227=0,\"\",Resurssiluettelo!G227)","v":""},{"$f":"IF(Resurssiluettelo!H227=0,\"\",Resurssiluettelo!H227)","v":""},{"$f":"IF(Resurssiluettelo!I227=0,\"\",Resurssiluettelo!I227)","v":""},{"$f":"IF(Resurssiluettelo!W227=0,\"\",Resurssiluettelo!W227)","v":""},{"$f":"IF(Resurssiluettelo!X227=0,\"\",Resurssiluettelo!X227)","v":""},{"$f":"IF(Resurssiluettelo!Y227=0,\"\",Resurssiluettelo!Y227)","v":""},{"$f":"IF(Resurssiluettelo!Z227=0,\"\",Resurssiluettelo!Z227)","v":""},{"$f":"IF(Resurssiluettelo!AA227=0,\"\",Resurssiluettelo!AA227)","v":""},{"$f":"IF(Resurssiluettelo!AB227=0,\"\",Resurssiluettelo!AB227)","v":""},{"$f":"IF(Resurssiluettelo!AC227=0,\"\",Resurssiluettelo!AC227)","v":""},{"$f":"IF(Resurssiluettelo!AD227=0,\"\",Resurssiluettelo!AD227)","v":""},{"$f":"IF(Resurssiluettelo!J227=0,\"\",Resurssiluettelo!J227)","v":""},{"$f":"IF(Resurssiluettelo!K227=0,\"\",Resurssiluettelo!K227)","v":""},{"$f":"IF(Resurssiluettelo!L227=0,\"\",Resurssiluettelo!L227)","v":""},{"$f":"IF(Resurssiluettelo!M227=0,\"\",Resurssiluettelo!M227)","v":""},{"$f":"IF(Resurssiluettelo!N227=0,\"\",Resurssiluettelo!N227)","v":""},{"$f":"IF(Resurssiluettelo!O227=0,\"\",Resurssiluettelo!O227)","v":""},{"$f":"IF(Resurssiluettelo!P227=0,\"\",Resurssiluettelo!P227)","v":""},{"$f":"IF(Resurssiluettelo!Q227=0,\"\",Resurssiluettelo!Q227)","v":""},{"$f":"IF(Resurssiluettelo!R227=0,\"\",Resurssiluettelo!R227)","v":""},{"$f":"IF(Resurssiluettelo!S227=0,\"\",Resurssiluettelo!S227)","v":""},{"$f":"IF(Resurssiluettelo!T227=0,\"\",Resurssiluettelo!T227)","v":""},{"$f":"IF(Resurssiluettelo!U227=0,\"\",Resurssiluettelo!U227)","v":""},{"$f":"IF(Resurssiluettelo!V227=0,\"\",Resurssiluettelo!V227)","v":""}]
[178,{"$f":"IF(Y181=\"\",\"\",Resurssiluettelo!$G$1)","v":""},{"$f":"IF(Y181=\"\",\"\",Resurssiluettelo!$H$14)","v":""},{"$f":"IF(Y181=\"\",\"\",Resurssiluettelo!$I$14)","v":""},{"$f":"IF(Y181=\"\",\"\",Resurssiluettelo!$J$14)","v":""},{"$f":"IF(Y181=\"\",\"\",Resurssiluettelo!$N$14)","v":""},{"$f":"IF(Y181=\"\",\"\",Resurssiluettelo!$O$14)","v":""},{"$f":"IF(Resurssiluettelo!B228=0,\"\",Resurssiluettelo!B228)","v":""},{"$f":"IF(Resurssiluettelo!C228=0,\"\",Resurssiluettelo!C228)","v":""},{"$f":"IF(Resurssiluettelo!D228=0,\"\",Resurssiluettelo!D228)","v":""},{"$f":"IF($J181=\"\",\"\",VLOOKUP($J181, Resurssiluettelo!$D$21:$X$40,Ohjeistus!K$98-1,FALSE))","v":""},{"$f":"IF($J181=\"\",\"\",VLOOKUP($J181, Resurssiluettelo!$D$21:$X$40,Ohjeistus!L$98-1,FALSE))","v":""},{"$f":"IF($J181=\"\",\"\",VLOOKUP($J181, Resurssiluettelo!$D$21:$X$40,Ohjeistus!M$98-1,FALSE))","v":""},{"$f":"IF($J181=\"\",\"\",VLOOKUP($J181, Resurssiluettelo!$D$21:$X$40,Ohjeistus!N$98-1,FALSE))","v":""},{"$f":"IF($J181=\"\",\"\",VLOOKUP($J181, Resurssiluettelo!$D$21:$X$40,Ohjeistus!O$98-1,FALSE))","v":""},{"$f":"IF($J181=\"\",\"\",VLOOKUP($J181, Resurssiluettelo!$D$21:$X$40,Ohjeistus!P$98-1,FALSE))","v":""},{"$f":"IF($J181=\"\",IF($I181=\"\",\"\",VLOOKUP($I181, Resurssiluettelo!$C$21:$X$40,Ohjeistus!Q$98,FALSE)),VLOOKUP($J181, Resurssiluettelo!$D$21:$X$40,Ohjeistus!Q$98-1,FALSE))","v":""},{"$f":"IF($J181=\"\",IF($I181=\"\",\"\",VLOOKUP($I181, Resurssiluettelo!$C$21:$X$40,Ohjeistus!R$98,FALSE)),VLOOKUP($J181, Resurssiluettelo!$D$21:$X$40,Ohjeistus!R$98-1,FALSE))","v":""},{"$f":"IF($J181=\"\",IF($I181=\"\",\"\",VLOOKUP($I181, Resurssiluettelo!$C$21:$X$40,Ohjeistus!S$98,FALSE)),VLOOKUP($J181, Resurssiluettelo!$D$21:$X$40,Ohjeistus!S$98-1,FALSE))","v":""},{"$f":"IF($J181=\"\",IF($I181=\"\",\"\",VLOOKUP($I181, Resurssiluettelo!$C$21:$X$40,Ohjeistus!T$98,FALSE)),VLOOKUP($J181, Resurssiluettelo!$D$21:$X$40,Ohjeistus!T$98-1,FALSE))","v":""},{"$f":"IF($J181=\"\",\"\",VLOOKUP($J181, Resurssiluettelo!$D$21:$X$40,Ohjeistus!U$98-1,FALSE))","v":""},{"$f":"IF($J181=\"\",\"\",VLOOKUP($J181, Resurssiluettelo!$D$21:$X$40,Ohjeistus!V$98-1,FALSE))","v":""},{"$f":"IF($J181=\"\",\"\",VLOOKUP($J181, Resurssiluettelo!$D$21:$X$40,Ohjeistus!W$98-1,FALSE))","v":""},{"$f":"IF($J181=\"\",\"\",VLOOKUP($J181, Resurssiluettelo!$D$21:$X$40,Ohjeistus!X$98-1,FALSE))","v":""},{"$f":"IF(Resurssiluettelo!E228=0,\"\",Resurssiluettelo!E228)","v":""},{"$f":"IF(Resurssiluettelo!F228=0,\"\",YEAR(Resurssiluettelo!F228)&IF(MONTH(Resurssiluettelo!F228)<10,\"0\",\"\")&MONTH(Resurssiluettelo!F228)&IF(DAY(Resurssiluettelo!F228)<10,\"0\",\"\")&DAY(Resurssiluettelo!F228))","v":""},{"$f":"IF(Resurssiluettelo!G228=0,\"\",Resurssiluettelo!G228)","v":""},{"$f":"IF(Resurssiluettelo!H228=0,\"\",Resurssiluettelo!H228)","v":""},{"$f":"IF(Resurssiluettelo!I228=0,\"\",Resurssiluettelo!I228)","v":""},{"$f":"IF(Resurssiluettelo!W228=0,\"\",Resurssiluettelo!W228)","v":""},{"$f":"IF(Resurssiluettelo!X228=0,\"\",Resurssiluettelo!X228)","v":""},{"$f":"IF(Resurssiluettelo!Y228=0,\"\",Resurssiluettelo!Y228)","v":""},{"$f":"IF(Resurssiluettelo!Z228=0,\"\",Resurssiluettelo!Z228)","v":""},{"$f":"IF(Resurssiluettelo!AA228=0,\"\",Resurssiluettelo!AA228)","v":""},{"$f":"IF(Resurssiluettelo!AB228=0,\"\",Resurssiluettelo!AB228)","v":""},{"$f":"IF(Resurssiluettelo!AC228=0,\"\",Resurssiluettelo!AC228)","v":""},{"$f":"IF(Resurssiluettelo!AD228=0,\"\",Resurssiluettelo!AD228)","v":""},{"$f":"IF(Resurssiluettelo!J228=0,\"\",Resurssiluettelo!J228)","v":""},{"$f":"IF(Resurssiluettelo!K228=0,\"\",Resurssiluettelo!K228)","v":""},{"$f":"IF(Resurssiluettelo!L228=0,\"\",Resurssiluettelo!L228)","v":""},{"$f":"IF(Resurssiluettelo!M228=0,\"\",Resurssiluettelo!M228)","v":""},{"$f":"IF(Resurssiluettelo!N228=0,\"\",Resurssiluettelo!N228)","v":""},{"$f":"IF(Resurssiluettelo!O228=0,\"\",Resurssiluettelo!O228)","v":""},{"$f":"IF(Resurssiluettelo!P228=0,\"\",Resurssiluettelo!P228)","v":""},{"$f":"IF(Resurssiluettelo!Q228=0,\"\",Resurssiluettelo!Q228)","v":""},{"$f":"IF(Resurssiluettelo!R228=0,\"\",Resurssiluettelo!R228)","v":""},{"$f":"IF(Resurssiluettelo!S228=0,\"\",Resurssiluettelo!S228)","v":""},{"$f":"IF(Resurssiluettelo!T228=0,\"\",Resurssiluettelo!T228)","v":""},{"$f":"IF(Resurssiluettelo!U228=0,\"\",Resurssiluettelo!U228)","v":""},{"$f":"IF(Resurssiluettelo!V228=0,\"\",Resurssiluettelo!V228)","v":""}]
[179,{"$f":"IF(Y182=\"\",\"\",Resurssiluettelo!$G$1)","v":""},{"$f":"IF(Y182=\"\",\"\",Resurssiluettelo!$H$14)","v":""},{"$f":"IF(Y182=\"\",\"\",Resurssiluettelo!$I$14)","v":""},{"$f":"IF(Y182=\"\",\"\",Resurssiluettelo!$J$14)","v":""},{"$f":"IF(Y182=\"\",\"\",Resurssiluettelo!$N$14)","v":""},{"$f":"IF(Y182=\"\",\"\",Resurssiluettelo!$O$14)","v":""},{"$f":"IF(Resurssiluettelo!B229=0,\"\",Resurssiluettelo!B229)","v":""},{"$f":"IF(Resurssiluettelo!C229=0,\"\",Resurssiluettelo!C229)","v":""},{"$f":"IF(Resurssiluettelo!D229=0,\"\",Resurssiluettelo!D229)","v":""},{"$f":"IF($J182=\"\",\"\",VLOOKUP($J182, Resurssiluettelo!$D$21:$X$40,Ohjeistus!K$98-1,FALSE))","v":""},{"$f":"IF($J182=\"\",\"\",VLOOKUP($J182, Resurssiluettelo!$D$21:$X$40,Ohjeistus!L$98-1,FALSE))","v":""},{"$f":"IF($J182=\"\",\"\",VLOOKUP($J182, Resurssiluettelo!$D$21:$X$40,Ohjeistus!M$98-1,FALSE))","v":""},{"$f":"IF($J182=\"\",\"\",VLOOKUP($J182, Resurssiluettelo!$D$21:$X$40,Ohjeistus!N$98-1,FALSE))","v":""},{"$f":"IF($J182=\"\",\"\",VLOOKUP($J182, Resurssiluettelo!$D$21:$X$40,Ohjeistus!O$98-1,FALSE))","v":""},{"$f":"IF($J182=\"\",\"\",VLOOKUP($J182, Resurssiluettelo!$D$21:$X$40,Ohjeistus!P$98-1,FALSE))","v":""},{"$f":"IF($J182=\"\",IF($I182=\"\",\"\",VLOOKUP($I182, Resurssiluettelo!$C$21:$X$40,Ohjeistus!Q$98,FALSE)),VLOOKUP($J182, Resurssiluettelo!$D$21:$X$40,Ohjeistus!Q$98-1,FALSE))","v":""},{"$f":"IF($J182=\"\",IF($I182=\"\",\"\",VLOOKUP($I182, Resurssiluettelo!$C$21:$X$40,Ohjeistus!R$98,FALSE)),VLOOKUP($J182, Resurssiluettelo!$D$21:$X$40,Ohjeistus!R$98-1,FALSE))","v":""},{"$f":"IF($J182=\"\",IF($I182=\"\",\"\",VLOOKUP($I182, Resurssiluettelo!$C$21:$X$40,Ohjeistus!S$98,FALSE)),VLOOKUP($J182, Resurssiluettelo!$D$21:$X$40,Ohjeistus!S$98-1,FALSE))","v":""},{"$f":"IF($J182=\"\",IF($I182=\"\",\"\",VLOOKUP($I182, Resurssiluettelo!$C$21:$X$40,Ohjeistus!T$98,FALSE)),VLOOKUP($J182, Resurssiluettelo!$D$21:$X$40,Ohjeistus!T$98-1,FALSE))","v":""},{"$f":"IF($J182=\"\",\"\",VLOOKUP($J182, Resurssiluettelo!$D$21:$X$40,Ohjeistus!U$98-1,FALSE))","v":""},{"$f":"IF($J182=\"\",\"\",VLOOKUP($J182, Resurssiluettelo!$D$21:$X$40,Ohjeistus!V$98-1,FALSE))","v":""},{"$f":"IF($J182=\"\",\"\",VLOOKUP($J182, Resurssiluettelo!$D$21:$X$40,Ohjeistus!W$98-1,FALSE))","v":""},{"$f":"IF($J182=\"\",\"\",VLOOKUP($J182, Resurssiluettelo!$D$21:$X$40,Ohjeistus!X$98-1,FALSE))","v":""},{"$f":"IF(Resurssiluettelo!E229=0,\"\",Resurssiluettelo!E229)","v":""},{"$f":"IF(Resurssiluettelo!F229=0,\"\",YEAR(Resurssiluettelo!F229)&IF(MONTH(Resurssiluettelo!F229)<10,\"0\",\"\")&MONTH(Resurssiluettelo!F229)&IF(DAY(Resurssiluettelo!F229)<10,\"0\",\"\")&DAY(Resurssiluettelo!F229))","v":""},{"$f":"IF(Resurssiluettelo!G229=0,\"\",Resurssiluettelo!G229)","v":""},{"$f":"IF(Resurssiluettelo!H229=0,\"\",Resurssiluettelo!H229)","v":""},{"$f":"IF(Resurssiluettelo!I229=0,\"\",Resurssiluettelo!I229)","v":""},{"$f":"IF(Resurssiluettelo!W229=0,\"\",Resurssiluettelo!W229)","v":""},{"$f":"IF(Resurssiluettelo!X229=0,\"\",Resurssiluettelo!X229)","v":""},{"$f":"IF(Resurssiluettelo!Y229=0,\"\",Resurssiluettelo!Y229)","v":""},{"$f":"IF(Resurssiluettelo!Z229=0,\"\",Resurssiluettelo!Z229)","v":""},{"$f":"IF(Resurssiluettelo!AA229=0,\"\",Resurssiluettelo!AA229)","v":""},{"$f":"IF(Resurssiluettelo!AB229=0,\"\",Resurssiluettelo!AB229)","v":""},{"$f":"IF(Resurssiluettelo!AC229=0,\"\",Resurssiluettelo!AC229)","v":""},{"$f":"IF(Resurssiluettelo!AD229=0,\"\",Resurssiluettelo!AD229)","v":""},{"$f":"IF(Resurssiluettelo!J229=0,\"\",Resurssiluettelo!J229)","v":""},{"$f":"IF(Resurssiluettelo!K229=0,\"\",Resurssiluettelo!K229)","v":""},{"$f":"IF(Resurssiluettelo!L229=0,\"\",Resurssiluettelo!L229)","v":""},{"$f":"IF(Resurssiluettelo!M229=0,\"\",Resurssiluettelo!M229)","v":""},{"$f":"IF(Resurssiluettelo!N229=0,\"\",Resurssiluettelo!N229)","v":""},{"$f":"IF(Resurssiluettelo!O229=0,\"\",Resurssiluettelo!O229)","v":""},{"$f":"IF(Resurssiluettelo!P229=0,\"\",Resurssiluettelo!P229)","v":""},{"$f":"IF(Resurssiluettelo!Q229=0,\"\",Resurssiluettelo!Q229)","v":""},{"$f":"IF(Resurssiluettelo!R229=0,\"\",Resurssiluettelo!R229)","v":""},{"$f":"IF(Resurssiluettelo!S229=0,\"\",Resurssiluettelo!S229)","v":""},{"$f":"IF(Resurssiluettelo!T229=0,\"\",Resurssiluettelo!T229)","v":""},{"$f":"IF(Resurssiluettelo!U229=0,\"\",Resurssiluettelo!U229)","v":""},{"$f":"IF(Resurssiluettelo!V229=0,\"\",Resurssiluettelo!V229)","v":""}]
[180,{"$f":"IF(Y183=\"\",\"\",Resurssiluettelo!$G$1)","v":""},{"$f":"IF(Y183=\"\",\"\",Resurssiluettelo!$H$14)","v":""},{"$f":"IF(Y183=\"\",\"\",Resurssiluettelo!$I$14)","v":""},{"$f":"IF(Y183=\"\",\"\",Resurssiluettelo!$J$14)","v":""},{"$f":"IF(Y183=\"\",\"\",Resurssiluettelo!$N$14)","v":""},{"$f":"IF(Y183=\"\",\"\",Resurssiluettelo!$O$14)","v":""},{"$f":"IF(Resurssiluettelo!B230=0,\"\",Resurssiluettelo!B230)","v":""},{"$f":"IF(Resurssiluettelo!C230=0,\"\",Resurssiluettelo!C230)","v":""},{"$f":"IF(Resurssiluettelo!D230=0,\"\",Resurssiluettelo!D230)","v":""},{"$f":"IF($J183=\"\",\"\",VLOOKUP($J183, Resurssiluettelo!$D$21:$X$40,Ohjeistus!K$98-1,FALSE))","v":""},{"$f":"IF($J183=\"\",\"\",VLOOKUP($J183, Resurssiluettelo!$D$21:$X$40,Ohjeistus!L$98-1,FALSE))","v":""},{"$f":"IF($J183=\"\",\"\",VLOOKUP($J183, Resurssiluettelo!$D$21:$X$40,Ohjeistus!M$98-1,FALSE))","v":""},{"$f":"IF($J183=\"\",\"\",VLOOKUP($J183, Resurssiluettelo!$D$21:$X$40,Ohjeistus!N$98-1,FALSE))","v":""},{"$f":"IF($J183=\"\",\"\",VLOOKUP($J183, Resurssiluettelo!$D$21:$X$40,Ohjeistus!O$98-1,FALSE))","v":""},{"$f":"IF($J183=\"\",\"\",VLOOKUP($J183, Resurssiluettelo!$D$21:$X$40,Ohjeistus!P$98-1,FALSE))","v":""},{"$f":"IF($J183=\"\",IF($I183=\"\",\"\",VLOOKUP($I183, Resurssiluettelo!$C$21:$X$40,Ohjeistus!Q$98,FALSE)),VLOOKUP($J183, Resurssiluettelo!$D$21:$X$40,Ohjeistus!Q$98-1,FALSE))","v":""},{"$f":"IF($J183=\"\",IF($I183=\"\",\"\",VLOOKUP($I183, Resurssiluettelo!$C$21:$X$40,Ohjeistus!R$98,FALSE)),VLOOKUP($J183, Resurssiluettelo!$D$21:$X$40,Ohjeistus!R$98-1,FALSE))","v":""},{"$f":"IF($J183=\"\",IF($I183=\"\",\"\",VLOOKUP($I183, Resurssiluettelo!$C$21:$X$40,Ohjeistus!S$98,FALSE)),VLOOKUP($J183, Resurssiluettelo!$D$21:$X$40,Ohjeistus!S$98-1,FALSE))","v":""},{"$f":"IF($J183=\"\",IF($I183=\"\",\"\",VLOOKUP($I183, Resurssiluettelo!$C$21:$X$40,Ohjeistus!T$98,FALSE)),VLOOKUP($J183, Resurssiluettelo!$D$21:$X$40,Ohjeistus!T$98-1,FALSE))","v":""},{"$f":"IF($J183=\"\",\"\",VLOOKUP($J183, Resurssiluettelo!$D$21:$X$40,Ohjeistus!U$98-1,FALSE))","v":""},{"$f":"IF($J183=\"\",\"\",VLOOKUP($J183, Resurssiluettelo!$D$21:$X$40,Ohjeistus!V$98-1,FALSE))","v":""},{"$f":"IF($J183=\"\",\"\",VLOOKUP($J183, Resurssiluettelo!$D$21:$X$40,Ohjeistus!W$98-1,FALSE))","v":""},{"$f":"IF($J183=\"\",\"\",VLOOKUP($J183, Resurssiluettelo!$D$21:$X$40,Ohjeistus!X$98-1,FALSE))","v":""},{"$f":"IF(Resurssiluettelo!E230=0,\"\",Resurssiluettelo!E230)","v":""},{"$f":"IF(Resurssiluettelo!F230=0,\"\",YEAR(Resurssiluettelo!F230)&IF(MONTH(Resurssiluettelo!F230)<10,\"0\",\"\")&MONTH(Resurssiluettelo!F230)&IF(DAY(Resurssiluettelo!F230)<10,\"0\",\"\")&DAY(Resurssiluettelo!F230))","v":""},{"$f":"IF(Resurssiluettelo!G230=0,\"\",Resurssiluettelo!G230)","v":""},{"$f":"IF(Resurssiluettelo!H230=0,\"\",Resurssiluettelo!H230)","v":""},{"$f":"IF(Resurssiluettelo!I230=0,\"\",Resurssiluettelo!I230)","v":""},{"$f":"IF(Resurssiluettelo!W230=0,\"\",Resurssiluettelo!W230)","v":""},{"$f":"IF(Resurssiluettelo!X230=0,\"\",Resurssiluettelo!X230)","v":""},{"$f":"IF(Resurssiluettelo!Y230=0,\"\",Resurssiluettelo!Y230)","v":""},{"$f":"IF(Resurssiluettelo!Z230=0,\"\",Resurssiluettelo!Z230)","v":""},{"$f":"IF(Resurssiluettelo!AA230=0,\"\",Resurssiluettelo!AA230)","v":""},{"$f":"IF(Resurssiluettelo!AB230=0,\"\",Resurssiluettelo!AB230)","v":""},{"$f":"IF(Resurssiluettelo!AC230=0,\"\",Resurssiluettelo!AC230)","v":""},{"$f":"IF(Resurssiluettelo!AD230=0,\"\",Resurssiluettelo!AD230)","v":""},{"$f":"IF(Resurssiluettelo!J230=0,\"\",Resurssiluettelo!J230)","v":""},{"$f":"IF(Resurssiluettelo!K230=0,\"\",Resurssiluettelo!K230)","v":""},{"$f":"IF(Resurssiluettelo!L230=0,\"\",Resurssiluettelo!L230)","v":""},{"$f":"IF(Resurssiluettelo!M230=0,\"\",Resurssiluettelo!M230)","v":""},{"$f":"IF(Resurssiluettelo!N230=0,\"\",Resurssiluettelo!N230)","v":""},{"$f":"IF(Resurssiluettelo!O230=0,\"\",Resurssiluettelo!O230)","v":""},{"$f":"IF(Resurssiluettelo!P230=0,\"\",Resurssiluettelo!P230)","v":""},{"$f":"IF(Resurssiluettelo!Q230=0,\"\",Resurssiluettelo!Q230)","v":""},{"$f":"IF(Resurssiluettelo!R230=0,\"\",Resurssiluettelo!R230)","v":""},{"$f":"IF(Resurssiluettelo!S230=0,\"\",Resurssiluettelo!S230)","v":""},{"$f":"IF(Resurssiluettelo!T230=0,\"\",Resurssiluettelo!T230)","v":""},{"$f":"IF(Resurssiluettelo!U230=0,\"\",Resurssiluettelo!U230)","v":""},{"$f":"IF(Resurssiluettelo!V230=0,\"\",Resurssiluettelo!V230)","v":""}]
[181,{"$f":"IF(Y184=\"\",\"\",Resurssiluettelo!$G$1)","v":""},{"$f":"IF(Y184=\"\",\"\",Resurssiluettelo!$H$14)","v":""},{"$f":"IF(Y184=\"\",\"\",Resurssiluettelo!$I$14)","v":""},{"$f":"IF(Y184=\"\",\"\",Resurssiluettelo!$J$14)","v":""},{"$f":"IF(Y184=\"\",\"\",Resurssiluettelo!$N$14)","v":""},{"$f":"IF(Y184=\"\",\"\",Resurssiluettelo!$O$14)","v":""},{"$f":"IF(Resurssiluettelo!B231=0,\"\",Resurssiluettelo!B231)","v":""},{"$f":"IF(Resurssiluettelo!C231=0,\"\",Resurssiluettelo!C231)","v":""},{"$f":"IF(Resurssiluettelo!D231=0,\"\",Resurssiluettelo!D231)","v":""},{"$f":"IF($J184=\"\",\"\",VLOOKUP($J184, Resurssiluettelo!$D$21:$X$40,Ohjeistus!K$98-1,FALSE))","v":""},{"$f":"IF($J184=\"\",\"\",VLOOKUP($J184, Resurssiluettelo!$D$21:$X$40,Ohjeistus!L$98-1,FALSE))","v":""},{"$f":"IF($J184=\"\",\"\",VLOOKUP($J184, Resurssiluettelo!$D$21:$X$40,Ohjeistus!M$98-1,FALSE))","v":""},{"$f":"IF($J184=\"\",\"\",VLOOKUP($J184, Resurssiluettelo!$D$21:$X$40,Ohjeistus!N$98-1,FALSE))","v":""},{"$f":"IF($J184=\"\",\"\",VLOOKUP($J184, Resurssiluettelo!$D$21:$X$40,Ohjeistus!O$98-1,FALSE))","v":""},{"$f":"IF($J184=\"\",\"\",VLOOKUP($J184, Resurssiluettelo!$D$21:$X$40,Ohjeistus!P$98-1,FALSE))","v":""},{"$f":"IF($J184=\"\",IF($I184=\"\",\"\",VLOOKUP($I184, Resurssiluettelo!$C$21:$X$40,Ohjeistus!Q$98,FALSE)),VLOOKUP($J184, Resurssiluettelo!$D$21:$X$40,Ohjeistus!Q$98-1,FALSE))","v":""},{"$f":"IF($J184=\"\",IF($I184=\"\",\"\",VLOOKUP($I184, Resurssiluettelo!$C$21:$X$40,Ohjeistus!R$98,FALSE)),VLOOKUP($J184, Resurssiluettelo!$D$21:$X$40,Ohjeistus!R$98-1,FALSE))","v":""},{"$f":"IF($J184=\"\",IF($I184=\"\",\"\",VLOOKUP($I184, Resurssiluettelo!$C$21:$X$40,Ohjeistus!S$98,FALSE)),VLOOKUP($J184, Resurssiluettelo!$D$21:$X$40,Ohjeistus!S$98-1,FALSE))","v":""},{"$f":"IF($J184=\"\",IF($I184=\"\",\"\",VLOOKUP($I184, Resurssiluettelo!$C$21:$X$40,Ohjeistus!T$98,FALSE)),VLOOKUP($J184, Resurssiluettelo!$D$21:$X$40,Ohjeistus!T$98-1,FALSE))","v":""},{"$f":"IF($J184=\"\",\"\",VLOOKUP($J184, Resurssiluettelo!$D$21:$X$40,Ohjeistus!U$98-1,FALSE))","v":""},{"$f":"IF($J184=\"\",\"\",VLOOKUP($J184, Resurssiluettelo!$D$21:$X$40,Ohjeistus!V$98-1,FALSE))","v":""},{"$f":"IF($J184=\"\",\"\",VLOOKUP($J184, Resurssiluettelo!$D$21:$X$40,Ohjeistus!W$98-1,FALSE))","v":""},{"$f":"IF($J184=\"\",\"\",VLOOKUP($J184, Resurssiluettelo!$D$21:$X$40,Ohjeistus!X$98-1,FALSE))","v":""},{"$f":"IF(Resurssiluettelo!E231=0,\"\",Resurssiluettelo!E231)","v":""},{"$f":"IF(Resurssiluettelo!F231=0,\"\",YEAR(Resurssiluettelo!F231)&IF(MONTH(Resurssiluettelo!F231)<10,\"0\",\"\")&MONTH(Resurssiluettelo!F231)&IF(DAY(Resurssiluettelo!F231)<10,\"0\",\"\")&DAY(Resurssiluettelo!F231))","v":""},{"$f":"IF(Resurssiluettelo!G231=0,\"\",Resurssiluettelo!G231)","v":""},{"$f":"IF(Resurssiluettelo!H231=0,\"\",Resurssiluettelo!H231)","v":""},{"$f":"IF(Resurssiluettelo!I231=0,\"\",Resurssiluettelo!I231)","v":""},{"$f":"IF(Resurssiluettelo!W231=0,\"\",Resurssiluettelo!W231)","v":""},{"$f":"IF(Resurssiluettelo!X231=0,\"\",Resurssiluettelo!X231)","v":""},{"$f":"IF(Resurssiluettelo!Y231=0,\"\",Resurssiluettelo!Y231)","v":""},{"$f":"IF(Resurssiluettelo!Z231=0,\"\",Resurssiluettelo!Z231)","v":""},{"$f":"IF(Resurssiluettelo!AA231=0,\"\",Resurssiluettelo!AA231)","v":""},{"$f":"IF(Resurssiluettelo!AB231=0,\"\",Resurssiluettelo!AB231)","v":""},{"$f":"IF(Resurssiluettelo!AC231=0,\"\",Resurssiluettelo!AC231)","v":""},{"$f":"IF(Resurssiluettelo!AD231=0,\"\",Resurssiluettelo!AD231)","v":""},{"$f":"IF(Resurssiluettelo!J231=0,\"\",Resurssiluettelo!J231)","v":""},{"$f":"IF(Resurssiluettelo!K231=0,\"\",Resurssiluettelo!K231)","v":""},{"$f":"IF(Resurssiluettelo!L231=0,\"\",Resurssiluettelo!L231)","v":""},{"$f":"IF(Resurssiluettelo!M231=0,\"\",Resurssiluettelo!M231)","v":""},{"$f":"IF(Resurssiluettelo!N231=0,\"\",Resurssiluettelo!N231)","v":""},{"$f":"IF(Resurssiluettelo!O231=0,\"\",Resurssiluettelo!O231)","v":""},{"$f":"IF(Resurssiluettelo!P231=0,\"\",Resurssiluettelo!P231)","v":""},{"$f":"IF(Resurssiluettelo!Q231=0,\"\",Resurssiluettelo!Q231)","v":""},{"$f":"IF(Resurssiluettelo!R231=0,\"\",Resurssiluettelo!R231)","v":""},{"$f":"IF(Resurssiluettelo!S231=0,\"\",Resurssiluettelo!S231)","v":""},{"$f":"IF(Resurssiluettelo!T231=0,\"\",Resurssiluettelo!T231)","v":""},{"$f":"IF(Resurssiluettelo!U231=0,\"\",Resurssiluettelo!U231)","v":""},{"$f":"IF(Resurssiluettelo!V231=0,\"\",Resurssiluettelo!V231)","v":""}]
[182,{"$f":"IF(Y185=\"\",\"\",Resurssiluettelo!$G$1)","v":""},{"$f":"IF(Y185=\"\",\"\",Resurssiluettelo!$H$14)","v":""},{"$f":"IF(Y185=\"\",\"\",Resurssiluettelo!$I$14)","v":""},{"$f":"IF(Y185=\"\",\"\",Resurssiluettelo!$J$14)","v":""},{"$f":"IF(Y185=\"\",\"\",Resurssiluettelo!$N$14)","v":""},{"$f":"IF(Y185=\"\",\"\",Resurssiluettelo!$O$14)","v":""},{"$f":"IF(Resurssiluettelo!B232=0,\"\",Resurssiluettelo!B232)","v":""},{"$f":"IF(Resurssiluettelo!C232=0,\"\",Resurssiluettelo!C232)","v":""},{"$f":"IF(Resurssiluettelo!D232=0,\"\",Resurssiluettelo!D232)","v":""},{"$f":"IF($J185=\"\",\"\",VLOOKUP($J185, Resurssiluettelo!$D$21:$X$40,Ohjeistus!K$98-1,FALSE))","v":""},{"$f":"IF($J185=\"\",\"\",VLOOKUP($J185, Resurssiluettelo!$D$21:$X$40,Ohjeistus!L$98-1,FALSE))","v":""},{"$f":"IF($J185=\"\",\"\",VLOOKUP($J185, Resurssiluettelo!$D$21:$X$40,Ohjeistus!M$98-1,FALSE))","v":""},{"$f":"IF($J185=\"\",\"\",VLOOKUP($J185, Resurssiluettelo!$D$21:$X$40,Ohjeistus!N$98-1,FALSE))","v":""},{"$f":"IF($J185=\"\",\"\",VLOOKUP($J185, Resurssiluettelo!$D$21:$X$40,Ohjeistus!O$98-1,FALSE))","v":""},{"$f":"IF($J185=\"\",\"\",VLOOKUP($J185, Resurssiluettelo!$D$21:$X$40,Ohjeistus!P$98-1,FALSE))","v":""},{"$f":"IF($J185=\"\",IF($I185=\"\",\"\",VLOOKUP($I185, Resurssiluettelo!$C$21:$X$40,Ohjeistus!Q$98,FALSE)),VLOOKUP($J185, Resurssiluettelo!$D$21:$X$40,Ohjeistus!Q$98-1,FALSE))","v":""},{"$f":"IF($J185=\"\",IF($I185=\"\",\"\",VLOOKUP($I185, Resurssiluettelo!$C$21:$X$40,Ohjeistus!R$98,FALSE)),VLOOKUP($J185, Resurssiluettelo!$D$21:$X$40,Ohjeistus!R$98-1,FALSE))","v":""},{"$f":"IF($J185=\"\",IF($I185=\"\",\"\",VLOOKUP($I185, Resurssiluettelo!$C$21:$X$40,Ohjeistus!S$98,FALSE)),VLOOKUP($J185, Resurssiluettelo!$D$21:$X$40,Ohjeistus!S$98-1,FALSE))","v":""},{"$f":"IF($J185=\"\",IF($I185=\"\",\"\",VLOOKUP($I185, Resurssiluettelo!$C$21:$X$40,Ohjeistus!T$98,FALSE)),VLOOKUP($J185, Resurssiluettelo!$D$21:$X$40,Ohjeistus!T$98-1,FALSE))","v":""},{"$f":"IF($J185=\"\",\"\",VLOOKUP($J185, Resurssiluettelo!$D$21:$X$40,Ohjeistus!U$98-1,FALSE))","v":""},{"$f":"IF($J185=\"\",\"\",VLOOKUP($J185, Resurssiluettelo!$D$21:$X$40,Ohjeistus!V$98-1,FALSE))","v":""},{"$f":"IF($J185=\"\",\"\",VLOOKUP($J185, Resurssiluettelo!$D$21:$X$40,Ohjeistus!W$98-1,FALSE))","v":""},{"$f":"IF($J185=\"\",\"\",VLOOKUP($J185, Resurssiluettelo!$D$21:$X$40,Ohjeistus!X$98-1,FALSE))","v":""},{"$f":"IF(Resurssiluettelo!E232=0,\"\",Resurssiluettelo!E232)","v":""},{"$f":"IF(Resurssiluettelo!F232=0,\"\",YEAR(Resurssiluettelo!F232)&IF(MONTH(Resurssiluettelo!F232)<10,\"0\",\"\")&MONTH(Resurssiluettelo!F232)&IF(DAY(Resurssiluettelo!F232)<10,\"0\",\"\")&DAY(Resurssiluettelo!F232))","v":""},{"$f":"IF(Resurssiluettelo!G232=0,\"\",Resurssiluettelo!G232)","v":""},{"$f":"IF(Resurssiluettelo!H232=0,\"\",Resurssiluettelo!H232)","v":""},{"$f":"IF(Resurssiluettelo!I232=0,\"\",Resurssiluettelo!I232)","v":""},{"$f":"IF(Resurssiluettelo!W232=0,\"\",Resurssiluettelo!W232)","v":""},{"$f":"IF(Resurssiluettelo!X232=0,\"\",Resurssiluettelo!X232)","v":""},{"$f":"IF(Resurssiluettelo!Y232=0,\"\",Resurssiluettelo!Y232)","v":""},{"$f":"IF(Resurssiluettelo!Z232=0,\"\",Resurssiluettelo!Z232)","v":""},{"$f":"IF(Resurssiluettelo!AA232=0,\"\",Resurssiluettelo!AA232)","v":""},{"$f":"IF(Resurssiluettelo!AB232=0,\"\",Resurssiluettelo!AB232)","v":""},{"$f":"IF(Resurssiluettelo!AC232=0,\"\",Resurssiluettelo!AC232)","v":""},{"$f":"IF(Resurssiluettelo!AD232=0,\"\",Resurssiluettelo!AD232)","v":""},{"$f":"IF(Resurssiluettelo!J232=0,\"\",Resurssiluettelo!J232)","v":""},{"$f":"IF(Resurssiluettelo!K232=0,\"\",Resurssiluettelo!K232)","v":""},{"$f":"IF(Resurssiluettelo!L232=0,\"\",Resurssiluettelo!L232)","v":""},{"$f":"IF(Resurssiluettelo!M232=0,\"\",Resurssiluettelo!M232)","v":""},{"$f":"IF(Resurssiluettelo!N232=0,\"\",Resurssiluettelo!N232)","v":""},{"$f":"IF(Resurssiluettelo!O232=0,\"\",Resurssiluettelo!O232)","v":""},{"$f":"IF(Resurssiluettelo!P232=0,\"\",Resurssiluettelo!P232)","v":""},{"$f":"IF(Resurssiluettelo!Q232=0,\"\",Resurssiluettelo!Q232)","v":""},{"$f":"IF(Resurssiluettelo!R232=0,\"\",Resurssiluettelo!R232)","v":""},{"$f":"IF(Resurssiluettelo!S232=0,\"\",Resurssiluettelo!S232)","v":""},{"$f":"IF(Resurssiluettelo!T232=0,\"\",Resurssiluettelo!T232)","v":""},{"$f":"IF(Resurssiluettelo!U232=0,\"\",Resurssiluettelo!U232)","v":""},{"$f":"IF(Resurssiluettelo!V232=0,\"\",Resurssiluettelo!V232)","v":""}]
[183,{"$f":"IF(Y186=\"\",\"\",Resurssiluettelo!$G$1)","v":""},{"$f":"IF(Y186=\"\",\"\",Resurssiluettelo!$H$14)","v":""},{"$f":"IF(Y186=\"\",\"\",Resurssiluettelo!$I$14)","v":""},{"$f":"IF(Y186=\"\",\"\",Resurssiluettelo!$J$14)","v":""},{"$f":"IF(Y186=\"\",\"\",Resurssiluettelo!$N$14)","v":""},{"$f":"IF(Y186=\"\",\"\",Resurssiluettelo!$O$14)","v":""},{"$f":"IF(Resurssiluettelo!B233=0,\"\",Resurssiluettelo!B233)","v":""},{"$f":"IF(Resurssiluettelo!C233=0,\"\",Resurssiluettelo!C233)","v":""},{"$f":"IF(Resurssiluettelo!D233=0,\"\",Resurssiluettelo!D233)","v":""},{"$f":"IF($J186=\"\",\"\",VLOOKUP($J186, Resurssiluettelo!$D$21:$X$40,Ohjeistus!K$98-1,FALSE))","v":""},{"$f":"IF($J186=\"\",\"\",VLOOKUP($J186, Resurssiluettelo!$D$21:$X$40,Ohjeistus!L$98-1,FALSE))","v":""},{"$f":"IF($J186=\"\",\"\",VLOOKUP($J186, Resurssiluettelo!$D$21:$X$40,Ohjeistus!M$98-1,FALSE))","v":""},{"$f":"IF($J186=\"\",\"\",VLOOKUP($J186, Resurssiluettelo!$D$21:$X$40,Ohjeistus!N$98-1,FALSE))","v":""},{"$f":"IF($J186=\"\",\"\",VLOOKUP($J186, Resurssiluettelo!$D$21:$X$40,Ohjeistus!O$98-1,FALSE))","v":""},{"$f":"IF($J186=\"\",\"\",VLOOKUP($J186, Resurssiluettelo!$D$21:$X$40,Ohjeistus!P$98-1,FALSE))","v":""},{"$f":"IF($J186=\"\",IF($I186=\"\",\"\",VLOOKUP($I186, Resurssiluettelo!$C$21:$X$40,Ohjeistus!Q$98,FALSE)),VLOOKUP($J186, Resurssiluettelo!$D$21:$X$40,Ohjeistus!Q$98-1,FALSE))","v":""},{"$f":"IF($J186=\"\",IF($I186=\"\",\"\",VLOOKUP($I186, Resurssiluettelo!$C$21:$X$40,Ohjeistus!R$98,FALSE)),VLOOKUP($J186, Resurssiluettelo!$D$21:$X$40,Ohjeistus!R$98-1,FALSE))","v":""},{"$f":"IF($J186=\"\",IF($I186=\"\",\"\",VLOOKUP($I186, Resurssiluettelo!$C$21:$X$40,Ohjeistus!S$98,FALSE)),VLOOKUP($J186, Resurssiluettelo!$D$21:$X$40,Ohjeistus!S$98-1,FALSE))","v":""},{"$f":"IF($J186=\"\",IF($I186=\"\",\"\",VLOOKUP($I186, Resurssiluettelo!$C$21:$X$40,Ohjeistus!T$98,FALSE)),VLOOKUP($J186, Resurssiluettelo!$D$21:$X$40,Ohjeistus!T$98-1,FALSE))","v":""},{"$f":"IF($J186=\"\",\"\",VLOOKUP($J186, Resurssiluettelo!$D$21:$X$40,Ohjeistus!U$98-1,FALSE))","v":""},{"$f":"IF($J186=\"\",\"\",VLOOKUP($J186, Resurssiluettelo!$D$21:$X$40,Ohjeistus!V$98-1,FALSE))","v":""},{"$f":"IF($J186=\"\",\"\",VLOOKUP($J186, Resurssiluettelo!$D$21:$X$40,Ohjeistus!W$98-1,FALSE))","v":""},{"$f":"IF($J186=\"\",\"\",VLOOKUP($J186, Resurssiluettelo!$D$21:$X$40,Ohjeistus!X$98-1,FALSE))","v":""},{"$f":"IF(Resurssiluettelo!E233=0,\"\",Resurssiluettelo!E233)","v":""},{"$f":"IF(Resurssiluettelo!F233=0,\"\",YEAR(Resurssiluettelo!F233)&IF(MONTH(Resurssiluettelo!F233)<10,\"0\",\"\")&MONTH(Resurssiluettelo!F233)&IF(DAY(Resurssiluettelo!F233)<10,\"0\",\"\")&DAY(Resurssiluettelo!F233))","v":""},{"$f":"IF(Resurssiluettelo!G233=0,\"\",Resurssiluettelo!G233)","v":""},{"$f":"IF(Resurssiluettelo!H233=0,\"\",Resurssiluettelo!H233)","v":""},{"$f":"IF(Resurssiluettelo!I233=0,\"\",Resurssiluettelo!I233)","v":""},{"$f":"IF(Resurssiluettelo!W233=0,\"\",Resurssiluettelo!W233)","v":""},{"$f":"IF(Resurssiluettelo!X233=0,\"\",Resurssiluettelo!X233)","v":""},{"$f":"IF(Resurssiluettelo!Y233=0,\"\",Resurssiluettelo!Y233)","v":""},{"$f":"IF(Resurssiluettelo!Z233=0,\"\",Resurssiluettelo!Z233)","v":""},{"$f":"IF(Resurssiluettelo!AA233=0,\"\",Resurssiluettelo!AA233)","v":""},{"$f":"IF(Resurssiluettelo!AB233=0,\"\",Resurssiluettelo!AB233)","v":""},{"$f":"IF(Resurssiluettelo!AC233=0,\"\",Resurssiluettelo!AC233)","v":""},{"$f":"IF(Resurssiluettelo!AD233=0,\"\",Resurssiluettelo!AD233)","v":""},{"$f":"IF(Resurssiluettelo!J233=0,\"\",Resurssiluettelo!J233)","v":""},{"$f":"IF(Resurssiluettelo!K233=0,\"\",Resurssiluettelo!K233)","v":""},{"$f":"IF(Resurssiluettelo!L233=0,\"\",Resurssiluettelo!L233)","v":""},{"$f":"IF(Resurssiluettelo!M233=0,\"\",Resurssiluettelo!M233)","v":""},{"$f":"IF(Resurssiluettelo!N233=0,\"\",Resurssiluettelo!N233)","v":""},{"$f":"IF(Resurssiluettelo!O233=0,\"\",Resurssiluettelo!O233)","v":""},{"$f":"IF(Resurssiluettelo!P233=0,\"\",Resurssiluettelo!P233)","v":""},{"$f":"IF(Resurssiluettelo!Q233=0,\"\",Resurssiluettelo!Q233)","v":""},{"$f":"IF(Resurssiluettelo!R233=0,\"\",Resurssiluettelo!R233)","v":""},{"$f":"IF(Resurssiluettelo!S233=0,\"\",Resurssiluettelo!S233)","v":""},{"$f":"IF(Resurssiluettelo!T233=0,\"\",Resurssiluettelo!T233)","v":""},{"$f":"IF(Resurssiluettelo!U233=0,\"\",Resurssiluettelo!U233)","v":""},{"$f":"IF(Resurssiluettelo!V233=0,\"\",Resurssiluettelo!V233)","v":""}]
[184,{"$f":"IF(Y187=\"\",\"\",Resurssiluettelo!$G$1)","v":""},{"$f":"IF(Y187=\"\",\"\",Resurssiluettelo!$H$14)","v":""},{"$f":"IF(Y187=\"\",\"\",Resurssiluettelo!$I$14)","v":""},{"$f":"IF(Y187=\"\",\"\",Resurssiluettelo!$J$14)","v":""},{"$f":"IF(Y187=\"\",\"\",Resurssiluettelo!$N$14)","v":""},{"$f":"IF(Y187=\"\",\"\",Resurssiluettelo!$O$14)","v":""},{"$f":"IF(Resurssiluettelo!B234=0,\"\",Resurssiluettelo!B234)","v":""},{"$f":"IF(Resurssiluettelo!C234=0,\"\",Resurssiluettelo!C234)","v":""},{"$f":"IF(Resurssiluettelo!D234=0,\"\",Resurssiluettelo!D234)","v":""},{"$f":"IF($J187=\"\",\"\",VLOOKUP($J187, Resurssiluettelo!$D$21:$X$40,Ohjeistus!K$98-1,FALSE))","v":""},{"$f":"IF($J187=\"\",\"\",VLOOKUP($J187, Resurssiluettelo!$D$21:$X$40,Ohjeistus!L$98-1,FALSE))","v":""},{"$f":"IF($J187=\"\",\"\",VLOOKUP($J187, Resurssiluettelo!$D$21:$X$40,Ohjeistus!M$98-1,FALSE))","v":""},{"$f":"IF($J187=\"\",\"\",VLOOKUP($J187, Resurssiluettelo!$D$21:$X$40,Ohjeistus!N$98-1,FALSE))","v":""},{"$f":"IF($J187=\"\",\"\",VLOOKUP($J187, Resurssiluettelo!$D$21:$X$40,Ohjeistus!O$98-1,FALSE))","v":""},{"$f":"IF($J187=\"\",\"\",VLOOKUP($J187, Resurssiluettelo!$D$21:$X$40,Ohjeistus!P$98-1,FALSE))","v":""},{"$f":"IF($J187=\"\",IF($I187=\"\",\"\",VLOOKUP($I187, Resurssiluettelo!$C$21:$X$40,Ohjeistus!Q$98,FALSE)),VLOOKUP($J187, Resurssiluettelo!$D$21:$X$40,Ohjeistus!Q$98-1,FALSE))","v":""},{"$f":"IF($J187=\"\",IF($I187=\"\",\"\",VLOOKUP($I187, Resurssiluettelo!$C$21:$X$40,Ohjeistus!R$98,FALSE)),VLOOKUP($J187, Resurssiluettelo!$D$21:$X$40,Ohjeistus!R$98-1,FALSE))","v":""},{"$f":"IF($J187=\"\",IF($I187=\"\",\"\",VLOOKUP($I187, Resurssiluettelo!$C$21:$X$40,Ohjeistus!S$98,FALSE)),VLOOKUP($J187, Resurssiluettelo!$D$21:$X$40,Ohjeistus!S$98-1,FALSE))","v":""},{"$f":"IF($J187=\"\",IF($I187=\"\",\"\",VLOOKUP($I187, Resurssiluettelo!$C$21:$X$40,Ohjeistus!T$98,FALSE)),VLOOKUP($J187, Resurssiluettelo!$D$21:$X$40,Ohjeistus!T$98-1,FALSE))","v":""},{"$f":"IF($J187=\"\",\"\",VLOOKUP($J187, Resurssiluettelo!$D$21:$X$40,Ohjeistus!U$98-1,FALSE))","v":""},{"$f":"IF($J187=\"\",\"\",VLOOKUP($J187, Resurssiluettelo!$D$21:$X$40,Ohjeistus!V$98-1,FALSE))","v":""},{"$f":"IF($J187=\"\",\"\",VLOOKUP($J187, Resurssiluettelo!$D$21:$X$40,Ohjeistus!W$98-1,FALSE))","v":""},{"$f":"IF($J187=\"\",\"\",VLOOKUP($J187, Resurssiluettelo!$D$21:$X$40,Ohjeistus!X$98-1,FALSE))","v":""},{"$f":"IF(Resurssiluettelo!E234=0,\"\",Resurssiluettelo!E234)","v":""},{"$f":"IF(Resurssiluettelo!F234=0,\"\",YEAR(Resurssiluettelo!F234)&IF(MONTH(Resurssiluettelo!F234)<10,\"0\",\"\")&MONTH(Resurssiluettelo!F234)&IF(DAY(Resurssiluettelo!F234)<10,\"0\",\"\")&DAY(Resurssiluettelo!F234))","v":""},{"$f":"IF(Resurssiluettelo!G234=0,\"\",Resurssiluettelo!G234)","v":""},{"$f":"IF(Resurssiluettelo!H234=0,\"\",Resurssiluettelo!H234)","v":""},{"$f":"IF(Resurssiluettelo!I234=0,\"\",Resurssiluettelo!I234)","v":""},{"$f":"IF(Resurssiluettelo!W234=0,\"\",Resurssiluettelo!W234)","v":""},{"$f":"IF(Resurssiluettelo!X234=0,\"\",Resurssiluettelo!X234)","v":""},{"$f":"IF(Resurssiluettelo!Y234=0,\"\",Resurssiluettelo!Y234)","v":""},{"$f":"IF(Resurssiluettelo!Z234=0,\"\",Resurssiluettelo!Z234)","v":""},{"$f":"IF(Resurssiluettelo!AA234=0,\"\",Resurssiluettelo!AA234)","v":""},{"$f":"IF(Resurssiluettelo!AB234=0,\"\",Resurssiluettelo!AB234)","v":""},{"$f":"IF(Resurssiluettelo!AC234=0,\"\",Resurssiluettelo!AC234)","v":""},{"$f":"IF(Resurssiluettelo!AD234=0,\"\",Resurssiluettelo!AD234)","v":""},{"$f":"IF(Resurssiluettelo!J234=0,\"\",Resurssiluettelo!J234)","v":""},{"$f":"IF(Resurssiluettelo!K234=0,\"\",Resurssiluettelo!K234)","v":""},{"$f":"IF(Resurssiluettelo!L234=0,\"\",Resurssiluettelo!L234)","v":""},{"$f":"IF(Resurssiluettelo!M234=0,\"\",Resurssiluettelo!M234)","v":""},{"$f":"IF(Resurssiluettelo!N234=0,\"\",Resurssiluettelo!N234)","v":""},{"$f":"IF(Resurssiluettelo!O234=0,\"\",Resurssiluettelo!O234)","v":""},{"$f":"IF(Resurssiluettelo!P234=0,\"\",Resurssiluettelo!P234)","v":""},{"$f":"IF(Resurssiluettelo!Q234=0,\"\",Resurssiluettelo!Q234)","v":""},{"$f":"IF(Resurssiluettelo!R234=0,\"\",Resurssiluettelo!R234)","v":""},{"$f":"IF(Resurssiluettelo!S234=0,\"\",Resurssiluettelo!S234)","v":""},{"$f":"IF(Resurssiluettelo!T234=0,\"\",Resurssiluettelo!T234)","v":""},{"$f":"IF(Resurssiluettelo!U234=0,\"\",Resurssiluettelo!U234)","v":""},{"$f":"IF(Resurssiluettelo!V234=0,\"\",Resurssiluettelo!V234)","v":""}]
[185,{"$f":"IF(Y188=\"\",\"\",Resurssiluettelo!$G$1)","v":""},{"$f":"IF(Y188=\"\",\"\",Resurssiluettelo!$H$14)","v":""},{"$f":"IF(Y188=\"\",\"\",Resurssiluettelo!$I$14)","v":""},{"$f":"IF(Y188=\"\",\"\",Resurssiluettelo!$J$14)","v":""},{"$f":"IF(Y188=\"\",\"\",Resurssiluettelo!$N$14)","v":""},{"$f":"IF(Y188=\"\",\"\",Resurssiluettelo!$O$14)","v":""},{"$f":"IF(Resurssiluettelo!B235=0,\"\",Resurssiluettelo!B235)","v":""},{"$f":"IF(Resurssiluettelo!C235=0,\"\",Resurssiluettelo!C235)","v":""},{"$f":"IF(Resurssiluettelo!D235=0,\"\",Resurssiluettelo!D235)","v":""},{"$f":"IF($J188=\"\",\"\",VLOOKUP($J188, Resurssiluettelo!$D$21:$X$40,Ohjeistus!K$98-1,FALSE))","v":""},{"$f":"IF($J188=\"\",\"\",VLOOKUP($J188, Resurssiluettelo!$D$21:$X$40,Ohjeistus!L$98-1,FALSE))","v":""},{"$f":"IF($J188=\"\",\"\",VLOOKUP($J188, Resurssiluettelo!$D$21:$X$40,Ohjeistus!M$98-1,FALSE))","v":""},{"$f":"IF($J188=\"\",\"\",VLOOKUP($J188, Resurssiluettelo!$D$21:$X$40,Ohjeistus!N$98-1,FALSE))","v":""},{"$f":"IF($J188=\"\",\"\",VLOOKUP($J188, Resurssiluettelo!$D$21:$X$40,Ohjeistus!O$98-1,FALSE))","v":""},{"$f":"IF($J188=\"\",\"\",VLOOKUP($J188, Resurssiluettelo!$D$21:$X$40,Ohjeistus!P$98-1,FALSE))","v":""},{"$f":"IF($J188=\"\",IF($I188=\"\",\"\",VLOOKUP($I188, Resurssiluettelo!$C$21:$X$40,Ohjeistus!Q$98,FALSE)),VLOOKUP($J188, Resurssiluettelo!$D$21:$X$40,Ohjeistus!Q$98-1,FALSE))","v":""},{"$f":"IF($J188=\"\",IF($I188=\"\",\"\",VLOOKUP($I188, Resurssiluettelo!$C$21:$X$40,Ohjeistus!R$98,FALSE)),VLOOKUP($J188, Resurssiluettelo!$D$21:$X$40,Ohjeistus!R$98-1,FALSE))","v":""},{"$f":"IF($J188=\"\",IF($I188=\"\",\"\",VLOOKUP($I188, Resurssiluettelo!$C$21:$X$40,Ohjeistus!S$98,FALSE)),VLOOKUP($J188, Resurssiluettelo!$D$21:$X$40,Ohjeistus!S$98-1,FALSE))","v":""},{"$f":"IF($J188=\"\",IF($I188=\"\",\"\",VLOOKUP($I188, Resurssiluettelo!$C$21:$X$40,Ohjeistus!T$98,FALSE)),VLOOKUP($J188, Resurssiluettelo!$D$21:$X$40,Ohjeistus!T$98-1,FALSE))","v":""},{"$f":"IF($J188=\"\",\"\",VLOOKUP($J188, Resurssiluettelo!$D$21:$X$40,Ohjeistus!U$98-1,FALSE))","v":""},{"$f":"IF($J188=\"\",\"\",VLOOKUP($J188, Resurssiluettelo!$D$21:$X$40,Ohjeistus!V$98-1,FALSE))","v":""},{"$f":"IF($J188=\"\",\"\",VLOOKUP($J188, Resurssiluettelo!$D$21:$X$40,Ohjeistus!W$98-1,FALSE))","v":""},{"$f":"IF($J188=\"\",\"\",VLOOKUP($J188, Resurssiluettelo!$D$21:$X$40,Ohjeistus!X$98-1,FALSE))","v":""},{"$f":"IF(Resurssiluettelo!E235=0,\"\",Resurssiluettelo!E235)","v":""},{"$f":"IF(Resurssiluettelo!F235=0,\"\",YEAR(Resurssiluettelo!F235)&IF(MONTH(Resurssiluettelo!F235)<10,\"0\",\"\")&MONTH(Resurssiluettelo!F235)&IF(DAY(Resurssiluettelo!F235)<10,\"0\",\"\")&DAY(Resurssiluettelo!F235))","v":""},{"$f":"IF(Resurssiluettelo!G235=0,\"\",Resurssiluettelo!G235)","v":""},{"$f":"IF(Resurssiluettelo!H235=0,\"\",Resurssiluettelo!H235)","v":""},{"$f":"IF(Resurssiluettelo!I235=0,\"\",Resurssiluettelo!I235)","v":""},{"$f":"IF(Resurssiluettelo!W235=0,\"\",Resurssiluettelo!W235)","v":""},{"$f":"IF(Resurssiluettelo!X235=0,\"\",Resurssiluettelo!X235)","v":""},{"$f":"IF(Resurssiluettelo!Y235=0,\"\",Resurssiluettelo!Y235)","v":""},{"$f":"IF(Resurssiluettelo!Z235=0,\"\",Resurssiluettelo!Z235)","v":""},{"$f":"IF(Resurssiluettelo!AA235=0,\"\",Resurssiluettelo!AA235)","v":""},{"$f":"IF(Resurssiluettelo!AB235=0,\"\",Resurssiluettelo!AB235)","v":""},{"$f":"IF(Resurssiluettelo!AC235=0,\"\",Resurssiluettelo!AC235)","v":""},{"$f":"IF(Resurssiluettelo!AD235=0,\"\",Resurssiluettelo!AD235)","v":""},{"$f":"IF(Resurssiluettelo!J235=0,\"\",Resurssiluettelo!J235)","v":""},{"$f":"IF(Resurssiluettelo!K235=0,\"\",Resurssiluettelo!K235)","v":""},{"$f":"IF(Resurssiluettelo!L235=0,\"\",Resurssiluettelo!L235)","v":""},{"$f":"IF(Resurssiluettelo!M235=0,\"\",Resurssiluettelo!M235)","v":""},{"$f":"IF(Resurssiluettelo!N235=0,\"\",Resurssiluettelo!N235)","v":""},{"$f":"IF(Resurssiluettelo!O235=0,\"\",Resurssiluettelo!O235)","v":""},{"$f":"IF(Resurssiluettelo!P235=0,\"\",Resurssiluettelo!P235)","v":""},{"$f":"IF(Resurssiluettelo!Q235=0,\"\",Resurssiluettelo!Q235)","v":""},{"$f":"IF(Resurssiluettelo!R235=0,\"\",Resurssiluettelo!R235)","v":""},{"$f":"IF(Resurssiluettelo!S235=0,\"\",Resurssiluettelo!S235)","v":""},{"$f":"IF(Resurssiluettelo!T235=0,\"\",Resurssiluettelo!T235)","v":""},{"$f":"IF(Resurssiluettelo!U235=0,\"\",Resurssiluettelo!U235)","v":""},{"$f":"IF(Resurssiluettelo!V235=0,\"\",Resurssiluettelo!V235)","v":""}]
[186,{"$f":"IF(Y189=\"\",\"\",Resurssiluettelo!$G$1)","v":""},{"$f":"IF(Y189=\"\",\"\",Resurssiluettelo!$H$14)","v":""},{"$f":"IF(Y189=\"\",\"\",Resurssiluettelo!$I$14)","v":""},{"$f":"IF(Y189=\"\",\"\",Resurssiluettelo!$J$14)","v":""},{"$f":"IF(Y189=\"\",\"\",Resurssiluettelo!$N$14)","v":""},{"$f":"IF(Y189=\"\",\"\",Resurssiluettelo!$O$14)","v":""},{"$f":"IF(Resurssiluettelo!B236=0,\"\",Resurssiluettelo!B236)","v":""},{"$f":"IF(Resurssiluettelo!C236=0,\"\",Resurssiluettelo!C236)","v":""},{"$f":"IF(Resurssiluettelo!D236=0,\"\",Resurssiluettelo!D236)","v":""},{"$f":"IF($J189=\"\",\"\",VLOOKUP($J189, Resurssiluettelo!$D$21:$X$40,Ohjeistus!K$98-1,FALSE))","v":""},{"$f":"IF($J189=\"\",\"\",VLOOKUP($J189, Resurssiluettelo!$D$21:$X$40,Ohjeistus!L$98-1,FALSE))","v":""},{"$f":"IF($J189=\"\",\"\",VLOOKUP($J189, Resurssiluettelo!$D$21:$X$40,Ohjeistus!M$98-1,FALSE))","v":""},{"$f":"IF($J189=\"\",\"\",VLOOKUP($J189, Resurssiluettelo!$D$21:$X$40,Ohjeistus!N$98-1,FALSE))","v":""},{"$f":"IF($J189=\"\",\"\",VLOOKUP($J189, Resurssiluettelo!$D$21:$X$40,Ohjeistus!O$98-1,FALSE))","v":""},{"$f":"IF($J189=\"\",\"\",VLOOKUP($J189, Resurssiluettelo!$D$21:$X$40,Ohjeistus!P$98-1,FALSE))","v":""},{"$f":"IF($J189=\"\",IF($I189=\"\",\"\",VLOOKUP($I189, Resurssiluettelo!$C$21:$X$40,Ohjeistus!Q$98,FALSE)),VLOOKUP($J189, Resurssiluettelo!$D$21:$X$40,Ohjeistus!Q$98-1,FALSE))","v":""},{"$f":"IF($J189=\"\",IF($I189=\"\",\"\",VLOOKUP($I189, Resurssiluettelo!$C$21:$X$40,Ohjeistus!R$98,FALSE)),VLOOKUP($J189, Resurssiluettelo!$D$21:$X$40,Ohjeistus!R$98-1,FALSE))","v":""},{"$f":"IF($J189=\"\",IF($I189=\"\",\"\",VLOOKUP($I189, Resurssiluettelo!$C$21:$X$40,Ohjeistus!S$98,FALSE)),VLOOKUP($J189, Resurssiluettelo!$D$21:$X$40,Ohjeistus!S$98-1,FALSE))","v":""},{"$f":"IF($J189=\"\",IF($I189=\"\",\"\",VLOOKUP($I189, Resurssiluettelo!$C$21:$X$40,Ohjeistus!T$98,FALSE)),VLOOKUP($J189, Resurssiluettelo!$D$21:$X$40,Ohjeistus!T$98-1,FALSE))","v":""},{"$f":"IF($J189=\"\",\"\",VLOOKUP($J189, Resurssiluettelo!$D$21:$X$40,Ohjeistus!U$98-1,FALSE))","v":""},{"$f":"IF($J189=\"\",\"\",VLOOKUP($J189, Resurssiluettelo!$D$21:$X$40,Ohjeistus!V$98-1,FALSE))","v":""},{"$f":"IF($J189=\"\",\"\",VLOOKUP($J189, Resurssiluettelo!$D$21:$X$40,Ohjeistus!W$98-1,FALSE))","v":""},{"$f":"IF($J189=\"\",\"\",VLOOKUP($J189, Resurssiluettelo!$D$21:$X$40,Ohjeistus!X$98-1,FALSE))","v":""},{"$f":"IF(Resurssiluettelo!E236=0,\"\",Resurssiluettelo!E236)","v":""},{"$f":"IF(Resurssiluettelo!F236=0,\"\",YEAR(Resurssiluettelo!F236)&IF(MONTH(Resurssiluettelo!F236)<10,\"0\",\"\")&MONTH(Resurssiluettelo!F236)&IF(DAY(Resurssiluettelo!F236)<10,\"0\",\"\")&DAY(Resurssiluettelo!F236))","v":""},{"$f":"IF(Resurssiluettelo!G236=0,\"\",Resurssiluettelo!G236)","v":""},{"$f":"IF(Resurssiluettelo!H236=0,\"\",Resurssiluettelo!H236)","v":""},{"$f":"IF(Resurssiluettelo!I236=0,\"\",Resurssiluettelo!I236)","v":""},{"$f":"IF(Resurssiluettelo!W236=0,\"\",Resurssiluettelo!W236)","v":""},{"$f":"IF(Resurssiluettelo!X236=0,\"\",Resurssiluettelo!X236)","v":""},{"$f":"IF(Resurssiluettelo!Y236=0,\"\",Resurssiluettelo!Y236)","v":""},{"$f":"IF(Resurssiluettelo!Z236=0,\"\",Resurssiluettelo!Z236)","v":""},{"$f":"IF(Resurssiluettelo!AA236=0,\"\",Resurssiluettelo!AA236)","v":""},{"$f":"IF(Resurssiluettelo!AB236=0,\"\",Resurssiluettelo!AB236)","v":""},{"$f":"IF(Resurssiluettelo!AC236=0,\"\",Resurssiluettelo!AC236)","v":""},{"$f":"IF(Resurssiluettelo!AD236=0,\"\",Resurssiluettelo!AD236)","v":""},{"$f":"IF(Resurssiluettelo!J236=0,\"\",Resurssiluettelo!J236)","v":""},{"$f":"IF(Resurssiluettelo!K236=0,\"\",Resurssiluettelo!K236)","v":""},{"$f":"IF(Resurssiluettelo!L236=0,\"\",Resurssiluettelo!L236)","v":""},{"$f":"IF(Resurssiluettelo!M236=0,\"\",Resurssiluettelo!M236)","v":""},{"$f":"IF(Resurssiluettelo!N236=0,\"\",Resurssiluettelo!N236)","v":""},{"$f":"IF(Resurssiluettelo!O236=0,\"\",Resurssiluettelo!O236)","v":""},{"$f":"IF(Resurssiluettelo!P236=0,\"\",Resurssiluettelo!P236)","v":""},{"$f":"IF(Resurssiluettelo!Q236=0,\"\",Resurssiluettelo!Q236)","v":""},{"$f":"IF(Resurssiluettelo!R236=0,\"\",Resurssiluettelo!R236)","v":""},{"$f":"IF(Resurssiluettelo!S236=0,\"\",Resurssiluettelo!S236)","v":""},{"$f":"IF(Resurssiluettelo!T236=0,\"\",Resurssiluettelo!T236)","v":""},{"$f":"IF(Resurssiluettelo!U236=0,\"\",Resurssiluettelo!U236)","v":""},{"$f":"IF(Resurssiluettelo!V236=0,\"\",Resurssiluettelo!V236)","v":""}]
[187,{"$f":"IF(Y190=\"\",\"\",Resurssiluettelo!$G$1)","v":""},{"$f":"IF(Y190=\"\",\"\",Resurssiluettelo!$H$14)","v":""},{"$f":"IF(Y190=\"\",\"\",Resurssiluettelo!$I$14)","v":""},{"$f":"IF(Y190=\"\",\"\",Resurssiluettelo!$J$14)","v":""},{"$f":"IF(Y190=\"\",\"\",Resurssiluettelo!$N$14)","v":""},{"$f":"IF(Y190=\"\",\"\",Resurssiluettelo!$O$14)","v":""},{"$f":"IF(Resurssiluettelo!B237=0,\"\",Resurssiluettelo!B237)","v":""},{"$f":"IF(Resurssiluettelo!C237=0,\"\",Resurssiluettelo!C237)","v":""},{"$f":"IF(Resurssiluettelo!D237=0,\"\",Resurssiluettelo!D237)","v":""},{"$f":"IF($J190=\"\",\"\",VLOOKUP($J190, Resurssiluettelo!$D$21:$X$40,Ohjeistus!K$98-1,FALSE))","v":""},{"$f":"IF($J190=\"\",\"\",VLOOKUP($J190, Resurssiluettelo!$D$21:$X$40,Ohjeistus!L$98-1,FALSE))","v":""},{"$f":"IF($J190=\"\",\"\",VLOOKUP($J190, Resurssiluettelo!$D$21:$X$40,Ohjeistus!M$98-1,FALSE))","v":""},{"$f":"IF($J190=\"\",\"\",VLOOKUP($J190, Resurssiluettelo!$D$21:$X$40,Ohjeistus!N$98-1,FALSE))","v":""},{"$f":"IF($J190=\"\",\"\",VLOOKUP($J190, Resurssiluettelo!$D$21:$X$40,Ohjeistus!O$98-1,FALSE))","v":""},{"$f":"IF($J190=\"\",\"\",VLOOKUP($J190, Resurssiluettelo!$D$21:$X$40,Ohjeistus!P$98-1,FALSE))","v":""},{"$f":"IF($J190=\"\",IF($I190=\"\",\"\",VLOOKUP($I190, Resurssiluettelo!$C$21:$X$40,Ohjeistus!Q$98,FALSE)),VLOOKUP($J190, Resurssiluettelo!$D$21:$X$40,Ohjeistus!Q$98-1,FALSE))","v":""},{"$f":"IF($J190=\"\",IF($I190=\"\",\"\",VLOOKUP($I190, Resurssiluettelo!$C$21:$X$40,Ohjeistus!R$98,FALSE)),VLOOKUP($J190, Resurssiluettelo!$D$21:$X$40,Ohjeistus!R$98-1,FALSE))","v":""},{"$f":"IF($J190=\"\",IF($I190=\"\",\"\",VLOOKUP($I190, Resurssiluettelo!$C$21:$X$40,Ohjeistus!S$98,FALSE)),VLOOKUP($J190, Resurssiluettelo!$D$21:$X$40,Ohjeistus!S$98-1,FALSE))","v":""},{"$f":"IF($J190=\"\",IF($I190=\"\",\"\",VLOOKUP($I190, Resurssiluettelo!$C$21:$X$40,Ohjeistus!T$98,FALSE)),VLOOKUP($J190, Resurssiluettelo!$D$21:$X$40,Ohjeistus!T$98-1,FALSE))","v":""},{"$f":"IF($J190=\"\",\"\",VLOOKUP($J190, Resurssiluettelo!$D$21:$X$40,Ohjeistus!U$98-1,FALSE))","v":""},{"$f":"IF($J190=\"\",\"\",VLOOKUP($J190, Resurssiluettelo!$D$21:$X$40,Ohjeistus!V$98-1,FALSE))","v":""},{"$f":"IF($J190=\"\",\"\",VLOOKUP($J190, Resurssiluettelo!$D$21:$X$40,Ohjeistus!W$98-1,FALSE))","v":""},{"$f":"IF($J190=\"\",\"\",VLOOKUP($J190, Resurssiluettelo!$D$21:$X$40,Ohjeistus!X$98-1,FALSE))","v":""},{"$f":"IF(Resurssiluettelo!E237=0,\"\",Resurssiluettelo!E237)","v":""},{"$f":"IF(Resurssiluettelo!F237=0,\"\",YEAR(Resurssiluettelo!F237)&IF(MONTH(Resurssiluettelo!F237)<10,\"0\",\"\")&MONTH(Resurssiluettelo!F237)&IF(DAY(Resurssiluettelo!F237)<10,\"0\",\"\")&DAY(Resurssiluettelo!F237))","v":""},{"$f":"IF(Resurssiluettelo!G237=0,\"\",Resurssiluettelo!G237)","v":""},{"$f":"IF(Resurssiluettelo!H237=0,\"\",Resurssiluettelo!H237)","v":""},{"$f":"IF(Resurssiluettelo!I237=0,\"\",Resurssiluettelo!I237)","v":""},{"$f":"IF(Resurssiluettelo!W237=0,\"\",Resurssiluettelo!W237)","v":""},{"$f":"IF(Resurssiluettelo!X237=0,\"\",Resurssiluettelo!X237)","v":""},{"$f":"IF(Resurssiluettelo!Y237=0,\"\",Resurssiluettelo!Y237)","v":""},{"$f":"IF(Resurssiluettelo!Z237=0,\"\",Resurssiluettelo!Z237)","v":""},{"$f":"IF(Resurssiluettelo!AA237=0,\"\",Resurssiluettelo!AA237)","v":""},{"$f":"IF(Resurssiluettelo!AB237=0,\"\",Resurssiluettelo!AB237)","v":""},{"$f":"IF(Resurssiluettelo!AC237=0,\"\",Resurssiluettelo!AC237)","v":""},{"$f":"IF(Resurssiluettelo!AD237=0,\"\",Resurssiluettelo!AD237)","v":""},{"$f":"IF(Resurssiluettelo!J237=0,\"\",Resurssiluettelo!J237)","v":""},{"$f":"IF(Resurssiluettelo!K237=0,\"\",Resurssiluettelo!K237)","v":""},{"$f":"IF(Resurssiluettelo!L237=0,\"\",Resurssiluettelo!L237)","v":""},{"$f":"IF(Resurssiluettelo!M237=0,\"\",Resurssiluettelo!M237)","v":""},{"$f":"IF(Resurssiluettelo!N237=0,\"\",Resurssiluettelo!N237)","v":""},{"$f":"IF(Resurssiluettelo!O237=0,\"\",Resurssiluettelo!O237)","v":""},{"$f":"IF(Resurssiluettelo!P237=0,\"\",Resurssiluettelo!P237)","v":""},{"$f":"IF(Resurssiluettelo!Q237=0,\"\",Resurssiluettelo!Q237)","v":""},{"$f":"IF(Resurssiluettelo!R237=0,\"\",Resurssiluettelo!R237)","v":""},{"$f":"IF(Resurssiluettelo!S237=0,\"\",Resurssiluettelo!S237)","v":""},{"$f":"IF(Resurssiluettelo!T237=0,\"\",Resurssiluettelo!T237)","v":""},{"$f":"IF(Resurssiluettelo!U237=0,\"\",Resurssiluettelo!U237)","v":""},{"$f":"IF(Resurssiluettelo!V237=0,\"\",Resurssiluettelo!V237)","v":""}]
[188,{"$f":"IF(Y191=\"\",\"\",Resurssiluettelo!$G$1)","v":""},{"$f":"IF(Y191=\"\",\"\",Resurssiluettelo!$H$14)","v":""},{"$f":"IF(Y191=\"\",\"\",Resurssiluettelo!$I$14)","v":""},{"$f":"IF(Y191=\"\",\"\",Resurssiluettelo!$J$14)","v":""},{"$f":"IF(Y191=\"\",\"\",Resurssiluettelo!$N$14)","v":""},{"$f":"IF(Y191=\"\",\"\",Resurssiluettelo!$O$14)","v":""},{"$f":"IF(Resurssiluettelo!B238=0,\"\",Resurssiluettelo!B238)","v":""},{"$f":"IF(Resurssiluettelo!C238=0,\"\",Resurssiluettelo!C238)","v":""},{"$f":"IF(Resurssiluettelo!D238=0,\"\",Resurssiluettelo!D238)","v":""},{"$f":"IF($J191=\"\",\"\",VLOOKUP($J191, Resurssiluettelo!$D$21:$X$40,Ohjeistus!K$98-1,FALSE))","v":""},{"$f":"IF($J191=\"\",\"\",VLOOKUP($J191, Resurssiluettelo!$D$21:$X$40,Ohjeistus!L$98-1,FALSE))","v":""},{"$f":"IF($J191=\"\",\"\",VLOOKUP($J191, Resurssiluettelo!$D$21:$X$40,Ohjeistus!M$98-1,FALSE))","v":""},{"$f":"IF($J191=\"\",\"\",VLOOKUP($J191, Resurssiluettelo!$D$21:$X$40,Ohjeistus!N$98-1,FALSE))","v":""},{"$f":"IF($J191=\"\",\"\",VLOOKUP($J191, Resurssiluettelo!$D$21:$X$40,Ohjeistus!O$98-1,FALSE))","v":""},{"$f":"IF($J191=\"\",\"\",VLOOKUP($J191, Resurssiluettelo!$D$21:$X$40,Ohjeistus!P$98-1,FALSE))","v":""},{"$f":"IF($J191=\"\",IF($I191=\"\",\"\",VLOOKUP($I191, Resurssiluettelo!$C$21:$X$40,Ohjeistus!Q$98,FALSE)),VLOOKUP($J191, Resurssiluettelo!$D$21:$X$40,Ohjeistus!Q$98-1,FALSE))","v":""},{"$f":"IF($J191=\"\",IF($I191=\"\",\"\",VLOOKUP($I191, Resurssiluettelo!$C$21:$X$40,Ohjeistus!R$98,FALSE)),VLOOKUP($J191, Resurssiluettelo!$D$21:$X$40,Ohjeistus!R$98-1,FALSE))","v":""},{"$f":"IF($J191=\"\",IF($I191=\"\",\"\",VLOOKUP($I191, Resurssiluettelo!$C$21:$X$40,Ohjeistus!S$98,FALSE)),VLOOKUP($J191, Resurssiluettelo!$D$21:$X$40,Ohjeistus!S$98-1,FALSE))","v":""},{"$f":"IF($J191=\"\",IF($I191=\"\",\"\",VLOOKUP($I191, Resurssiluettelo!$C$21:$X$40,Ohjeistus!T$98,FALSE)),VLOOKUP($J191, Resurssiluettelo!$D$21:$X$40,Ohjeistus!T$98-1,FALSE))","v":""},{"$f":"IF($J191=\"\",\"\",VLOOKUP($J191, Resurssiluettelo!$D$21:$X$40,Ohjeistus!U$98-1,FALSE))","v":""},{"$f":"IF($J191=\"\",\"\",VLOOKUP($J191, Resurssiluettelo!$D$21:$X$40,Ohjeistus!V$98-1,FALSE))","v":""},{"$f":"IF($J191=\"\",\"\",VLOOKUP($J191, Resurssiluettelo!$D$21:$X$40,Ohjeistus!W$98-1,FALSE))","v":""},{"$f":"IF($J191=\"\",\"\",VLOOKUP($J191, Resurssiluettelo!$D$21:$X$40,Ohjeistus!X$98-1,FALSE))","v":""},{"$f":"IF(Resurssiluettelo!E238=0,\"\",Resurssiluettelo!E238)","v":""},{"$f":"IF(Resurssiluettelo!F238=0,\"\",YEAR(Resurssiluettelo!F238)&IF(MONTH(Resurssiluettelo!F238)<10,\"0\",\"\")&MONTH(Resurssiluettelo!F238)&IF(DAY(Resurssiluettelo!F238)<10,\"0\",\"\")&DAY(Resurssiluettelo!F238))","v":""},{"$f":"IF(Resurssiluettelo!G238=0,\"\",Resurssiluettelo!G238)","v":""},{"$f":"IF(Resurssiluettelo!H238=0,\"\",Resurssiluettelo!H238)","v":""},{"$f":"IF(Resurssiluettelo!I238=0,\"\",Resurssiluettelo!I238)","v":""},{"$f":"IF(Resurssiluettelo!W238=0,\"\",Resurssiluettelo!W238)","v":""},{"$f":"IF(Resurssiluettelo!X238=0,\"\",Resurssiluettelo!X238)","v":""},{"$f":"IF(Resurssiluettelo!Y238=0,\"\",Resurssiluettelo!Y238)","v":""},{"$f":"IF(Resurssiluettelo!Z238=0,\"\",Resurssiluettelo!Z238)","v":""},{"$f":"IF(Resurssiluettelo!AA238=0,\"\",Resurssiluettelo!AA238)","v":""},{"$f":"IF(Resurssiluettelo!AB238=0,\"\",Resurssiluettelo!AB238)","v":""},{"$f":"IF(Resurssiluettelo!AC238=0,\"\",Resurssiluettelo!AC238)","v":""},{"$f":"IF(Resurssiluettelo!AD238=0,\"\",Resurssiluettelo!AD238)","v":""},{"$f":"IF(Resurssiluettelo!J238=0,\"\",Resurssiluettelo!J238)","v":""},{"$f":"IF(Resurssiluettelo!K238=0,\"\",Resurssiluettelo!K238)","v":""},{"$f":"IF(Resurssiluettelo!L238=0,\"\",Resurssiluettelo!L238)","v":""},{"$f":"IF(Resurssiluettelo!M238=0,\"\",Resurssiluettelo!M238)","v":""},{"$f":"IF(Resurssiluettelo!N238=0,\"\",Resurssiluettelo!N238)","v":""},{"$f":"IF(Resurssiluettelo!O238=0,\"\",Resurssiluettelo!O238)","v":""},{"$f":"IF(Resurssiluettelo!P238=0,\"\",Resurssiluettelo!P238)","v":""},{"$f":"IF(Resurssiluettelo!Q238=0,\"\",Resurssiluettelo!Q238)","v":""},{"$f":"IF(Resurssiluettelo!R238=0,\"\",Resurssiluettelo!R238)","v":""},{"$f":"IF(Resurssiluettelo!S238=0,\"\",Resurssiluettelo!S238)","v":""},{"$f":"IF(Resurssiluettelo!T238=0,\"\",Resurssiluettelo!T238)","v":""},{"$f":"IF(Resurssiluettelo!U238=0,\"\",Resurssiluettelo!U238)","v":""},{"$f":"IF(Resurssiluettelo!V238=0,\"\",Resurssiluettelo!V238)","v":""}]
[189,{"$f":"IF(Y192=\"\",\"\",Resurssiluettelo!$G$1)","v":""},{"$f":"IF(Y192=\"\",\"\",Resurssiluettelo!$H$14)","v":""},{"$f":"IF(Y192=\"\",\"\",Resurssiluettelo!$I$14)","v":""},{"$f":"IF(Y192=\"\",\"\",Resurssiluettelo!$J$14)","v":""},{"$f":"IF(Y192=\"\",\"\",Resurssiluettelo!$N$14)","v":""},{"$f":"IF(Y192=\"\",\"\",Resurssiluettelo!$O$14)","v":""},{"$f":"IF(Resurssiluettelo!B239=0,\"\",Resurssiluettelo!B239)","v":""},{"$f":"IF(Resurssiluettelo!C239=0,\"\",Resurssiluettelo!C239)","v":""},{"$f":"IF(Resurssiluettelo!D239=0,\"\",Resurssiluettelo!D239)","v":""},{"$f":"IF($J192=\"\",\"\",VLOOKUP($J192, Resurssiluettelo!$D$21:$X$40,Ohjeistus!K$98-1,FALSE))","v":""},{"$f":"IF($J192=\"\",\"\",VLOOKUP($J192, Resurssiluettelo!$D$21:$X$40,Ohjeistus!L$98-1,FALSE))","v":""},{"$f":"IF($J192=\"\",\"\",VLOOKUP($J192, Resurssiluettelo!$D$21:$X$40,Ohjeistus!M$98-1,FALSE))","v":""},{"$f":"IF($J192=\"\",\"\",VLOOKUP($J192, Resurssiluettelo!$D$21:$X$40,Ohjeistus!N$98-1,FALSE))","v":""},{"$f":"IF($J192=\"\",\"\",VLOOKUP($J192, Resurssiluettelo!$D$21:$X$40,Ohjeistus!O$98-1,FALSE))","v":""},{"$f":"IF($J192=\"\",\"\",VLOOKUP($J192, Resurssiluettelo!$D$21:$X$40,Ohjeistus!P$98-1,FALSE))","v":""},{"$f":"IF($J192=\"\",IF($I192=\"\",\"\",VLOOKUP($I192, Resurssiluettelo!$C$21:$X$40,Ohjeistus!Q$98,FALSE)),VLOOKUP($J192, Resurssiluettelo!$D$21:$X$40,Ohjeistus!Q$98-1,FALSE))","v":""},{"$f":"IF($J192=\"\",IF($I192=\"\",\"\",VLOOKUP($I192, Resurssiluettelo!$C$21:$X$40,Ohjeistus!R$98,FALSE)),VLOOKUP($J192, Resurssiluettelo!$D$21:$X$40,Ohjeistus!R$98-1,FALSE))","v":""},{"$f":"IF($J192=\"\",IF($I192=\"\",\"\",VLOOKUP($I192, Resurssiluettelo!$C$21:$X$40,Ohjeistus!S$98,FALSE)),VLOOKUP($J192, Resurssiluettelo!$D$21:$X$40,Ohjeistus!S$98-1,FALSE))","v":""},{"$f":"IF($J192=\"\",IF($I192=\"\",\"\",VLOOKUP($I192, Resurssiluettelo!$C$21:$X$40,Ohjeistus!T$98,FALSE)),VLOOKUP($J192, Resurssiluettelo!$D$21:$X$40,Ohjeistus!T$98-1,FALSE))","v":""},{"$f":"IF($J192=\"\",\"\",VLOOKUP($J192, Resurssiluettelo!$D$21:$X$40,Ohjeistus!U$98-1,FALSE))","v":""},{"$f":"IF($J192=\"\",\"\",VLOOKUP($J192, Resurssiluettelo!$D$21:$X$40,Ohjeistus!V$98-1,FALSE))","v":""},{"$f":"IF($J192=\"\",\"\",VLOOKUP($J192, Resurssiluettelo!$D$21:$X$40,Ohjeistus!W$98-1,FALSE))","v":""},{"$f":"IF($J192=\"\",\"\",VLOOKUP($J192, Resurssiluettelo!$D$21:$X$40,Ohjeistus!X$98-1,FALSE))","v":""},{"$f":"IF(Resurssiluettelo!E239=0,\"\",Resurssiluettelo!E239)","v":""},{"$f":"IF(Resurssiluettelo!F239=0,\"\",YEAR(Resurssiluettelo!F239)&IF(MONTH(Resurssiluettelo!F239)<10,\"0\",\"\")&MONTH(Resurssiluettelo!F239)&IF(DAY(Resurssiluettelo!F239)<10,\"0\",\"\")&DAY(Resurssiluettelo!F239))","v":""},{"$f":"IF(Resurssiluettelo!G239=0,\"\",Resurssiluettelo!G239)","v":""},{"$f":"IF(Resurssiluettelo!H239=0,\"\",Resurssiluettelo!H239)","v":""},{"$f":"IF(Resurssiluettelo!I239=0,\"\",Resurssiluettelo!I239)","v":""},{"$f":"IF(Resurssiluettelo!W239=0,\"\",Resurssiluettelo!W239)","v":""},{"$f":"IF(Resurssiluettelo!X239=0,\"\",Resurssiluettelo!X239)","v":""},{"$f":"IF(Resurssiluettelo!Y239=0,\"\",Resurssiluettelo!Y239)","v":""},{"$f":"IF(Resurssiluettelo!Z239=0,\"\",Resurssiluettelo!Z239)","v":""},{"$f":"IF(Resurssiluettelo!AA239=0,\"\",Resurssiluettelo!AA239)","v":""},{"$f":"IF(Resurssiluettelo!AB239=0,\"\",Resurssiluettelo!AB239)","v":""},{"$f":"IF(Resurssiluettelo!AC239=0,\"\",Resurssiluettelo!AC239)","v":""},{"$f":"IF(Resurssiluettelo!AD239=0,\"\",Resurssiluettelo!AD239)","v":""},{"$f":"IF(Resurssiluettelo!J239=0,\"\",Resurssiluettelo!J239)","v":""},{"$f":"IF(Resurssiluettelo!K239=0,\"\",Resurssiluettelo!K239)","v":""},{"$f":"IF(Resurssiluettelo!L239=0,\"\",Resurssiluettelo!L239)","v":""},{"$f":"IF(Resurssiluettelo!M239=0,\"\",Resurssiluettelo!M239)","v":""},{"$f":"IF(Resurssiluettelo!N239=0,\"\",Resurssiluettelo!N239)","v":""},{"$f":"IF(Resurssiluettelo!O239=0,\"\",Resurssiluettelo!O239)","v":""},{"$f":"IF(Resurssiluettelo!P239=0,\"\",Resurssiluettelo!P239)","v":""},{"$f":"IF(Resurssiluettelo!Q239=0,\"\",Resurssiluettelo!Q239)","v":""},{"$f":"IF(Resurssiluettelo!R239=0,\"\",Resurssiluettelo!R239)","v":""},{"$f":"IF(Resurssiluettelo!S239=0,\"\",Resurssiluettelo!S239)","v":""},{"$f":"IF(Resurssiluettelo!T239=0,\"\",Resurssiluettelo!T239)","v":""},{"$f":"IF(Resurssiluettelo!U239=0,\"\",Resurssiluettelo!U239)","v":""},{"$f":"IF(Resurssiluettelo!V239=0,\"\",Resurssiluettelo!V239)","v":""}]
[190,{"$f":"IF(Y193=\"\",\"\",Resurssiluettelo!$G$1)","v":""},{"$f":"IF(Y193=\"\",\"\",Resurssiluettelo!$H$14)","v":""},{"$f":"IF(Y193=\"\",\"\",Resurssiluettelo!$I$14)","v":""},{"$f":"IF(Y193=\"\",\"\",Resurssiluettelo!$J$14)","v":""},{"$f":"IF(Y193=\"\",\"\",Resurssiluettelo!$N$14)","v":""},{"$f":"IF(Y193=\"\",\"\",Resurssiluettelo!$O$14)","v":""},{"$f":"IF(Resurssiluettelo!B240=0,\"\",Resurssiluettelo!B240)","v":""},{"$f":"IF(Resurssiluettelo!C240=0,\"\",Resurssiluettelo!C240)","v":""},{"$f":"IF(Resurssiluettelo!D240=0,\"\",Resurssiluettelo!D240)","v":""},{"$f":"IF($J193=\"\",\"\",VLOOKUP($J193, Resurssiluettelo!$D$21:$X$40,Ohjeistus!K$98-1,FALSE))","v":""},{"$f":"IF($J193=\"\",\"\",VLOOKUP($J193, Resurssiluettelo!$D$21:$X$40,Ohjeistus!L$98-1,FALSE))","v":""},{"$f":"IF($J193=\"\",\"\",VLOOKUP($J193, Resurssiluettelo!$D$21:$X$40,Ohjeistus!M$98-1,FALSE))","v":""},{"$f":"IF($J193=\"\",\"\",VLOOKUP($J193, Resurssiluettelo!$D$21:$X$40,Ohjeistus!N$98-1,FALSE))","v":""},{"$f":"IF($J193=\"\",\"\",VLOOKUP($J193, Resurssiluettelo!$D$21:$X$40,Ohjeistus!O$98-1,FALSE))","v":""},{"$f":"IF($J193=\"\",\"\",VLOOKUP($J193, Resurssiluettelo!$D$21:$X$40,Ohjeistus!P$98-1,FALSE))","v":""},{"$f":"IF($J193=\"\",IF($I193=\"\",\"\",VLOOKUP($I193, Resurssiluettelo!$C$21:$X$40,Ohjeistus!Q$98,FALSE)),VLOOKUP($J193, Resurssiluettelo!$D$21:$X$40,Ohjeistus!Q$98-1,FALSE))","v":""},{"$f":"IF($J193=\"\",IF($I193=\"\",\"\",VLOOKUP($I193, Resurssiluettelo!$C$21:$X$40,Ohjeistus!R$98,FALSE)),VLOOKUP($J193, Resurssiluettelo!$D$21:$X$40,Ohjeistus!R$98-1,FALSE))","v":""},{"$f":"IF($J193=\"\",IF($I193=\"\",\"\",VLOOKUP($I193, Resurssiluettelo!$C$21:$X$40,Ohjeistus!S$98,FALSE)),VLOOKUP($J193, Resurssiluettelo!$D$21:$X$40,Ohjeistus!S$98-1,FALSE))","v":""},{"$f":"IF($J193=\"\",IF($I193=\"\",\"\",VLOOKUP($I193, Resurssiluettelo!$C$21:$X$40,Ohjeistus!T$98,FALSE)),VLOOKUP($J193, Resurssiluettelo!$D$21:$X$40,Ohjeistus!T$98-1,FALSE))","v":""},{"$f":"IF($J193=\"\",\"\",VLOOKUP($J193, Resurssiluettelo!$D$21:$X$40,Ohjeistus!U$98-1,FALSE))","v":""},{"$f":"IF($J193=\"\",\"\",VLOOKUP($J193, Resurssiluettelo!$D$21:$X$40,Ohjeistus!V$98-1,FALSE))","v":""},{"$f":"IF($J193=\"\",\"\",VLOOKUP($J193, Resurssiluettelo!$D$21:$X$40,Ohjeistus!W$98-1,FALSE))","v":""},{"$f":"IF($J193=\"\",\"\",VLOOKUP($J193, Resurssiluettelo!$D$21:$X$40,Ohjeistus!X$98-1,FALSE))","v":""},{"$f":"IF(Resurssiluettelo!E240=0,\"\",Resurssiluettelo!E240)","v":""},{"$f":"IF(Resurssiluettelo!F240=0,\"\",YEAR(Resurssiluettelo!F240)&IF(MONTH(Resurssiluettelo!F240)<10,\"0\",\"\")&MONTH(Resurssiluettelo!F240)&IF(DAY(Resurssiluettelo!F240)<10,\"0\",\"\")&DAY(Resurssiluettelo!F240))","v":""},{"$f":"IF(Resurssiluettelo!G240=0,\"\",Resurssiluettelo!G240)","v":""},{"$f":"IF(Resurssiluettelo!H240=0,\"\",Resurssiluettelo!H240)","v":""},{"$f":"IF(Resurssiluettelo!I240=0,\"\",Resurssiluettelo!I240)","v":""},{"$f":"IF(Resurssiluettelo!W240=0,\"\",Resurssiluettelo!W240)","v":""},{"$f":"IF(Resurssiluettelo!X240=0,\"\",Resurssiluettelo!X240)","v":""},{"$f":"IF(Resurssiluettelo!Y240=0,\"\",Resurssiluettelo!Y240)","v":""},{"$f":"IF(Resurssiluettelo!Z240=0,\"\",Resurssiluettelo!Z240)","v":""},{"$f":"IF(Resurssiluettelo!AA240=0,\"\",Resurssiluettelo!AA240)","v":""},{"$f":"IF(Resurssiluettelo!AB240=0,\"\",Resurssiluettelo!AB240)","v":""},{"$f":"IF(Resurssiluettelo!AC240=0,\"\",Resurssiluettelo!AC240)","v":""},{"$f":"IF(Resurssiluettelo!AD240=0,\"\",Resurssiluettelo!AD240)","v":""},{"$f":"IF(Resurssiluettelo!J240=0,\"\",Resurssiluettelo!J240)","v":""},{"$f":"IF(Resurssiluettelo!K240=0,\"\",Resurssiluettelo!K240)","v":""},{"$f":"IF(Resurssiluettelo!L240=0,\"\",Resurssiluettelo!L240)","v":""},{"$f":"IF(Resurssiluettelo!M240=0,\"\",Resurssiluettelo!M240)","v":""},{"$f":"IF(Resurssiluettelo!N240=0,\"\",Resurssiluettelo!N240)","v":""},{"$f":"IF(Resurssiluettelo!O240=0,\"\",Resurssiluettelo!O240)","v":""},{"$f":"IF(Resurssiluettelo!P240=0,\"\",Resurssiluettelo!P240)","v":""},{"$f":"IF(Resurssiluettelo!Q240=0,\"\",Resurssiluettelo!Q240)","v":""},{"$f":"IF(Resurssiluettelo!R240=0,\"\",Resurssiluettelo!R240)","v":""},{"$f":"IF(Resurssiluettelo!S240=0,\"\",Resurssiluettelo!S240)","v":""},{"$f":"IF(Resurssiluettelo!T240=0,\"\",Resurssiluettelo!T240)","v":""},{"$f":"IF(Resurssiluettelo!U240=0,\"\",Resurssiluettelo!U240)","v":""},{"$f":"IF(Resurssiluettelo!V240=0,\"\",Resurssiluettelo!V240)","v":""}]
[191,{"$f":"IF(Y194=\"\",\"\",Resurssiluettelo!$G$1)","v":""},{"$f":"IF(Y194=\"\",\"\",Resurssiluettelo!$H$14)","v":""},{"$f":"IF(Y194=\"\",\"\",Resurssiluettelo!$I$14)","v":""},{"$f":"IF(Y194=\"\",\"\",Resurssiluettelo!$J$14)","v":""},{"$f":"IF(Y194=\"\",\"\",Resurssiluettelo!$N$14)","v":""},{"$f":"IF(Y194=\"\",\"\",Resurssiluettelo!$O$14)","v":""},{"$f":"IF(Resurssiluettelo!B241=0,\"\",Resurssiluettelo!B241)","v":""},{"$f":"IF(Resurssiluettelo!C241=0,\"\",Resurssiluettelo!C241)","v":""},{"$f":"IF(Resurssiluettelo!D241=0,\"\",Resurssiluettelo!D241)","v":""},{"$f":"IF($J194=\"\",\"\",VLOOKUP($J194, Resurssiluettelo!$D$21:$X$40,Ohjeistus!K$98-1,FALSE))","v":""},{"$f":"IF($J194=\"\",\"\",VLOOKUP($J194, Resurssiluettelo!$D$21:$X$40,Ohjeistus!L$98-1,FALSE))","v":""},{"$f":"IF($J194=\"\",\"\",VLOOKUP($J194, Resurssiluettelo!$D$21:$X$40,Ohjeistus!M$98-1,FALSE))","v":""},{"$f":"IF($J194=\"\",\"\",VLOOKUP($J194, Resurssiluettelo!$D$21:$X$40,Ohjeistus!N$98-1,FALSE))","v":""},{"$f":"IF($J194=\"\",\"\",VLOOKUP($J194, Resurssiluettelo!$D$21:$X$40,Ohjeistus!O$98-1,FALSE))","v":""},{"$f":"IF($J194=\"\",\"\",VLOOKUP($J194, Resurssiluettelo!$D$21:$X$40,Ohjeistus!P$98-1,FALSE))","v":""},{"$f":"IF($J194=\"\",IF($I194=\"\",\"\",VLOOKUP($I194, Resurssiluettelo!$C$21:$X$40,Ohjeistus!Q$98,FALSE)),VLOOKUP($J194, Resurssiluettelo!$D$21:$X$40,Ohjeistus!Q$98-1,FALSE))","v":""},{"$f":"IF($J194=\"\",IF($I194=\"\",\"\",VLOOKUP($I194, Resurssiluettelo!$C$21:$X$40,Ohjeistus!R$98,FALSE)),VLOOKUP($J194, Resurssiluettelo!$D$21:$X$40,Ohjeistus!R$98-1,FALSE))","v":""},{"$f":"IF($J194=\"\",IF($I194=\"\",\"\",VLOOKUP($I194, Resurssiluettelo!$C$21:$X$40,Ohjeistus!S$98,FALSE)),VLOOKUP($J194, Resurssiluettelo!$D$21:$X$40,Ohjeistus!S$98-1,FALSE))","v":""},{"$f":"IF($J194=\"\",IF($I194=\"\",\"\",VLOOKUP($I194, Resurssiluettelo!$C$21:$X$40,Ohjeistus!T$98,FALSE)),VLOOKUP($J194, Resurssiluettelo!$D$21:$X$40,Ohjeistus!T$98-1,FALSE))","v":""},{"$f":"IF($J194=\"\",\"\",VLOOKUP($J194, Resurssiluettelo!$D$21:$X$40,Ohjeistus!U$98-1,FALSE))","v":""},{"$f":"IF($J194=\"\",\"\",VLOOKUP($J194, Resurssiluettelo!$D$21:$X$40,Ohjeistus!V$98-1,FALSE))","v":""},{"$f":"IF($J194=\"\",\"\",VLOOKUP($J194, Resurssiluettelo!$D$21:$X$40,Ohjeistus!W$98-1,FALSE))","v":""},{"$f":"IF($J194=\"\",\"\",VLOOKUP($J194, Resurssiluettelo!$D$21:$X$40,Ohjeistus!X$98-1,FALSE))","v":""},{"$f":"IF(Resurssiluettelo!E241=0,\"\",Resurssiluettelo!E241)","v":""},{"$f":"IF(Resurssiluettelo!F241=0,\"\",YEAR(Resurssiluettelo!F241)&IF(MONTH(Resurssiluettelo!F241)<10,\"0\",\"\")&MONTH(Resurssiluettelo!F241)&IF(DAY(Resurssiluettelo!F241)<10,\"0\",\"\")&DAY(Resurssiluettelo!F241))","v":""},{"$f":"IF(Resurssiluettelo!G241=0,\"\",Resurssiluettelo!G241)","v":""},{"$f":"IF(Resurssiluettelo!H241=0,\"\",Resurssiluettelo!H241)","v":""},{"$f":"IF(Resurssiluettelo!I241=0,\"\",Resurssiluettelo!I241)","v":""},{"$f":"IF(Resurssiluettelo!W241=0,\"\",Resurssiluettelo!W241)","v":""},{"$f":"IF(Resurssiluettelo!X241=0,\"\",Resurssiluettelo!X241)","v":""},{"$f":"IF(Resurssiluettelo!Y241=0,\"\",Resurssiluettelo!Y241)","v":""},{"$f":"IF(Resurssiluettelo!Z241=0,\"\",Resurssiluettelo!Z241)","v":""},{"$f":"IF(Resurssiluettelo!AA241=0,\"\",Resurssiluettelo!AA241)","v":""},{"$f":"IF(Resurssiluettelo!AB241=0,\"\",Resurssiluettelo!AB241)","v":""},{"$f":"IF(Resurssiluettelo!AC241=0,\"\",Resurssiluettelo!AC241)","v":""},{"$f":"IF(Resurssiluettelo!AD241=0,\"\",Resurssiluettelo!AD241)","v":""},{"$f":"IF(Resurssiluettelo!J241=0,\"\",Resurssiluettelo!J241)","v":""},{"$f":"IF(Resurssiluettelo!K241=0,\"\",Resurssiluettelo!K241)","v":""},{"$f":"IF(Resurssiluettelo!L241=0,\"\",Resurssiluettelo!L241)","v":""},{"$f":"IF(Resurssiluettelo!M241=0,\"\",Resurssiluettelo!M241)","v":""},{"$f":"IF(Resurssiluettelo!N241=0,\"\",Resurssiluettelo!N241)","v":""},{"$f":"IF(Resurssiluettelo!O241=0,\"\",Resurssiluettelo!O241)","v":""},{"$f":"IF(Resurssiluettelo!P241=0,\"\",Resurssiluettelo!P241)","v":""},{"$f":"IF(Resurssiluettelo!Q241=0,\"\",Resurssiluettelo!Q241)","v":""},{"$f":"IF(Resurssiluettelo!R241=0,\"\",Resurssiluettelo!R241)","v":""},{"$f":"IF(Resurssiluettelo!S241=0,\"\",Resurssiluettelo!S241)","v":""},{"$f":"IF(Resurssiluettelo!T241=0,\"\",Resurssiluettelo!T241)","v":""},{"$f":"IF(Resurssiluettelo!U241=0,\"\",Resurssiluettelo!U241)","v":""},{"$f":"IF(Resurssiluettelo!V241=0,\"\",Resurssiluettelo!V241)","v":""}]
[192,{"$f":"IF(Y195=\"\",\"\",Resurssiluettelo!$G$1)","v":""},{"$f":"IF(Y195=\"\",\"\",Resurssiluettelo!$H$14)","v":""},{"$f":"IF(Y195=\"\",\"\",Resurssiluettelo!$I$14)","v":""},{"$f":"IF(Y195=\"\",\"\",Resurssiluettelo!$J$14)","v":""},{"$f":"IF(Y195=\"\",\"\",Resurssiluettelo!$N$14)","v":""},{"$f":"IF(Y195=\"\",\"\",Resurssiluettelo!$O$14)","v":""},{"$f":"IF(Resurssiluettelo!B242=0,\"\",Resurssiluettelo!B242)","v":""},{"$f":"IF(Resurssiluettelo!C242=0,\"\",Resurssiluettelo!C242)","v":""},{"$f":"IF(Resurssiluettelo!D242=0,\"\",Resurssiluettelo!D242)","v":""},{"$f":"IF($J195=\"\",\"\",VLOOKUP($J195, Resurssiluettelo!$D$21:$X$40,Ohjeistus!K$98-1,FALSE))","v":""},{"$f":"IF($J195=\"\",\"\",VLOOKUP($J195, Resurssiluettelo!$D$21:$X$40,Ohjeistus!L$98-1,FALSE))","v":""},{"$f":"IF($J195=\"\",\"\",VLOOKUP($J195, Resurssiluettelo!$D$21:$X$40,Ohjeistus!M$98-1,FALSE))","v":""},{"$f":"IF($J195=\"\",\"\",VLOOKUP($J195, Resurssiluettelo!$D$21:$X$40,Ohjeistus!N$98-1,FALSE))","v":""},{"$f":"IF($J195=\"\",\"\",VLOOKUP($J195, Resurssiluettelo!$D$21:$X$40,Ohjeistus!O$98-1,FALSE))","v":""},{"$f":"IF($J195=\"\",\"\",VLOOKUP($J195, Resurssiluettelo!$D$21:$X$40,Ohjeistus!P$98-1,FALSE))","v":""},{"$f":"IF($J195=\"\",IF($I195=\"\",\"\",VLOOKUP($I195, Resurssiluettelo!$C$21:$X$40,Ohjeistus!Q$98,FALSE)),VLOOKUP($J195, Resurssiluettelo!$D$21:$X$40,Ohjeistus!Q$98-1,FALSE))","v":""},{"$f":"IF($J195=\"\",IF($I195=\"\",\"\",VLOOKUP($I195, Resurssiluettelo!$C$21:$X$40,Ohjeistus!R$98,FALSE)),VLOOKUP($J195, Resurssiluettelo!$D$21:$X$40,Ohjeistus!R$98-1,FALSE))","v":""},{"$f":"IF($J195=\"\",IF($I195=\"\",\"\",VLOOKUP($I195, Resurssiluettelo!$C$21:$X$40,Ohjeistus!S$98,FALSE)),VLOOKUP($J195, Resurssiluettelo!$D$21:$X$40,Ohjeistus!S$98-1,FALSE))","v":""},{"$f":"IF($J195=\"\",IF($I195=\"\",\"\",VLOOKUP($I195, Resurssiluettelo!$C$21:$X$40,Ohjeistus!T$98,FALSE)),VLOOKUP($J195, Resurssiluettelo!$D$21:$X$40,Ohjeistus!T$98-1,FALSE))","v":""},{"$f":"IF($J195=\"\",\"\",VLOOKUP($J195, Resurssiluettelo!$D$21:$X$40,Ohjeistus!U$98-1,FALSE))","v":""},{"$f":"IF($J195=\"\",\"\",VLOOKUP($J195, Resurssiluettelo!$D$21:$X$40,Ohjeistus!V$98-1,FALSE))","v":""},{"$f":"IF($J195=\"\",\"\",VLOOKUP($J195, Resurssiluettelo!$D$21:$X$40,Ohjeistus!W$98-1,FALSE))","v":""},{"$f":"IF($J195=\"\",\"\",VLOOKUP($J195, Resurssiluettelo!$D$21:$X$40,Ohjeistus!X$98-1,FALSE))","v":""},{"$f":"IF(Resurssiluettelo!E242=0,\"\",Resurssiluettelo!E242)","v":""},{"$f":"IF(Resurssiluettelo!F242=0,\"\",YEAR(Resurssiluettelo!F242)&IF(MONTH(Resurssiluettelo!F242)<10,\"0\",\"\")&MONTH(Resurssiluettelo!F242)&IF(DAY(Resurssiluettelo!F242)<10,\"0\",\"\")&DAY(Resurssiluettelo!F242))","v":""},{"$f":"IF(Resurssiluettelo!G242=0,\"\",Resurssiluettelo!G242)","v":""},{"$f":"IF(Resurssiluettelo!H242=0,\"\",Resurssiluettelo!H242)","v":""},{"$f":"IF(Resurssiluettelo!I242=0,\"\",Resurssiluettelo!I242)","v":""},{"$f":"IF(Resurssiluettelo!W242=0,\"\",Resurssiluettelo!W242)","v":""},{"$f":"IF(Resurssiluettelo!X242=0,\"\",Resurssiluettelo!X242)","v":""},{"$f":"IF(Resurssiluettelo!Y242=0,\"\",Resurssiluettelo!Y242)","v":""},{"$f":"IF(Resurssiluettelo!Z242=0,\"\",Resurssiluettelo!Z242)","v":""},{"$f":"IF(Resurssiluettelo!AA242=0,\"\",Resurssiluettelo!AA242)","v":""},{"$f":"IF(Resurssiluettelo!AB242=0,\"\",Resurssiluettelo!AB242)","v":""},{"$f":"IF(Resurssiluettelo!AC242=0,\"\",Resurssiluettelo!AC242)","v":""},{"$f":"IF(Resurssiluettelo!AD242=0,\"\",Resurssiluettelo!AD242)","v":""},{"$f":"IF(Resurssiluettelo!J242=0,\"\",Resurssiluettelo!J242)","v":""},{"$f":"IF(Resurssiluettelo!K242=0,\"\",Resurssiluettelo!K242)","v":""},{"$f":"IF(Resurssiluettelo!L242=0,\"\",Resurssiluettelo!L242)","v":""},{"$f":"IF(Resurssiluettelo!M242=0,\"\",Resurssiluettelo!M242)","v":""},{"$f":"IF(Resurssiluettelo!N242=0,\"\",Resurssiluettelo!N242)","v":""},{"$f":"IF(Resurssiluettelo!O242=0,\"\",Resurssiluettelo!O242)","v":""},{"$f":"IF(Resurssiluettelo!P242=0,\"\",Resurssiluettelo!P242)","v":""},{"$f":"IF(Resurssiluettelo!Q242=0,\"\",Resurssiluettelo!Q242)","v":""},{"$f":"IF(Resurssiluettelo!R242=0,\"\",Resurssiluettelo!R242)","v":""},{"$f":"IF(Resurssiluettelo!S242=0,\"\",Resurssiluettelo!S242)","v":""},{"$f":"IF(Resurssiluettelo!T242=0,\"\",Resurssiluettelo!T242)","v":""},{"$f":"IF(Resurssiluettelo!U242=0,\"\",Resurssiluettelo!U242)","v":""},{"$f":"IF(Resurssiluettelo!V242=0,\"\",Resurssiluettelo!V242)","v":""}]
[193,{"$f":"IF(Y196=\"\",\"\",Resurssiluettelo!$G$1)","v":""},{"$f":"IF(Y196=\"\",\"\",Resurssiluettelo!$H$14)","v":""},{"$f":"IF(Y196=\"\",\"\",Resurssiluettelo!$I$14)","v":""},{"$f":"IF(Y196=\"\",\"\",Resurssiluettelo!$J$14)","v":""},{"$f":"IF(Y196=\"\",\"\",Resurssiluettelo!$N$14)","v":""},{"$f":"IF(Y196=\"\",\"\",Resurssiluettelo!$O$14)","v":""},{"$f":"IF(Resurssiluettelo!B243=0,\"\",Resurssiluettelo!B243)","v":""},{"$f":"IF(Resurssiluettelo!C243=0,\"\",Resurssiluettelo!C243)","v":""},{"$f":"IF(Resurssiluettelo!D243=0,\"\",Resurssiluettelo!D243)","v":""},{"$f":"IF($J196=\"\",\"\",VLOOKUP($J196, Resurssiluettelo!$D$21:$X$40,Ohjeistus!K$98-1,FALSE))","v":""},{"$f":"IF($J196=\"\",\"\",VLOOKUP($J196, Resurssiluettelo!$D$21:$X$40,Ohjeistus!L$98-1,FALSE))","v":""},{"$f":"IF($J196=\"\",\"\",VLOOKUP($J196, Resurssiluettelo!$D$21:$X$40,Ohjeistus!M$98-1,FALSE))","v":""},{"$f":"IF($J196=\"\",\"\",VLOOKUP($J196, Resurssiluettelo!$D$21:$X$40,Ohjeistus!N$98-1,FALSE))","v":""},{"$f":"IF($J196=\"\",\"\",VLOOKUP($J196, Resurssiluettelo!$D$21:$X$40,Ohjeistus!O$98-1,FALSE))","v":""},{"$f":"IF($J196=\"\",\"\",VLOOKUP($J196, Resurssiluettelo!$D$21:$X$40,Ohjeistus!P$98-1,FALSE))","v":""},{"$f":"IF($J196=\"\",IF($I196=\"\",\"\",VLOOKUP($I196, Resurssiluettelo!$C$21:$X$40,Ohjeistus!Q$98,FALSE)),VLOOKUP($J196, Resurssiluettelo!$D$21:$X$40,Ohjeistus!Q$98-1,FALSE))","v":""},{"$f":"IF($J196=\"\",IF($I196=\"\",\"\",VLOOKUP($I196, Resurssiluettelo!$C$21:$X$40,Ohjeistus!R$98,FALSE)),VLOOKUP($J196, Resurssiluettelo!$D$21:$X$40,Ohjeistus!R$98-1,FALSE))","v":""},{"$f":"IF($J196=\"\",IF($I196=\"\",\"\",VLOOKUP($I196, Resurssiluettelo!$C$21:$X$40,Ohjeistus!S$98,FALSE)),VLOOKUP($J196, Resurssiluettelo!$D$21:$X$40,Ohjeistus!S$98-1,FALSE))","v":""},{"$f":"IF($J196=\"\",IF($I196=\"\",\"\",VLOOKUP($I196, Resurssiluettelo!$C$21:$X$40,Ohjeistus!T$98,FALSE)),VLOOKUP($J196, Resurssiluettelo!$D$21:$X$40,Ohjeistus!T$98-1,FALSE))","v":""},{"$f":"IF($J196=\"\",\"\",VLOOKUP($J196, Resurssiluettelo!$D$21:$X$40,Ohjeistus!U$98-1,FALSE))","v":""},{"$f":"IF($J196=\"\",\"\",VLOOKUP($J196, Resurssiluettelo!$D$21:$X$40,Ohjeistus!V$98-1,FALSE))","v":""},{"$f":"IF($J196=\"\",\"\",VLOOKUP($J196, Resurssiluettelo!$D$21:$X$40,Ohjeistus!W$98-1,FALSE))","v":""},{"$f":"IF($J196=\"\",\"\",VLOOKUP($J196, Resurssiluettelo!$D$21:$X$40,Ohjeistus!X$98-1,FALSE))","v":""},{"$f":"IF(Resurssiluettelo!E243=0,\"\",Resurssiluettelo!E243)","v":""},{"$f":"IF(Resurssiluettelo!F243=0,\"\",YEAR(Resurssiluettelo!F243)&IF(MONTH(Resurssiluettelo!F243)<10,\"0\",\"\")&MONTH(Resurssiluettelo!F243)&IF(DAY(Resurssiluettelo!F243)<10,\"0\",\"\")&DAY(Resurssiluettelo!F243))","v":""},{"$f":"IF(Resurssiluettelo!G243=0,\"\",Resurssiluettelo!G243)","v":""},{"$f":"IF(Resurssiluettelo!H243=0,\"\",Resurssiluettelo!H243)","v":""},{"$f":"IF(Resurssiluettelo!I243=0,\"\",Resurssiluettelo!I243)","v":""},{"$f":"IF(Resurssiluettelo!W243=0,\"\",Resurssiluettelo!W243)","v":""},{"$f":"IF(Resurssiluettelo!X243=0,\"\",Resurssiluettelo!X243)","v":""},{"$f":"IF(Resurssiluettelo!Y243=0,\"\",Resurssiluettelo!Y243)","v":""},{"$f":"IF(Resurssiluettelo!Z243=0,\"\",Resurssiluettelo!Z243)","v":""},{"$f":"IF(Resurssiluettelo!AA243=0,\"\",Resurssiluettelo!AA243)","v":""},{"$f":"IF(Resurssiluettelo!AB243=0,\"\",Resurssiluettelo!AB243)","v":""},{"$f":"IF(Resurssiluettelo!AC243=0,\"\",Resurssiluettelo!AC243)","v":""},{"$f":"IF(Resurssiluettelo!AD243=0,\"\",Resurssiluettelo!AD243)","v":""},{"$f":"IF(Resurssiluettelo!J243=0,\"\",Resurssiluettelo!J243)","v":""},{"$f":"IF(Resurssiluettelo!K243=0,\"\",Resurssiluettelo!K243)","v":""},{"$f":"IF(Resurssiluettelo!L243=0,\"\",Resurssiluettelo!L243)","v":""},{"$f":"IF(Resurssiluettelo!M243=0,\"\",Resurssiluettelo!M243)","v":""},{"$f":"IF(Resurssiluettelo!N243=0,\"\",Resurssiluettelo!N243)","v":""},{"$f":"IF(Resurssiluettelo!O243=0,\"\",Resurssiluettelo!O243)","v":""},{"$f":"IF(Resurssiluettelo!P243=0,\"\",Resurssiluettelo!P243)","v":""},{"$f":"IF(Resurssiluettelo!Q243=0,\"\",Resurssiluettelo!Q243)","v":""},{"$f":"IF(Resurssiluettelo!R243=0,\"\",Resurssiluettelo!R243)","v":""},{"$f":"IF(Resurssiluettelo!S243=0,\"\",Resurssiluettelo!S243)","v":""},{"$f":"IF(Resurssiluettelo!T243=0,\"\",Resurssiluettelo!T243)","v":""},{"$f":"IF(Resurssiluettelo!U243=0,\"\",Resurssiluettelo!U243)","v":""},{"$f":"IF(Resurssiluettelo!V243=0,\"\",Resurssiluettelo!V243)","v":""}]
[194,{"$f":"IF(Y197=\"\",\"\",Resurssiluettelo!$G$1)","v":""},{"$f":"IF(Y197=\"\",\"\",Resurssiluettelo!$H$14)","v":""},{"$f":"IF(Y197=\"\",\"\",Resurssiluettelo!$I$14)","v":""},{"$f":"IF(Y197=\"\",\"\",Resurssiluettelo!$J$14)","v":""},{"$f":"IF(Y197=\"\",\"\",Resurssiluettelo!$N$14)","v":""},{"$f":"IF(Y197=\"\",\"\",Resurssiluettelo!$O$14)","v":""},{"$f":"IF(Resurssiluettelo!B244=0,\"\",Resurssiluettelo!B244)","v":""},{"$f":"IF(Resurssiluettelo!C244=0,\"\",Resurssiluettelo!C244)","v":""},{"$f":"IF(Resurssiluettelo!D244=0,\"\",Resurssiluettelo!D244)","v":""},{"$f":"IF($J197=\"\",\"\",VLOOKUP($J197, Resurssiluettelo!$D$21:$X$40,Ohjeistus!K$98-1,FALSE))","v":""},{"$f":"IF($J197=\"\",\"\",VLOOKUP($J197, Resurssiluettelo!$D$21:$X$40,Ohjeistus!L$98-1,FALSE))","v":""},{"$f":"IF($J197=\"\",\"\",VLOOKUP($J197, Resurssiluettelo!$D$21:$X$40,Ohjeistus!M$98-1,FALSE))","v":""},{"$f":"IF($J197=\"\",\"\",VLOOKUP($J197, Resurssiluettelo!$D$21:$X$40,Ohjeistus!N$98-1,FALSE))","v":""},{"$f":"IF($J197=\"\",\"\",VLOOKUP($J197, Resurssiluettelo!$D$21:$X$40,Ohjeistus!O$98-1,FALSE))","v":""},{"$f":"IF($J197=\"\",\"\",VLOOKUP($J197, Resurssiluettelo!$D$21:$X$40,Ohjeistus!P$98-1,FALSE))","v":""},{"$f":"IF($J197=\"\",IF($I197=\"\",\"\",VLOOKUP($I197, Resurssiluettelo!$C$21:$X$40,Ohjeistus!Q$98,FALSE)),VLOOKUP($J197, Resurssiluettelo!$D$21:$X$40,Ohjeistus!Q$98-1,FALSE))","v":""},{"$f":"IF($J197=\"\",IF($I197=\"\",\"\",VLOOKUP($I197, Resurssiluettelo!$C$21:$X$40,Ohjeistus!R$98,FALSE)),VLOOKUP($J197, Resurssiluettelo!$D$21:$X$40,Ohjeistus!R$98-1,FALSE))","v":""},{"$f":"IF($J197=\"\",IF($I197=\"\",\"\",VLOOKUP($I197, Resurssiluettelo!$C$21:$X$40,Ohjeistus!S$98,FALSE)),VLOOKUP($J197, Resurssiluettelo!$D$21:$X$40,Ohjeistus!S$98-1,FALSE))","v":""},{"$f":"IF($J197=\"\",IF($I197=\"\",\"\",VLOOKUP($I197, Resurssiluettelo!$C$21:$X$40,Ohjeistus!T$98,FALSE)),VLOOKUP($J197, Resurssiluettelo!$D$21:$X$40,Ohjeistus!T$98-1,FALSE))","v":""},{"$f":"IF($J197=\"\",\"\",VLOOKUP($J197, Resurssiluettelo!$D$21:$X$40,Ohjeistus!U$98-1,FALSE))","v":""},{"$f":"IF($J197=\"\",\"\",VLOOKUP($J197, Resurssiluettelo!$D$21:$X$40,Ohjeistus!V$98-1,FALSE))","v":""},{"$f":"IF($J197=\"\",\"\",VLOOKUP($J197, Resurssiluettelo!$D$21:$X$40,Ohjeistus!W$98-1,FALSE))","v":""},{"$f":"IF($J197=\"\",\"\",VLOOKUP($J197, Resurssiluettelo!$D$21:$X$40,Ohjeistus!X$98-1,FALSE))","v":""},{"$f":"IF(Resurssiluettelo!E244=0,\"\",Resurssiluettelo!E244)","v":""},{"$f":"IF(Resurssiluettelo!F244=0,\"\",YEAR(Resurssiluettelo!F244)&IF(MONTH(Resurssiluettelo!F244)<10,\"0\",\"\")&MONTH(Resurssiluettelo!F244)&IF(DAY(Resurssiluettelo!F244)<10,\"0\",\"\")&DAY(Resurssiluettelo!F244))","v":""},{"$f":"IF(Resurssiluettelo!G244=0,\"\",Resurssiluettelo!G244)","v":""},{"$f":"IF(Resurssiluettelo!H244=0,\"\",Resurssiluettelo!H244)","v":""},{"$f":"IF(Resurssiluettelo!I244=0,\"\",Resurssiluettelo!I244)","v":""},{"$f":"IF(Resurssiluettelo!W244=0,\"\",Resurssiluettelo!W244)","v":""},{"$f":"IF(Resurssiluettelo!X244=0,\"\",Resurssiluettelo!X244)","v":""},{"$f":"IF(Resurssiluettelo!Y244=0,\"\",Resurssiluettelo!Y244)","v":""},{"$f":"IF(Resurssiluettelo!Z244=0,\"\",Resurssiluettelo!Z244)","v":""},{"$f":"IF(Resurssiluettelo!AA244=0,\"\",Resurssiluettelo!AA244)","v":""},{"$f":"IF(Resurssiluettelo!AB244=0,\"\",Resurssiluettelo!AB244)","v":""},{"$f":"IF(Resurssiluettelo!AC244=0,\"\",Resurssiluettelo!AC244)","v":""},{"$f":"IF(Resurssiluettelo!AD244=0,\"\",Resurssiluettelo!AD244)","v":""},{"$f":"IF(Resurssiluettelo!J244=0,\"\",Resurssiluettelo!J244)","v":""},{"$f":"IF(Resurssiluettelo!K244=0,\"\",Resurssiluettelo!K244)","v":""},{"$f":"IF(Resurssiluettelo!L244=0,\"\",Resurssiluettelo!L244)","v":""},{"$f":"IF(Resurssiluettelo!M244=0,\"\",Resurssiluettelo!M244)","v":""},{"$f":"IF(Resurssiluettelo!N244=0,\"\",Resurssiluettelo!N244)","v":""},{"$f":"IF(Resurssiluettelo!O244=0,\"\",Resurssiluettelo!O244)","v":""},{"$f":"IF(Resurssiluettelo!P244=0,\"\",Resurssiluettelo!P244)","v":""},{"$f":"IF(Resurssiluettelo!Q244=0,\"\",Resurssiluettelo!Q244)","v":""},{"$f":"IF(Resurssiluettelo!R244=0,\"\",Resurssiluettelo!R244)","v":""},{"$f":"IF(Resurssiluettelo!S244=0,\"\",Resurssiluettelo!S244)","v":""},{"$f":"IF(Resurssiluettelo!T244=0,\"\",Resurssiluettelo!T244)","v":""},{"$f":"IF(Resurssiluettelo!U244=0,\"\",Resurssiluettelo!U244)","v":""},{"$f":"IF(Resurssiluettelo!V244=0,\"\",Resurssiluettelo!V244)","v":""}]
[195,{"$f":"IF(Y198=\"\",\"\",Resurssiluettelo!$G$1)","v":""},{"$f":"IF(Y198=\"\",\"\",Resurssiluettelo!$H$14)","v":""},{"$f":"IF(Y198=\"\",\"\",Resurssiluettelo!$I$14)","v":""},{"$f":"IF(Y198=\"\",\"\",Resurssiluettelo!$J$14)","v":""},{"$f":"IF(Y198=\"\",\"\",Resurssiluettelo!$N$14)","v":""},{"$f":"IF(Y198=\"\",\"\",Resurssiluettelo!$O$14)","v":""},{"$f":"IF(Resurssiluettelo!B245=0,\"\",Resurssiluettelo!B245)","v":""},{"$f":"IF(Resurssiluettelo!C245=0,\"\",Resurssiluettelo!C245)","v":""},{"$f":"IF(Resurssiluettelo!D245=0,\"\",Resurssiluettelo!D245)","v":""},{"$f":"IF($J198=\"\",\"\",VLOOKUP($J198, Resurssiluettelo!$D$21:$X$40,Ohjeistus!K$98-1,FALSE))","v":""},{"$f":"IF($J198=\"\",\"\",VLOOKUP($J198, Resurssiluettelo!$D$21:$X$40,Ohjeistus!L$98-1,FALSE))","v":""},{"$f":"IF($J198=\"\",\"\",VLOOKUP($J198, Resurssiluettelo!$D$21:$X$40,Ohjeistus!M$98-1,FALSE))","v":""},{"$f":"IF($J198=\"\",\"\",VLOOKUP($J198, Resurssiluettelo!$D$21:$X$40,Ohjeistus!N$98-1,FALSE))","v":""},{"$f":"IF($J198=\"\",\"\",VLOOKUP($J198, Resurssiluettelo!$D$21:$X$40,Ohjeistus!O$98-1,FALSE))","v":""},{"$f":"IF($J198=\"\",\"\",VLOOKUP($J198, Resurssiluettelo!$D$21:$X$40,Ohjeistus!P$98-1,FALSE))","v":""},{"$f":"IF($J198=\"\",IF($I198=\"\",\"\",VLOOKUP($I198, Resurssiluettelo!$C$21:$X$40,Ohjeistus!Q$98,FALSE)),VLOOKUP($J198, Resurssiluettelo!$D$21:$X$40,Ohjeistus!Q$98-1,FALSE))","v":""},{"$f":"IF($J198=\"\",IF($I198=\"\",\"\",VLOOKUP($I198, Resurssiluettelo!$C$21:$X$40,Ohjeistus!R$98,FALSE)),VLOOKUP($J198, Resurssiluettelo!$D$21:$X$40,Ohjeistus!R$98-1,FALSE))","v":""},{"$f":"IF($J198=\"\",IF($I198=\"\",\"\",VLOOKUP($I198, Resurssiluettelo!$C$21:$X$40,Ohjeistus!S$98,FALSE)),VLOOKUP($J198, Resurssiluettelo!$D$21:$X$40,Ohjeistus!S$98-1,FALSE))","v":""},{"$f":"IF($J198=\"\",IF($I198=\"\",\"\",VLOOKUP($I198, Resurssiluettelo!$C$21:$X$40,Ohjeistus!T$98,FALSE)),VLOOKUP($J198, Resurssiluettelo!$D$21:$X$40,Ohjeistus!T$98-1,FALSE))","v":""},{"$f":"IF($J198=\"\",\"\",VLOOKUP($J198, Resurssiluettelo!$D$21:$X$40,Ohjeistus!U$98-1,FALSE))","v":""},{"$f":"IF($J198=\"\",\"\",VLOOKUP($J198, Resurssiluettelo!$D$21:$X$40,Ohjeistus!V$98-1,FALSE))","v":""},{"$f":"IF($J198=\"\",\"\",VLOOKUP($J198, Resurssiluettelo!$D$21:$X$40,Ohjeistus!W$98-1,FALSE))","v":""},{"$f":"IF($J198=\"\",\"\",VLOOKUP($J198, Resurssiluettelo!$D$21:$X$40,Ohjeistus!X$98-1,FALSE))","v":""},{"$f":"IF(Resurssiluettelo!E245=0,\"\",Resurssiluettelo!E245)","v":""},{"$f":"IF(Resurssiluettelo!F245=0,\"\",YEAR(Resurssiluettelo!F245)&IF(MONTH(Resurssiluettelo!F245)<10,\"0\",\"\")&MONTH(Resurssiluettelo!F245)&IF(DAY(Resurssiluettelo!F245)<10,\"0\",\"\")&DAY(Resurssiluettelo!F245))","v":""},{"$f":"IF(Resurssiluettelo!G245=0,\"\",Resurssiluettelo!G245)","v":""},{"$f":"IF(Resurssiluettelo!H245=0,\"\",Resurssiluettelo!H245)","v":""},{"$f":"IF(Resurssiluettelo!I245=0,\"\",Resurssiluettelo!I245)","v":""},{"$f":"IF(Resurssiluettelo!W245=0,\"\",Resurssiluettelo!W245)","v":""},{"$f":"IF(Resurssiluettelo!X245=0,\"\",Resurssiluettelo!X245)","v":""},{"$f":"IF(Resurssiluettelo!Y245=0,\"\",Resurssiluettelo!Y245)","v":""},{"$f":"IF(Resurssiluettelo!Z245=0,\"\",Resurssiluettelo!Z245)","v":""},{"$f":"IF(Resurssiluettelo!AA245=0,\"\",Resurssiluettelo!AA245)","v":""},{"$f":"IF(Resurssiluettelo!AB245=0,\"\",Resurssiluettelo!AB245)","v":""},{"$f":"IF(Resurssiluettelo!AC245=0,\"\",Resurssiluettelo!AC245)","v":""},{"$f":"IF(Resurssiluettelo!AD245=0,\"\",Resurssiluettelo!AD245)","v":""},{"$f":"IF(Resurssiluettelo!J245=0,\"\",Resurssiluettelo!J245)","v":""},{"$f":"IF(Resurssiluettelo!K245=0,\"\",Resurssiluettelo!K245)","v":""},{"$f":"IF(Resurssiluettelo!L245=0,\"\",Resurssiluettelo!L245)","v":""},{"$f":"IF(Resurssiluettelo!M245=0,\"\",Resurssiluettelo!M245)","v":""},{"$f":"IF(Resurssiluettelo!N245=0,\"\",Resurssiluettelo!N245)","v":""},{"$f":"IF(Resurssiluettelo!O245=0,\"\",Resurssiluettelo!O245)","v":""},{"$f":"IF(Resurssiluettelo!P245=0,\"\",Resurssiluettelo!P245)","v":""},{"$f":"IF(Resurssiluettelo!Q245=0,\"\",Resurssiluettelo!Q245)","v":""},{"$f":"IF(Resurssiluettelo!R245=0,\"\",Resurssiluettelo!R245)","v":""},{"$f":"IF(Resurssiluettelo!S245=0,\"\",Resurssiluettelo!S245)","v":""},{"$f":"IF(Resurssiluettelo!T245=0,\"\",Resurssiluettelo!T245)","v":""},{"$f":"IF(Resurssiluettelo!U245=0,\"\",Resurssiluettelo!U245)","v":""},{"$f":"IF(Resurssiluettelo!V245=0,\"\",Resurssiluettelo!V245)","v":""}]
[196,{"$f":"IF(Y199=\"\",\"\",Resurssiluettelo!$G$1)","v":""},{"$f":"IF(Y199=\"\",\"\",Resurssiluettelo!$H$14)","v":""},{"$f":"IF(Y199=\"\",\"\",Resurssiluettelo!$I$14)","v":""},{"$f":"IF(Y199=\"\",\"\",Resurssiluettelo!$J$14)","v":""},{"$f":"IF(Y199=\"\",\"\",Resurssiluettelo!$N$14)","v":""},{"$f":"IF(Y199=\"\",\"\",Resurssiluettelo!$O$14)","v":""},{"$f":"IF(Resurssiluettelo!B246=0,\"\",Resurssiluettelo!B246)","v":""},{"$f":"IF(Resurssiluettelo!C246=0,\"\",Resurssiluettelo!C246)","v":""},{"$f":"IF(Resurssiluettelo!D246=0,\"\",Resurssiluettelo!D246)","v":""},{"$f":"IF($J199=\"\",\"\",VLOOKUP($J199, Resurssiluettelo!$D$21:$X$40,Ohjeistus!K$98-1,FALSE))","v":""},{"$f":"IF($J199=\"\",\"\",VLOOKUP($J199, Resurssiluettelo!$D$21:$X$40,Ohjeistus!L$98-1,FALSE))","v":""},{"$f":"IF($J199=\"\",\"\",VLOOKUP($J199, Resurssiluettelo!$D$21:$X$40,Ohjeistus!M$98-1,FALSE))","v":""},{"$f":"IF($J199=\"\",\"\",VLOOKUP($J199, Resurssiluettelo!$D$21:$X$40,Ohjeistus!N$98-1,FALSE))","v":""},{"$f":"IF($J199=\"\",\"\",VLOOKUP($J199, Resurssiluettelo!$D$21:$X$40,Ohjeistus!O$98-1,FALSE))","v":""},{"$f":"IF($J199=\"\",\"\",VLOOKUP($J199, Resurssiluettelo!$D$21:$X$40,Ohjeistus!P$98-1,FALSE))","v":""},{"$f":"IF($J199=\"\",IF($I199=\"\",\"\",VLOOKUP($I199, Resurssiluettelo!$C$21:$X$40,Ohjeistus!Q$98,FALSE)),VLOOKUP($J199, Resurssiluettelo!$D$21:$X$40,Ohjeistus!Q$98-1,FALSE))","v":""},{"$f":"IF($J199=\"\",IF($I199=\"\",\"\",VLOOKUP($I199, Resurssiluettelo!$C$21:$X$40,Ohjeistus!R$98,FALSE)),VLOOKUP($J199, Resurssiluettelo!$D$21:$X$40,Ohjeistus!R$98-1,FALSE))","v":""},{"$f":"IF($J199=\"\",IF($I199=\"\",\"\",VLOOKUP($I199, Resurssiluettelo!$C$21:$X$40,Ohjeistus!S$98,FALSE)),VLOOKUP($J199, Resurssiluettelo!$D$21:$X$40,Ohjeistus!S$98-1,FALSE))","v":""},{"$f":"IF($J199=\"\",IF($I199=\"\",\"\",VLOOKUP($I199, Resurssiluettelo!$C$21:$X$40,Ohjeistus!T$98,FALSE)),VLOOKUP($J199, Resurssiluettelo!$D$21:$X$40,Ohjeistus!T$98-1,FALSE))","v":""},{"$f":"IF($J199=\"\",\"\",VLOOKUP($J199, Resurssiluettelo!$D$21:$X$40,Ohjeistus!U$98-1,FALSE))","v":""},{"$f":"IF($J199=\"\",\"\",VLOOKUP($J199, Resurssiluettelo!$D$21:$X$40,Ohjeistus!V$98-1,FALSE))","v":""},{"$f":"IF($J199=\"\",\"\",VLOOKUP($J199, Resurssiluettelo!$D$21:$X$40,Ohjeistus!W$98-1,FALSE))","v":""},{"$f":"IF($J199=\"\",\"\",VLOOKUP($J199, Resurssiluettelo!$D$21:$X$40,Ohjeistus!X$98-1,FALSE))","v":""},{"$f":"IF(Resurssiluettelo!E246=0,\"\",Resurssiluettelo!E246)","v":""},{"$f":"IF(Resurssiluettelo!F246=0,\"\",YEAR(Resurssiluettelo!F246)&IF(MONTH(Resurssiluettelo!F246)<10,\"0\",\"\")&MONTH(Resurssiluettelo!F246)&IF(DAY(Resurssiluettelo!F246)<10,\"0\",\"\")&DAY(Resurssiluettelo!F246))","v":""},{"$f":"IF(Resurssiluettelo!G246=0,\"\",Resurssiluettelo!G246)","v":""},{"$f":"IF(Resurssiluettelo!H246=0,\"\",Resurssiluettelo!H246)","v":""},{"$f":"IF(Resurssiluettelo!I246=0,\"\",Resurssiluettelo!I246)","v":""},{"$f":"IF(Resurssiluettelo!W246=0,\"\",Resurssiluettelo!W246)","v":""},{"$f":"IF(Resurssiluettelo!X246=0,\"\",Resurssiluettelo!X246)","v":""},{"$f":"IF(Resurssiluettelo!Y246=0,\"\",Resurssiluettelo!Y246)","v":""},{"$f":"IF(Resurssiluettelo!Z246=0,\"\",Resurssiluettelo!Z246)","v":""},{"$f":"IF(Resurssiluettelo!AA246=0,\"\",Resurssiluettelo!AA246)","v":""},{"$f":"IF(Resurssiluettelo!AB246=0,\"\",Resurssiluettelo!AB246)","v":""},{"$f":"IF(Resurssiluettelo!AC246=0,\"\",Resurssiluettelo!AC246)","v":""},{"$f":"IF(Resurssiluettelo!AD246=0,\"\",Resurssiluettelo!AD246)","v":""},{"$f":"IF(Resurssiluettelo!J246=0,\"\",Resurssiluettelo!J246)","v":""},{"$f":"IF(Resurssiluettelo!K246=0,\"\",Resurssiluettelo!K246)","v":""},{"$f":"IF(Resurssiluettelo!L246=0,\"\",Resurssiluettelo!L246)","v":""},{"$f":"IF(Resurssiluettelo!M246=0,\"\",Resurssiluettelo!M246)","v":""},{"$f":"IF(Resurssiluettelo!N246=0,\"\",Resurssiluettelo!N246)","v":""},{"$f":"IF(Resurssiluettelo!O246=0,\"\",Resurssiluettelo!O246)","v":""},{"$f":"IF(Resurssiluettelo!P246=0,\"\",Resurssiluettelo!P246)","v":""},{"$f":"IF(Resurssiluettelo!Q246=0,\"\",Resurssiluettelo!Q246)","v":""},{"$f":"IF(Resurssiluettelo!R246=0,\"\",Resurssiluettelo!R246)","v":""},{"$f":"IF(Resurssiluettelo!S246=0,\"\",Resurssiluettelo!S246)","v":""},{"$f":"IF(Resurssiluettelo!T246=0,\"\",Resurssiluettelo!T246)","v":""},{"$f":"IF(Resurssiluettelo!U246=0,\"\",Resurssiluettelo!U246)","v":""},{"$f":"IF(Resurssiluettelo!V246=0,\"\",Resurssiluettelo!V246)","v":""}]
[197,{"$f":"IF(Y200=\"\",\"\",Resurssiluettelo!$G$1)","v":""},{"$f":"IF(Y200=\"\",\"\",Resurssiluettelo!$H$14)","v":""},{"$f":"IF(Y200=\"\",\"\",Resurssiluettelo!$I$14)","v":""},{"$f":"IF(Y200=\"\",\"\",Resurssiluettelo!$J$14)","v":""},{"$f":"IF(Y200=\"\",\"\",Resurssiluettelo!$N$14)","v":""},{"$f":"IF(Y200=\"\",\"\",Resurssiluettelo!$O$14)","v":""},{"$f":"IF(Resurssiluettelo!B247=0,\"\",Resurssiluettelo!B247)","v":""},{"$f":"IF(Resurssiluettelo!C247=0,\"\",Resurssiluettelo!C247)","v":""},{"$f":"IF(Resurssiluettelo!D247=0,\"\",Resurssiluettelo!D247)","v":""},{"$f":"IF($J200=\"\",\"\",VLOOKUP($J200, Resurssiluettelo!$D$21:$X$40,Ohjeistus!K$98-1,FALSE))","v":""},{"$f":"IF($J200=\"\",\"\",VLOOKUP($J200, Resurssiluettelo!$D$21:$X$40,Ohjeistus!L$98-1,FALSE))","v":""},{"$f":"IF($J200=\"\",\"\",VLOOKUP($J200, Resurssiluettelo!$D$21:$X$40,Ohjeistus!M$98-1,FALSE))","v":""},{"$f":"IF($J200=\"\",\"\",VLOOKUP($J200, Resurssiluettelo!$D$21:$X$40,Ohjeistus!N$98-1,FALSE))","v":""},{"$f":"IF($J200=\"\",\"\",VLOOKUP($J200, Resurssiluettelo!$D$21:$X$40,Ohjeistus!O$98-1,FALSE))","v":""},{"$f":"IF($J200=\"\",\"\",VLOOKUP($J200, Resurssiluettelo!$D$21:$X$40,Ohjeistus!P$98-1,FALSE))","v":""},{"$f":"IF($J200=\"\",IF($I200=\"\",\"\",VLOOKUP($I200, Resurssiluettelo!$C$21:$X$40,Ohjeistus!Q$98,FALSE)),VLOOKUP($J200, Resurssiluettelo!$D$21:$X$40,Ohjeistus!Q$98-1,FALSE))","v":""},{"$f":"IF($J200=\"\",IF($I200=\"\",\"\",VLOOKUP($I200, Resurssiluettelo!$C$21:$X$40,Ohjeistus!R$98,FALSE)),VLOOKUP($J200, Resurssiluettelo!$D$21:$X$40,Ohjeistus!R$98-1,FALSE))","v":""},{"$f":"IF($J200=\"\",IF($I200=\"\",\"\",VLOOKUP($I200, Resurssiluettelo!$C$21:$X$40,Ohjeistus!S$98,FALSE)),VLOOKUP($J200, Resurssiluettelo!$D$21:$X$40,Ohjeistus!S$98-1,FALSE))","v":""},{"$f":"IF($J200=\"\",IF($I200=\"\",\"\",VLOOKUP($I200, Resurssiluettelo!$C$21:$X$40,Ohjeistus!T$98,FALSE)),VLOOKUP($J200, Resurssiluettelo!$D$21:$X$40,Ohjeistus!T$98-1,FALSE))","v":""},{"$f":"IF($J200=\"\",\"\",VLOOKUP($J200, Resurssiluettelo!$D$21:$X$40,Ohjeistus!U$98-1,FALSE))","v":""},{"$f":"IF($J200=\"\",\"\",VLOOKUP($J200, Resurssiluettelo!$D$21:$X$40,Ohjeistus!V$98-1,FALSE))","v":""},{"$f":"IF($J200=\"\",\"\",VLOOKUP($J200, Resurssiluettelo!$D$21:$X$40,Ohjeistus!W$98-1,FALSE))","v":""},{"$f":"IF($J200=\"\",\"\",VLOOKUP($J200, Resurssiluettelo!$D$21:$X$40,Ohjeistus!X$98-1,FALSE))","v":""},{"$f":"IF(Resurssiluettelo!E247=0,\"\",Resurssiluettelo!E247)","v":""},{"$f":"IF(Resurssiluettelo!F247=0,\"\",YEAR(Resurssiluettelo!F247)&IF(MONTH(Resurssiluettelo!F247)<10,\"0\",\"\")&MONTH(Resurssiluettelo!F247)&IF(DAY(Resurssiluettelo!F247)<10,\"0\",\"\")&DAY(Resurssiluettelo!F247))","v":""},{"$f":"IF(Resurssiluettelo!G247=0,\"\",Resurssiluettelo!G247)","v":""},{"$f":"IF(Resurssiluettelo!H247=0,\"\",Resurssiluettelo!H247)","v":""},{"$f":"IF(Resurssiluettelo!I247=0,\"\",Resurssiluettelo!I247)","v":""},{"$f":"IF(Resurssiluettelo!W247=0,\"\",Resurssiluettelo!W247)","v":""},{"$f":"IF(Resurssiluettelo!X247=0,\"\",Resurssiluettelo!X247)","v":""},{"$f":"IF(Resurssiluettelo!Y247=0,\"\",Resurssiluettelo!Y247)","v":""},{"$f":"IF(Resurssiluettelo!Z247=0,\"\",Resurssiluettelo!Z247)","v":""},{"$f":"IF(Resurssiluettelo!AA247=0,\"\",Resurssiluettelo!AA247)","v":""},{"$f":"IF(Resurssiluettelo!AB247=0,\"\",Resurssiluettelo!AB247)","v":""},{"$f":"IF(Resurssiluettelo!AC247=0,\"\",Resurssiluettelo!AC247)","v":""},{"$f":"IF(Resurssiluettelo!AD247=0,\"\",Resurssiluettelo!AD247)","v":""},{"$f":"IF(Resurssiluettelo!J247=0,\"\",Resurssiluettelo!J247)","v":""},{"$f":"IF(Resurssiluettelo!K247=0,\"\",Resurssiluettelo!K247)","v":""},{"$f":"IF(Resurssiluettelo!L247=0,\"\",Resurssiluettelo!L247)","v":""},{"$f":"IF(Resurssiluettelo!M247=0,\"\",Resurssiluettelo!M247)","v":""},{"$f":"IF(Resurssiluettelo!N247=0,\"\",Resurssiluettelo!N247)","v":""},{"$f":"IF(Resurssiluettelo!O247=0,\"\",Resurssiluettelo!O247)","v":""},{"$f":"IF(Resurssiluettelo!P247=0,\"\",Resurssiluettelo!P247)","v":""},{"$f":"IF(Resurssiluettelo!Q247=0,\"\",Resurssiluettelo!Q247)","v":""},{"$f":"IF(Resurssiluettelo!R247=0,\"\",Resurssiluettelo!R247)","v":""},{"$f":"IF(Resurssiluettelo!S247=0,\"\",Resurssiluettelo!S247)","v":""},{"$f":"IF(Resurssiluettelo!T247=0,\"\",Resurssiluettelo!T247)","v":""},{"$f":"IF(Resurssiluettelo!U247=0,\"\",Resurssiluettelo!U247)","v":""},{"$f":"IF(Resurssiluettelo!V247=0,\"\",Resurssiluettelo!V247)","v":""}]
[198,{"$f":"IF(Y201=\"\",\"\",Resurssiluettelo!$G$1)","v":""},{"$f":"IF(Y201=\"\",\"\",Resurssiluettelo!$H$14)","v":""},{"$f":"IF(Y201=\"\",\"\",Resurssiluettelo!$I$14)","v":""},{"$f":"IF(Y201=\"\",\"\",Resurssiluettelo!$J$14)","v":""},{"$f":"IF(Y201=\"\",\"\",Resurssiluettelo!$N$14)","v":""},{"$f":"IF(Y201=\"\",\"\",Resurssiluettelo!$O$14)","v":""},{"$f":"IF(Resurssiluettelo!B248=0,\"\",Resurssiluettelo!B248)","v":""},{"$f":"IF(Resurssiluettelo!C248=0,\"\",Resurssiluettelo!C248)","v":""},{"$f":"IF(Resurssiluettelo!D248=0,\"\",Resurssiluettelo!D248)","v":""},{"$f":"IF($J201=\"\",\"\",VLOOKUP($J201, Resurssiluettelo!$D$21:$X$40,Ohjeistus!K$98-1,FALSE))","v":""},{"$f":"IF($J201=\"\",\"\",VLOOKUP($J201, Resurssiluettelo!$D$21:$X$40,Ohjeistus!L$98-1,FALSE))","v":""},{"$f":"IF($J201=\"\",\"\",VLOOKUP($J201, Resurssiluettelo!$D$21:$X$40,Ohjeistus!M$98-1,FALSE))","v":""},{"$f":"IF($J201=\"\",\"\",VLOOKUP($J201, Resurssiluettelo!$D$21:$X$40,Ohjeistus!N$98-1,FALSE))","v":""},{"$f":"IF($J201=\"\",\"\",VLOOKUP($J201, Resurssiluettelo!$D$21:$X$40,Ohjeistus!O$98-1,FALSE))","v":""},{"$f":"IF($J201=\"\",\"\",VLOOKUP($J201, Resurssiluettelo!$D$21:$X$40,Ohjeistus!P$98-1,FALSE))","v":""},{"$f":"IF($J201=\"\",IF($I201=\"\",\"\",VLOOKUP($I201, Resurssiluettelo!$C$21:$X$40,Ohjeistus!Q$98,FALSE)),VLOOKUP($J201, Resurssiluettelo!$D$21:$X$40,Ohjeistus!Q$98-1,FALSE))","v":""},{"$f":"IF($J201=\"\",IF($I201=\"\",\"\",VLOOKUP($I201, Resurssiluettelo!$C$21:$X$40,Ohjeistus!R$98,FALSE)),VLOOKUP($J201, Resurssiluettelo!$D$21:$X$40,Ohjeistus!R$98-1,FALSE))","v":""},{"$f":"IF($J201=\"\",IF($I201=\"\",\"\",VLOOKUP($I201, Resurssiluettelo!$C$21:$X$40,Ohjeistus!S$98,FALSE)),VLOOKUP($J201, Resurssiluettelo!$D$21:$X$40,Ohjeistus!S$98-1,FALSE))","v":""},{"$f":"IF($J201=\"\",IF($I201=\"\",\"\",VLOOKUP($I201, Resurssiluettelo!$C$21:$X$40,Ohjeistus!T$98,FALSE)),VLOOKUP($J201, Resurssiluettelo!$D$21:$X$40,Ohjeistus!T$98-1,FALSE))","v":""},{"$f":"IF($J201=\"\",\"\",VLOOKUP($J201, Resurssiluettelo!$D$21:$X$40,Ohjeistus!U$98-1,FALSE))","v":""},{"$f":"IF($J201=\"\",\"\",VLOOKUP($J201, Resurssiluettelo!$D$21:$X$40,Ohjeistus!V$98-1,FALSE))","v":""},{"$f":"IF($J201=\"\",\"\",VLOOKUP($J201, Resurssiluettelo!$D$21:$X$40,Ohjeistus!W$98-1,FALSE))","v":""},{"$f":"IF($J201=\"\",\"\",VLOOKUP($J201, Resurssiluettelo!$D$21:$X$40,Ohjeistus!X$98-1,FALSE))","v":""},{"$f":"IF(Resurssiluettelo!E248=0,\"\",Resurssiluettelo!E248)","v":""},{"$f":"IF(Resurssiluettelo!F248=0,\"\",YEAR(Resurssiluettelo!F248)&IF(MONTH(Resurssiluettelo!F248)<10,\"0\",\"\")&MONTH(Resurssiluettelo!F248)&IF(DAY(Resurssiluettelo!F248)<10,\"0\",\"\")&DAY(Resurssiluettelo!F248))","v":""},{"$f":"IF(Resurssiluettelo!G248=0,\"\",Resurssiluettelo!G248)","v":""},{"$f":"IF(Resurssiluettelo!H248=0,\"\",Resurssiluettelo!H248)","v":""},{"$f":"IF(Resurssiluettelo!I248=0,\"\",Resurssiluettelo!I248)","v":""},{"$f":"IF(Resurssiluettelo!W248=0,\"\",Resurssiluettelo!W248)","v":""},{"$f":"IF(Resurssiluettelo!X248=0,\"\",Resurssiluettelo!X248)","v":""},{"$f":"IF(Resurssiluettelo!Y248=0,\"\",Resurssiluettelo!Y248)","v":""},{"$f":"IF(Resurssiluettelo!Z248=0,\"\",Resurssiluettelo!Z248)","v":""},{"$f":"IF(Resurssiluettelo!AA248=0,\"\",Resurssiluettelo!AA248)","v":""},{"$f":"IF(Resurssiluettelo!AB248=0,\"\",Resurssiluettelo!AB248)","v":""},{"$f":"IF(Resurssiluettelo!AC248=0,\"\",Resurssiluettelo!AC248)","v":""},{"$f":"IF(Resurssiluettelo!AD248=0,\"\",Resurssiluettelo!AD248)","v":""},{"$f":"IF(Resurssiluettelo!J248=0,\"\",Resurssiluettelo!J248)","v":""},{"$f":"IF(Resurssiluettelo!K248=0,\"\",Resurssiluettelo!K248)","v":""},{"$f":"IF(Resurssiluettelo!L248=0,\"\",Resurssiluettelo!L248)","v":""},{"$f":"IF(Resurssiluettelo!M248=0,\"\",Resurssiluettelo!M248)","v":""},{"$f":"IF(Resurssiluettelo!N248=0,\"\",Resurssiluettelo!N248)","v":""},{"$f":"IF(Resurssiluettelo!O248=0,\"\",Resurssiluettelo!O248)","v":""},{"$f":"IF(Resurssiluettelo!P248=0,\"\",Resurssiluettelo!P248)","v":""},{"$f":"IF(Resurssiluettelo!Q248=0,\"\",Resurssiluettelo!Q248)","v":""},{"$f":"IF(Resurssiluettelo!R248=0,\"\",Resurssiluettelo!R248)","v":""},{"$f":"IF(Resurssiluettelo!S248=0,\"\",Resurssiluettelo!S248)","v":""},{"$f":"IF(Resurssiluettelo!T248=0,\"\",Resurssiluettelo!T248)","v":""},{"$f":"IF(Resurssiluettelo!U248=0,\"\",Resurssiluettelo!U248)","v":""},{"$f":"IF(Resurssiluettelo!V248=0,\"\",Resurssiluettelo!V248)","v":""}]
[199,{"$f":"IF(Y202=\"\",\"\",Resurssiluettelo!$G$1)","v":""},{"$f":"IF(Y202=\"\",\"\",Resurssiluettelo!$H$14)","v":""},{"$f":"IF(Y202=\"\",\"\",Resurssiluettelo!$I$14)","v":""},{"$f":"IF(Y202=\"\",\"\",Resurssiluettelo!$J$14)","v":""},{"$f":"IF(Y202=\"\",\"\",Resurssiluettelo!$N$14)","v":""},{"$f":"IF(Y202=\"\",\"\",Resurssiluettelo!$O$14)","v":""},{"$f":"IF(Resurssiluettelo!B249=0,\"\",Resurssiluettelo!B249)","v":""},{"$f":"IF(Resurssiluettelo!C249=0,\"\",Resurssiluettelo!C249)","v":""},{"$f":"IF(Resurssiluettelo!D249=0,\"\",Resurssiluettelo!D249)","v":""},{"$f":"IF($J202=\"\",\"\",VLOOKUP($J202, Resurssiluettelo!$D$21:$X$40,Ohjeistus!K$98-1,FALSE))","v":""},{"$f":"IF($J202=\"\",\"\",VLOOKUP($J202, Resurssiluettelo!$D$21:$X$40,Ohjeistus!L$98-1,FALSE))","v":""},{"$f":"IF($J202=\"\",\"\",VLOOKUP($J202, Resurssiluettelo!$D$21:$X$40,Ohjeistus!M$98-1,FALSE))","v":""},{"$f":"IF($J202=\"\",\"\",VLOOKUP($J202, Resurssiluettelo!$D$21:$X$40,Ohjeistus!N$98-1,FALSE))","v":""},{"$f":"IF($J202=\"\",\"\",VLOOKUP($J202, Resurssiluettelo!$D$21:$X$40,Ohjeistus!O$98-1,FALSE))","v":""},{"$f":"IF($J202=\"\",\"\",VLOOKUP($J202, Resurssiluettelo!$D$21:$X$40,Ohjeistus!P$98-1,FALSE))","v":""},{"$f":"IF($J202=\"\",IF($I202=\"\",\"\",VLOOKUP($I202, Resurssiluettelo!$C$21:$X$40,Ohjeistus!Q$98,FALSE)),VLOOKUP($J202, Resurssiluettelo!$D$21:$X$40,Ohjeistus!Q$98-1,FALSE))","v":""},{"$f":"IF($J202=\"\",IF($I202=\"\",\"\",VLOOKUP($I202, Resurssiluettelo!$C$21:$X$40,Ohjeistus!R$98,FALSE)),VLOOKUP($J202, Resurssiluettelo!$D$21:$X$40,Ohjeistus!R$98-1,FALSE))","v":""},{"$f":"IF($J202=\"\",IF($I202=\"\",\"\",VLOOKUP($I202, Resurssiluettelo!$C$21:$X$40,Ohjeistus!S$98,FALSE)),VLOOKUP($J202, Resurssiluettelo!$D$21:$X$40,Ohjeistus!S$98-1,FALSE))","v":""},{"$f":"IF($J202=\"\",IF($I202=\"\",\"\",VLOOKUP($I202, Resurssiluettelo!$C$21:$X$40,Ohjeistus!T$98,FALSE)),VLOOKUP($J202, Resurssiluettelo!$D$21:$X$40,Ohjeistus!T$98-1,FALSE))","v":""},{"$f":"IF($J202=\"\",\"\",VLOOKUP($J202, Resurssiluettelo!$D$21:$X$40,Ohjeistus!U$98-1,FALSE))","v":""},{"$f":"IF($J202=\"\",\"\",VLOOKUP($J202, Resurssiluettelo!$D$21:$X$40,Ohjeistus!V$98-1,FALSE))","v":""},{"$f":"IF($J202=\"\",\"\",VLOOKUP($J202, Resurssiluettelo!$D$21:$X$40,Ohjeistus!W$98-1,FALSE))","v":""},{"$f":"IF($J202=\"\",\"\",VLOOKUP($J202, Resurssiluettelo!$D$21:$X$40,Ohjeistus!X$98-1,FALSE))","v":""},{"$f":"IF(Resurssiluettelo!E249=0,\"\",Resurssiluettelo!E249)","v":""},{"$f":"IF(Resurssiluettelo!F249=0,\"\",YEAR(Resurssiluettelo!F249)&IF(MONTH(Resurssiluettelo!F249)<10,\"0\",\"\")&MONTH(Resurssiluettelo!F249)&IF(DAY(Resurssiluettelo!F249)<10,\"0\",\"\")&DAY(Resurssiluettelo!F249))","v":""},{"$f":"IF(Resurssiluettelo!G249=0,\"\",Resurssiluettelo!G249)","v":""},{"$f":"IF(Resurssiluettelo!H249=0,\"\",Resurssiluettelo!H249)","v":""},{"$f":"IF(Resurssiluettelo!I249=0,\"\",Resurssiluettelo!I249)","v":""},{"$f":"IF(Resurssiluettelo!W249=0,\"\",Resurssiluettelo!W249)","v":""},{"$f":"IF(Resurssiluettelo!X249=0,\"\",Resurssiluettelo!X249)","v":""},{"$f":"IF(Resurssiluettelo!Y249=0,\"\",Resurssiluettelo!Y249)","v":""},{"$f":"IF(Resurssiluettelo!Z249=0,\"\",Resurssiluettelo!Z249)","v":""},{"$f":"IF(Resurssiluettelo!AA249=0,\"\",Resurssiluettelo!AA249)","v":""},{"$f":"IF(Resurssiluettelo!AB249=0,\"\",Resurssiluettelo!AB249)","v":""},{"$f":"IF(Resurssiluettelo!AC249=0,\"\",Resurssiluettelo!AC249)","v":""},{"$f":"IF(Resurssiluettelo!AD249=0,\"\",Resurssiluettelo!AD249)","v":""},{"$f":"IF(Resurssiluettelo!J249=0,\"\",Resurssiluettelo!J249)","v":""},{"$f":"IF(Resurssiluettelo!K249=0,\"\",Resurssiluettelo!K249)","v":""},{"$f":"IF(Resurssiluettelo!L249=0,\"\",Resurssiluettelo!L249)","v":""},{"$f":"IF(Resurssiluettelo!M249=0,\"\",Resurssiluettelo!M249)","v":""},{"$f":"IF(Resurssiluettelo!N249=0,\"\",Resurssiluettelo!N249)","v":""},{"$f":"IF(Resurssiluettelo!O249=0,\"\",Resurssiluettelo!O249)","v":""},{"$f":"IF(Resurssiluettelo!P249=0,\"\",Resurssiluettelo!P249)","v":""},{"$f":"IF(Resurssiluettelo!Q249=0,\"\",Resurssiluettelo!Q249)","v":""},{"$f":"IF(Resurssiluettelo!R249=0,\"\",Resurssiluettelo!R249)","v":""},{"$f":"IF(Resurssiluettelo!S249=0,\"\",Resurssiluettelo!S249)","v":""},{"$f":"IF(Resurssiluettelo!T249=0,\"\",Resurssiluettelo!T249)","v":""},{"$f":"IF(Resurssiluettelo!U249=0,\"\",Resurssiluettelo!U249)","v":""},{"$f":"IF(Resurssiluettelo!V249=0,\"\",Resurssiluettelo!V249)","v":""}]
[200,{"$f":"IF(Y203=\"\",\"\",Resurssiluettelo!$G$1)","v":""},{"$f":"IF(Y203=\"\",\"\",Resurssiluettelo!$H$14)","v":""},{"$f":"IF(Y203=\"\",\"\",Resurssiluettelo!$I$14)","v":""},{"$f":"IF(Y203=\"\",\"\",Resurssiluettelo!$J$14)","v":""},{"$f":"IF(Y203=\"\",\"\",Resurssiluettelo!$N$14)","v":""},{"$f":"IF(Y203=\"\",\"\",Resurssiluettelo!$O$14)","v":""},{"$f":"IF(Resurssiluettelo!B250=0,\"\",Resurssiluettelo!B250)","v":""},{"$f":"IF(Resurssiluettelo!C250=0,\"\",Resurssiluettelo!C250)","v":""},{"$f":"IF(Resurssiluettelo!D250=0,\"\",Resurssiluettelo!D250)","v":""},{"$f":"IF($J203=\"\",\"\",VLOOKUP($J203, Resurssiluettelo!$D$21:$X$40,Ohjeistus!K$98-1,FALSE))","v":""},{"$f":"IF($J203=\"\",\"\",VLOOKUP($J203, Resurssiluettelo!$D$21:$X$40,Ohjeistus!L$98-1,FALSE))","v":""},{"$f":"IF($J203=\"\",\"\",VLOOKUP($J203, Resurssiluettelo!$D$21:$X$40,Ohjeistus!M$98-1,FALSE))","v":""},{"$f":"IF($J203=\"\",\"\",VLOOKUP($J203, Resurssiluettelo!$D$21:$X$40,Ohjeistus!N$98-1,FALSE))","v":""},{"$f":"IF($J203=\"\",\"\",VLOOKUP($J203, Resurssiluettelo!$D$21:$X$40,Ohjeistus!O$98-1,FALSE))","v":""},{"$f":"IF($J203=\"\",\"\",VLOOKUP($J203, Resurssiluettelo!$D$21:$X$40,Ohjeistus!P$98-1,FALSE))","v":""},{"$f":"IF($J203=\"\",IF($I203=\"\",\"\",VLOOKUP($I203, Resurssiluettelo!$C$21:$X$40,Ohjeistus!Q$98,FALSE)),VLOOKUP($J203, Resurssiluettelo!$D$21:$X$40,Ohjeistus!Q$98-1,FALSE))","v":""},{"$f":"IF($J203=\"\",IF($I203=\"\",\"\",VLOOKUP($I203, Resurssiluettelo!$C$21:$X$40,Ohjeistus!R$98,FALSE)),VLOOKUP($J203, Resurssiluettelo!$D$21:$X$40,Ohjeistus!R$98-1,FALSE))","v":""},{"$f":"IF($J203=\"\",IF($I203=\"\",\"\",VLOOKUP($I203, Resurssiluettelo!$C$21:$X$40,Ohjeistus!S$98,FALSE)),VLOOKUP($J203, Resurssiluettelo!$D$21:$X$40,Ohjeistus!S$98-1,FALSE))","v":""},{"$f":"IF($J203=\"\",IF($I203=\"\",\"\",VLOOKUP($I203, Resurssiluettelo!$C$21:$X$40,Ohjeistus!T$98,FALSE)),VLOOKUP($J203, Resurssiluettelo!$D$21:$X$40,Ohjeistus!T$98-1,FALSE))","v":""},{"$f":"IF($J203=\"\",\"\",VLOOKUP($J203, Resurssiluettelo!$D$21:$X$40,Ohjeistus!U$98-1,FALSE))","v":""},{"$f":"IF($J203=\"\",\"\",VLOOKUP($J203, Resurssiluettelo!$D$21:$X$40,Ohjeistus!V$98-1,FALSE))","v":""},{"$f":"IF($J203=\"\",\"\",VLOOKUP($J203, Resurssiluettelo!$D$21:$X$40,Ohjeistus!W$98-1,FALSE))","v":""},{"$f":"IF($J203=\"\",\"\",VLOOKUP($J203, Resurssiluettelo!$D$21:$X$40,Ohjeistus!X$98-1,FALSE))","v":""},{"$f":"IF(Resurssiluettelo!E250=0,\"\",Resurssiluettelo!E250)","v":""},{"$f":"IF(Resurssiluettelo!F250=0,\"\",YEAR(Resurssiluettelo!F250)&IF(MONTH(Resurssiluettelo!F250)<10,\"0\",\"\")&MONTH(Resurssiluettelo!F250)&IF(DAY(Resurssiluettelo!F250)<10,\"0\",\"\")&DAY(Resurssiluettelo!F250))","v":""},{"$f":"IF(Resurssiluettelo!G250=0,\"\",Resurssiluettelo!G250)","v":""},{"$f":"IF(Resurssiluettelo!H250=0,\"\",Resurssiluettelo!H250)","v":""},{"$f":"IF(Resurssiluettelo!I250=0,\"\",Resurssiluettelo!I250)","v":""},{"$f":"IF(Resurssiluettelo!W250=0,\"\",Resurssiluettelo!W250)","v":""},{"$f":"IF(Resurssiluettelo!X250=0,\"\",Resurssiluettelo!X250)","v":""},{"$f":"IF(Resurssiluettelo!Y250=0,\"\",Resurssiluettelo!Y250)","v":""},{"$f":"IF(Resurssiluettelo!Z250=0,\"\",Resurssiluettelo!Z250)","v":""},{"$f":"IF(Resurssiluettelo!AA250=0,\"\",Resurssiluettelo!AA250)","v":""},{"$f":"IF(Resurssiluettelo!AB250=0,\"\",Resurssiluettelo!AB250)","v":""},{"$f":"IF(Resurssiluettelo!AC250=0,\"\",Resurssiluettelo!AC250)","v":""},{"$f":"IF(Resurssiluettelo!AD250=0,\"\",Resurssiluettelo!AD250)","v":""},{"$f":"IF(Resurssiluettelo!J250=0,\"\",Resurssiluettelo!J250)","v":""},{"$f":"IF(Resurssiluettelo!K250=0,\"\",Resurssiluettelo!K250)","v":""},{"$f":"IF(Resurssiluettelo!L250=0,\"\",Resurssiluettelo!L250)","v":""},{"$f":"IF(Resurssiluettelo!M250=0,\"\",Resurssiluettelo!M250)","v":""},{"$f":"IF(Resurssiluettelo!N250=0,\"\",Resurssiluettelo!N250)","v":""},{"$f":"IF(Resurssiluettelo!O250=0,\"\",Resurssiluettelo!O250)","v":""},{"$f":"IF(Resurssiluettelo!P250=0,\"\",Resurssiluettelo!P250)","v":""},{"$f":"IF(Resurssiluettelo!Q250=0,\"\",Resurssiluettelo!Q250)","v":""},{"$f":"IF(Resurssiluettelo!R250=0,\"\",Resurssiluettelo!R250)","v":""},{"$f":"IF(Resurssiluettelo!S250=0,\"\",Resurssiluettelo!S250)","v":""},{"$f":"IF(Resurssiluettelo!T250=0,\"\",Resurssiluettelo!T250)","v":""},{"$f":"IF(Resurssiluettelo!U250=0,\"\",Resurssiluettelo!U250)","v":""},{"$f":"IF(Resurssiluettelo!V250=0,\"\",Resurssiluettelo!V250)","v":""}]